{"text_format":"1","workbook":"xlsx","n_sheets":9,"sheets":["Deník","Výsledky","Deník_2","Řady","Equity","Časy","Kalendář","Účet","Definice"],"not_rendered":{"charts":4,"images":0,"macros":1,"external_links":0,"defined_names":5,"comments":1,"pivot_tables":0},"unopened":[],"bounds":{"document_bytes":16777216,"sheet_cells":100000,"rows_first":2000,"rows_last":500,"rows_between":2000,"halvings":0,"cell_chars":16384,"cell_head_chars":4096},"cells_cut":0,"cells_raw":0,"read":"whole","date_system":"1900"}

{"sheet":"Deník","index":0,"n_rows":2500,"n_cols":22,"rows_kept":2500,"cut":false,"hidden":false,"merged":[[5,20,10,21]]}
["Číslo","Sel.","Datum ","Čas","L/S","Pattern","TRH","Kontr.","PT1","PT2","PT3","BE","SL","Zisk/SL","Komise USD","Ucet","Equity","DD","Poznámky",null,"Pattern","TRH"]
[1,null,null,null,null,null,null,null,null,null,null,null,null,{"$f":"IF(B2=1,I2+J2+K2+L2-M2,0)","v":0},0,{"$f":"N2-O2","v":0},{"$f":"Účet!E2+N2-O2","v":10000},null,null,null,"Vše","Vše"]
[2,null,null,null,null,null,null,null,null,null,null,null,null,{"$f":"IF(B3=1,I3+J3+K3+L3-M3,0)","v":0},0,{"$f":"P2+N3-O3","v":0},{"$f":"Q2+N3-O3","v":10000},{"$f":"IF(OR(MAX($P$2:P3)-P3=0,C3=0),\"\",MAX($P$2:P3)-P3)","v":""}]
[3,null,null,null,null,null,null,null,null,null,null,null,null,{"$f":"IF(B4=1,I4+J4+K4+L4-M4,0)","v":0},0,{"$f":"P3+N4-O4","v":0},{"$f":"Q3+N4-O4","v":10000},{"$f":"IF(OR(MAX($P$2:P4)-P4=0,C4=0),\"\",MAX($P$2:P4)-P4)","v":""}]
[4,null,null,null,null,null,null,null,null,null,null,null,null,{"$f":"IF(B5=1,I5+J5+K5+L5-M5,0)","v":0},0,0,10000,{"$f":"IF(OR(MAX($P$2:P5)-P5=0,C5=0),\"\",MAX($P$2:P5)-P5)","v":""}]
[5,null,null,null,null,null,null," ",null,null,null,null,null,{"$f":"IF(B6=1,I6+J6+K6+L6-M6,0)","v":0},0,0,10000,{"$f":"IF(OR(MAX($P$2:P6)-P6=0,C6=0),\"\",MAX($P$2:P6)-P6)","v":""},null,null,"Po zadání nových obchodů je nutné provést \"Výpočet\" - obchod se doplní o komise a zahrne do statistik"]
[6,null,null,null,null,null,null,null,null,null,null,null,null,0,0,0,10000,{"$f":"IF(OR(MAX($P$2:P7)-P7=0,C7=0),\"\",MAX($P$2:P7)-P7)","v":""}]
[7,null,null,null,null,null,null,null,null,null,null,null,null,0,0,0,10000,{"$f":"IF(OR(MAX($P$2:P8)-P8=0,C8=0),\"\",MAX($P$2:P8)-P8)","v":""}]
[8,null,null,null,null,null,null,null,null,null,null,null,null,0,0,0,10000,{"$f":"IF(OR(MAX($P$2:P9)-P9=0,C9=0),\"\",MAX($P$2:P9)-P9)","v":""}]
[9,null,null,null,null,null,null,null,null,null,null,null,null,0,0,0,10000,{"$f":"IF(OR(MAX($P$2:P10)-P10=0,C10=0),\"\",MAX($P$2:P10)-P10)","v":""}]
[10,null,null,null,null,null,null,null,null,null,null,null,null,0,0,0,10000,{"$f":"IF(OR(MAX($P$2:P11)-P11=0,C11=0),\"\",MAX($P$2:P11)-P11)","v":""}]
[11,null,null,null,null,null,null,null,null,null,null,null,null,0,0,0,10000,{"$f":"IF(OR(MAX($P$2:P12)-P12=0,C12=0),\"\",MAX($P$2:P12)-P12)","v":""}]
[12,null,null,null,null,null,null,null,null,null,null,null,null,0,0,0,10000,{"$f":"IF(OR(MAX($P$2:P13)-P13=0,C13=0),\"\",MAX($P$2:P13)-P13)","v":""}]
[13,null,null,null,null,null,null,null,null,null,null,null,null,0,0,0,10000,{"$f":"IF(OR(MAX($P$2:P14)-P14=0,C14=0),\"\",MAX($P$2:P14)-P14)","v":""}]
[14,null,null,null,null,null,null,null,null,null,null,null,null,0,0,0,10000,{"$f":"IF(OR(MAX($P$2:P15)-P15=0,C15=0),\"\",MAX($P$2:P15)-P15)","v":""}]
[15,null,null,null,null,null,null,null,null,null,null,null,null,0,0,0,10000,{"$f":"IF(OR(MAX($P$2:P16)-P16=0,C16=0),\"\",MAX($P$2:P16)-P16)","v":""}]
[16,null,null,null,null,null,null,null,null,null,null,null,null,0,0,0,10000,{"$f":"IF(OR(MAX($P$2:P17)-P17=0,C17=0),\"\",MAX($P$2:P17)-P17)","v":""}]
[17,null,null,null,null,null,null,null,null,null,null,null,null,0,0,0,10000,{"$f":"IF(OR(MAX($P$2:P18)-P18=0,C18=0),\"\",MAX($P$2:P18)-P18)","v":""}]
[18,null,null,null,null,null,null,null,null,null,null,null,null,0,0,0,10000,{"$f":"IF(OR(MAX($P$2:P19)-P19=0,C19=0),\"\",MAX($P$2:P19)-P19)","v":""}]
[19,null,null,null,null,null,null,null,null,null,null,null,null,0,0,0,10000,{"$f":"IF(OR(MAX($P$2:P20)-P20=0,C20=0),\"\",MAX($P$2:P20)-P20)","v":""}]
[20,null,null,null,null,null,null,null,null,null,null,null,null,0,0,0,10000,{"$f":"IF(OR(MAX($P$2:P21)-P21=0,C21=0),\"\",MAX($P$2:P21)-P21)","v":""}]
[21,null,null,null,null,null,null,null,null,null,null,null,null,0,0,0,10000,{"$f":"IF(OR(MAX($P$2:P22)-P22=0,C22=0),\"\",MAX($P$2:P22)-P22)","v":""}]
[22,null,null,null,null,null,null,null,null,null,null,null,null,0,0,0,10000,{"$f":"IF(OR(MAX($P$2:P23)-P23=0,C23=0),\"\",MAX($P$2:P23)-P23)","v":""}]
[23,null,null,null,null,null,null,null,null,null,null,null,null,0,0,0,10000,{"$f":"IF(OR(MAX($P$2:P24)-P24=0,C24=0),\"\",MAX($P$2:P24)-P24)","v":""}]
[24,null,null,null,null,null,null,null,null,null,null,null,null,0,0,0,10000,{"$f":"IF(OR(MAX($P$2:P25)-P25=0,C25=0),\"\",MAX($P$2:P25)-P25)","v":""}]
[25,null,null,null,null,null,null,null,null,null,null,null,null,0,0,0,10000,{"$f":"IF(OR(MAX($P$2:P26)-P26=0,C26=0),\"\",MAX($P$2:P26)-P26)","v":""}]
[26,null,null,null,null,null,null,null,null,null,null,null,null,0,0,0,10000,{"$f":"IF(OR(MAX($P$2:P27)-P27=0,C27=0),\"\",MAX($P$2:P27)-P27)","v":""}]
[27,null,null,null,null,null,null,null,null,null,null,null,null,0,0,0,10000,{"$f":"IF(OR(MAX($P$2:P28)-P28=0,C28=0),\"\",MAX($P$2:P28)-P28)","v":""}]
[28,null,null,null,null,null,null,null,null,null,null,null,null,0,0,0,10000,{"$f":"IF(OR(MAX($P$2:P29)-P29=0,C29=0),\"\",MAX($P$2:P29)-P29)","v":""}]
[29,null,null,null,null,null,null,null,null,null,null,null,null,0,0,0,10000,{"$f":"IF(OR(MAX($P$2:P30)-P30=0,C30=0),\"\",MAX($P$2:P30)-P30)","v":""}]
[30,null,null,null,null,null,null,null,null,null,null,null,null,0,0,0,10000,{"$f":"IF(OR(MAX($P$2:P31)-P31=0,C31=0),\"\",MAX($P$2:P31)-P31)","v":""}]
[31,null,null,null,null,null,null,null,null,null,null,null,null,0,0,0,10000,{"$f":"IF(OR(MAX($P$2:P32)-P32=0,C32=0),\"\",MAX($P$2:P32)-P32)","v":""}]
[32,null,null,null,null,null,null,null,null,null,null,null,null,0,0,0,10000,{"$f":"IF(OR(MAX($P$2:P33)-P33=0,C33=0),\"\",MAX($P$2:P33)-P33)","v":""}]
[33,null,null,null,null,null,null,null,null,null,null,null,null,0,0,0,10000,{"$f":"IF(OR(MAX($P$2:P34)-P34=0,C34=0),\"\",MAX($P$2:P34)-P34)","v":""}]
[34,null,null,null,null,null,null,null,null,null,null,null,null,0,0,0,10000,{"$f":"IF(OR(MAX($P$2:P35)-P35=0,C35=0),\"\",MAX($P$2:P35)-P35)","v":""}]
[35,null,null,null,null,null,null,null,null,null,null,null,null,0,0,0,10000,{"$f":"IF(OR(MAX($P$2:P36)-P36=0,C36=0),\"\",MAX($P$2:P36)-P36)","v":""}]
[36,null,null,null,null,null,null,null,null,null,null,null,null,0,0,0,10000,{"$f":"IF(OR(MAX($P$2:P37)-P37=0,C37=0),\"\",MAX($P$2:P37)-P37)","v":""}]
[37,null,null,null,null,null,null,null,null,null,null,null,null,{"$f":"IF(B38=1,I38+J38+K38+L38-M38,0)","v":0},0,0,10000,{"$f":"IF(OR(MAX($P$2:P38)-P38=0,C38=0),\"\",MAX($P$2:P38)-P38)","v":""}]
[38,null,null,null,null,null,null,null,null,null,null,null,null,{"$f":"IF(B39=1,I39+J39+K39+L39-M39,0)","v":0},0,0,10000,{"$f":"IF(OR(MAX($P$2:P39)-P39=0,C39=0),\"\",MAX($P$2:P39)-P39)","v":""}]
[39,null,null,null,null,null,null,null,null,null,null,null,null,0,0,0,10000,{"$f":"IF(OR(MAX($P$2:P40)-P40=0,C40=0),\"\",MAX($P$2:P40)-P40)","v":""}]
[40,null,null,null,null,null,null,null,null,null,null,null,null,0,0,0,10000,{"$f":"IF(OR(MAX($P$2:P41)-P41=0,C41=0),\"\",MAX($P$2:P41)-P41)","v":""}]
[41,null,null,null,null,null,null,null,null,null,null,null,null,0,0,0,10000,{"$f":"IF(OR(MAX($P$2:P42)-P42=0,C42=0),\"\",MAX($P$2:P42)-P42)","v":""}]
[42,null,null,null,null,null,null,null,null,null,null,null,null,0,0,0,10000,{"$f":"IF(OR(MAX($P$2:P43)-P43=0,C43=0),\"\",MAX($P$2:P43)-P43)","v":""}]
[43,null,null,null,null,null,null,null,null,null,null,null,null,0,0,0,10000,{"$f":"IF(OR(MAX($P$2:P44)-P44=0,C44=0),\"\",MAX($P$2:P44)-P44)","v":""}]
[44,null,null,null,null,null,null,null,null,null,null,null,null,0,0,0,10000,{"$f":"IF(OR(MAX($P$2:P45)-P45=0,C45=0),\"\",MAX($P$2:P45)-P45)","v":""}]
[45,null,null,null,null,null,null,null,null,null,null,null,null,0,0,0,10000,{"$f":"IF(OR(MAX($P$2:P46)-P46=0,C46=0),\"\",MAX($P$2:P46)-P46)","v":""}]
[46,null,null,null,null,null,null,null,null,null,null,null,null,0,0,0,10000,{"$f":"IF(OR(MAX($P$2:P47)-P47=0,C47=0),\"\",MAX($P$2:P47)-P47)","v":""}]
[47,null,null,null,null,null,null,null,null,null,null,null,null,0,0,0,10000,{"$f":"IF(OR(MAX($P$2:P48)-P48=0,C48=0),\"\",MAX($P$2:P48)-P48)","v":""}]
[48,null,null,null,null,null,null,null,null,null,null,null,null,0,0,0,10000,{"$f":"IF(OR(MAX($P$2:P49)-P49=0,C49=0),\"\",MAX($P$2:P49)-P49)","v":""}]
[49,null,null,null,null,null,null,null,null,null,null,null,null,0,0,0,10000,{"$f":"IF(OR(MAX($P$2:P50)-P50=0,C50=0),\"\",MAX($P$2:P50)-P50)","v":""}]
[50,null,null,null,null,null,null,null,null,null,null,null,null,0,0,0,10000,{"$f":"IF(OR(MAX($P$2:P51)-P51=0,C51=0),\"\",MAX($P$2:P51)-P51)","v":""}]
[51,null,null,null,null,null,null,null,null,null,null,null,null,0,0,0,10000,{"$f":"IF(OR(MAX($P$2:P52)-P52=0,C52=0),\"\",MAX($P$2:P52)-P52)","v":""}]
[52,null,null,null,null,null,null,null,null,null,null,null,null,0,0,0,10000,{"$f":"IF(OR(MAX($P$2:P53)-P53=0,C53=0),\"\",MAX($P$2:P53)-P53)","v":""}]
[53,null,null,null,null,null,null,null,null,null,null,null,null,0,0,0,10000,{"$f":"IF(OR(MAX($P$2:P54)-P54=0,C54=0),\"\",MAX($P$2:P54)-P54)","v":""}]
[54,null,null,null,null,null,null,null,null,null,null,null,null,0,0,0,10000,{"$f":"IF(OR(MAX($P$2:P55)-P55=0,C55=0),\"\",MAX($P$2:P55)-P55)","v":""}]
[55,null,null,null,null,null,null,null,null,null,null,null,null,0,0,0,10000,{"$f":"IF(OR(MAX($P$2:P56)-P56=0,C56=0),\"\",MAX($P$2:P56)-P56)","v":""}]
[56,null,null,null,null,null,null,null,null,null,null,null,null,0,0,0,10000,{"$f":"IF(OR(MAX($P$2:P57)-P57=0,C57=0),\"\",MAX($P$2:P57)-P57)","v":""}]
[57,null,null,null,null,null,null,null,null,null,null,null,null,0,0,0,10000,{"$f":"IF(OR(MAX($P$2:P58)-P58=0,C58=0),\"\",MAX($P$2:P58)-P58)","v":""}]
[58,null,null,null,null,null,null,null,null,null,null,null,null,0,0,0,10000,{"$f":"IF(OR(MAX($P$2:P59)-P59=0,C59=0),\"\",MAX($P$2:P59)-P59)","v":""}]
[59,null,null,null,null,null,null,null,null,null,null,null,null,0,0,0,10000,{"$f":"IF(OR(MAX($P$2:P60)-P60=0,C60=0),\"\",MAX($P$2:P60)-P60)","v":""}]
[60,null,null,null,null,null,null,null,null,null,null,null,null,0,0,0,10000,{"$f":"IF(OR(MAX($P$2:P61)-P61=0,C61=0),\"\",MAX($P$2:P61)-P61)","v":""}]
[61,null,null,null,null,null,null,null,null,null,null,null,null,0,0,0,10000,{"$f":"IF(OR(MAX($P$2:P62)-P62=0,C62=0),\"\",MAX($P$2:P62)-P62)","v":""}]
[62,null,null,null,null,null,null,null,null,null,null,null,null,0,0,0,10000,{"$f":"IF(OR(MAX($P$2:P63)-P63=0,C63=0),\"\",MAX($P$2:P63)-P63)","v":""}]
[63,null,null,null,null,null,null,null,null,null,null,null,null,0,0,0,10000,{"$f":"IF(OR(MAX($P$2:P64)-P64=0,C64=0),\"\",MAX($P$2:P64)-P64)","v":""}]
[64,null,null,null,null,null,null,null,null,null,null,null,null,0,0,0,10000,{"$f":"IF(OR(MAX($P$2:P65)-P65=0,C65=0),\"\",MAX($P$2:P65)-P65)","v":""}]
[65,null,null,null,null,null,null,null,null,null,null,null,null,0,0,0,10000,{"$f":"IF(OR(MAX($P$2:P66)-P66=0,C66=0),\"\",MAX($P$2:P66)-P66)","v":""}]
[66,null,null,null,null,null,null,null,null,null,null,null,null,0,0,0,10000,{"$f":"IF(OR(MAX($P$2:P67)-P67=0,C67=0),\"\",MAX($P$2:P67)-P67)","v":""}]
[67,null,null,null,null,null,null,null,null,null,null,null,null,0,0,{"$f":"P67+N68-O68","v":0},{"$f":"Q67+N68-O68","v":10000},{"$f":"IF(OR(MAX($P$2:P68)-P68=0,C68=0),\"\",MAX($P$2:P68)-P68)","v":""}]
[68,null,null,null,null,null,null,null,null,null,null,null,null,0,0,0,10000,{"$f":"IF(OR(MAX($P$2:P69)-P69=0,C69=0),\"\",MAX($P$2:P69)-P69)","v":""}]
[69,null,null,null,null,null,null,null,null,null,null,null,null,{"$f":"IF(B70=1,I70+J70+K70+L70-M70,0)","v":0},0,0,10000,{"$f":"IF(OR(MAX($P$2:P70)-P70=0,C70=0),\"\",MAX($P$2:P70)-P70)","v":""}]
[70,null,null,null,null,null,null,null,null,null,null,null,null,0,0,0,10000,{"$f":"IF(OR(MAX($P$2:P71)-P71=0,C71=0),\"\",MAX($P$2:P71)-P71)","v":""}]
[71,null,null,null,null,null,null,null,null,null,null,null,null,0,0,0,10000,{"$f":"IF(OR(MAX($P$2:P72)-P72=0,C72=0),\"\",MAX($P$2:P72)-P72)","v":""}]
[72,null,null,null,null,null,null,null,null,null,null,null,null,0,0,0,10000,{"$f":"IF(OR(MAX($P$2:P73)-P73=0,C73=0),\"\",MAX($P$2:P73)-P73)","v":""}]
[73,null,null,null,null,null,null,null,null,null,null,null,null,0,0,0,10000,{"$f":"IF(OR(MAX($P$2:P74)-P74=0,C74=0),\"\",MAX($P$2:P74)-P74)","v":""}]
[74,null,null,null,null,null,null,null,null,null,null,null,null,0,0,0,10000,{"$f":"IF(OR(MAX($P$2:P75)-P75=0,C75=0),\"\",MAX($P$2:P75)-P75)","v":""}]
[75,null,null,null,null,null,null,null,null,null,null,null,null,0,0,0,10000,{"$f":"IF(OR(MAX($P$2:P76)-P76=0,C76=0),\"\",MAX($P$2:P76)-P76)","v":""}]
[76,null,null,null,null,null,null,null,null,null,null,null,null,0,0,0,10000,{"$f":"IF(OR(MAX($P$2:P77)-P77=0,C77=0),\"\",MAX($P$2:P77)-P77)","v":""}]
[77,null,null,null,null,null,null,null,null,null,null,null,null,0,0,0,10000,{"$f":"IF(OR(MAX($P$2:P78)-P78=0,C78=0),\"\",MAX($P$2:P78)-P78)","v":""}]
[78,null,null,null,null,null,null,null,null,null,null,null,null,0,0,0,10000,{"$f":"IF(OR(MAX($P$2:P79)-P79=0,C79=0),\"\",MAX($P$2:P79)-P79)","v":""}]
[79,null,null,null,null,null,null,null,null,null,null,null,null,0,0,0,10000,{"$f":"IF(OR(MAX($P$2:P80)-P80=0,C80=0),\"\",MAX($P$2:P80)-P80)","v":""}]
[80,null,null,null,null,null,null,null,null,null,null,null,null,0,0,0,10000,{"$f":"IF(OR(MAX($P$2:P81)-P81=0,C81=0),\"\",MAX($P$2:P81)-P81)","v":""}]
[81,null,null,null,null,null,null,null,null,null,null,null,null,0,0,0,10000,{"$f":"IF(OR(MAX($P$2:P82)-P82=0,C82=0),\"\",MAX($P$2:P82)-P82)","v":""}]
[82,null,null,null,null,null,null,null,null,null,null,null,null,0,0,0,10000,{"$f":"IF(OR(MAX($P$2:P83)-P83=0,C83=0),\"\",MAX($P$2:P83)-P83)","v":""}]
[83,null,null,null,null,null,null,null,null,null,null,null,null,0,0,0,10000,{"$f":"IF(OR(MAX($P$2:P84)-P84=0,C84=0),\"\",MAX($P$2:P84)-P84)","v":""}]
[84,null,null,null,null,null,null,null,null,null,null,null,null,0,0,0,10000,{"$f":"IF(OR(MAX($P$2:P85)-P85=0,C85=0),\"\",MAX($P$2:P85)-P85)","v":""}]
[85,null,null,null,null,null,null,null,null,null,null,null,null,0,0,0,10000,{"$f":"IF(OR(MAX($P$2:P86)-P86=0,C86=0),\"\",MAX($P$2:P86)-P86)","v":""}]
[86,null,null,null,null,null,null,null,null,null,null,null,null,0,0,0,10000,{"$f":"IF(OR(MAX($P$2:P87)-P87=0,C87=0),\"\",MAX($P$2:P87)-P87)","v":""}]
[87,null,null,null,null,null,null,null,null,null,null,null,null,0,0,0,10000,{"$f":"IF(OR(MAX($P$2:P88)-P88=0,C88=0),\"\",MAX($P$2:P88)-P88)","v":""}]
[88,null,null,null,null,null,null,null,null,null,null,null,null,0,0,0,10000,{"$f":"IF(OR(MAX($P$2:P89)-P89=0,C89=0),\"\",MAX($P$2:P89)-P89)","v":""}]
[89,null,null,null,null,null,null,null,null,null,null,null,null,0,0,0,10000,{"$f":"IF(OR(MAX($P$2:P90)-P90=0,C90=0),\"\",MAX($P$2:P90)-P90)","v":""}]
[90,null,null,null,null,null,null,null,null,null,null,null,null,0,0,0,10000,{"$f":"IF(OR(MAX($P$2:P91)-P91=0,C91=0),\"\",MAX($P$2:P91)-P91)","v":""}]
[91,null,null,null,null,null,null,null,null,null,null,null,null,0,0,0,10000,{"$f":"IF(OR(MAX($P$2:P92)-P92=0,C92=0),\"\",MAX($P$2:P92)-P92)","v":""}]
[92,null,null,null,null,null,null,null,null,null,null,null,null,0,0,0,10000,{"$f":"IF(OR(MAX($P$2:P93)-P93=0,C93=0),\"\",MAX($P$2:P93)-P93)","v":""}]
[93,null,null,null,null,null,null,null,null,null,null,null,null,0,0,0,10000,{"$f":"IF(OR(MAX($P$2:P94)-P94=0,C94=0),\"\",MAX($P$2:P94)-P94)","v":""}]
[94,null,null,null,null,null,null,null,null,null,null,null,null,0,0,0,10000,{"$f":"IF(OR(MAX($P$2:P95)-P95=0,C95=0),\"\",MAX($P$2:P95)-P95)","v":""}]
[95,null,null,null,null,null,null,null,null,null,null,null,null,0,0,0,10000,{"$f":"IF(OR(MAX($P$2:P96)-P96=0,C96=0),\"\",MAX($P$2:P96)-P96)","v":""}]
[96,null,null,null,null,null,null,null,null,null,null,null,null,0,0,0,10000,{"$f":"IF(OR(MAX($P$2:P97)-P97=0,C97=0),\"\",MAX($P$2:P97)-P97)","v":""}]
[97,null,null,null,null,null,null,null,null,null,null,null,null,0,0,0,10000,{"$f":"IF(OR(MAX($P$2:P98)-P98=0,C98=0),\"\",MAX($P$2:P98)-P98)","v":""}]
[98,null,null,null,null,null,null,null,null,null,null,null,null,0,0,0,10000,{"$f":"IF(OR(MAX($P$2:P99)-P99=0,C99=0),\"\",MAX($P$2:P99)-P99)","v":""}]
[99,null,null,null,null,null,null,null,null,null,null,null,null,0,0,0,10000,{"$f":"IF(OR(MAX($P$2:P100)-P100=0,C100=0),\"\",MAX($P$2:P100)-P100)","v":""}]
[100,null,null,null,null,null,null,null,null,null,null,null,null,0,0,0,10000,{"$f":"IF(OR(MAX($P$2:P101)-P101=0,C101=0),\"\",MAX($P$2:P101)-P101)","v":""}]
[101,null,null,null,null,null,null,null,null,null,null,null,null,0,0,0,10000,{"$f":"IF(OR(MAX($P$2:P102)-P102=0,C102=0),\"\",MAX($P$2:P102)-P102)","v":""}]
[102,null,null,null,null,null,null,null,null,null,null,null,null,0,0,0,10000,{"$f":"IF(OR(MAX($P$2:P103)-P103=0,C103=0),\"\",MAX($P$2:P103)-P103)","v":""}]
[103,null,null,null,null,null,null,null,null,null,null,null,null,0,0,0,10000,{"$f":"IF(OR(MAX($P$2:P104)-P104=0,C104=0),\"\",MAX($P$2:P104)-P104)","v":""}]
[104,null,null,null,null,null,null,null,null,null,null,null,null,0,0,0,10000,{"$f":"IF(OR(MAX($P$2:P105)-P105=0,C105=0),\"\",MAX($P$2:P105)-P105)","v":""}]
[105,null,null,null,null,null,null,null,null,null,null,null,null,0,0,0,10000,{"$f":"IF(OR(MAX($P$2:P106)-P106=0,C106=0),\"\",MAX($P$2:P106)-P106)","v":""}]
[106,null,null,null,null,null,null,null,null,null,null,null,null,0,0,0,10000,{"$f":"IF(OR(MAX($P$2:P107)-P107=0,C107=0),\"\",MAX($P$2:P107)-P107)","v":""}]
[107,null,null,null,null,null,null,null,null,null,null,null,null,0,0,0,10000,{"$f":"IF(OR(MAX($P$2:P108)-P108=0,C108=0),\"\",MAX($P$2:P108)-P108)","v":""}]
[108,null,null,null,null,null,null,null,null,null,null,null,null,0,0,0,10000,{"$f":"IF(OR(MAX($P$2:P109)-P109=0,C109=0),\"\",MAX($P$2:P109)-P109)","v":""}]
[109,null,null,null,null,null,null,null,null,null,null,null,null,0,0,0,10000,{"$f":"IF(OR(MAX($P$2:P110)-P110=0,C110=0),\"\",MAX($P$2:P110)-P110)","v":""}]
[110,null,null,null,null,null,null,null,null,null,null,null,null,0,0,0,10000,{"$f":"IF(OR(MAX($P$2:P111)-P111=0,C111=0),\"\",MAX($P$2:P111)-P111)","v":""}]
[111,null,null,null,null,null,null,null,null,null,null,null,null,0,0,0,10000,{"$f":"IF(OR(MAX($P$2:P112)-P112=0,C112=0),\"\",MAX($P$2:P112)-P112)","v":""}]
[112,null,null,null,null,null,null,null,null,null,null,null,null,0,0,0,10000,{"$f":"IF(OR(MAX($P$2:P113)-P113=0,C113=0),\"\",MAX($P$2:P113)-P113)","v":""}]
[113,null,null,null,null,null,null,null,null,null,null,null,null,0,0,0,10000,{"$f":"IF(OR(MAX($P$2:P114)-P114=0,C114=0),\"\",MAX($P$2:P114)-P114)","v":""}]
[114,null,null,null,null,null,null,null,null,null,null,null,null,0,0,0,10000,{"$f":"IF(OR(MAX($P$2:P115)-P115=0,C115=0),\"\",MAX($P$2:P115)-P115)","v":""}]
[115,null,null,null,null,null,null,null,null,null,null,null,null,0,0,0,10000,{"$f":"IF(OR(MAX($P$2:P116)-P116=0,C116=0),\"\",MAX($P$2:P116)-P116)","v":""}]
[116,null,null,null,null,null,null,null,null,null,null,null,null,0,0,0,10000,{"$f":"IF(OR(MAX($P$2:P117)-P117=0,C117=0),\"\",MAX($P$2:P117)-P117)","v":""}]
[117,null,null,null,null,null,null,null,null,null,null,null,null,0,0,0,10000,{"$f":"IF(OR(MAX($P$2:P118)-P118=0,C118=0),\"\",MAX($P$2:P118)-P118)","v":""}]
[118,null,null,null,null,null,null,null,null,null,null,null,null,0,0,0,10000,{"$f":"IF(OR(MAX($P$2:P119)-P119=0,C119=0),\"\",MAX($P$2:P119)-P119)","v":""}]
[119,null,null,null,null,null,null,null,null,null,null,null,null,0,0,0,10000,{"$f":"IF(OR(MAX($P$2:P120)-P120=0,C120=0),\"\",MAX($P$2:P120)-P120)","v":""}]
[120,null,null,null,null,null,null,null,null,null,null,null,null,0,0,0,10000,{"$f":"IF(OR(MAX($P$2:P121)-P121=0,C121=0),\"\",MAX($P$2:P121)-P121)","v":""}]
[121,null,null,null,null,null,null,null,null,null,null,null,null,0,0,0,10000,{"$f":"IF(OR(MAX($P$2:P122)-P122=0,C122=0),\"\",MAX($P$2:P122)-P122)","v":""}]
[122,null,null,null,null,null,null,null,null,null,null,null,null,0,0,0,10000,{"$f":"IF(OR(MAX($P$2:P123)-P123=0,C123=0),\"\",MAX($P$2:P123)-P123)","v":""}]
[123,null,null,null,null,null,null,null,null,null,null,null,null,0,0,0,10000,{"$f":"IF(OR(MAX($P$2:P124)-P124=0,C124=0),\"\",MAX($P$2:P124)-P124)","v":""}]
[124,null,null,null,null,null,null,null,null,null,null,null,null,0,0,0,10000,{"$f":"IF(OR(MAX($P$2:P125)-P125=0,C125=0),\"\",MAX($P$2:P125)-P125)","v":""}]
[125,null,null,null,null,null,null,null,null,null,null,null,null,0,0,0,10000,{"$f":"IF(OR(MAX($P$2:P126)-P126=0,C126=0),\"\",MAX($P$2:P126)-P126)","v":""}]
[126,null,null,null,null,null,null,null,null,null,null,null,null,0,0,0,10000,{"$f":"IF(OR(MAX($P$2:P127)-P127=0,C127=0),\"\",MAX($P$2:P127)-P127)","v":""}]
[127,null,null,null,null,null,null,null,null,null,null,null,null,0,0,0,10000,{"$f":"IF(OR(MAX($P$2:P128)-P128=0,C128=0),\"\",MAX($P$2:P128)-P128)","v":""}]
[128,null,null,null,null,null,null,null,null,null,null,null,null,0,0,0,10000,{"$f":"IF(OR(MAX($P$2:P129)-P129=0,C129=0),\"\",MAX($P$2:P129)-P129)","v":""}]
[129,null,null,null,null,null,null,null,null,null,null,null,null,0,0,0,10000,{"$f":"IF(OR(MAX($P$2:P130)-P130=0,C130=0),\"\",MAX($P$2:P130)-P130)","v":""}]
[130,null,null,null,null,null,null,null,null,null,null,null,null,0,0,0,10000,{"$f":"IF(OR(MAX($P$2:P131)-P131=0,C131=0),\"\",MAX($P$2:P131)-P131)","v":""}]
[131,null,null,null,null,null,null,null,null,null,null,null,null,0,0,{"$f":"P131+N132-O132","v":0},{"$f":"Q131+N132-O132","v":10000},{"$f":"IF(OR(MAX($P$2:P132)-P132=0,C132=0),\"\",MAX($P$2:P132)-P132)","v":""}]
[132,null,null,null,null,null,null,null,null,null,null,null,null,0,0,0,10000,{"$f":"IF(OR(MAX($P$2:P133)-P133=0,C133=0),\"\",MAX($P$2:P133)-P133)","v":""}]
[133,null,null,null,null,null,null,null,null,null,null,null,null,{"$f":"IF(B134=1,I134+J134+K134+L134-M134,0)","v":0},0,0,10000,{"$f":"IF(OR(MAX($P$2:P134)-P134=0,C134=0),\"\",MAX($P$2:P134)-P134)","v":""}]
[134,null,null,null,null,null,null,null,null,null,null,null,null,0,0,0,10000,{"$f":"IF(OR(MAX($P$2:P135)-P135=0,C135=0),\"\",MAX($P$2:P135)-P135)","v":""}]
[135,null,null,null,null,null,null,null,null,null,null,null,null,0,0,0,10000,{"$f":"IF(OR(MAX($P$2:P136)-P136=0,C136=0),\"\",MAX($P$2:P136)-P136)","v":""}]
[136,null,null,null,null,null,null,null,null,null,null,null,null,0,0,0,10000,{"$f":"IF(OR(MAX($P$2:P137)-P137=0,C137=0),\"\",MAX($P$2:P137)-P137)","v":""}]
[137,null,null,null,null,null,null,null,null,null,null,null,null,0,0,0,10000,{"$f":"IF(OR(MAX($P$2:P138)-P138=0,C138=0),\"\",MAX($P$2:P138)-P138)","v":""}]
[138,null,null,null,null,null,null,null,null,null,null,null,null,0,0,0,10000,{"$f":"IF(OR(MAX($P$2:P139)-P139=0,C139=0),\"\",MAX($P$2:P139)-P139)","v":""}]
[139,null,null,null,null,null,null,null,null,null,null,null,null,0,0,0,10000,{"$f":"IF(OR(MAX($P$2:P140)-P140=0,C140=0),\"\",MAX($P$2:P140)-P140)","v":""}]
[140,null,null,null,null,null,null,null,null,null,null,null,null,0,0,0,10000,{"$f":"IF(OR(MAX($P$2:P141)-P141=0,C141=0),\"\",MAX($P$2:P141)-P141)","v":""}]
[141,null,null,null,null,null,null,null,null,null,null,null,null,0,0,0,10000,{"$f":"IF(OR(MAX($P$2:P142)-P142=0,C142=0),\"\",MAX($P$2:P142)-P142)","v":""}]
[142,null,null,null,null,null,null,null,null,null,null,null,null,0,0,0,10000,{"$f":"IF(OR(MAX($P$2:P143)-P143=0,C143=0),\"\",MAX($P$2:P143)-P143)","v":""}]
[143,null,null,null,null,null,null,null,null,null,null,null,null,0,0,0,10000,{"$f":"IF(OR(MAX($P$2:P144)-P144=0,C144=0),\"\",MAX($P$2:P144)-P144)","v":""}]
[144,null,null,null,null,null,null,null,null,null,null,null,null,0,0,0,10000,{"$f":"IF(OR(MAX($P$2:P145)-P145=0,C145=0),\"\",MAX($P$2:P145)-P145)","v":""}]
[145,null,null,null,null,null,null,null,null,null,null,null,null,0,0,0,10000,{"$f":"IF(OR(MAX($P$2:P146)-P146=0,C146=0),\"\",MAX($P$2:P146)-P146)","v":""}]
[146,null,null,null,null,null,null,null,null,null,null,null,null,0,0,0,10000,{"$f":"IF(OR(MAX($P$2:P147)-P147=0,C147=0),\"\",MAX($P$2:P147)-P147)","v":""}]
[147,null,null,null,null,null,null,null,null,null,null,null,null,0,0,0,10000,{"$f":"IF(OR(MAX($P$2:P148)-P148=0,C148=0),\"\",MAX($P$2:P148)-P148)","v":""}]
[148,null,null,null,null,null,null,null,null,null,null,null,null,0,0,0,10000,{"$f":"IF(OR(MAX($P$2:P149)-P149=0,C149=0),\"\",MAX($P$2:P149)-P149)","v":""}]
[149,null,null,null,null,null,null,null,null,null,null,null,null,0,0,0,10000,{"$f":"IF(OR(MAX($P$2:P150)-P150=0,C150=0),\"\",MAX($P$2:P150)-P150)","v":""}]
[150,null,null,null,null,null,null,null,null,null,null,null,null,0,0,0,10000,{"$f":"IF(OR(MAX($P$2:P151)-P151=0,C151=0),\"\",MAX($P$2:P151)-P151)","v":""}]
[151,null,null,null,null,null,null,null,null,null,null,null,null,0,0,0,10000,{"$f":"IF(OR(MAX($P$2:P152)-P152=0,C152=0),\"\",MAX($P$2:P152)-P152)","v":""}]
[152,null,null,null,null,null,null,null,null,null,null,null,null,0,0,0,10000,{"$f":"IF(OR(MAX($P$2:P153)-P153=0,C153=0),\"\",MAX($P$2:P153)-P153)","v":""}]
[153,null,null,null,null,null,null,null,null,null,null,null,null,0,0,0,10000,{"$f":"IF(OR(MAX($P$2:P154)-P154=0,C154=0),\"\",MAX($P$2:P154)-P154)","v":""}]
[154,null,null,null,null,null,null,null,null,null,null,null,null,0,0,0,10000,{"$f":"IF(OR(MAX($P$2:P155)-P155=0,C155=0),\"\",MAX($P$2:P155)-P155)","v":""}]
[155,null,null,null,null,null,null,null,null,null,null,null,null,0,0,0,10000,{"$f":"IF(OR(MAX($P$2:P156)-P156=0,C156=0),\"\",MAX($P$2:P156)-P156)","v":""}]
[156,null,null,null,null,null,null,null,null,null,null,null,null,0,0,0,10000,{"$f":"IF(OR(MAX($P$2:P157)-P157=0,C157=0),\"\",MAX($P$2:P157)-P157)","v":""}]
[157,null,null,null,null,null,null,null,null,null,null,null,null,0,0,0,10000,{"$f":"IF(OR(MAX($P$2:P158)-P158=0,C158=0),\"\",MAX($P$2:P158)-P158)","v":""}]
[158,null,null,null,null,null,null,null,null,null,null,null,null,0,0,0,10000,{"$f":"IF(OR(MAX($P$2:P159)-P159=0,C159=0),\"\",MAX($P$2:P159)-P159)","v":""}]
[159,null,null,null,null,null,null,null,null,null,null,null,null,0,0,0,10000,{"$f":"IF(OR(MAX($P$2:P160)-P160=0,C160=0),\"\",MAX($P$2:P160)-P160)","v":""}]
[160,null,null,null,null,null,null,null,null,null,null,null,null,0,0,0,10000,{"$f":"IF(OR(MAX($P$2:P161)-P161=0,C161=0),\"\",MAX($P$2:P161)-P161)","v":""}]
[161,null,null,null,null,null,null,null,null,null,null,null,null,0,0,0,10000,{"$f":"IF(OR(MAX($P$2:P162)-P162=0,C162=0),\"\",MAX($P$2:P162)-P162)","v":""}]
[162,null,null,null,null,null,null,null,null,null,null,null,null,0,0,0,10000,{"$f":"IF(OR(MAX($P$2:P163)-P163=0,C163=0),\"\",MAX($P$2:P163)-P163)","v":""}]
[163,null,null,null,null,null,null,null,null,null,null,null,null,0,0,0,10000,{"$f":"IF(OR(MAX($P$2:P164)-P164=0,C164=0),\"\",MAX($P$2:P164)-P164)","v":""}]
[164,null,null,null,null,null,null,null,null,null,null,null,null,0,0,0,10000,{"$f":"IF(OR(MAX($P$2:P165)-P165=0,C165=0),\"\",MAX($P$2:P165)-P165)","v":""}]
[165,null,null,null,null,null,null,null,null,null,null,null,null,0,0,0,10000,{"$f":"IF(OR(MAX($P$2:P166)-P166=0,C166=0),\"\",MAX($P$2:P166)-P166)","v":""}]
[166,null,null,null,null,null,null,null,null,null,null,null,null,0,0,0,10000,{"$f":"IF(OR(MAX($P$2:P167)-P167=0,C167=0),\"\",MAX($P$2:P167)-P167)","v":""}]
[167,null,null,null,null,null,null,null,null,null,null,null,null,0,0,0,10000,{"$f":"IF(OR(MAX($P$2:P168)-P168=0,C168=0),\"\",MAX($P$2:P168)-P168)","v":""}]
[168,null,null,null,null,null,null,null,null,null,null,null,null,0,0,0,10000,{"$f":"IF(OR(MAX($P$2:P169)-P169=0,C169=0),\"\",MAX($P$2:P169)-P169)","v":""}]
[169,null,null,null,null,null,null,null,null,null,null,null,null,0,0,0,10000,{"$f":"IF(OR(MAX($P$2:P170)-P170=0,C170=0),\"\",MAX($P$2:P170)-P170)","v":""}]
[170,null,null,null,null,null,null,null,null,null,null,null,null,0,0,0,10000,{"$f":"IF(OR(MAX($P$2:P171)-P171=0,C171=0),\"\",MAX($P$2:P171)-P171)","v":""}]
[171,null,null,null,null,null,null,null,null,null,null,null,null,0,0,0,10000,{"$f":"IF(OR(MAX($P$2:P172)-P172=0,C172=0),\"\",MAX($P$2:P172)-P172)","v":""}]
[172,null,null,null,null,null,null,null,null,null,null,null,null,0,0,0,10000,{"$f":"IF(OR(MAX($P$2:P173)-P173=0,C173=0),\"\",MAX($P$2:P173)-P173)","v":""}]
[173,null,null,null,null,null,null,null,null,null,null,null,null,0,0,0,10000,{"$f":"IF(OR(MAX($P$2:P174)-P174=0,C174=0),\"\",MAX($P$2:P174)-P174)","v":""}]
[174,null,null,null,null,null,null,null,null,null,null,null,null,0,0,0,10000,{"$f":"IF(OR(MAX($P$2:P175)-P175=0,C175=0),\"\",MAX($P$2:P175)-P175)","v":""}]
[175,null,null,null,null,null,null,null,null,null,null,null,null,0,0,0,10000,{"$f":"IF(OR(MAX($P$2:P176)-P176=0,C176=0),\"\",MAX($P$2:P176)-P176)","v":""}]
[176,null,null,null,null,null,null,null,null,null,null,null,null,0,0,0,10000,{"$f":"IF(OR(MAX($P$2:P177)-P177=0,C177=0),\"\",MAX($P$2:P177)-P177)","v":""}]
[177,null,null,null,null,null,null,null,null,null,null,null,null,0,0,0,10000,{"$f":"IF(OR(MAX($P$2:P178)-P178=0,C178=0),\"\",MAX($P$2:P178)-P178)","v":""}]
[178,null,null,null,null,null,null,null,null,null,null,null,null,0,0,0,10000,{"$f":"IF(OR(MAX($P$2:P179)-P179=0,C179=0),\"\",MAX($P$2:P179)-P179)","v":""}]
[179,null,null,null,null,null,null,null,null,null,null,null,null,0,0,0,10000,{"$f":"IF(OR(MAX($P$2:P180)-P180=0,C180=0),\"\",MAX($P$2:P180)-P180)","v":""}]
[180,null,null,null,null,null,null,null,null,null,null,null,null,0,0,0,10000,{"$f":"IF(OR(MAX($P$2:P181)-P181=0,C181=0),\"\",MAX($P$2:P181)-P181)","v":""}]
[181,null,null,null,null,null,null,null,null,null,null,null,null,0,0,0,10000,{"$f":"IF(OR(MAX($P$2:P182)-P182=0,C182=0),\"\",MAX($P$2:P182)-P182)","v":""}]
[182,null,null,null,null,null,null,null,null,null,null,null,null,0,0,0,10000,{"$f":"IF(OR(MAX($P$2:P183)-P183=0,C183=0),\"\",MAX($P$2:P183)-P183)","v":""}]
[183,null,null,null,null,null,null,null,null,null,null,null,null,0,0,0,10000,{"$f":"IF(OR(MAX($P$2:P184)-P184=0,C184=0),\"\",MAX($P$2:P184)-P184)","v":""}]
[184,null,null,null,null,null,null,null,null,null,null,null,null,0,0,0,10000,{"$f":"IF(OR(MAX($P$2:P185)-P185=0,C185=0),\"\",MAX($P$2:P185)-P185)","v":""}]
[185,null,null,null,null,null,null,null,null,null,null,null,null,0,0,0,10000,{"$f":"IF(OR(MAX($P$2:P186)-P186=0,C186=0),\"\",MAX($P$2:P186)-P186)","v":""}]
[186,null,null,null,null,null,null,null,null,null,null,null,null,0,0,0,10000,{"$f":"IF(OR(MAX($P$2:P187)-P187=0,C187=0),\"\",MAX($P$2:P187)-P187)","v":""}]
[187,null,null,null,null,null,null,null,null,null,null,null,null,0,0,0,10000,{"$f":"IF(OR(MAX($P$2:P188)-P188=0,C188=0),\"\",MAX($P$2:P188)-P188)","v":""}]
[188,null,null,null,null,null,null,null,null,null,null,null,null,0,0,0,10000,{"$f":"IF(OR(MAX($P$2:P189)-P189=0,C189=0),\"\",MAX($P$2:P189)-P189)","v":""}]
[189,null,null,null,null,null,null,null,null,null,null,null,null,0,0,0,10000,{"$f":"IF(OR(MAX($P$2:P190)-P190=0,C190=0),\"\",MAX($P$2:P190)-P190)","v":""}]
[190,null,null,null,null,null,null,null,null,null,null,null,null,0,0,0,10000,{"$f":"IF(OR(MAX($P$2:P191)-P191=0,C191=0),\"\",MAX($P$2:P191)-P191)","v":""}]
[191,null,null,null,null,null,null,null,null,null,null,null,null,0,0,0,10000,{"$f":"IF(OR(MAX($P$2:P192)-P192=0,C192=0),\"\",MAX($P$2:P192)-P192)","v":""}]
[192,null,null,null,null,null,null,null,null,null,null,null,null,0,0,0,10000,{"$f":"IF(OR(MAX($P$2:P193)-P193=0,C193=0),\"\",MAX($P$2:P193)-P193)","v":""}]
[193,null,null,null,null,null,null,null,null,null,null,null,null,0,0,0,10000,{"$f":"IF(OR(MAX($P$2:P194)-P194=0,C194=0),\"\",MAX($P$2:P194)-P194)","v":""}]
[194,null,null,null,null,null,null,null,null,null,null,null,null,0,0,0,10000,{"$f":"IF(OR(MAX($P$2:P195)-P195=0,C195=0),\"\",MAX($P$2:P195)-P195)","v":""}]
[195,null,null,null,null,null,null,null,null,null,null,null,null,0,0,{"$f":"P195+N196-O196","v":0},{"$f":"Q195+N196-O196","v":10000},{"$f":"IF(OR(MAX($P$2:P196)-P196=0,C196=0),\"\",MAX($P$2:P196)-P196)","v":""}]
[196,null,null,null,null,null,null,null,null,null,null,null,null,0,0,0,10000,{"$f":"IF(OR(MAX($P$2:P197)-P197=0,C197=0),\"\",MAX($P$2:P197)-P197)","v":""}]
[197,null,null,null,null,null,null,null,null,null,null,null,null,{"$f":"IF(B198=1,I198+J198+K198+L198-M198,0)","v":0},0,0,10000,{"$f":"IF(OR(MAX($P$2:P198)-P198=0,C198=0),\"\",MAX($P$2:P198)-P198)","v":""}]
[198,null,null,null,null,null,null,null,null,null,null,null,null,0,0,0,10000,{"$f":"IF(OR(MAX($P$2:P199)-P199=0,C199=0),\"\",MAX($P$2:P199)-P199)","v":""}]
[199,null,null,null,null,null,null,null,null,null,null,null,null,0,0,0,10000,{"$f":"IF(OR(MAX($P$2:P200)-P200=0,C200=0),\"\",MAX($P$2:P200)-P200)","v":""}]
[200,null,null,null,null,null,null,null,null,null,null,null,null,0,0,0,10000,{"$f":"IF(OR(MAX($P$2:P201)-P201=0,C201=0),\"\",MAX($P$2:P201)-P201)","v":""}]
[201,null,null,null,null,null,null,null,null,null,null,null,null,0,0,0,10000,{"$f":"IF(OR(MAX($P$2:P202)-P202=0,C202=0),\"\",MAX($P$2:P202)-P202)","v":""}]
[202,null,null,null,null,null,null,null,null,null,null,null,null,0,0,0,10000,{"$f":"IF(OR(MAX($P$2:P203)-P203=0,C203=0),\"\",MAX($P$2:P203)-P203)","v":""}]
[203,null,null,null,null,null,null,null,null,null,null,null,null,0,0,0,10000,{"$f":"IF(OR(MAX($P$2:P204)-P204=0,C204=0),\"\",MAX($P$2:P204)-P204)","v":""}]
[204,null,null,null,null,null,null,null,null,null,null,null,null,0,0,0,10000,{"$f":"IF(OR(MAX($P$2:P205)-P205=0,C205=0),\"\",MAX($P$2:P205)-P205)","v":""}]
[205,null,null,null,null,null,null,null,null,null,null,null,null,0,0,0,10000,{"$f":"IF(OR(MAX($P$2:P206)-P206=0,C206=0),\"\",MAX($P$2:P206)-P206)","v":""}]
[206,null,null,null,null,null,null,null,null,null,null,null,null,0,0,0,10000,{"$f":"IF(OR(MAX($P$2:P207)-P207=0,C207=0),\"\",MAX($P$2:P207)-P207)","v":""}]
[207,null,null,null,null,null,null,null,null,null,null,null,null,0,0,0,10000,{"$f":"IF(OR(MAX($P$2:P208)-P208=0,C208=0),\"\",MAX($P$2:P208)-P208)","v":""}]
[208,null,null,null,null,null,null,null,null,null,null,null,null,0,0,0,10000,{"$f":"IF(OR(MAX($P$2:P209)-P209=0,C209=0),\"\",MAX($P$2:P209)-P209)","v":""}]
[209,null,null,null,null,null,null,null,null,null,null,null,null,0,0,0,10000,{"$f":"IF(OR(MAX($P$2:P210)-P210=0,C210=0),\"\",MAX($P$2:P210)-P210)","v":""}]
[210,null,null,null,null,null,null,null,null,null,null,null,null,0,0,0,10000,{"$f":"IF(OR(MAX($P$2:P211)-P211=0,C211=0),\"\",MAX($P$2:P211)-P211)","v":""}]
[211,null,null,null,null,null,null,null,null,null,null,null,null,0,0,0,10000,{"$f":"IF(OR(MAX($P$2:P212)-P212=0,C212=0),\"\",MAX($P$2:P212)-P212)","v":""}]
[212,null,null,null,null,null,null,null,null,null,null,null,null,0,0,0,10000,{"$f":"IF(OR(MAX($P$2:P213)-P213=0,C213=0),\"\",MAX($P$2:P213)-P213)","v":""}]
[213,null,null,null,null,null,null,null,null,null,null,null,null,0,0,0,10000,{"$f":"IF(OR(MAX($P$2:P214)-P214=0,C214=0),\"\",MAX($P$2:P214)-P214)","v":""}]
[214,null,null,null,null,null,null,null,null,null,null,null,null,0,0,0,10000,{"$f":"IF(OR(MAX($P$2:P215)-P215=0,C215=0),\"\",MAX($P$2:P215)-P215)","v":""}]
[215,null,null,null,null,null,null,null,null,null,null,null,null,0,0,0,10000,{"$f":"IF(OR(MAX($P$2:P216)-P216=0,C216=0),\"\",MAX($P$2:P216)-P216)","v":""}]
[216,null,null,null,null,null,null,null,null,null,null,null,null,0,0,0,10000,{"$f":"IF(OR(MAX($P$2:P217)-P217=0,C217=0),\"\",MAX($P$2:P217)-P217)","v":""}]
[217,null,null,null,null,null,null,null,null,null,null,null,null,0,0,0,10000,{"$f":"IF(OR(MAX($P$2:P218)-P218=0,C218=0),\"\",MAX($P$2:P218)-P218)","v":""}]
[218,null,null,null,null,null,null,null,null,null,null,null,null,0,0,0,10000,{"$f":"IF(OR(MAX($P$2:P219)-P219=0,C219=0),\"\",MAX($P$2:P219)-P219)","v":""}]
[219,null,null,null,null,null,null,null,null,null,null,null,null,0,0,0,10000,{"$f":"IF(OR(MAX($P$2:P220)-P220=0,C220=0),\"\",MAX($P$2:P220)-P220)","v":""}]
[220,null,null,null,null,null,null,null,null,null,null,null,null,0,0,0,10000,{"$f":"IF(OR(MAX($P$2:P221)-P221=0,C221=0),\"\",MAX($P$2:P221)-P221)","v":""}]
[221,null,null,null,null,null,null,null,null,null,null,null,null,0,0,0,10000,{"$f":"IF(OR(MAX($P$2:P222)-P222=0,C222=0),\"\",MAX($P$2:P222)-P222)","v":""}]
[222,null,null,null,null,null,null,null,null,null,null,null,null,0,0,0,10000,{"$f":"IF(OR(MAX($P$2:P223)-P223=0,C223=0),\"\",MAX($P$2:P223)-P223)","v":""}]
[223,null,null,null,null,null,null,null,null,null,null,null,null,0,0,0,10000,{"$f":"IF(OR(MAX($P$2:P224)-P224=0,C224=0),\"\",MAX($P$2:P224)-P224)","v":""}]
[224,null,null,null,null,null,null,null,null,null,null,null,null,0,0,0,10000,{"$f":"IF(OR(MAX($P$2:P225)-P225=0,C225=0),\"\",MAX($P$2:P225)-P225)","v":""}]
[225,null,null,null,null,null,null,null,null,null,null,null,null,0,0,0,10000,{"$f":"IF(OR(MAX($P$2:P226)-P226=0,C226=0),\"\",MAX($P$2:P226)-P226)","v":""}]
[226,null,null,null,null,null,null,null,null,null,null,null,null,0,0,0,10000,{"$f":"IF(OR(MAX($P$2:P227)-P227=0,C227=0),\"\",MAX($P$2:P227)-P227)","v":""}]
[227,null,null,null,null,null,null,null,null,null,null,null,null,0,0,0,10000,{"$f":"IF(OR(MAX($P$2:P228)-P228=0,C228=0),\"\",MAX($P$2:P228)-P228)","v":""}]
[228,null,null,null,null,null,null,null,null,null,null,null,null,0,0,0,10000,{"$f":"IF(OR(MAX($P$2:P229)-P229=0,C229=0),\"\",MAX($P$2:P229)-P229)","v":""}]
[229,null,null,null,null,null,null,null,null,null,null,null,null,0,0,0,10000,{"$f":"IF(OR(MAX($P$2:P230)-P230=0,C230=0),\"\",MAX($P$2:P230)-P230)","v":""}]
[230,null,null,null,null,null,null,null,null,null,null,null,null,0,0,0,10000,{"$f":"IF(OR(MAX($P$2:P231)-P231=0,C231=0),\"\",MAX($P$2:P231)-P231)","v":""}]
[231,null,null,null,null,null,null,null,null,null,null,null,null,0,0,0,10000,{"$f":"IF(OR(MAX($P$2:P232)-P232=0,C232=0),\"\",MAX($P$2:P232)-P232)","v":""}]
[232,null,null,null,null,null,null,null,null,null,null,null,null,0,0,0,10000,{"$f":"IF(OR(MAX($P$2:P233)-P233=0,C233=0),\"\",MAX($P$2:P233)-P233)","v":""}]
[233,null,null,null,null,null,null,null,null,null,null,null,null,0,0,0,10000,{"$f":"IF(OR(MAX($P$2:P234)-P234=0,C234=0),\"\",MAX($P$2:P234)-P234)","v":""}]
[234,null,null,null,null,null,null,null,null,null,null,null,null,0,0,0,10000,{"$f":"IF(OR(MAX($P$2:P235)-P235=0,C235=0),\"\",MAX($P$2:P235)-P235)","v":""}]
[235,null,null,null,null,null,null,null,null,null,null,null,null,0,0,0,10000,{"$f":"IF(OR(MAX($P$2:P236)-P236=0,C236=0),\"\",MAX($P$2:P236)-P236)","v":""}]
[236,null,null,null,null,null,null,null,null,null,null,null,null,0,0,0,10000,{"$f":"IF(OR(MAX($P$2:P237)-P237=0,C237=0),\"\",MAX($P$2:P237)-P237)","v":""}]
[237,null,null,null,null,null,null,null,null,null,null,null,null,0,0,0,10000,{"$f":"IF(OR(MAX($P$2:P238)-P238=0,C238=0),\"\",MAX($P$2:P238)-P238)","v":""}]
[238,null,null,null,null,null,null,null,null,null,null,null,null,0,0,0,10000,{"$f":"IF(OR(MAX($P$2:P239)-P239=0,C239=0),\"\",MAX($P$2:P239)-P239)","v":""}]
[239,null,null,null,null,null,null,null,null,null,null,null,null,0,0,0,10000,{"$f":"IF(OR(MAX($P$2:P240)-P240=0,C240=0),\"\",MAX($P$2:P240)-P240)","v":""}]
[240,null,null,null,null,null,null,null,null,null,null,null,null,0,0,0,10000,{"$f":"IF(OR(MAX($P$2:P241)-P241=0,C241=0),\"\",MAX($P$2:P241)-P241)","v":""}]
[241,null,null,null,null,null,null,null,null,null,null,null,null,0,0,0,10000,{"$f":"IF(OR(MAX($P$2:P242)-P242=0,C242=0),\"\",MAX($P$2:P242)-P242)","v":""}]
[242,null,null,null,null,null,null,null,null,null,null,null,null,0,0,0,10000,{"$f":"IF(OR(MAX($P$2:P243)-P243=0,C243=0),\"\",MAX($P$2:P243)-P243)","v":""}]
[243,null,null,null,null,null,null,null,null,null,null,null,null,0,0,0,10000,{"$f":"IF(OR(MAX($P$2:P244)-P244=0,C244=0),\"\",MAX($P$2:P244)-P244)","v":""}]
[244,null,null,null,null,null,null,null,null,null,null,null,null,0,0,0,10000,{"$f":"IF(OR(MAX($P$2:P245)-P245=0,C245=0),\"\",MAX($P$2:P245)-P245)","v":""}]
[245,null,null,null,null,null,null,null,null,null,null,null,null,0,0,0,10000,{"$f":"IF(OR(MAX($P$2:P246)-P246=0,C246=0),\"\",MAX($P$2:P246)-P246)","v":""}]
[246,null,null,null,null,null,null,null,null,null,null,null,null,0,0,0,10000,{"$f":"IF(OR(MAX($P$2:P247)-P247=0,C247=0),\"\",MAX($P$2:P247)-P247)","v":""}]
[247,null,null,null,null,null,null,null,null,null,null,null,null,0,0,0,10000,{"$f":"IF(OR(MAX($P$2:P248)-P248=0,C248=0),\"\",MAX($P$2:P248)-P248)","v":""}]
[248,null,null,null,null,null,null,null,null,null,null,null,null,0,0,0,10000,{"$f":"IF(OR(MAX($P$2:P249)-P249=0,C249=0),\"\",MAX($P$2:P249)-P249)","v":""}]
[249,null,null,null,null,null,null,null,null,null,null,null,null,0,0,0,10000,{"$f":"IF(OR(MAX($P$2:P250)-P250=0,C250=0),\"\",MAX($P$2:P250)-P250)","v":""}]
[250,null,null,null,null,null,null,null,null,null,null,null,null,0,0,0,10000,{"$f":"IF(OR(MAX($P$2:P251)-P251=0,C251=0),\"\",MAX($P$2:P251)-P251)","v":""}]
[251,null,null,null,null,null,null,null,null,null,null,null,null,0,0,0,10000,{"$f":"IF(OR(MAX($P$2:P252)-P252=0,C252=0),\"\",MAX($P$2:P252)-P252)","v":""}]
[252,null,null,null,null,null,null,null,null,null,null,null,null,0,0,0,10000,{"$f":"IF(OR(MAX($P$2:P253)-P253=0,C253=0),\"\",MAX($P$2:P253)-P253)","v":""}]
[253,null,null,null,null,null,null,null,null,null,null,null,null,0,0,0,10000,{"$f":"IF(OR(MAX($P$2:P254)-P254=0,C254=0),\"\",MAX($P$2:P254)-P254)","v":""}]
[254,null,null,null,null,null,null,null,null,null,null,null,null,0,0,0,10000,{"$f":"IF(OR(MAX($P$2:P255)-P255=0,C255=0),\"\",MAX($P$2:P255)-P255)","v":""}]
[255,null,null,null,null,null,null,null,null,null,null,null,null,0,0,0,10000,{"$f":"IF(OR(MAX($P$2:P256)-P256=0,C256=0),\"\",MAX($P$2:P256)-P256)","v":""}]
[256,null,null,null,null,null,null,null,null,null,null,null,null,0,0,0,10000,{"$f":"IF(OR(MAX($P$2:P257)-P257=0,C257=0),\"\",MAX($P$2:P257)-P257)","v":""}]
[257,null,null,null,null,null,null,null,null,null,null,null,null,0,0,0,10000,{"$f":"IF(OR(MAX($P$2:P258)-P258=0,C258=0),\"\",MAX($P$2:P258)-P258)","v":""}]
[258,null,null,null,null,null,null,null,null,null,null,null,null,0,0,0,10000,{"$f":"IF(OR(MAX($P$2:P259)-P259=0,C259=0),\"\",MAX($P$2:P259)-P259)","v":""}]
[259,null,null,null,null,null,null,null,null,null,null,null,null,0,0,{"$f":"P259+N260-O260","v":0},{"$f":"Q259+N260-O260","v":10000},{"$f":"IF(OR(MAX($P$2:P260)-P260=0,C260=0),\"\",MAX($P$2:P260)-P260)","v":""}]
[260,null,null,null,null,null,null,null,null,null,null,null,null,0,0,0,10000,{"$f":"IF(OR(MAX($P$2:P261)-P261=0,C261=0),\"\",MAX($P$2:P261)-P261)","v":""}]
[261,null,null,null,null,null,null,null,null,null,null,null,null,{"$f":"IF(B262=1,I262+J262+K262+L262-M262,0)","v":0},0,0,10000,{"$f":"IF(OR(MAX($P$2:P262)-P262=0,C262=0),\"\",MAX($P$2:P262)-P262)","v":""}]
[262,null,null,null,null,null,null,null,null,null,null,null,null,0,0,0,10000,{"$f":"IF(OR(MAX($P$2:P263)-P263=0,C263=0),\"\",MAX($P$2:P263)-P263)","v":""}]
[263,null,null,null,null,null,null,null,null,null,null,null,null,0,0,0,10000,{"$f":"IF(OR(MAX($P$2:P264)-P264=0,C264=0),\"\",MAX($P$2:P264)-P264)","v":""}]
[264,null,null,null,null,null,null,null,null,null,null,null,null,0,0,0,10000,{"$f":"IF(OR(MAX($P$2:P265)-P265=0,C265=0),\"\",MAX($P$2:P265)-P265)","v":""}]
[265,null,null,null,null,null,null,null,null,null,null,null,null,0,0,0,10000,{"$f":"IF(OR(MAX($P$2:P266)-P266=0,C266=0),\"\",MAX($P$2:P266)-P266)","v":""}]
[266,null,null,null,null,null,null,null,null,null,null,null,null,0,0,0,10000,{"$f":"IF(OR(MAX($P$2:P267)-P267=0,C267=0),\"\",MAX($P$2:P267)-P267)","v":""}]
[267,null,null,null,null,null,null,null,null,null,null,null,null,0,0,0,10000,{"$f":"IF(OR(MAX($P$2:P268)-P268=0,C268=0),\"\",MAX($P$2:P268)-P268)","v":""}]
[268,null,null,null,null,null,null,null,null,null,null,null,null,0,0,0,10000,{"$f":"IF(OR(MAX($P$2:P269)-P269=0,C269=0),\"\",MAX($P$2:P269)-P269)","v":""}]
[269,null,null,null,null,null,null,null,null,null,null,null,null,0,0,0,10000,{"$f":"IF(OR(MAX($P$2:P270)-P270=0,C270=0),\"\",MAX($P$2:P270)-P270)","v":""}]
[270,null,null,null,null,null,null,null,null,null,null,null,null,0,0,0,10000,{"$f":"IF(OR(MAX($P$2:P271)-P271=0,C271=0),\"\",MAX($P$2:P271)-P271)","v":""}]
[271,null,null,null,null,null,null,null,null,null,null,null,null,0,0,0,10000,{"$f":"IF(OR(MAX($P$2:P272)-P272=0,C272=0),\"\",MAX($P$2:P272)-P272)","v":""}]
[272,null,null,null,null,null,null,null,null,null,null,null,null,0,0,0,10000,{"$f":"IF(OR(MAX($P$2:P273)-P273=0,C273=0),\"\",MAX($P$2:P273)-P273)","v":""}]
[273,null,null,null,null,null,null,null,null,null,null,null,null,0,0,0,10000,{"$f":"IF(OR(MAX($P$2:P274)-P274=0,C274=0),\"\",MAX($P$2:P274)-P274)","v":""}]
[274,null,null,null,null,null,null,null,null,null,null,null,null,0,0,0,10000,{"$f":"IF(OR(MAX($P$2:P275)-P275=0,C275=0),\"\",MAX($P$2:P275)-P275)","v":""}]
[275,null,null,null,null,null,null,null,null,null,null,null,null,0,0,0,10000,{"$f":"IF(OR(MAX($P$2:P276)-P276=0,C276=0),\"\",MAX($P$2:P276)-P276)","v":""}]
[276,null,null,null,null,null,null,null,null,null,null,null,null,0,0,0,10000,{"$f":"IF(OR(MAX($P$2:P277)-P277=0,C277=0),\"\",MAX($P$2:P277)-P277)","v":""}]
[277,null,null,null,null,null,null,null,null,null,null,null,null,0,0,0,10000,{"$f":"IF(OR(MAX($P$2:P278)-P278=0,C278=0),\"\",MAX($P$2:P278)-P278)","v":""}]
[278,null,null,null,null,null,null,null,null,null,null,null,null,0,0,0,10000,{"$f":"IF(OR(MAX($P$2:P279)-P279=0,C279=0),\"\",MAX($P$2:P279)-P279)","v":""}]
[279,null,null,null,null,null,null,null,null,null,null,null,null,0,0,0,10000,{"$f":"IF(OR(MAX($P$2:P280)-P280=0,C280=0),\"\",MAX($P$2:P280)-P280)","v":""}]
[280,null,null,null,null,null,null,null,null,null,null,null,null,0,0,0,10000,{"$f":"IF(OR(MAX($P$2:P281)-P281=0,C281=0),\"\",MAX($P$2:P281)-P281)","v":""}]
[281,null,null,null,null,null,null,null,null,null,null,null,null,0,0,0,10000,{"$f":"IF(OR(MAX($P$2:P282)-P282=0,C282=0),\"\",MAX($P$2:P282)-P282)","v":""}]
[282,null,null,null,null,null,null,null,null,null,null,null,null,0,0,0,10000,{"$f":"IF(OR(MAX($P$2:P283)-P283=0,C283=0),\"\",MAX($P$2:P283)-P283)","v":""}]
[283,null,null,null,null,null,null,null,null,null,null,null,null,0,0,0,10000,{"$f":"IF(OR(MAX($P$2:P284)-P284=0,C284=0),\"\",MAX($P$2:P284)-P284)","v":""}]
[284,null,null,null,null,null,null,null,null,null,null,null,null,0,0,0,10000,{"$f":"IF(OR(MAX($P$2:P285)-P285=0,C285=0),\"\",MAX($P$2:P285)-P285)","v":""}]
[285,null,null,null,null,null,null,null,null,null,null,null,null,0,0,0,10000,{"$f":"IF(OR(MAX($P$2:P286)-P286=0,C286=0),\"\",MAX($P$2:P286)-P286)","v":""}]
[286,null,null,null,null,null,null,null,null,null,null,null,null,0,0,0,10000,{"$f":"IF(OR(MAX($P$2:P287)-P287=0,C287=0),\"\",MAX($P$2:P287)-P287)","v":""}]
[287,null,null,null,null,null,null,null,null,null,null,null,null,0,0,0,10000,{"$f":"IF(OR(MAX($P$2:P288)-P288=0,C288=0),\"\",MAX($P$2:P288)-P288)","v":""}]
[288,null,null,null,null,null,null,null,null,null,null,null,null,0,0,0,10000,{"$f":"IF(OR(MAX($P$2:P289)-P289=0,C289=0),\"\",MAX($P$2:P289)-P289)","v":""}]
[289,null,null,null,null,null,null,null,null,null,null,null,null,0,0,0,10000,{"$f":"IF(OR(MAX($P$2:P290)-P290=0,C290=0),\"\",MAX($P$2:P290)-P290)","v":""}]
[290,null,null,null,null,null,null,null,null,null,null,null,null,0,0,0,10000,{"$f":"IF(OR(MAX($P$2:P291)-P291=0,C291=0),\"\",MAX($P$2:P291)-P291)","v":""}]
[291,null,null,null,null,null,null,null,null,null,null,null,null,0,0,0,10000,{"$f":"IF(OR(MAX($P$2:P292)-P292=0,C292=0),\"\",MAX($P$2:P292)-P292)","v":""}]
[292,null,null,null,null,null,null,null,null,null,null,null,null,0,0,0,10000,{"$f":"IF(OR(MAX($P$2:P293)-P293=0,C293=0),\"\",MAX($P$2:P293)-P293)","v":""}]
[293,null,null,null,null,null,null,null,null,null,null,null,null,0,0,0,10000,{"$f":"IF(OR(MAX($P$2:P294)-P294=0,C294=0),\"\",MAX($P$2:P294)-P294)","v":""}]
[294,null,null,null,null,null,null,null,null,null,null,null,null,0,0,0,10000,{"$f":"IF(OR(MAX($P$2:P295)-P295=0,C295=0),\"\",MAX($P$2:P295)-P295)","v":""}]
[295,null,null,null,null,null,null,null,null,null,null,null,null,0,0,0,10000,{"$f":"IF(OR(MAX($P$2:P296)-P296=0,C296=0),\"\",MAX($P$2:P296)-P296)","v":""}]
[296,null,null,null,null,null,null,null,null,null,null,null,null,0,0,0,10000,{"$f":"IF(OR(MAX($P$2:P297)-P297=0,C297=0),\"\",MAX($P$2:P297)-P297)","v":""}]
[297,null,null,null,null,null,null,null,null,null,null,null,null,0,0,0,10000,{"$f":"IF(OR(MAX($P$2:P298)-P298=0,C298=0),\"\",MAX($P$2:P298)-P298)","v":""}]
[298,null,null,null,null,null,null,null,null,null,null,null,null,0,0,0,10000,{"$f":"IF(OR(MAX($P$2:P299)-P299=0,C299=0),\"\",MAX($P$2:P299)-P299)","v":""}]
[299,null,null,null,null,null,null,null,null,null,null,null,null,0,0,0,10000,{"$f":"IF(OR(MAX($P$2:P300)-P300=0,C300=0),\"\",MAX($P$2:P300)-P300)","v":""}]
[300,null,null,null,null,null,null,null,null,null,null,null,null,0,0,0,10000,{"$f":"IF(OR(MAX($P$2:P301)-P301=0,C301=0),\"\",MAX($P$2:P301)-P301)","v":""}]
[301,null,null,null,null,null,null,null,null,null,null,null,null,0,0,0,10000,{"$f":"IF(OR(MAX($P$2:P302)-P302=0,C302=0),\"\",MAX($P$2:P302)-P302)","v":""}]
[302,null,null,null,null,null,null,null,null,null,null,null,null,0,0,0,10000,{"$f":"IF(OR(MAX($P$2:P303)-P303=0,C303=0),\"\",MAX($P$2:P303)-P303)","v":""}]
[303,null,null,null,null,null,null,null,null,null,null,null,null,0,0,0,10000,{"$f":"IF(OR(MAX($P$2:P304)-P304=0,C304=0),\"\",MAX($P$2:P304)-P304)","v":""}]
[304,null,null,null,null,null,null,null,null,null,null,null,null,0,0,0,10000,{"$f":"IF(OR(MAX($P$2:P305)-P305=0,C305=0),\"\",MAX($P$2:P305)-P305)","v":""}]
[305,null,null,null,null,null,null,null,null,null,null,null,null,0,0,0,10000,{"$f":"IF(OR(MAX($P$2:P306)-P306=0,C306=0),\"\",MAX($P$2:P306)-P306)","v":""}]
[306,null,null,null,null,null,null,null,null,null,null,null,null,0,0,0,10000,{"$f":"IF(OR(MAX($P$2:P307)-P307=0,C307=0),\"\",MAX($P$2:P307)-P307)","v":""}]
[307,null,null,null,null,null,null,null,null,null,null,null,null,0,0,0,10000,{"$f":"IF(OR(MAX($P$2:P308)-P308=0,C308=0),\"\",MAX($P$2:P308)-P308)","v":""}]
[308,null,null,null,null,null,null,null,null,null,null,null,null,0,0,0,10000,{"$f":"IF(OR(MAX($P$2:P309)-P309=0,C309=0),\"\",MAX($P$2:P309)-P309)","v":""}]
[309,null,null,null,null,null,null,null,null,null,null,null,null,0,0,0,10000,{"$f":"IF(OR(MAX($P$2:P310)-P310=0,C310=0),\"\",MAX($P$2:P310)-P310)","v":""}]
[310,null,null,null,null,null,null,null,null,null,null,null,null,0,0,0,10000,{"$f":"IF(OR(MAX($P$2:P311)-P311=0,C311=0),\"\",MAX($P$2:P311)-P311)","v":""}]
[311,null,null,null,null,null,null,null,null,null,null,null,null,0,0,0,10000,{"$f":"IF(OR(MAX($P$2:P312)-P312=0,C312=0),\"\",MAX($P$2:P312)-P312)","v":""}]
[312,null,null,null,null,null,null,null,null,null,null,null,null,0,0,0,10000,{"$f":"IF(OR(MAX($P$2:P313)-P313=0,C313=0),\"\",MAX($P$2:P313)-P313)","v":""}]
[313,null,null,null,null,null,null,null,null,null,null,null,null,0,0,0,10000,{"$f":"IF(OR(MAX($P$2:P314)-P314=0,C314=0),\"\",MAX($P$2:P314)-P314)","v":""}]
[314,null,null,null,null,null,null,null,null,null,null,null,null,0,0,0,10000,{"$f":"IF(OR(MAX($P$2:P315)-P315=0,C315=0),\"\",MAX($P$2:P315)-P315)","v":""}]
[315,null,null,null,null,null,null,null,null,null,null,null,null,0,0,0,10000,{"$f":"IF(OR(MAX($P$2:P316)-P316=0,C316=0),\"\",MAX($P$2:P316)-P316)","v":""}]
[316,null,null,null,null,null,null,null,null,null,null,null,null,0,0,0,10000,{"$f":"IF(OR(MAX($P$2:P317)-P317=0,C317=0),\"\",MAX($P$2:P317)-P317)","v":""}]
[317,null,null,null,null,null,null,null,null,null,null,null,null,0,0,0,10000,{"$f":"IF(OR(MAX($P$2:P318)-P318=0,C318=0),\"\",MAX($P$2:P318)-P318)","v":""}]
[318,null,null,null,null,null,null,null,null,null,null,null,null,0,0,0,10000,{"$f":"IF(OR(MAX($P$2:P319)-P319=0,C319=0),\"\",MAX($P$2:P319)-P319)","v":""}]
[319,null,null,null,null,null,null,null,null,null,null,null,null,0,0,0,10000,{"$f":"IF(OR(MAX($P$2:P320)-P320=0,C320=0),\"\",MAX($P$2:P320)-P320)","v":""}]
[320,null,null,null,null,null,null,null,null,null,null,null,null,0,0,0,10000,{"$f":"IF(OR(MAX($P$2:P321)-P321=0,C321=0),\"\",MAX($P$2:P321)-P321)","v":""}]
[321,null,null,null,null,null,null,null,null,null,null,null,null,0,0,0,10000,{"$f":"IF(OR(MAX($P$2:P322)-P322=0,C322=0),\"\",MAX($P$2:P322)-P322)","v":""}]
[322,null,null,null,null,null,null,null,null,null,null,null,null,0,0,0,10000,{"$f":"IF(OR(MAX($P$2:P323)-P323=0,C323=0),\"\",MAX($P$2:P323)-P323)","v":""}]
[323,null,null,null,null,null,null,null,null,null,null,null,null,0,0,{"$f":"P323+N324-O324","v":0},{"$f":"Q323+N324-O324","v":10000},{"$f":"IF(OR(MAX($P$2:P324)-P324=0,C324=0),\"\",MAX($P$2:P324)-P324)","v":""}]
[324,null,null,null,null,null,null,null,null,null,null,null,null,0,0,0,10000,{"$f":"IF(OR(MAX($P$2:P325)-P325=0,C325=0),\"\",MAX($P$2:P325)-P325)","v":""}]
[325,null,null,null,null,null,null,null,null,null,null,null,null,{"$f":"IF(B326=1,I326+J326+K326+L326-M326,0)","v":0},0,0,10000,{"$f":"IF(OR(MAX($P$2:P326)-P326=0,C326=0),\"\",MAX($P$2:P326)-P326)","v":""}]
[326,null,null,null,null,null,null,null,null,null,null,null,null,0,0,0,10000,{"$f":"IF(OR(MAX($P$2:P327)-P327=0,C327=0),\"\",MAX($P$2:P327)-P327)","v":""}]
[327,null,null,null,null,null,null,null,null,null,null,null,null,0,0,0,10000,{"$f":"IF(OR(MAX($P$2:P328)-P328=0,C328=0),\"\",MAX($P$2:P328)-P328)","v":""}]
[328,null,null,null,null,null,null,null,null,null,null,null,null,0,0,0,10000,{"$f":"IF(OR(MAX($P$2:P329)-P329=0,C329=0),\"\",MAX($P$2:P329)-P329)","v":""}]
[329,null,null,null,null,null,null,null,null,null,null,null,null,0,0,0,10000,{"$f":"IF(OR(MAX($P$2:P330)-P330=0,C330=0),\"\",MAX($P$2:P330)-P330)","v":""}]
[330,null,null,null,null,null,null,null,null,null,null,null,null,0,0,0,10000,{"$f":"IF(OR(MAX($P$2:P331)-P331=0,C331=0),\"\",MAX($P$2:P331)-P331)","v":""}]
[331,null,null,null,null,null,null,null,null,null,null,null,null,0,0,0,10000,{"$f":"IF(OR(MAX($P$2:P332)-P332=0,C332=0),\"\",MAX($P$2:P332)-P332)","v":""}]
[332,null,null,null,null,null,null,null,null,null,null,null,null,0,0,0,10000,{"$f":"IF(OR(MAX($P$2:P333)-P333=0,C333=0),\"\",MAX($P$2:P333)-P333)","v":""}]
[333,null,null,null,null,null,null,null,null,null,null,null,null,0,0,0,10000,{"$f":"IF(OR(MAX($P$2:P334)-P334=0,C334=0),\"\",MAX($P$2:P334)-P334)","v":""}]
[334,null,null,null,null,null,null,null,null,null,null,null,null,0,0,0,10000,{"$f":"IF(OR(MAX($P$2:P335)-P335=0,C335=0),\"\",MAX($P$2:P335)-P335)","v":""}]
[335,null,null,null,null,null,null,null,null,null,null,null,null,0,0,0,10000,{"$f":"IF(OR(MAX($P$2:P336)-P336=0,C336=0),\"\",MAX($P$2:P336)-P336)","v":""}]
[336,null,null,null,null,null,null,null,null,null,null,null,null,0,0,0,10000,{"$f":"IF(OR(MAX($P$2:P337)-P337=0,C337=0),\"\",MAX($P$2:P337)-P337)","v":""}]
[337,null,null,null,null,null,null,null,null,null,null,null,null,0,0,0,10000,{"$f":"IF(OR(MAX($P$2:P338)-P338=0,C338=0),\"\",MAX($P$2:P338)-P338)","v":""}]
[338,null,null,null,null,null,null,null,null,null,null,null,null,0,0,0,10000,{"$f":"IF(OR(MAX($P$2:P339)-P339=0,C339=0),\"\",MAX($P$2:P339)-P339)","v":""}]
[339,null,null,null,null,null,null,null,null,null,null,null,null,0,0,0,10000,{"$f":"IF(OR(MAX($P$2:P340)-P340=0,C340=0),\"\",MAX($P$2:P340)-P340)","v":""}]
[340,null,null,null,null,null,null,null,null,null,null,null,null,0,0,0,10000,{"$f":"IF(OR(MAX($P$2:P341)-P341=0,C341=0),\"\",MAX($P$2:P341)-P341)","v":""}]
[341,null,null,null,null,null,null,null,null,null,null,null,null,0,0,0,10000,{"$f":"IF(OR(MAX($P$2:P342)-P342=0,C342=0),\"\",MAX($P$2:P342)-P342)","v":""}]
[342,null,null,null,null,null,null,null,null,null,null,null,null,0,0,0,10000,{"$f":"IF(OR(MAX($P$2:P343)-P343=0,C343=0),\"\",MAX($P$2:P343)-P343)","v":""}]
[343,null,null,null,null,null,null,null,null,null,null,null,null,0,0,0,10000,{"$f":"IF(OR(MAX($P$2:P344)-P344=0,C344=0),\"\",MAX($P$2:P344)-P344)","v":""}]
[344,null,null,null,null,null,null,null,null,null,null,null,null,0,0,0,10000,{"$f":"IF(OR(MAX($P$2:P345)-P345=0,C345=0),\"\",MAX($P$2:P345)-P345)","v":""}]
[345,null,null,null,null,null,null,null,null,null,null,null,null,0,0,0,10000,{"$f":"IF(OR(MAX($P$2:P346)-P346=0,C346=0),\"\",MAX($P$2:P346)-P346)","v":""}]
[346,null,null,null,null,null,null,null,null,null,null,null,null,0,0,0,10000,{"$f":"IF(OR(MAX($P$2:P347)-P347=0,C347=0),\"\",MAX($P$2:P347)-P347)","v":""}]
[347,null,null,null,null,null,null,null,null,null,null,null,null,0,0,0,10000,{"$f":"IF(OR(MAX($P$2:P348)-P348=0,C348=0),\"\",MAX($P$2:P348)-P348)","v":""}]
[348,null,null,null,null,null,null,null,null,null,null,null,null,0,0,0,10000,{"$f":"IF(OR(MAX($P$2:P349)-P349=0,C349=0),\"\",MAX($P$2:P349)-P349)","v":""}]
[349,null,null,null,null,null,null,null,null,null,null,null,null,0,0,0,10000,{"$f":"IF(OR(MAX($P$2:P350)-P350=0,C350=0),\"\",MAX($P$2:P350)-P350)","v":""}]
[350,null,null,null,null,null,null,null,null,null,null,null,null,0,0,0,10000,{"$f":"IF(OR(MAX($P$2:P351)-P351=0,C351=0),\"\",MAX($P$2:P351)-P351)","v":""}]
[351,null,null,null,null,null,null,null,null,null,null,null,null,0,0,0,10000,{"$f":"IF(OR(MAX($P$2:P352)-P352=0,C352=0),\"\",MAX($P$2:P352)-P352)","v":""}]
[352,null,null,null,null,null,null,null,null,null,null,null,null,0,0,0,10000,{"$f":"IF(OR(MAX($P$2:P353)-P353=0,C353=0),\"\",MAX($P$2:P353)-P353)","v":""}]
[353,null,null,null,null,null,null,null,null,null,null,null,null,0,0,0,10000,{"$f":"IF(OR(MAX($P$2:P354)-P354=0,C354=0),\"\",MAX($P$2:P354)-P354)","v":""}]
[354,null,null,null,null,null,null,null,null,null,null,null,null,0,0,0,10000,{"$f":"IF(OR(MAX($P$2:P355)-P355=0,C355=0),\"\",MAX($P$2:P355)-P355)","v":""}]
[355,null,null,null,null,null,null,null,null,null,null,null,null,0,0,0,10000,{"$f":"IF(OR(MAX($P$2:P356)-P356=0,C356=0),\"\",MAX($P$2:P356)-P356)","v":""}]
[356,null,null,null,null,null,null,null,null,null,null,null,null,0,0,0,10000,{"$f":"IF(OR(MAX($P$2:P357)-P357=0,C357=0),\"\",MAX($P$2:P357)-P357)","v":""}]
[357,null,null,null,null,null,null,null,null,null,null,null,null,0,0,0,10000,{"$f":"IF(OR(MAX($P$2:P358)-P358=0,C358=0),\"\",MAX($P$2:P358)-P358)","v":""}]
[358,null,null,null,null,null,null,null,null,null,null,null,null,0,0,0,10000,{"$f":"IF(OR(MAX($P$2:P359)-P359=0,C359=0),\"\",MAX($P$2:P359)-P359)","v":""}]
[359,null,null,null,null,null,null,null,null,null,null,null,null,0,0,0,10000,{"$f":"IF(OR(MAX($P$2:P360)-P360=0,C360=0),\"\",MAX($P$2:P360)-P360)","v":""}]
[360,null,null,null,null,null,null,null,null,null,null,null,null,0,0,0,10000,{"$f":"IF(OR(MAX($P$2:P361)-P361=0,C361=0),\"\",MAX($P$2:P361)-P361)","v":""}]
[361,null,null,null,null,null,null,null,null,null,null,null,null,0,0,0,10000,{"$f":"IF(OR(MAX($P$2:P362)-P362=0,C362=0),\"\",MAX($P$2:P362)-P362)","v":""}]
[362,null,null,null,null,null,null,null,null,null,null,null,null,0,0,0,10000,{"$f":"IF(OR(MAX($P$2:P363)-P363=0,C363=0),\"\",MAX($P$2:P363)-P363)","v":""}]
[363,null,null,null,null,null,null,null,null,null,null,null,null,0,0,0,10000,{"$f":"IF(OR(MAX($P$2:P364)-P364=0,C364=0),\"\",MAX($P$2:P364)-P364)","v":""}]
[364,null,null,null,null,null,null,null,null,null,null,null,null,0,0,0,10000,{"$f":"IF(OR(MAX($P$2:P365)-P365=0,C365=0),\"\",MAX($P$2:P365)-P365)","v":""}]
[365,null,null,null,null,null,null,null,null,null,null,null,null,0,0,0,10000,{"$f":"IF(OR(MAX($P$2:P366)-P366=0,C366=0),\"\",MAX($P$2:P366)-P366)","v":""}]
[366,null,null,null,null,null,null,null,null,null,null,null,null,0,0,0,10000,{"$f":"IF(OR(MAX($P$2:P367)-P367=0,C367=0),\"\",MAX($P$2:P367)-P367)","v":""}]
[367,null,null,null,null,null,null,null,null,null,null,null,null,0,0,0,10000,{"$f":"IF(OR(MAX($P$2:P368)-P368=0,C368=0),\"\",MAX($P$2:P368)-P368)","v":""}]
[368,null,null,null,null,null,null,null,null,null,null,null,null,0,0,0,10000,{"$f":"IF(OR(MAX($P$2:P369)-P369=0,C369=0),\"\",MAX($P$2:P369)-P369)","v":""}]
[369,null,null,null,null,null,null,null,null,null,null,null,null,0,0,0,10000,{"$f":"IF(OR(MAX($P$2:P370)-P370=0,C370=0),\"\",MAX($P$2:P370)-P370)","v":""}]
[370,null,null,null,null,null,null,null,null,null,null,null,null,0,0,0,10000,{"$f":"IF(OR(MAX($P$2:P371)-P371=0,C371=0),\"\",MAX($P$2:P371)-P371)","v":""}]
[371,null,null,null,null,null,null,null,null,null,null,null,null,0,0,0,10000,{"$f":"IF(OR(MAX($P$2:P372)-P372=0,C372=0),\"\",MAX($P$2:P372)-P372)","v":""}]
[372,null,null,null,null,null,null,null,null,null,null,null,null,0,0,0,10000,{"$f":"IF(OR(MAX($P$2:P373)-P373=0,C373=0),\"\",MAX($P$2:P373)-P373)","v":""}]
[373,null,null,null,null,null,null,null,null,null,null,null,null,0,0,0,10000,{"$f":"IF(OR(MAX($P$2:P374)-P374=0,C374=0),\"\",MAX($P$2:P374)-P374)","v":""}]
[374,null,null,null,null,null,null,null,null,null,null,null,null,0,0,0,10000,{"$f":"IF(OR(MAX($P$2:P375)-P375=0,C375=0),\"\",MAX($P$2:P375)-P375)","v":""}]
[375,null,null,null,null,null,null,null,null,null,null,null,null,0,0,0,10000,{"$f":"IF(OR(MAX($P$2:P376)-P376=0,C376=0),\"\",MAX($P$2:P376)-P376)","v":""}]
[376,null,null,null,null,null,null,null,null,null,null,null,null,0,0,0,10000,{"$f":"IF(OR(MAX($P$2:P377)-P377=0,C377=0),\"\",MAX($P$2:P377)-P377)","v":""}]
[377,null,null,null,null,null,null,null,null,null,null,null,null,0,0,0,10000,{"$f":"IF(OR(MAX($P$2:P378)-P378=0,C378=0),\"\",MAX($P$2:P378)-P378)","v":""}]
[378,null,null,null,null,null,null,null,null,null,null,null,null,0,0,0,10000,{"$f":"IF(OR(MAX($P$2:P379)-P379=0,C379=0),\"\",MAX($P$2:P379)-P379)","v":""}]
[379,null,null,null,null,null,null,null,null,null,null,null,null,0,0,0,10000,{"$f":"IF(OR(MAX($P$2:P380)-P380=0,C380=0),\"\",MAX($P$2:P380)-P380)","v":""}]
[380,null,null,null,null,null,null,null,null,null,null,null,null,0,0,0,10000,{"$f":"IF(OR(MAX($P$2:P381)-P381=0,C381=0),\"\",MAX($P$2:P381)-P381)","v":""}]
[381,null,null,null,null,null,null,null,null,null,null,null,null,0,0,0,10000,{"$f":"IF(OR(MAX($P$2:P382)-P382=0,C382=0),\"\",MAX($P$2:P382)-P382)","v":""}]
[382,null,null,null,null,null,null,null,null,null,null,null,null,0,0,0,10000,{"$f":"IF(OR(MAX($P$2:P383)-P383=0,C383=0),\"\",MAX($P$2:P383)-P383)","v":""}]
[383,null,null,null,null,null,null,null,null,null,null,null,null,0,0,0,10000,{"$f":"IF(OR(MAX($P$2:P384)-P384=0,C384=0),\"\",MAX($P$2:P384)-P384)","v":""}]
[384,null,null,null,null,null,null,null,null,null,null,null,null,0,0,0,10000,{"$f":"IF(OR(MAX($P$2:P385)-P385=0,C385=0),\"\",MAX($P$2:P385)-P385)","v":""}]
[385,null,null,null,null,null,null,null,null,null,null,null,null,0,0,0,10000,{"$f":"IF(OR(MAX($P$2:P386)-P386=0,C386=0),\"\",MAX($P$2:P386)-P386)","v":""}]
[386,null,null,null,null,null,null,null,null,null,null,null,null,0,0,0,10000,{"$f":"IF(OR(MAX($P$2:P387)-P387=0,C387=0),\"\",MAX($P$2:P387)-P387)","v":""}]
[387,null,null,null,null,null,null,null,null,null,null,null,null,0,0,{"$f":"P387+N388-O388","v":0},{"$f":"Q387+N388-O388","v":10000},{"$f":"IF(OR(MAX($P$2:P388)-P388=0,C388=0),\"\",MAX($P$2:P388)-P388)","v":""}]
[388,null,null,null,null,null,null,null,null,null,null,null,null,0,0,0,10000,{"$f":"IF(OR(MAX($P$2:P389)-P389=0,C389=0),\"\",MAX($P$2:P389)-P389)","v":""}]
[389,null,null,null,null,null,null,null,null,null,null,null,null,{"$f":"IF(B390=1,I390+J390+K390+L390-M390,0)","v":0},0,0,10000,{"$f":"IF(OR(MAX($P$2:P390)-P390=0,C390=0),\"\",MAX($P$2:P390)-P390)","v":""}]
[390,null,null,null,null,null,null,null,null,null,null,null,null,0,0,0,10000,{"$f":"IF(OR(MAX($P$2:P391)-P391=0,C391=0),\"\",MAX($P$2:P391)-P391)","v":""}]
[391,null,null,null,null,null,null,null,null,null,null,null,null,0,0,0,10000,{"$f":"IF(OR(MAX($P$2:P392)-P392=0,C392=0),\"\",MAX($P$2:P392)-P392)","v":""}]
[392,null,null,null,null,null,null,null,null,null,null,null,null,0,0,0,10000,{"$f":"IF(OR(MAX($P$2:P393)-P393=0,C393=0),\"\",MAX($P$2:P393)-P393)","v":""}]
[393,null,null,null,null,null,null,null,null,null,null,null,null,0,0,0,10000,{"$f":"IF(OR(MAX($P$2:P394)-P394=0,C394=0),\"\",MAX($P$2:P394)-P394)","v":""}]
[394,null,null,null,null,null,null,null,null,null,null,null,null,0,0,0,10000,{"$f":"IF(OR(MAX($P$2:P395)-P395=0,C395=0),\"\",MAX($P$2:P395)-P395)","v":""}]
[395,null,null,null,null,null,null,null,null,null,null,null,null,0,0,0,10000,{"$f":"IF(OR(MAX($P$2:P396)-P396=0,C396=0),\"\",MAX($P$2:P396)-P396)","v":""}]
[396,null,null,null,null,null,null,null,null,null,null,null,null,0,0,0,10000,{"$f":"IF(OR(MAX($P$2:P397)-P397=0,C397=0),\"\",MAX($P$2:P397)-P397)","v":""}]
[397,null,null,null,null,null,null,null,null,null,null,null,null,0,0,0,10000,{"$f":"IF(OR(MAX($P$2:P398)-P398=0,C398=0),\"\",MAX($P$2:P398)-P398)","v":""}]
[398,null,null,null,null,null,null,null,null,null,null,null,null,0,0,0,10000,{"$f":"IF(OR(MAX($P$2:P399)-P399=0,C399=0),\"\",MAX($P$2:P399)-P399)","v":""}]
[399,null,null,null,null,null,null,null,null,null,null,null,null,0,0,0,10000,{"$f":"IF(OR(MAX($P$2:P400)-P400=0,C400=0),\"\",MAX($P$2:P400)-P400)","v":""}]
[400,null,null,null,null,null,null,null,null,null,null,null,null,0,0,0,10000,{"$f":"IF(OR(MAX($P$2:P401)-P401=0,C401=0),\"\",MAX($P$2:P401)-P401)","v":""}]
[401,null,null,null,null,null,null,null,null,null,null,null,null,0,0,0,10000,{"$f":"IF(OR(MAX($P$2:P402)-P402=0,C402=0),\"\",MAX($P$2:P402)-P402)","v":""}]
[402,null,null,null,null,null,null,null,null,null,null,null,null,0,0,0,10000,{"$f":"IF(OR(MAX($P$2:P403)-P403=0,C403=0),\"\",MAX($P$2:P403)-P403)","v":""}]
[403,null,null,null,null,null,null,null,null,null,null,null,null,0,0,0,10000,{"$f":"IF(OR(MAX($P$2:P404)-P404=0,C404=0),\"\",MAX($P$2:P404)-P404)","v":""}]
[404,null,null,null,null,null,null,null,null,null,null,null,null,0,0,0,10000,{"$f":"IF(OR(MAX($P$2:P405)-P405=0,C405=0),\"\",MAX($P$2:P405)-P405)","v":""}]
[405,null,null,null,null,null,null,null,null,null,null,null,null,0,0,0,10000,{"$f":"IF(OR(MAX($P$2:P406)-P406=0,C406=0),\"\",MAX($P$2:P406)-P406)","v":""}]
[406,null,null,null,null,null,null,null,null,null,null,null,null,0,0,0,10000,{"$f":"IF(OR(MAX($P$2:P407)-P407=0,C407=0),\"\",MAX($P$2:P407)-P407)","v":""}]
[407,null,null,null,null,null,null,null,null,null,null,null,null,0,0,0,10000,{"$f":"IF(OR(MAX($P$2:P408)-P408=0,C408=0),\"\",MAX($P$2:P408)-P408)","v":""}]
[408,null,null,null,null,null,null,null,null,null,null,null,null,0,0,0,10000,{"$f":"IF(OR(MAX($P$2:P409)-P409=0,C409=0),\"\",MAX($P$2:P409)-P409)","v":""}]
[409,null,null,null,null,null,null,null,null,null,null,null,null,0,0,0,10000,{"$f":"IF(OR(MAX($P$2:P410)-P410=0,C410=0),\"\",MAX($P$2:P410)-P410)","v":""}]
[410,null,null,null,null,null,null,null,null,null,null,null,null,0,0,0,10000,{"$f":"IF(OR(MAX($P$2:P411)-P411=0,C411=0),\"\",MAX($P$2:P411)-P411)","v":""}]
[411,null,null,null,null,null,null,null,null,null,null,null,null,0,0,0,10000,{"$f":"IF(OR(MAX($P$2:P412)-P412=0,C412=0),\"\",MAX($P$2:P412)-P412)","v":""}]
[412,null,null,null,null,null,null,null,null,null,null,null,null,0,0,0,10000,{"$f":"IF(OR(MAX($P$2:P413)-P413=0,C413=0),\"\",MAX($P$2:P413)-P413)","v":""}]
[413,null,null,null,null,null,null,null,null,null,null,null,null,0,0,0,10000,{"$f":"IF(OR(MAX($P$2:P414)-P414=0,C414=0),\"\",MAX($P$2:P414)-P414)","v":""}]
[414,null,null,null,null,null,null,null,null,null,null,null,null,0,0,0,10000,{"$f":"IF(OR(MAX($P$2:P415)-P415=0,C415=0),\"\",MAX($P$2:P415)-P415)","v":""}]
[415,null,null,null,null,null,null,null,null,null,null,null,null,0,0,0,10000,{"$f":"IF(OR(MAX($P$2:P416)-P416=0,C416=0),\"\",MAX($P$2:P416)-P416)","v":""}]
[416,null,null,null,null,null,null,null,null,null,null,null,null,0,0,0,10000,{"$f":"IF(OR(MAX($P$2:P417)-P417=0,C417=0),\"\",MAX($P$2:P417)-P417)","v":""}]
[417,null,null,null,null,null,null,null,null,null,null,null,null,0,0,0,10000,{"$f":"IF(OR(MAX($P$2:P418)-P418=0,C418=0),\"\",MAX($P$2:P418)-P418)","v":""}]
[418,null,null,null,null,null,null,null,null,null,null,null,null,0,0,0,10000,{"$f":"IF(OR(MAX($P$2:P419)-P419=0,C419=0),\"\",MAX($P$2:P419)-P419)","v":""}]
[419,null,null,null,null,null,null,null,null,null,null,null,null,0,0,0,10000,{"$f":"IF(OR(MAX($P$2:P420)-P420=0,C420=0),\"\",MAX($P$2:P420)-P420)","v":""}]
[420,null,null,null,null,null,null,null,null,null,null,null,null,0,0,0,10000,{"$f":"IF(OR(MAX($P$2:P421)-P421=0,C421=0),\"\",MAX($P$2:P421)-P421)","v":""}]
[421,null,null,null,null,null,null,null,null,null,null,null,null,0,0,0,10000,{"$f":"IF(OR(MAX($P$2:P422)-P422=0,C422=0),\"\",MAX($P$2:P422)-P422)","v":""}]
[422,null,null,null,null,null,null,null,null,null,null,null,null,0,0,0,10000,{"$f":"IF(OR(MAX($P$2:P423)-P423=0,C423=0),\"\",MAX($P$2:P423)-P423)","v":""}]
[423,null,null,null,null,null,null,null,null,null,null,null,null,0,0,0,10000,{"$f":"IF(OR(MAX($P$2:P424)-P424=0,C424=0),\"\",MAX($P$2:P424)-P424)","v":""}]
[424,null,null,null,null,null,null,null,null,null,null,null,null,0,0,0,10000,{"$f":"IF(OR(MAX($P$2:P425)-P425=0,C425=0),\"\",MAX($P$2:P425)-P425)","v":""}]
[425,null,null,null,null,null,null,null,null,null,null,null,null,0,0,0,10000,{"$f":"IF(OR(MAX($P$2:P426)-P426=0,C426=0),\"\",MAX($P$2:P426)-P426)","v":""}]
[426,null,null,null,null,null,null,null,null,null,null,null,null,0,0,0,10000,{"$f":"IF(OR(MAX($P$2:P427)-P427=0,C427=0),\"\",MAX($P$2:P427)-P427)","v":""}]
[427,null,null,null,null,null,null,null,null,null,null,null,null,0,0,0,10000,{"$f":"IF(OR(MAX($P$2:P428)-P428=0,C428=0),\"\",MAX($P$2:P428)-P428)","v":""}]
[428,null,null,null,null,null,null,null,null,null,null,null,null,0,0,0,10000,{"$f":"IF(OR(MAX($P$2:P429)-P429=0,C429=0),\"\",MAX($P$2:P429)-P429)","v":""}]
[429,null,null,null,null,null,null,null,null,null,null,null,null,0,0,0,10000,{"$f":"IF(OR(MAX($P$2:P430)-P430=0,C430=0),\"\",MAX($P$2:P430)-P430)","v":""}]
[430,null,null,null,null,null,null,null,null,null,null,null,null,0,0,0,10000,{"$f":"IF(OR(MAX($P$2:P431)-P431=0,C431=0),\"\",MAX($P$2:P431)-P431)","v":""}]
[431,null,null,null,null,null,null,null,null,null,null,null,null,0,0,0,10000,{"$f":"IF(OR(MAX($P$2:P432)-P432=0,C432=0),\"\",MAX($P$2:P432)-P432)","v":""}]
[432,null,null,null,null,null,null,null,null,null,null,null,null,0,0,0,10000,{"$f":"IF(OR(MAX($P$2:P433)-P433=0,C433=0),\"\",MAX($P$2:P433)-P433)","v":""}]
[433,null,null,null,null,null,null,null,null,null,null,null,null,0,0,0,10000,{"$f":"IF(OR(MAX($P$2:P434)-P434=0,C434=0),\"\",MAX($P$2:P434)-P434)","v":""}]
[434,null,null,null,null,null,null,null,null,null,null,null,null,0,0,0,10000,{"$f":"IF(OR(MAX($P$2:P435)-P435=0,C435=0),\"\",MAX($P$2:P435)-P435)","v":""}]
[435,null,null,null,null,null,null,null,null,null,null,null,null,0,0,0,10000,{"$f":"IF(OR(MAX($P$2:P436)-P436=0,C436=0),\"\",MAX($P$2:P436)-P436)","v":""}]
[436,null,null,null,null,null,null,null,null,null,null,null,null,0,0,0,10000,{"$f":"IF(OR(MAX($P$2:P437)-P437=0,C437=0),\"\",MAX($P$2:P437)-P437)","v":""}]
[437,null,null,null,null,null,null,null,null,null,null,null,null,0,0,0,10000,{"$f":"IF(OR(MAX($P$2:P438)-P438=0,C438=0),\"\",MAX($P$2:P438)-P438)","v":""}]
[438,null,null,null,null,null,null,null,null,null,null,null,null,0,0,0,10000,{"$f":"IF(OR(MAX($P$2:P439)-P439=0,C439=0),\"\",MAX($P$2:P439)-P439)","v":""}]
[439,null,null,null,null,null,null,null,null,null,null,null,null,0,0,0,10000,{"$f":"IF(OR(MAX($P$2:P440)-P440=0,C440=0),\"\",MAX($P$2:P440)-P440)","v":""}]
[440,null,null,null,null,null,null,null,null,null,null,null,null,0,0,0,10000,{"$f":"IF(OR(MAX($P$2:P441)-P441=0,C441=0),\"\",MAX($P$2:P441)-P441)","v":""}]
[441,null,null,null,null,null,null,null,null,null,null,null,null,0,0,0,10000,{"$f":"IF(OR(MAX($P$2:P442)-P442=0,C442=0),\"\",MAX($P$2:P442)-P442)","v":""}]
[442,null,null,null,null,null,null,null,null,null,null,null,null,0,0,0,10000,{"$f":"IF(OR(MAX($P$2:P443)-P443=0,C443=0),\"\",MAX($P$2:P443)-P443)","v":""}]
[443,null,null,null,null,null,null,null,null,null,null,null,null,0,0,0,10000,{"$f":"IF(OR(MAX($P$2:P444)-P444=0,C444=0),\"\",MAX($P$2:P444)-P444)","v":""}]
[444,null,null,null,null,null,null,null,null,null,null,null,null,0,0,0,10000,{"$f":"IF(OR(MAX($P$2:P445)-P445=0,C445=0),\"\",MAX($P$2:P445)-P445)","v":""}]
[445,null,null,null,null,null,null,null,null,null,null,null,null,0,0,0,10000,{"$f":"IF(OR(MAX($P$2:P446)-P446=0,C446=0),\"\",MAX($P$2:P446)-P446)","v":""}]
[446,null,null,null,null,null,null,null,null,null,null,null,null,0,0,0,10000,{"$f":"IF(OR(MAX($P$2:P447)-P447=0,C447=0),\"\",MAX($P$2:P447)-P447)","v":""}]
[447,null,null,null,null,null,null,null,null,null,null,null,null,0,0,0,10000,{"$f":"IF(OR(MAX($P$2:P448)-P448=0,C448=0),\"\",MAX($P$2:P448)-P448)","v":""}]
[448,null,null,null,null,null,null,null,null,null,null,null,null,0,0,0,10000,{"$f":"IF(OR(MAX($P$2:P449)-P449=0,C449=0),\"\",MAX($P$2:P449)-P449)","v":""}]
[449,null,null,null,null,null,null,null,null,null,null,null,null,0,0,0,10000,{"$f":"IF(OR(MAX($P$2:P450)-P450=0,C450=0),\"\",MAX($P$2:P450)-P450)","v":""}]
[450,null,null,null,null,null,null,null,null,null,null,null,null,0,0,0,10000,{"$f":"IF(OR(MAX($P$2:P451)-P451=0,C451=0),\"\",MAX($P$2:P451)-P451)","v":""}]
[451,null,null,null,null,null,null,null,null,null,null,null,null,0,0,{"$f":"P451+N452-O452","v":0},{"$f":"Q451+N452-O452","v":10000},{"$f":"IF(OR(MAX($P$2:P452)-P452=0,C452=0),\"\",MAX($P$2:P452)-P452)","v":""}]
[452,null,null,null,null,null,null,null,null,null,null,null,null,0,0,0,10000,{"$f":"IF(OR(MAX($P$2:P453)-P453=0,C453=0),\"\",MAX($P$2:P453)-P453)","v":""}]
[453,null,null,null,null,null,null,null,null,null,null,null,null,{"$f":"IF(B454=1,I454+J454+K454+L454-M454,0)","v":0},0,0,10000,{"$f":"IF(OR(MAX($P$2:P454)-P454=0,C454=0),\"\",MAX($P$2:P454)-P454)","v":""}]
[454,null,null,null,null,null,null,null,null,null,null,null,null,0,0,0,10000,{"$f":"IF(OR(MAX($P$2:P455)-P455=0,C455=0),\"\",MAX($P$2:P455)-P455)","v":""}]
[455,null,null,null,null,null,null,null,null,null,null,null,null,0,0,0,10000,{"$f":"IF(OR(MAX($P$2:P456)-P456=0,C456=0),\"\",MAX($P$2:P456)-P456)","v":""}]
[456,null,null,null,null,null,null,null,null,null,null,null,null,0,0,0,10000,{"$f":"IF(OR(MAX($P$2:P457)-P457=0,C457=0),\"\",MAX($P$2:P457)-P457)","v":""}]
[457,null,null,null,null,null,null,null,null,null,null,null,null,0,0,0,10000,{"$f":"IF(OR(MAX($P$2:P458)-P458=0,C458=0),\"\",MAX($P$2:P458)-P458)","v":""}]
[458,null,null,null,null,null,null,null,null,null,null,null,null,0,0,0,10000,{"$f":"IF(OR(MAX($P$2:P459)-P459=0,C459=0),\"\",MAX($P$2:P459)-P459)","v":""}]
[459,null,null,null,null,null,null,null,null,null,null,null,null,0,0,0,10000,{"$f":"IF(OR(MAX($P$2:P460)-P460=0,C460=0),\"\",MAX($P$2:P460)-P460)","v":""}]
[460,null,null,null,null,null,null,null,null,null,null,null,null,0,0,0,10000,{"$f":"IF(OR(MAX($P$2:P461)-P461=0,C461=0),\"\",MAX($P$2:P461)-P461)","v":""}]
[461,null,null,null,null,null,null,null,null,null,null,null,null,0,0,0,10000,{"$f":"IF(OR(MAX($P$2:P462)-P462=0,C462=0),\"\",MAX($P$2:P462)-P462)","v":""}]
[462,null,null,null,null,null,null,null,null,null,null,null,null,0,0,0,10000,{"$f":"IF(OR(MAX($P$2:P463)-P463=0,C463=0),\"\",MAX($P$2:P463)-P463)","v":""}]
[463,null,null,null,null,null,null,null,null,null,null,null,null,0,0,0,10000,{"$f":"IF(OR(MAX($P$2:P464)-P464=0,C464=0),\"\",MAX($P$2:P464)-P464)","v":""}]
[464,null,null,null,null,null,null,null,null,null,null,null,null,0,0,0,10000,{"$f":"IF(OR(MAX($P$2:P465)-P465=0,C465=0),\"\",MAX($P$2:P465)-P465)","v":""}]
[465,null,null,null,null,null,null,null,null,null,null,null,null,0,0,0,10000,{"$f":"IF(OR(MAX($P$2:P466)-P466=0,C466=0),\"\",MAX($P$2:P466)-P466)","v":""}]
[466,null,null,null,null,null,null,null,null,null,null,null,null,0,0,0,10000,{"$f":"IF(OR(MAX($P$2:P467)-P467=0,C467=0),\"\",MAX($P$2:P467)-P467)","v":""}]
[467,null,null,null,null,null,null,null,null,null,null,null,null,0,0,0,10000,{"$f":"IF(OR(MAX($P$2:P468)-P468=0,C468=0),\"\",MAX($P$2:P468)-P468)","v":""}]
[468,null,null,null,null,null,null,null,null,null,null,null,null,0,0,0,10000,{"$f":"IF(OR(MAX($P$2:P469)-P469=0,C469=0),\"\",MAX($P$2:P469)-P469)","v":""}]
[469,null,null,null,null,null,null,null,null,null,null,null,null,0,0,0,10000,{"$f":"IF(OR(MAX($P$2:P470)-P470=0,C470=0),\"\",MAX($P$2:P470)-P470)","v":""}]
[470,null,null,null,null,null,null,null,null,null,null,null,null,0,0,0,10000,{"$f":"IF(OR(MAX($P$2:P471)-P471=0,C471=0),\"\",MAX($P$2:P471)-P471)","v":""}]
[471,null,null,null,null,null,null,null,null,null,null,null,null,0,0,0,10000,{"$f":"IF(OR(MAX($P$2:P472)-P472=0,C472=0),\"\",MAX($P$2:P472)-P472)","v":""}]
[472,null,null,null,null,null,null,null,null,null,null,null,null,0,0,0,10000,{"$f":"IF(OR(MAX($P$2:P473)-P473=0,C473=0),\"\",MAX($P$2:P473)-P473)","v":""}]
[473,null,null,null,null,null,null,null,null,null,null,null,null,0,0,0,10000,{"$f":"IF(OR(MAX($P$2:P474)-P474=0,C474=0),\"\",MAX($P$2:P474)-P474)","v":""}]
[474,null,null,null,null,null,null,null,null,null,null,null,null,0,0,0,10000,{"$f":"IF(OR(MAX($P$2:P475)-P475=0,C475=0),\"\",MAX($P$2:P475)-P475)","v":""}]
[475,null,null,null,null,null,null,null,null,null,null,null,null,0,0,0,10000,{"$f":"IF(OR(MAX($P$2:P476)-P476=0,C476=0),\"\",MAX($P$2:P476)-P476)","v":""}]
[476,null,null,null,null,null,null,null,null,null,null,null,null,0,0,0,10000,{"$f":"IF(OR(MAX($P$2:P477)-P477=0,C477=0),\"\",MAX($P$2:P477)-P477)","v":""}]
[477,null,null,null,null,null,null,null,null,null,null,null,null,0,0,0,10000,{"$f":"IF(OR(MAX($P$2:P478)-P478=0,C478=0),\"\",MAX($P$2:P478)-P478)","v":""}]
[478,null,null,null,null,null,null,null,null,null,null,null,null,0,0,0,10000,{"$f":"IF(OR(MAX($P$2:P479)-P479=0,C479=0),\"\",MAX($P$2:P479)-P479)","v":""}]
[479,null,null,null,null,null,null,null,null,null,null,null,null,0,0,0,10000,{"$f":"IF(OR(MAX($P$2:P480)-P480=0,C480=0),\"\",MAX($P$2:P480)-P480)","v":""}]
[480,null,null,null,null,null,null,null,null,null,null,null,null,0,0,0,10000,{"$f":"IF(OR(MAX($P$2:P481)-P481=0,C481=0),\"\",MAX($P$2:P481)-P481)","v":""}]
[481,null,null,null,null,null,null,null,null,null,null,null,null,0,0,0,10000,{"$f":"IF(OR(MAX($P$2:P482)-P482=0,C482=0),\"\",MAX($P$2:P482)-P482)","v":""}]
[482,null,null,null,null,null,null,null,null,null,null,null,null,0,0,0,10000,{"$f":"IF(OR(MAX($P$2:P483)-P483=0,C483=0),\"\",MAX($P$2:P483)-P483)","v":""}]
[483,null,null,null,null,null,null,null,null,null,null,null,null,0,0,0,10000,{"$f":"IF(OR(MAX($P$2:P484)-P484=0,C484=0),\"\",MAX($P$2:P484)-P484)","v":""}]
[484,null,null,null,null,null,null,null,null,null,null,null,null,0,0,0,10000,{"$f":"IF(OR(MAX($P$2:P485)-P485=0,C485=0),\"\",MAX($P$2:P485)-P485)","v":""}]
[485,null,null,null,null,null,null,null,null,null,null,null,null,0,0,0,10000,{"$f":"IF(OR(MAX($P$2:P486)-P486=0,C486=0),\"\",MAX($P$2:P486)-P486)","v":""}]
[486,null,null,null,null,null,null,null,null,null,null,null,null,0,0,0,10000,{"$f":"IF(OR(MAX($P$2:P487)-P487=0,C487=0),\"\",MAX($P$2:P487)-P487)","v":""}]
[487,null,null,null,null,null,null,null,null,null,null,null,null,0,0,0,10000,{"$f":"IF(OR(MAX($P$2:P488)-P488=0,C488=0),\"\",MAX($P$2:P488)-P488)","v":""}]
[488,null,null,null,null,null,null,null,null,null,null,null,null,0,0,0,10000,{"$f":"IF(OR(MAX($P$2:P489)-P489=0,C489=0),\"\",MAX($P$2:P489)-P489)","v":""}]
[489,null,null,null,null,null,null,null,null,null,null,null,null,0,0,0,10000,{"$f":"IF(OR(MAX($P$2:P490)-P490=0,C490=0),\"\",MAX($P$2:P490)-P490)","v":""}]
[490,null,null,null,null,null,null,null,null,null,null,null,null,0,0,0,10000,{"$f":"IF(OR(MAX($P$2:P491)-P491=0,C491=0),\"\",MAX($P$2:P491)-P491)","v":""}]
[491,null,null,null,null,null,null,null,null,null,null,null,null,0,0,0,10000,{"$f":"IF(OR(MAX($P$2:P492)-P492=0,C492=0),\"\",MAX($P$2:P492)-P492)","v":""}]
[492,null,null,null,null,null,null,null,null,null,null,null,null,0,0,0,10000,{"$f":"IF(OR(MAX($P$2:P493)-P493=0,C493=0),\"\",MAX($P$2:P493)-P493)","v":""}]
[493,null,null,null,null,null,null,null,null,null,null,null,null,0,0,0,10000,{"$f":"IF(OR(MAX($P$2:P494)-P494=0,C494=0),\"\",MAX($P$2:P494)-P494)","v":""}]
[494,null,null,null,null,null,null,null,null,null,null,null,null,0,0,0,10000,{"$f":"IF(OR(MAX($P$2:P495)-P495=0,C495=0),\"\",MAX($P$2:P495)-P495)","v":""}]
[495,null,null,null,null,null,null,null,null,null,null,null,null,0,0,0,10000,{"$f":"IF(OR(MAX($P$2:P496)-P496=0,C496=0),\"\",MAX($P$2:P496)-P496)","v":""}]
[496,null,null,null,null,null,null,null,null,null,null,null,null,0,0,0,10000,{"$f":"IF(OR(MAX($P$2:P497)-P497=0,C497=0),\"\",MAX($P$2:P497)-P497)","v":""}]
[497,null,null,null,null,null,null,null,null,null,null,null,null,0,0,0,10000,{"$f":"IF(OR(MAX($P$2:P498)-P498=0,C498=0),\"\",MAX($P$2:P498)-P498)","v":""}]
[498,null,null,null,null,null,null,null,null,null,null,null,null,0,0,0,10000,{"$f":"IF(OR(MAX($P$2:P499)-P499=0,C499=0),\"\",MAX($P$2:P499)-P499)","v":""}]
[499,null,null,null,null,null,null,null,null,null,null,null,null,0,0,0,10000,{"$f":"IF(OR(MAX($P$2:P500)-P500=0,C500=0),\"\",MAX($P$2:P500)-P500)","v":""}]
[500,null,null,null,null,null,null,null,null,null,null,null,null,0,0,0,10000,{"$f":"IF(OR(MAX($P$2:P501)-P501=0,C501=0),\"\",MAX($P$2:P501)-P501)","v":""}]
[501,null,null,null,null,null,null,null,null,null,null,null,null,0,0,0,10000,{"$f":"IF(OR(MAX($P$2:P502)-P502=0,C502=0),\"\",MAX($P$2:P502)-P502)","v":""}]
[502,null,null,null,null,null,null,null,null,null,null,null,null,0,0,0,10000,{"$f":"IF(OR(MAX($P$2:P503)-P503=0,C503=0),\"\",MAX($P$2:P503)-P503)","v":""}]
[503,null,null,null,null,null,null,null,null,null,null,null,null,0,0,0,10000,{"$f":"IF(OR(MAX($P$2:P504)-P504=0,C504=0),\"\",MAX($P$2:P504)-P504)","v":""}]
[504,null,null,null,null,null,null,null,null,null,null,null,null,0,0,0,10000,{"$f":"IF(OR(MAX($P$2:P505)-P505=0,C505=0),\"\",MAX($P$2:P505)-P505)","v":""}]
[505,null,null,null,null,null,null,null,null,null,null,null,null,0,0,0,10000,{"$f":"IF(OR(MAX($P$2:P506)-P506=0,C506=0),\"\",MAX($P$2:P506)-P506)","v":""}]
[506,null,null,null,null,null,null,null,null,null,null,null,null,0,0,0,10000,{"$f":"IF(OR(MAX($P$2:P507)-P507=0,C507=0),\"\",MAX($P$2:P507)-P507)","v":""}]
[507,null,null,null,null,null,null,null,null,null,null,null,null,0,0,0,10000,{"$f":"IF(OR(MAX($P$2:P508)-P508=0,C508=0),\"\",MAX($P$2:P508)-P508)","v":""}]
[508,null,null,null,null,null,null,null,null,null,null,null,null,0,0,0,10000,{"$f":"IF(OR(MAX($P$2:P509)-P509=0,C509=0),\"\",MAX($P$2:P509)-P509)","v":""}]
[509,null,null,null,null,null,null,null,null,null,null,null,null,0,0,0,10000,{"$f":"IF(OR(MAX($P$2:P510)-P510=0,C510=0),\"\",MAX($P$2:P510)-P510)","v":""}]
[510,null,null,null,null,null,null,null,null,null,null,null,null,0,0,0,10000,{"$f":"IF(OR(MAX($P$2:P511)-P511=0,C511=0),\"\",MAX($P$2:P511)-P511)","v":""}]
[511,null,null,null,null,null,null,null,null,null,null,null,null,0,0,0,10000,{"$f":"IF(OR(MAX($P$2:P512)-P512=0,C512=0),\"\",MAX($P$2:P512)-P512)","v":""}]
[512,null,null,null,null,null,null,null,null,null,null,null,null,0,0,0,10000,{"$f":"IF(OR(MAX($P$2:P513)-P513=0,C513=0),\"\",MAX($P$2:P513)-P513)","v":""}]
[513,null,null,null,null,null,null,null,null,null,null,null,null,0,0,0,10000,{"$f":"IF(OR(MAX($P$2:P514)-P514=0,C514=0),\"\",MAX($P$2:P514)-P514)","v":""}]
[514,null,null,null,null,null,null,null,null,null,null,null,null,0,0,0,10000,{"$f":"IF(OR(MAX($P$2:P515)-P515=0,C515=0),\"\",MAX($P$2:P515)-P515)","v":""}]
[515,null,null,null,null,null,null,null,null,null,null,null,null,0,0,{"$f":"P515+N516-O516","v":0},{"$f":"Q515+N516-O516","v":10000},{"$f":"IF(OR(MAX($P$2:P516)-P516=0,C516=0),\"\",MAX($P$2:P516)-P516)","v":""}]
[516,null,null,null,null,null,null,null,null,null,null,null,null,0,0,0,10000,{"$f":"IF(OR(MAX($P$2:P517)-P517=0,C517=0),\"\",MAX($P$2:P517)-P517)","v":""}]
[517,null,null,null,null,null,null,null,null,null,null,null,null,{"$f":"IF(B518=1,I518+J518+K518+L518-M518,0)","v":0},0,0,10000,{"$f":"IF(OR(MAX($P$2:P518)-P518=0,C518=0),\"\",MAX($P$2:P518)-P518)","v":""}]
[518,null,null,null,null,null,null,null,null,null,null,null,null,0,0,0,10000,{"$f":"IF(OR(MAX($P$2:P519)-P519=0,C519=0),\"\",MAX($P$2:P519)-P519)","v":""}]
[519,null,null,null,null,null,null,null,null,null,null,null,null,0,0,0,10000,{"$f":"IF(OR(MAX($P$2:P520)-P520=0,C520=0),\"\",MAX($P$2:P520)-P520)","v":""}]
[520,null,null,null,null,null,null,null,null,null,null,null,null,0,0,0,10000,{"$f":"IF(OR(MAX($P$2:P521)-P521=0,C521=0),\"\",MAX($P$2:P521)-P521)","v":""}]
[521,null,null,null,null,null,null,null,null,null,null,null,null,0,0,0,10000,{"$f":"IF(OR(MAX($P$2:P522)-P522=0,C522=0),\"\",MAX($P$2:P522)-P522)","v":""}]
[522,null,null,null,null,null,null,null,null,null,null,null,null,0,0,0,10000,{"$f":"IF(OR(MAX($P$2:P523)-P523=0,C523=0),\"\",MAX($P$2:P523)-P523)","v":""}]
[523,null,null,null,null,null,null,null,null,null,null,null,null,0,0,0,10000,{"$f":"IF(OR(MAX($P$2:P524)-P524=0,C524=0),\"\",MAX($P$2:P524)-P524)","v":""}]
[524,null,null,null,null,null,null,null,null,null,null,null,null,0,0,0,10000,{"$f":"IF(OR(MAX($P$2:P525)-P525=0,C525=0),\"\",MAX($P$2:P525)-P525)","v":""}]
[525,null,null,null,null,null,null,null,null,null,null,null,null,0,0,0,10000,{"$f":"IF(OR(MAX($P$2:P526)-P526=0,C526=0),\"\",MAX($P$2:P526)-P526)","v":""}]
[526,null,null,null,null,null,null,null,null,null,null,null,null,0,0,0,10000,{"$f":"IF(OR(MAX($P$2:P527)-P527=0,C527=0),\"\",MAX($P$2:P527)-P527)","v":""}]
[527,null,null,null,null,null,null,null,null,null,null,null,null,0,0,0,10000,{"$f":"IF(OR(MAX($P$2:P528)-P528=0,C528=0),\"\",MAX($P$2:P528)-P528)","v":""}]
[528,null,null,null,null,null,null,null,null,null,null,null,null,0,0,0,10000,{"$f":"IF(OR(MAX($P$2:P529)-P529=0,C529=0),\"\",MAX($P$2:P529)-P529)","v":""}]
[529,null,null,null,null,null,null,null,null,null,null,null,null,0,0,0,10000,{"$f":"IF(OR(MAX($P$2:P530)-P530=0,C530=0),\"\",MAX($P$2:P530)-P530)","v":""}]
[530,null,null,null,null,null,null,null,null,null,null,null,null,0,0,0,10000,{"$f":"IF(OR(MAX($P$2:P531)-P531=0,C531=0),\"\",MAX($P$2:P531)-P531)","v":""}]
[531,null,null,null,null,null,null,null,null,null,null,null,null,0,0,0,10000,{"$f":"IF(OR(MAX($P$2:P532)-P532=0,C532=0),\"\",MAX($P$2:P532)-P532)","v":""}]
[532,null,null,null,null,null,null,null,null,null,null,null,null,0,0,0,10000,{"$f":"IF(OR(MAX($P$2:P533)-P533=0,C533=0),\"\",MAX($P$2:P533)-P533)","v":""}]
[533,null,null,null,null,null,null,null,null,null,null,null,null,0,0,0,10000,{"$f":"IF(OR(MAX($P$2:P534)-P534=0,C534=0),\"\",MAX($P$2:P534)-P534)","v":""}]
[534,null,null,null,null,null,null,null,null,null,null,null,null,0,0,0,10000,{"$f":"IF(OR(MAX($P$2:P535)-P535=0,C535=0),\"\",MAX($P$2:P535)-P535)","v":""}]
[535,null,null,null,null,null,null,null,null,null,null,null,null,0,0,0,10000,{"$f":"IF(OR(MAX($P$2:P536)-P536=0,C536=0),\"\",MAX($P$2:P536)-P536)","v":""}]
[536,null,null,null,null,null,null,null,null,null,null,null,null,0,0,0,10000,{"$f":"IF(OR(MAX($P$2:P537)-P537=0,C537=0),\"\",MAX($P$2:P537)-P537)","v":""}]
[537,null,null,null,null,null,null,null,null,null,null,null,null,0,0,0,10000,{"$f":"IF(OR(MAX($P$2:P538)-P538=0,C538=0),\"\",MAX($P$2:P538)-P538)","v":""}]
[538,null,null,null,null,null,null,null,null,null,null,null,null,0,0,0,10000,{"$f":"IF(OR(MAX($P$2:P539)-P539=0,C539=0),\"\",MAX($P$2:P539)-P539)","v":""}]
[539,null,null,null,null,null,null,null,null,null,null,null,null,0,0,0,10000,{"$f":"IF(OR(MAX($P$2:P540)-P540=0,C540=0),\"\",MAX($P$2:P540)-P540)","v":""}]
[540,null,null,null,null,null,null,null,null,null,null,null,null,0,0,0,10000,{"$f":"IF(OR(MAX($P$2:P541)-P541=0,C541=0),\"\",MAX($P$2:P541)-P541)","v":""}]
[541,null,null,null,null,null,null,null,null,null,null,null,null,0,0,0,10000,{"$f":"IF(OR(MAX($P$2:P542)-P542=0,C542=0),\"\",MAX($P$2:P542)-P542)","v":""}]
[542,null,null,null,null,null,null,null,null,null,null,null,null,0,0,0,10000,{"$f":"IF(OR(MAX($P$2:P543)-P543=0,C543=0),\"\",MAX($P$2:P543)-P543)","v":""}]
[543,null,null,null,null,null,null,null,null,null,null,null,null,0,0,0,10000,{"$f":"IF(OR(MAX($P$2:P544)-P544=0,C544=0),\"\",MAX($P$2:P544)-P544)","v":""}]
[544,null,null,null,null,null,null,null,null,null,null,null,null,0,0,0,10000,{"$f":"IF(OR(MAX($P$2:P545)-P545=0,C545=0),\"\",MAX($P$2:P545)-P545)","v":""}]
[545,null,null,null,null,null,null,null,null,null,null,null,null,0,0,0,10000,{"$f":"IF(OR(MAX($P$2:P546)-P546=0,C546=0),\"\",MAX($P$2:P546)-P546)","v":""}]
[546,null,null,null,null,null,null,null,null,null,null,null,null,0,0,0,10000,{"$f":"IF(OR(MAX($P$2:P547)-P547=0,C547=0),\"\",MAX($P$2:P547)-P547)","v":""}]
[547,null,null,null,null,null,null,null,null,null,null,null,null,0,0,0,10000,{"$f":"IF(OR(MAX($P$2:P548)-P548=0,C548=0),\"\",MAX($P$2:P548)-P548)","v":""}]
[548,null,null,null,null,null,null,null,null,null,null,null,null,0,0,0,10000,{"$f":"IF(OR(MAX($P$2:P549)-P549=0,C549=0),\"\",MAX($P$2:P549)-P549)","v":""}]
[549,null,null,null,null,null,null,null,null,null,null,null,null,0,0,0,10000,{"$f":"IF(OR(MAX($P$2:P550)-P550=0,C550=0),\"\",MAX($P$2:P550)-P550)","v":""}]
[550,null,null,null,null,null,null,null,null,null,null,null,null,0,0,0,10000,{"$f":"IF(OR(MAX($P$2:P551)-P551=0,C551=0),\"\",MAX($P$2:P551)-P551)","v":""}]
[551,null,null,null,null,null,null,null,null,null,null,null,null,0,0,0,10000,{"$f":"IF(OR(MAX($P$2:P552)-P552=0,C552=0),\"\",MAX($P$2:P552)-P552)","v":""}]
[552,null,null,null,null,null,null,null,null,null,null,null,null,0,0,0,10000,{"$f":"IF(OR(MAX($P$2:P553)-P553=0,C553=0),\"\",MAX($P$2:P553)-P553)","v":""}]
[553,null,null,null,null,null,null,null,null,null,null,null,null,0,0,0,10000,{"$f":"IF(OR(MAX($P$2:P554)-P554=0,C554=0),\"\",MAX($P$2:P554)-P554)","v":""}]
[554,null,null,null,null,null,null,null,null,null,null,null,null,0,0,0,10000,{"$f":"IF(OR(MAX($P$2:P555)-P555=0,C555=0),\"\",MAX($P$2:P555)-P555)","v":""}]
[555,null,null,null,null,null,null,null,null,null,null,null,null,0,0,0,10000,{"$f":"IF(OR(MAX($P$2:P556)-P556=0,C556=0),\"\",MAX($P$2:P556)-P556)","v":""}]
[556,null,null,null,null,null,null,null,null,null,null,null,null,0,0,0,10000,{"$f":"IF(OR(MAX($P$2:P557)-P557=0,C557=0),\"\",MAX($P$2:P557)-P557)","v":""}]
[557,null,null,null,null,null,null,null,null,null,null,null,null,0,0,0,10000,{"$f":"IF(OR(MAX($P$2:P558)-P558=0,C558=0),\"\",MAX($P$2:P558)-P558)","v":""}]
[558,null,null,null,null,null,null,null,null,null,null,null,null,0,0,0,10000,{"$f":"IF(OR(MAX($P$2:P559)-P559=0,C559=0),\"\",MAX($P$2:P559)-P559)","v":""}]
[559,null,null,null,null,null,null,null,null,null,null,null,null,0,0,0,10000,{"$f":"IF(OR(MAX($P$2:P560)-P560=0,C560=0),\"\",MAX($P$2:P560)-P560)","v":""}]
[560,null,null,null,null,null,null,null,null,null,null,null,null,0,0,0,10000,{"$f":"IF(OR(MAX($P$2:P561)-P561=0,C561=0),\"\",MAX($P$2:P561)-P561)","v":""}]
[561,null,null,null,null,null,null,null,null,null,null,null,null,0,0,0,10000,{"$f":"IF(OR(MAX($P$2:P562)-P562=0,C562=0),\"\",MAX($P$2:P562)-P562)","v":""}]
[562,null,null,null,null,null,null,null,null,null,null,null,null,0,0,0,10000,{"$f":"IF(OR(MAX($P$2:P563)-P563=0,C563=0),\"\",MAX($P$2:P563)-P563)","v":""}]
[563,null,null,null,null,null,null,null,null,null,null,null,null,0,0,0,10000,{"$f":"IF(OR(MAX($P$2:P564)-P564=0,C564=0),\"\",MAX($P$2:P564)-P564)","v":""}]
[564,null,null,null,null,null,null,null,null,null,null,null,null,0,0,0,10000,{"$f":"IF(OR(MAX($P$2:P565)-P565=0,C565=0),\"\",MAX($P$2:P565)-P565)","v":""}]
[565,null,null,null,null,null,null,null,null,null,null,null,null,0,0,0,10000,{"$f":"IF(OR(MAX($P$2:P566)-P566=0,C566=0),\"\",MAX($P$2:P566)-P566)","v":""}]
[566,null,null,null,null,null,null,null,null,null,null,null,null,0,0,0,10000,{"$f":"IF(OR(MAX($P$2:P567)-P567=0,C567=0),\"\",MAX($P$2:P567)-P567)","v":""}]
[567,null,null,null,null,null,null,null,null,null,null,null,null,0,0,0,10000,{"$f":"IF(OR(MAX($P$2:P568)-P568=0,C568=0),\"\",MAX($P$2:P568)-P568)","v":""}]
[568,null,null,null,null,null,null,null,null,null,null,null,null,0,0,0,10000,{"$f":"IF(OR(MAX($P$2:P569)-P569=0,C569=0),\"\",MAX($P$2:P569)-P569)","v":""}]
[569,null,null,null,null,null,null,null,null,null,null,null,null,0,0,0,10000,{"$f":"IF(OR(MAX($P$2:P570)-P570=0,C570=0),\"\",MAX($P$2:P570)-P570)","v":""}]
[570,null,null,null,null,null,null,null,null,null,null,null,null,0,0,0,10000,{"$f":"IF(OR(MAX($P$2:P571)-P571=0,C571=0),\"\",MAX($P$2:P571)-P571)","v":""}]
[571,null,null,null,null,null,null,null,null,null,null,null,null,0,0,0,10000,{"$f":"IF(OR(MAX($P$2:P572)-P572=0,C572=0),\"\",MAX($P$2:P572)-P572)","v":""}]
[572,null,null,null,null,null,null,null,null,null,null,null,null,0,0,0,10000,{"$f":"IF(OR(MAX($P$2:P573)-P573=0,C573=0),\"\",MAX($P$2:P573)-P573)","v":""}]
[573,null,null,null,null,null,null,null,null,null,null,null,null,0,0,0,10000,{"$f":"IF(OR(MAX($P$2:P574)-P574=0,C574=0),\"\",MAX($P$2:P574)-P574)","v":""}]
[574,null,null,null,null,null,null,null,null,null,null,null,null,0,0,0,10000,{"$f":"IF(OR(MAX($P$2:P575)-P575=0,C575=0),\"\",MAX($P$2:P575)-P575)","v":""}]
[575,null,null,null,null,null,null,null,null,null,null,null,null,0,0,0,10000,{"$f":"IF(OR(MAX($P$2:P576)-P576=0,C576=0),\"\",MAX($P$2:P576)-P576)","v":""}]
[576,null,null,null,null,null,null,null,null,null,null,null,null,0,0,0,10000,{"$f":"IF(OR(MAX($P$2:P577)-P577=0,C577=0),\"\",MAX($P$2:P577)-P577)","v":""}]
[577,null,null,null,null,null,null,null,null,null,null,null,null,0,0,0,10000,{"$f":"IF(OR(MAX($P$2:P578)-P578=0,C578=0),\"\",MAX($P$2:P578)-P578)","v":""}]
[578,null,null,null,null,null,null,null,null,null,null,null,null,0,0,0,10000,{"$f":"IF(OR(MAX($P$2:P579)-P579=0,C579=0),\"\",MAX($P$2:P579)-P579)","v":""}]
[579,null,null,null,null,null,null,null,null,null,null,null,null,0,0,{"$f":"P579+N580-O580","v":0},{"$f":"Q579+N580-O580","v":10000},{"$f":"IF(OR(MAX($P$2:P580)-P580=0,C580=0),\"\",MAX($P$2:P580)-P580)","v":""}]
[580,null,null,null,null,null,null,null,null,null,null,null,null,0,0,0,10000,{"$f":"IF(OR(MAX($P$2:P581)-P581=0,C581=0),\"\",MAX($P$2:P581)-P581)","v":""}]
[581,null,null,null,null,null,null,null,null,null,null,null,null,{"$f":"IF(B582=1,I582+J582+K582+L582-M582,0)","v":0},0,0,10000,{"$f":"IF(OR(MAX($P$2:P582)-P582=0,C582=0),\"\",MAX($P$2:P582)-P582)","v":""}]
[582,null,null,null,null,null,null,null,null,null,null,null,null,0,0,0,10000,{"$f":"IF(OR(MAX($P$2:P583)-P583=0,C583=0),\"\",MAX($P$2:P583)-P583)","v":""}]
[583,null,null,null,null,null,null,null,null,null,null,null,null,0,0,0,10000,{"$f":"IF(OR(MAX($P$2:P584)-P584=0,C584=0),\"\",MAX($P$2:P584)-P584)","v":""}]
[584,null,null,null,null,null,null,null,null,null,null,null,null,0,0,0,10000,{"$f":"IF(OR(MAX($P$2:P585)-P585=0,C585=0),\"\",MAX($P$2:P585)-P585)","v":""}]
[585,null,null,null,null,null,null,null,null,null,null,null,null,0,0,0,10000,{"$f":"IF(OR(MAX($P$2:P586)-P586=0,C586=0),\"\",MAX($P$2:P586)-P586)","v":""}]
[586,null,null,null,null,null,null,null,null,null,null,null,null,0,0,0,10000,{"$f":"IF(OR(MAX($P$2:P587)-P587=0,C587=0),\"\",MAX($P$2:P587)-P587)","v":""}]
[587,null,null,null,null,null,null,null,null,null,null,null,null,0,0,0,10000,{"$f":"IF(OR(MAX($P$2:P588)-P588=0,C588=0),\"\",MAX($P$2:P588)-P588)","v":""}]
[588,null,null,null,null,null,null,null,null,null,null,null,null,0,0,0,10000,{"$f":"IF(OR(MAX($P$2:P589)-P589=0,C589=0),\"\",MAX($P$2:P589)-P589)","v":""}]
[589,null,null,null,null,null,null,null,null,null,null,null,null,0,0,0,10000,{"$f":"IF(OR(MAX($P$2:P590)-P590=0,C590=0),\"\",MAX($P$2:P590)-P590)","v":""}]
[590,null,null,null,null,null,null,null,null,null,null,null,null,0,0,0,10000,{"$f":"IF(OR(MAX($P$2:P591)-P591=0,C591=0),\"\",MAX($P$2:P591)-P591)","v":""}]
[591,null,null,null,null,null,null,null,null,null,null,null,null,0,0,0,10000,{"$f":"IF(OR(MAX($P$2:P592)-P592=0,C592=0),\"\",MAX($P$2:P592)-P592)","v":""}]
[592,null,null,null,null,null,null,null,null,null,null,null,null,0,0,0,10000,{"$f":"IF(OR(MAX($P$2:P593)-P593=0,C593=0),\"\",MAX($P$2:P593)-P593)","v":""}]
[593,null,null,null,null,null,null,null,null,null,null,null,null,0,0,0,10000,{"$f":"IF(OR(MAX($P$2:P594)-P594=0,C594=0),\"\",MAX($P$2:P594)-P594)","v":""}]
[594,null,null,null,null,null,null,null,null,null,null,null,null,0,0,0,10000,{"$f":"IF(OR(MAX($P$2:P595)-P595=0,C595=0),\"\",MAX($P$2:P595)-P595)","v":""}]
[595,null,null,null,null,null,null,null,null,null,null,null,null,0,0,0,10000,{"$f":"IF(OR(MAX($P$2:P596)-P596=0,C596=0),\"\",MAX($P$2:P596)-P596)","v":""}]
[596,null,null,null,null,null,null,null,null,null,null,null,null,0,0,0,10000,{"$f":"IF(OR(MAX($P$2:P597)-P597=0,C597=0),\"\",MAX($P$2:P597)-P597)","v":""}]
[597,null,null,null,null,null,null,null,null,null,null,null,null,0,0,0,10000,{"$f":"IF(OR(MAX($P$2:P598)-P598=0,C598=0),\"\",MAX($P$2:P598)-P598)","v":""}]
[598,null,null,null,null,null,null,null,null,null,null,null,null,0,0,0,10000,{"$f":"IF(OR(MAX($P$2:P599)-P599=0,C599=0),\"\",MAX($P$2:P599)-P599)","v":""}]
[599,null,null,null,null,null,null,null,null,null,null,null,null,0,0,0,10000,{"$f":"IF(OR(MAX($P$2:P600)-P600=0,C600=0),\"\",MAX($P$2:P600)-P600)","v":""}]
[600,null,null,null,null,null,null,null,null,null,null,null,null,0,0,0,10000,{"$f":"IF(OR(MAX($P$2:P601)-P601=0,C601=0),\"\",MAX($P$2:P601)-P601)","v":""}]
[601,null,null,null,null,null,null,null,null,null,null,null,null,0,0,0,10000,{"$f":"IF(OR(MAX($P$2:P602)-P602=0,C602=0),\"\",MAX($P$2:P602)-P602)","v":""}]
[602,null,null,null,null,null,null,null,null,null,null,null,null,0,0,0,10000,{"$f":"IF(OR(MAX($P$2:P603)-P603=0,C603=0),\"\",MAX($P$2:P603)-P603)","v":""}]
[603,null,null,null,null,null,null,null,null,null,null,null,null,0,0,0,10000,{"$f":"IF(OR(MAX($P$2:P604)-P604=0,C604=0),\"\",MAX($P$2:P604)-P604)","v":""}]
[604,null,null,null,null,null,null,null,null,null,null,null,null,0,0,0,10000,{"$f":"IF(OR(MAX($P$2:P605)-P605=0,C605=0),\"\",MAX($P$2:P605)-P605)","v":""}]
[605,null,null,null,null,null,null,null,null,null,null,null,null,0,0,0,10000,{"$f":"IF(OR(MAX($P$2:P606)-P606=0,C606=0),\"\",MAX($P$2:P606)-P606)","v":""}]
[606,null,null,null,null,null,null,null,null,null,null,null,null,0,0,0,10000,{"$f":"IF(OR(MAX($P$2:P607)-P607=0,C607=0),\"\",MAX($P$2:P607)-P607)","v":""}]
[607,null,null,null,null,null,null,null,null,null,null,null,null,0,0,0,10000,{"$f":"IF(OR(MAX($P$2:P608)-P608=0,C608=0),\"\",MAX($P$2:P608)-P608)","v":""}]
[608,null,null,null,null,null,null,null,null,null,null,null,null,0,0,0,10000,{"$f":"IF(OR(MAX($P$2:P609)-P609=0,C609=0),\"\",MAX($P$2:P609)-P609)","v":""}]
[609,null,null,null,null,null,null,null,null,null,null,null,null,0,0,0,10000,{"$f":"IF(OR(MAX($P$2:P610)-P610=0,C610=0),\"\",MAX($P$2:P610)-P610)","v":""}]
[610,null,null,null,null,null,null,null,null,null,null,null,null,0,0,0,10000,{"$f":"IF(OR(MAX($P$2:P611)-P611=0,C611=0),\"\",MAX($P$2:P611)-P611)","v":""}]
[611,null,null,null,null,null,null,null,null,null,null,null,null,0,0,0,10000,{"$f":"IF(OR(MAX($P$2:P612)-P612=0,C612=0),\"\",MAX($P$2:P612)-P612)","v":""}]
[612,null,null,null,null,null,null,null,null,null,null,null,null,0,0,0,10000,{"$f":"IF(OR(MAX($P$2:P613)-P613=0,C613=0),\"\",MAX($P$2:P613)-P613)","v":""}]
[613,null,null,null,null,null,null,null,null,null,null,null,null,0,0,0,10000,{"$f":"IF(OR(MAX($P$2:P614)-P614=0,C614=0),\"\",MAX($P$2:P614)-P614)","v":""}]
[614,null,null,null,null,null,null,null,null,null,null,null,null,0,0,0,10000,{"$f":"IF(OR(MAX($P$2:P615)-P615=0,C615=0),\"\",MAX($P$2:P615)-P615)","v":""}]
[615,null,null,null,null,null,null,null,null,null,null,null,null,0,0,0,10000,{"$f":"IF(OR(MAX($P$2:P616)-P616=0,C616=0),\"\",MAX($P$2:P616)-P616)","v":""}]
[616,null,null,null,null,null,null,null,null,null,null,null,null,0,0,0,10000,{"$f":"IF(OR(MAX($P$2:P617)-P617=0,C617=0),\"\",MAX($P$2:P617)-P617)","v":""}]
[617,null,null,null,null,null,null,null,null,null,null,null,null,0,0,0,10000,{"$f":"IF(OR(MAX($P$2:P618)-P618=0,C618=0),\"\",MAX($P$2:P618)-P618)","v":""}]
[618,null,null,null,null,null,null,null,null,null,null,null,null,0,0,0,10000,{"$f":"IF(OR(MAX($P$2:P619)-P619=0,C619=0),\"\",MAX($P$2:P619)-P619)","v":""}]
[619,null,null,null,null,null,null,null,null,null,null,null,null,0,0,0,10000,{"$f":"IF(OR(MAX($P$2:P620)-P620=0,C620=0),\"\",MAX($P$2:P620)-P620)","v":""}]
[620,null,null,null,null,null,null,null,null,null,null,null,null,0,0,0,10000,{"$f":"IF(OR(MAX($P$2:P621)-P621=0,C621=0),\"\",MAX($P$2:P621)-P621)","v":""}]
[621,null,null,null,null,null,null,null,null,null,null,null,null,0,0,0,10000,{"$f":"IF(OR(MAX($P$2:P622)-P622=0,C622=0),\"\",MAX($P$2:P622)-P622)","v":""}]
[622,null,null,null,null,null,null,null,null,null,null,null,null,0,0,0,10000,{"$f":"IF(OR(MAX($P$2:P623)-P623=0,C623=0),\"\",MAX($P$2:P623)-P623)","v":""}]
[623,null,null,null,null,null,null,null,null,null,null,null,null,0,0,0,10000,{"$f":"IF(OR(MAX($P$2:P624)-P624=0,C624=0),\"\",MAX($P$2:P624)-P624)","v":""}]
[624,null,null,null,null,null,null,null,null,null,null,null,null,0,0,0,10000,{"$f":"IF(OR(MAX($P$2:P625)-P625=0,C625=0),\"\",MAX($P$2:P625)-P625)","v":""}]
[625,null,null,null,null,null,null,null,null,null,null,null,null,0,0,0,10000,{"$f":"IF(OR(MAX($P$2:P626)-P626=0,C626=0),\"\",MAX($P$2:P626)-P626)","v":""}]
[626,null,null,null,null,null,null,null,null,null,null,null,null,0,0,0,10000,{"$f":"IF(OR(MAX($P$2:P627)-P627=0,C627=0),\"\",MAX($P$2:P627)-P627)","v":""}]
[627,null,null,null,null,null,null,null,null,null,null,null,null,0,0,0,10000,{"$f":"IF(OR(MAX($P$2:P628)-P628=0,C628=0),\"\",MAX($P$2:P628)-P628)","v":""}]
[628,null,null,null,null,null,null,null,null,null,null,null,null,0,0,0,10000,{"$f":"IF(OR(MAX($P$2:P629)-P629=0,C629=0),\"\",MAX($P$2:P629)-P629)","v":""}]
[629,null,null,null,null,null,null,null,null,null,null,null,null,0,0,0,10000,{"$f":"IF(OR(MAX($P$2:P630)-P630=0,C630=0),\"\",MAX($P$2:P630)-P630)","v":""}]
[630,null,null,null,null,null,null,null,null,null,null,null,null,0,0,0,10000,{"$f":"IF(OR(MAX($P$2:P631)-P631=0,C631=0),\"\",MAX($P$2:P631)-P631)","v":""}]
[631,null,null,null,null,null,null,null,null,null,null,null,null,0,0,0,10000,{"$f":"IF(OR(MAX($P$2:P632)-P632=0,C632=0),\"\",MAX($P$2:P632)-P632)","v":""}]
[632,null,null,null,null,null,null,null,null,null,null,null,null,0,0,0,10000,{"$f":"IF(OR(MAX($P$2:P633)-P633=0,C633=0),\"\",MAX($P$2:P633)-P633)","v":""}]
[633,null,null,null,null,null,null,null,null,null,null,null,null,0,0,0,10000,{"$f":"IF(OR(MAX($P$2:P634)-P634=0,C634=0),\"\",MAX($P$2:P634)-P634)","v":""}]
[634,null,null,null,null,null,null,null,null,null,null,null,null,0,0,0,10000,{"$f":"IF(OR(MAX($P$2:P635)-P635=0,C635=0),\"\",MAX($P$2:P635)-P635)","v":""}]
[635,null,null,null,null,null,null,null,null,null,null,null,null,0,0,0,10000,{"$f":"IF(OR(MAX($P$2:P636)-P636=0,C636=0),\"\",MAX($P$2:P636)-P636)","v":""}]
[636,null,null,null,null,null,null,null,null,null,null,null,null,0,0,0,10000,{"$f":"IF(OR(MAX($P$2:P637)-P637=0,C637=0),\"\",MAX($P$2:P637)-P637)","v":""}]
[637,null,null,null,null,null,null,null,null,null,null,null,null,0,0,0,10000,{"$f":"IF(OR(MAX($P$2:P638)-P638=0,C638=0),\"\",MAX($P$2:P638)-P638)","v":""}]
[638,null,null,null,null,null,null,null,null,null,null,null,null,0,0,0,10000,{"$f":"IF(OR(MAX($P$2:P639)-P639=0,C639=0),\"\",MAX($P$2:P639)-P639)","v":""}]
[639,null,null,null,null,null,null,null,null,null,null,null,null,0,0,0,10000,{"$f":"IF(OR(MAX($P$2:P640)-P640=0,C640=0),\"\",MAX($P$2:P640)-P640)","v":""}]
[640,null,null,null,null,null,null,null,null,null,null,null,null,0,0,0,10000,{"$f":"IF(OR(MAX($P$2:P641)-P641=0,C641=0),\"\",MAX($P$2:P641)-P641)","v":""}]
[641,null,null,null,null,null,null,null,null,null,null,null,null,0,0,0,10000,{"$f":"IF(OR(MAX($P$2:P642)-P642=0,C642=0),\"\",MAX($P$2:P642)-P642)","v":""}]
[642,null,null,null,null,null,null,null,null,null,null,null,null,0,0,0,10000,{"$f":"IF(OR(MAX($P$2:P643)-P643=0,C643=0),\"\",MAX($P$2:P643)-P643)","v":""}]
[643,null,null,null,null,null,null,null,null,null,null,null,null,0,0,{"$f":"P643+N644-O644","v":0},{"$f":"Q643+N644-O644","v":10000},{"$f":"IF(OR(MAX($P$2:P644)-P644=0,C644=0),\"\",MAX($P$2:P644)-P644)","v":""}]
[644,null,null,null,null,null,null,null,null,null,null,null,null,0,0,0,10000,{"$f":"IF(OR(MAX($P$2:P645)-P645=0,C645=0),\"\",MAX($P$2:P645)-P645)","v":""}]
[645,null,null,null,null,null,null,null,null,null,null,null,null,{"$f":"IF(B646=1,I646+J646+K646+L646-M646,0)","v":0},0,0,10000,{"$f":"IF(OR(MAX($P$2:P646)-P646=0,C646=0),\"\",MAX($P$2:P646)-P646)","v":""}]
[646,null,null,null,null,null,null,null,null,null,null,null,null,0,0,0,10000,{"$f":"IF(OR(MAX($P$2:P647)-P647=0,C647=0),\"\",MAX($P$2:P647)-P647)","v":""}]
[647,null,null,null,null,null,null,null,null,null,null,null,null,0,0,0,10000,{"$f":"IF(OR(MAX($P$2:P648)-P648=0,C648=0),\"\",MAX($P$2:P648)-P648)","v":""}]
[648,null,null,null,null,null,null,null,null,null,null,null,null,0,0,0,10000,{"$f":"IF(OR(MAX($P$2:P649)-P649=0,C649=0),\"\",MAX($P$2:P649)-P649)","v":""}]
[649,null,null,null,null,null,null,null,null,null,null,null,null,0,0,0,10000,{"$f":"IF(OR(MAX($P$2:P650)-P650=0,C650=0),\"\",MAX($P$2:P650)-P650)","v":""}]
[650,null,null,null,null,null,null,null,null,null,null,null,null,0,0,0,10000,{"$f":"IF(OR(MAX($P$2:P651)-P651=0,C651=0),\"\",MAX($P$2:P651)-P651)","v":""}]
[651,null,null,null,null,null,null,null,null,null,null,null,null,0,0,0,10000,{"$f":"IF(OR(MAX($P$2:P652)-P652=0,C652=0),\"\",MAX($P$2:P652)-P652)","v":""}]
[652,null,null,null,null,null,null,null,null,null,null,null,null,0,0,0,10000,{"$f":"IF(OR(MAX($P$2:P653)-P653=0,C653=0),\"\",MAX($P$2:P653)-P653)","v":""}]
[653,null,null,null,null,null,null,null,null,null,null,null,null,0,0,0,10000,{"$f":"IF(OR(MAX($P$2:P654)-P654=0,C654=0),\"\",MAX($P$2:P654)-P654)","v":""}]
[654,null,null,null,null,null,null,null,null,null,null,null,null,0,0,0,10000,{"$f":"IF(OR(MAX($P$2:P655)-P655=0,C655=0),\"\",MAX($P$2:P655)-P655)","v":""}]
[655,null,null,null,null,null,null,null,null,null,null,null,null,0,0,0,10000,{"$f":"IF(OR(MAX($P$2:P656)-P656=0,C656=0),\"\",MAX($P$2:P656)-P656)","v":""}]
[656,null,null,null,null,null,null,null,null,null,null,null,null,0,0,0,10000,{"$f":"IF(OR(MAX($P$2:P657)-P657=0,C657=0),\"\",MAX($P$2:P657)-P657)","v":""}]
[657,null,null,null,null,null,null,null,null,null,null,null,null,0,0,0,10000,{"$f":"IF(OR(MAX($P$2:P658)-P658=0,C658=0),\"\",MAX($P$2:P658)-P658)","v":""}]
[658,null,null,null,null,null,null,null,null,null,null,null,null,0,0,0,10000,{"$f":"IF(OR(MAX($P$2:P659)-P659=0,C659=0),\"\",MAX($P$2:P659)-P659)","v":""}]
[659,null,null,null,null,null,null,null,null,null,null,null,null,0,0,0,10000,{"$f":"IF(OR(MAX($P$2:P660)-P660=0,C660=0),\"\",MAX($P$2:P660)-P660)","v":""}]
[660,null,null,null,null,null,null,null,null,null,null,null,null,0,0,0,10000,{"$f":"IF(OR(MAX($P$2:P661)-P661=0,C661=0),\"\",MAX($P$2:P661)-P661)","v":""}]
[661,null,null,null,null,null,null,null,null,null,null,null,null,0,0,0,10000,{"$f":"IF(OR(MAX($P$2:P662)-P662=0,C662=0),\"\",MAX($P$2:P662)-P662)","v":""}]
[662,null,null,null,null,null,null,null,null,null,null,null,null,0,0,0,10000,{"$f":"IF(OR(MAX($P$2:P663)-P663=0,C663=0),\"\",MAX($P$2:P663)-P663)","v":""}]
[663,null,null,null,null,null,null,null,null,null,null,null,null,0,0,0,10000,{"$f":"IF(OR(MAX($P$2:P664)-P664=0,C664=0),\"\",MAX($P$2:P664)-P664)","v":""}]
[664,null,null,null,null,null,null,null,null,null,null,null,null,0,0,0,10000,{"$f":"IF(OR(MAX($P$2:P665)-P665=0,C665=0),\"\",MAX($P$2:P665)-P665)","v":""}]
[665,null,null,null,null,null,null,null,null,null,null,null,null,0,0,0,10000,{"$f":"IF(OR(MAX($P$2:P666)-P666=0,C666=0),\"\",MAX($P$2:P666)-P666)","v":""}]
[666,null,null,null,null,null,null,null,null,null,null,null,null,0,0,0,10000,{"$f":"IF(OR(MAX($P$2:P667)-P667=0,C667=0),\"\",MAX($P$2:P667)-P667)","v":""}]
[667,null,null,null,null,null,null,null,null,null,null,null,null,0,0,0,10000,{"$f":"IF(OR(MAX($P$2:P668)-P668=0,C668=0),\"\",MAX($P$2:P668)-P668)","v":""}]
[668,null,null,null,null,null,null,null,null,null,null,null,null,0,0,0,10000,{"$f":"IF(OR(MAX($P$2:P669)-P669=0,C669=0),\"\",MAX($P$2:P669)-P669)","v":""}]
[669,null,null,null,null,null,null,null,null,null,null,null,null,0,0,0,10000,{"$f":"IF(OR(MAX($P$2:P670)-P670=0,C670=0),\"\",MAX($P$2:P670)-P670)","v":""}]
[670,null,null,null,null,null,null,null,null,null,null,null,null,0,0,0,10000,{"$f":"IF(OR(MAX($P$2:P671)-P671=0,C671=0),\"\",MAX($P$2:P671)-P671)","v":""}]
[671,null,null,null,null,null,null,null,null,null,null,null,null,0,0,0,10000,{"$f":"IF(OR(MAX($P$2:P672)-P672=0,C672=0),\"\",MAX($P$2:P672)-P672)","v":""}]
[672,null,null,null,null,null,null,null,null,null,null,null,null,0,0,0,10000,{"$f":"IF(OR(MAX($P$2:P673)-P673=0,C673=0),\"\",MAX($P$2:P673)-P673)","v":""}]
[673,null,null,null,null,null,null,null,null,null,null,null,null,0,0,0,10000,{"$f":"IF(OR(MAX($P$2:P674)-P674=0,C674=0),\"\",MAX($P$2:P674)-P674)","v":""}]
[674,null,null,null,null,null,null,null,null,null,null,null,null,0,0,0,10000,{"$f":"IF(OR(MAX($P$2:P675)-P675=0,C675=0),\"\",MAX($P$2:P675)-P675)","v":""}]
[675,null,null,null,null,null,null,null,null,null,null,null,null,0,0,0,10000,{"$f":"IF(OR(MAX($P$2:P676)-P676=0,C676=0),\"\",MAX($P$2:P676)-P676)","v":""}]
[676,null,null,null,null,null,null,null,null,null,null,null,null,0,0,0,10000,{"$f":"IF(OR(MAX($P$2:P677)-P677=0,C677=0),\"\",MAX($P$2:P677)-P677)","v":""}]
[677,null,null,null,null,null,null,null,null,null,null,null,null,0,0,0,10000,{"$f":"IF(OR(MAX($P$2:P678)-P678=0,C678=0),\"\",MAX($P$2:P678)-P678)","v":""}]
[678,null,null,null,null,null,null,null,null,null,null,null,null,0,0,0,10000,{"$f":"IF(OR(MAX($P$2:P679)-P679=0,C679=0),\"\",MAX($P$2:P679)-P679)","v":""}]
[679,null,null,null,null,null,null,null,null,null,null,null,null,0,0,0,10000,{"$f":"IF(OR(MAX($P$2:P680)-P680=0,C680=0),\"\",MAX($P$2:P680)-P680)","v":""}]
[680,null,null,null,null,null,null,null,null,null,null,null,null,0,0,0,10000,{"$f":"IF(OR(MAX($P$2:P681)-P681=0,C681=0),\"\",MAX($P$2:P681)-P681)","v":""}]
[681,null,null,null,null,null,null,null,null,null,null,null,null,0,0,0,10000,{"$f":"IF(OR(MAX($P$2:P682)-P682=0,C682=0),\"\",MAX($P$2:P682)-P682)","v":""}]
[682,null,null,null,null,null,null,null,null,null,null,null,null,0,0,0,10000,{"$f":"IF(OR(MAX($P$2:P683)-P683=0,C683=0),\"\",MAX($P$2:P683)-P683)","v":""}]
[683,null,null,null,null,null,null,null,null,null,null,null,null,0,0,0,10000,{"$f":"IF(OR(MAX($P$2:P684)-P684=0,C684=0),\"\",MAX($P$2:P684)-P684)","v":""}]
[684,null,null,null,null,null,null,null,null,null,null,null,null,0,0,0,10000,{"$f":"IF(OR(MAX($P$2:P685)-P685=0,C685=0),\"\",MAX($P$2:P685)-P685)","v":""}]
[685,null,null,null,null,null,null,null,null,null,null,null,null,0,0,0,10000,{"$f":"IF(OR(MAX($P$2:P686)-P686=0,C686=0),\"\",MAX($P$2:P686)-P686)","v":""}]
[686,null,null,null,null,null,null,null,null,null,null,null,null,0,0,0,10000,{"$f":"IF(OR(MAX($P$2:P687)-P687=0,C687=0),\"\",MAX($P$2:P687)-P687)","v":""}]
[687,null,null,null,null,null,null,null,null,null,null,null,null,0,0,0,10000,{"$f":"IF(OR(MAX($P$2:P688)-P688=0,C688=0),\"\",MAX($P$2:P688)-P688)","v":""}]
[688,null,null,null,null,null,null,null,null,null,null,null,null,0,0,0,10000,{"$f":"IF(OR(MAX($P$2:P689)-P689=0,C689=0),\"\",MAX($P$2:P689)-P689)","v":""}]
[689,null,null,null,null,null,null,null,null,null,null,null,null,0,0,0,10000,{"$f":"IF(OR(MAX($P$2:P690)-P690=0,C690=0),\"\",MAX($P$2:P690)-P690)","v":""}]
[690,null,null,null,null,null,null,null,null,null,null,null,null,0,0,0,10000,{"$f":"IF(OR(MAX($P$2:P691)-P691=0,C691=0),\"\",MAX($P$2:P691)-P691)","v":""}]
[691,null,null,null,null,null,null,null,null,null,null,null,null,0,0,0,10000,{"$f":"IF(OR(MAX($P$2:P692)-P692=0,C692=0),\"\",MAX($P$2:P692)-P692)","v":""}]
[692,null,null,null,null,null,null,null,null,null,null,null,null,0,0,0,10000,{"$f":"IF(OR(MAX($P$2:P693)-P693=0,C693=0),\"\",MAX($P$2:P693)-P693)","v":""}]
[693,null,null,null,null,null,null,null,null,null,null,null,null,0,0,0,10000,{"$f":"IF(OR(MAX($P$2:P694)-P694=0,C694=0),\"\",MAX($P$2:P694)-P694)","v":""}]
[694,null,null,null,null,null,null,null,null,null,null,null,null,0,0,0,10000,{"$f":"IF(OR(MAX($P$2:P695)-P695=0,C695=0),\"\",MAX($P$2:P695)-P695)","v":""}]
[695,null,null,null,null,null,null,null,null,null,null,null,null,0,0,0,10000,{"$f":"IF(OR(MAX($P$2:P696)-P696=0,C696=0),\"\",MAX($P$2:P696)-P696)","v":""}]
[696,null,null,null,null,null,null,null,null,null,null,null,null,0,0,0,10000,{"$f":"IF(OR(MAX($P$2:P697)-P697=0,C697=0),\"\",MAX($P$2:P697)-P697)","v":""}]
[697,null,null,null,null,null,null,null,null,null,null,null,null,0,0,0,10000,{"$f":"IF(OR(MAX($P$2:P698)-P698=0,C698=0),\"\",MAX($P$2:P698)-P698)","v":""}]
[698,null,null,null,null,null,null,null,null,null,null,null,null,0,0,0,10000,{"$f":"IF(OR(MAX($P$2:P699)-P699=0,C699=0),\"\",MAX($P$2:P699)-P699)","v":""}]
[699,null,null,null,null,null,null,null,null,null,null,null,null,0,0,0,10000,{"$f":"IF(OR(MAX($P$2:P700)-P700=0,C700=0),\"\",MAX($P$2:P700)-P700)","v":""}]
[700,null,null,null,null,null,null,null,null,null,null,null,null,0,0,0,10000,{"$f":"IF(OR(MAX($P$2:P701)-P701=0,C701=0),\"\",MAX($P$2:P701)-P701)","v":""}]
[701,null,null,null,null,null,null,null,null,null,null,null,null,0,0,0,10000,{"$f":"IF(OR(MAX($P$2:P702)-P702=0,C702=0),\"\",MAX($P$2:P702)-P702)","v":""}]
[702,null,null,null,null,null,null,null,null,null,null,null,null,0,0,0,10000,{"$f":"IF(OR(MAX($P$2:P703)-P703=0,C703=0),\"\",MAX($P$2:P703)-P703)","v":""}]
[703,null,null,null,null,null,null,null,null,null,null,null,null,0,0,0,10000,{"$f":"IF(OR(MAX($P$2:P704)-P704=0,C704=0),\"\",MAX($P$2:P704)-P704)","v":""}]
[704,null,null,null,null,null,null,null,null,null,null,null,null,0,0,0,10000,{"$f":"IF(OR(MAX($P$2:P705)-P705=0,C705=0),\"\",MAX($P$2:P705)-P705)","v":""}]
[705,null,null,null,null,null,null,null,null,null,null,null,null,0,0,0,10000,{"$f":"IF(OR(MAX($P$2:P706)-P706=0,C706=0),\"\",MAX($P$2:P706)-P706)","v":""}]
[706,null,null,null,null,null,null,null,null,null,null,null,null,0,0,0,10000,{"$f":"IF(OR(MAX($P$2:P707)-P707=0,C707=0),\"\",MAX($P$2:P707)-P707)","v":""}]
[707,null,null,null,null,null,null,null,null,null,null,null,null,0,0,{"$f":"P707+N708-O708","v":0},{"$f":"Q707+N708-O708","v":10000},{"$f":"IF(OR(MAX($P$2:P708)-P708=0,C708=0),\"\",MAX($P$2:P708)-P708)","v":""}]
[708,null,null,null,null,null,null,null,null,null,null,null,null,0,0,0,10000,{"$f":"IF(OR(MAX($P$2:P709)-P709=0,C709=0),\"\",MAX($P$2:P709)-P709)","v":""}]
[709,null,null,null,null,null,null,null,null,null,null,null,null,{"$f":"IF(B710=1,I710+J710+K710+L710-M710,0)","v":0},0,0,10000,{"$f":"IF(OR(MAX($P$2:P710)-P710=0,C710=0),\"\",MAX($P$2:P710)-P710)","v":""}]
[710,null,null,null,null,null,null,null,null,null,null,null,null,0,0,0,10000,{"$f":"IF(OR(MAX($P$2:P711)-P711=0,C711=0),\"\",MAX($P$2:P711)-P711)","v":""}]
[711,null,null,null,null,null,null,null,null,null,null,null,null,0,0,0,10000,{"$f":"IF(OR(MAX($P$2:P712)-P712=0,C712=0),\"\",MAX($P$2:P712)-P712)","v":""}]
[712,null,null,null,null,null,null,null,null,null,null,null,null,0,0,0,10000,{"$f":"IF(OR(MAX($P$2:P713)-P713=0,C713=0),\"\",MAX($P$2:P713)-P713)","v":""}]
[713,null,null,null,null,null,null,null,null,null,null,null,null,0,0,0,10000,{"$f":"IF(OR(MAX($P$2:P714)-P714=0,C714=0),\"\",MAX($P$2:P714)-P714)","v":""}]
[714,null,null,null,null,null,null,null,null,null,null,null,null,0,0,0,10000,{"$f":"IF(OR(MAX($P$2:P715)-P715=0,C715=0),\"\",MAX($P$2:P715)-P715)","v":""}]
[715,null,null,null,null,null,null,null,null,null,null,null,null,0,0,0,10000,{"$f":"IF(OR(MAX($P$2:P716)-P716=0,C716=0),\"\",MAX($P$2:P716)-P716)","v":""}]
[716,null,null,null,null,null,null,null,null,null,null,null,null,0,0,0,10000,{"$f":"IF(OR(MAX($P$2:P717)-P717=0,C717=0),\"\",MAX($P$2:P717)-P717)","v":""}]
[717,null,null,null,null,null,null,null,null,null,null,null,null,0,0,0,10000,{"$f":"IF(OR(MAX($P$2:P718)-P718=0,C718=0),\"\",MAX($P$2:P718)-P718)","v":""}]
[718,null,null,null,null,null,null,null,null,null,null,null,null,0,0,0,10000,{"$f":"IF(OR(MAX($P$2:P719)-P719=0,C719=0),\"\",MAX($P$2:P719)-P719)","v":""}]
[719,null,null,null,null,null,null,null,null,null,null,null,null,0,0,0,10000,{"$f":"IF(OR(MAX($P$2:P720)-P720=0,C720=0),\"\",MAX($P$2:P720)-P720)","v":""}]
[720,null,null,null,null,null,null,null,null,null,null,null,null,0,0,0,10000,{"$f":"IF(OR(MAX($P$2:P721)-P721=0,C721=0),\"\",MAX($P$2:P721)-P721)","v":""}]
[721,null,null,null,null,null,null,null,null,null,null,null,null,0,0,0,10000,{"$f":"IF(OR(MAX($P$2:P722)-P722=0,C722=0),\"\",MAX($P$2:P722)-P722)","v":""}]
[722,null,null,null,null,null,null,null,null,null,null,null,null,0,0,0,10000,{"$f":"IF(OR(MAX($P$2:P723)-P723=0,C723=0),\"\",MAX($P$2:P723)-P723)","v":""}]
[723,null,null,null,null,null,null,null,null,null,null,null,null,0,0,0,10000,{"$f":"IF(OR(MAX($P$2:P724)-P724=0,C724=0),\"\",MAX($P$2:P724)-P724)","v":""}]
[724,null,null,null,null,null,null,null,null,null,null,null,null,0,0,0,10000,{"$f":"IF(OR(MAX($P$2:P725)-P725=0,C725=0),\"\",MAX($P$2:P725)-P725)","v":""}]
[725,null,null,null,null,null,null,null,null,null,null,null,null,0,0,0,10000,{"$f":"IF(OR(MAX($P$2:P726)-P726=0,C726=0),\"\",MAX($P$2:P726)-P726)","v":""}]
[726,null,null,null,null,null,null,null,null,null,null,null,null,0,0,0,10000,{"$f":"IF(OR(MAX($P$2:P727)-P727=0,C727=0),\"\",MAX($P$2:P727)-P727)","v":""}]
[727,null,null,null,null,null,null,null,null,null,null,null,null,0,0,0,10000,{"$f":"IF(OR(MAX($P$2:P728)-P728=0,C728=0),\"\",MAX($P$2:P728)-P728)","v":""}]
[728,null,null,null,null,null,null,null,null,null,null,null,null,0,0,0,10000,{"$f":"IF(OR(MAX($P$2:P729)-P729=0,C729=0),\"\",MAX($P$2:P729)-P729)","v":""}]
[729,null,null,null,null,null,null,null,null,null,null,null,null,0,0,0,10000,{"$f":"IF(OR(MAX($P$2:P730)-P730=0,C730=0),\"\",MAX($P$2:P730)-P730)","v":""}]
[730,null,null,null,null,null,null,null,null,null,null,null,null,0,0,0,10000,{"$f":"IF(OR(MAX($P$2:P731)-P731=0,C731=0),\"\",MAX($P$2:P731)-P731)","v":""}]
[731,null,null,null,null,null,null,null,null,null,null,null,null,0,0,0,10000,{"$f":"IF(OR(MAX($P$2:P732)-P732=0,C732=0),\"\",MAX($P$2:P732)-P732)","v":""}]
[732,null,null,null,null,null,null,null,null,null,null,null,null,0,0,0,10000,{"$f":"IF(OR(MAX($P$2:P733)-P733=0,C733=0),\"\",MAX($P$2:P733)-P733)","v":""}]
[733,null,null,null,null,null,null,null,null,null,null,null,null,0,0,0,10000,{"$f":"IF(OR(MAX($P$2:P734)-P734=0,C734=0),\"\",MAX($P$2:P734)-P734)","v":""}]
[734,null,null,null,null,null,null,null,null,null,null,null,null,0,0,0,10000,{"$f":"IF(OR(MAX($P$2:P735)-P735=0,C735=0),\"\",MAX($P$2:P735)-P735)","v":""}]
[735,null,null,null,null,null,null,null,null,null,null,null,null,0,0,0,10000,{"$f":"IF(OR(MAX($P$2:P736)-P736=0,C736=0),\"\",MAX($P$2:P736)-P736)","v":""}]
[736,null,null,null,null,null,null,null,null,null,null,null,null,0,0,0,10000,{"$f":"IF(OR(MAX($P$2:P737)-P737=0,C737=0),\"\",MAX($P$2:P737)-P737)","v":""}]
[737,null,null,null,null,null,null,null,null,null,null,null,null,0,0,0,10000,{"$f":"IF(OR(MAX($P$2:P738)-P738=0,C738=0),\"\",MAX($P$2:P738)-P738)","v":""}]
[738,null,null,null,null,null,null,null,null,null,null,null,null,0,0,0,10000,{"$f":"IF(OR(MAX($P$2:P739)-P739=0,C739=0),\"\",MAX($P$2:P739)-P739)","v":""}]
[739,null,null,null,null,null,null,null,null,null,null,null,null,0,0,0,10000,{"$f":"IF(OR(MAX($P$2:P740)-P740=0,C740=0),\"\",MAX($P$2:P740)-P740)","v":""}]
[740,null,null,null,null,null,null,null,null,null,null,null,null,0,0,0,10000,{"$f":"IF(OR(MAX($P$2:P741)-P741=0,C741=0),\"\",MAX($P$2:P741)-P741)","v":""}]
[741,null,null,null,null,null,null,null,null,null,null,null,null,0,0,0,10000,{"$f":"IF(OR(MAX($P$2:P742)-P742=0,C742=0),\"\",MAX($P$2:P742)-P742)","v":""}]
[742,null,null,null,null,null,null,null,null,null,null,null,null,0,0,0,10000,{"$f":"IF(OR(MAX($P$2:P743)-P743=0,C743=0),\"\",MAX($P$2:P743)-P743)","v":""}]
[743,null,null,null,null,null,null,null,null,null,null,null,null,0,0,0,10000,{"$f":"IF(OR(MAX($P$2:P744)-P744=0,C744=0),\"\",MAX($P$2:P744)-P744)","v":""}]
[744,null,null,null,null,null,null,null,null,null,null,null,null,0,0,0,10000,{"$f":"IF(OR(MAX($P$2:P745)-P745=0,C745=0),\"\",MAX($P$2:P745)-P745)","v":""}]
[745,null,null,null,null,null,null,null,null,null,null,null,null,0,0,0,10000,{"$f":"IF(OR(MAX($P$2:P746)-P746=0,C746=0),\"\",MAX($P$2:P746)-P746)","v":""}]
[746,null,null,null,null,null,null,null,null,null,null,null,null,0,0,0,10000,{"$f":"IF(OR(MAX($P$2:P747)-P747=0,C747=0),\"\",MAX($P$2:P747)-P747)","v":""}]
[747,null,null,null,null,null,null,null,null,null,null,null,null,0,0,0,10000,{"$f":"IF(OR(MAX($P$2:P748)-P748=0,C748=0),\"\",MAX($P$2:P748)-P748)","v":""}]
[748,null,null,null,null,null,null,null,null,null,null,null,null,0,0,0,10000,{"$f":"IF(OR(MAX($P$2:P749)-P749=0,C749=0),\"\",MAX($P$2:P749)-P749)","v":""}]
[749,null,null,null,null,null,null,null,null,null,null,null,null,0,0,0,10000,{"$f":"IF(OR(MAX($P$2:P750)-P750=0,C750=0),\"\",MAX($P$2:P750)-P750)","v":""}]
[750,null,null,null,null,null,null,null,null,null,null,null,null,0,0,0,10000,{"$f":"IF(OR(MAX($P$2:P751)-P751=0,C751=0),\"\",MAX($P$2:P751)-P751)","v":""}]
[751,null,null,null,null,null,null,null,null,null,null,null,null,0,0,0,10000,{"$f":"IF(OR(MAX($P$2:P752)-P752=0,C752=0),\"\",MAX($P$2:P752)-P752)","v":""}]
[752,null,null,null,null,null,null,null,null,null,null,null,null,0,0,0,10000,{"$f":"IF(OR(MAX($P$2:P753)-P753=0,C753=0),\"\",MAX($P$2:P753)-P753)","v":""}]
[753,null,null,null,null,null,null,null,null,null,null,null,null,0,0,0,10000,{"$f":"IF(OR(MAX($P$2:P754)-P754=0,C754=0),\"\",MAX($P$2:P754)-P754)","v":""}]
[754,null,null,null,null,null,null,null,null,null,null,null,null,0,0,0,10000,{"$f":"IF(OR(MAX($P$2:P755)-P755=0,C755=0),\"\",MAX($P$2:P755)-P755)","v":""}]
[755,null,null,null,null,null,null,null,null,null,null,null,null,0,0,0,10000,{"$f":"IF(OR(MAX($P$2:P756)-P756=0,C756=0),\"\",MAX($P$2:P756)-P756)","v":""}]
[756,null,null,null,null,null,null,null,null,null,null,null,null,0,0,0,10000,{"$f":"IF(OR(MAX($P$2:P757)-P757=0,C757=0),\"\",MAX($P$2:P757)-P757)","v":""}]
[757,null,null,null,null,null,null,null,null,null,null,null,null,0,0,0,10000,{"$f":"IF(OR(MAX($P$2:P758)-P758=0,C758=0),\"\",MAX($P$2:P758)-P758)","v":""}]
[758,null,null,null,null,null,null,null,null,null,null,null,null,0,0,0,10000,{"$f":"IF(OR(MAX($P$2:P759)-P759=0,C759=0),\"\",MAX($P$2:P759)-P759)","v":""}]
[759,null,null,null,null,null,null,null,null,null,null,null,null,0,0,0,10000,{"$f":"IF(OR(MAX($P$2:P760)-P760=0,C760=0),\"\",MAX($P$2:P760)-P760)","v":""}]
[760,null,null,null,null,null,null,null,null,null,null,null,null,0,0,0,10000,{"$f":"IF(OR(MAX($P$2:P761)-P761=0,C761=0),\"\",MAX($P$2:P761)-P761)","v":""}]
[761,null,null,null,null,null,null,null,null,null,null,null,null,0,0,0,10000,{"$f":"IF(OR(MAX($P$2:P762)-P762=0,C762=0),\"\",MAX($P$2:P762)-P762)","v":""}]
[762,null,null,null,null,null,null,null,null,null,null,null,null,0,0,0,10000,{"$f":"IF(OR(MAX($P$2:P763)-P763=0,C763=0),\"\",MAX($P$2:P763)-P763)","v":""}]
[763,null,null,null,null,null,null,null,null,null,null,null,null,0,0,0,10000,{"$f":"IF(OR(MAX($P$2:P764)-P764=0,C764=0),\"\",MAX($P$2:P764)-P764)","v":""}]
[764,null,null,null,null,null,null,null,null,null,null,null,null,0,0,0,10000,{"$f":"IF(OR(MAX($P$2:P765)-P765=0,C765=0),\"\",MAX($P$2:P765)-P765)","v":""}]
[765,null,null,null,null,null,null,null,null,null,null,null,null,0,0,0,10000,{"$f":"IF(OR(MAX($P$2:P766)-P766=0,C766=0),\"\",MAX($P$2:P766)-P766)","v":""}]
[766,null,null,null,null,null,null,null,null,null,null,null,null,0,0,0,10000,{"$f":"IF(OR(MAX($P$2:P767)-P767=0,C767=0),\"\",MAX($P$2:P767)-P767)","v":""}]
[767,null,null,null,null,null,null,null,null,null,null,null,null,0,0,0,10000,{"$f":"IF(OR(MAX($P$2:P768)-P768=0,C768=0),\"\",MAX($P$2:P768)-P768)","v":""}]
[768,null,null,null,null,null,null,null,null,null,null,null,null,0,0,0,10000,{"$f":"IF(OR(MAX($P$2:P769)-P769=0,C769=0),\"\",MAX($P$2:P769)-P769)","v":""}]
[769,null,null,null,null,null,null,null,null,null,null,null,null,0,0,0,10000,{"$f":"IF(OR(MAX($P$2:P770)-P770=0,C770=0),\"\",MAX($P$2:P770)-P770)","v":""}]
[770,null,null,null,null,null,null,null,null,null,null,null,null,0,0,0,10000,{"$f":"IF(OR(MAX($P$2:P771)-P771=0,C771=0),\"\",MAX($P$2:P771)-P771)","v":""}]
[771,null,null,null,null,null,null,null,null,null,null,null,null,0,0,{"$f":"P771+N772-O772","v":0},{"$f":"Q771+N772-O772","v":10000},{"$f":"IF(OR(MAX($P$2:P772)-P772=0,C772=0),\"\",MAX($P$2:P772)-P772)","v":""}]
[772,null,null,null,null,null,null,null,null,null,null,null,null,0,0,0,10000,{"$f":"IF(OR(MAX($P$2:P773)-P773=0,C773=0),\"\",MAX($P$2:P773)-P773)","v":""}]
[773,null,null,null,null,null,null,null,null,null,null,null,null,{"$f":"IF(B774=1,I774+J774+K774+L774-M774,0)","v":0},0,0,10000,{"$f":"IF(OR(MAX($P$2:P774)-P774=0,C774=0),\"\",MAX($P$2:P774)-P774)","v":""}]
[774,null,null,null,null,null,null,null,null,null,null,null,null,0,0,0,10000,{"$f":"IF(OR(MAX($P$2:P775)-P775=0,C775=0),\"\",MAX($P$2:P775)-P775)","v":""}]
[775,null,null,null,null,null,null,null,null,null,null,null,null,0,0,0,10000,{"$f":"IF(OR(MAX($P$2:P776)-P776=0,C776=0),\"\",MAX($P$2:P776)-P776)","v":""}]
[776,null,null,null,null,null,null,null,null,null,null,null,null,0,0,0,10000,{"$f":"IF(OR(MAX($P$2:P777)-P777=0,C777=0),\"\",MAX($P$2:P777)-P777)","v":""}]
[777,null,null,null,null,null,null,null,null,null,null,null,null,0,0,0,10000,{"$f":"IF(OR(MAX($P$2:P778)-P778=0,C778=0),\"\",MAX($P$2:P778)-P778)","v":""}]
[778,null,null,null,null,null,null,null,null,null,null,null,null,0,0,0,10000,{"$f":"IF(OR(MAX($P$2:P779)-P779=0,C779=0),\"\",MAX($P$2:P779)-P779)","v":""}]
[779,null,null,null,null,null,null,null,null,null,null,null,null,0,0,0,10000,{"$f":"IF(OR(MAX($P$2:P780)-P780=0,C780=0),\"\",MAX($P$2:P780)-P780)","v":""}]
[780,null,null,null,null,null,null,null,null,null,null,null,null,0,0,0,10000,{"$f":"IF(OR(MAX($P$2:P781)-P781=0,C781=0),\"\",MAX($P$2:P781)-P781)","v":""}]
[781,null,null,null,null,null,null,null,null,null,null,null,null,0,0,0,10000,{"$f":"IF(OR(MAX($P$2:P782)-P782=0,C782=0),\"\",MAX($P$2:P782)-P782)","v":""}]
[782,null,null,null,null,null,null,null,null,null,null,null,null,0,0,0,10000,{"$f":"IF(OR(MAX($P$2:P783)-P783=0,C783=0),\"\",MAX($P$2:P783)-P783)","v":""}]
[783,null,null,null,null,null,null,null,null,null,null,null,null,0,0,0,10000,{"$f":"IF(OR(MAX($P$2:P784)-P784=0,C784=0),\"\",MAX($P$2:P784)-P784)","v":""}]
[784,null,null,null,null,null,null,null,null,null,null,null,null,0,0,0,10000,{"$f":"IF(OR(MAX($P$2:P785)-P785=0,C785=0),\"\",MAX($P$2:P785)-P785)","v":""}]
[785,null,null,null,null,null,null,null,null,null,null,null,null,0,0,0,10000,{"$f":"IF(OR(MAX($P$2:P786)-P786=0,C786=0),\"\",MAX($P$2:P786)-P786)","v":""}]
[786,null,null,null,null,null,null,null,null,null,null,null,null,0,0,0,10000,{"$f":"IF(OR(MAX($P$2:P787)-P787=0,C787=0),\"\",MAX($P$2:P787)-P787)","v":""}]
[787,null,null,null,null,null,null,null,null,null,null,null,null,0,0,0,10000,{"$f":"IF(OR(MAX($P$2:P788)-P788=0,C788=0),\"\",MAX($P$2:P788)-P788)","v":""}]
[788,null,null,null,null,null,null,null,null,null,null,null,null,0,0,0,10000,{"$f":"IF(OR(MAX($P$2:P789)-P789=0,C789=0),\"\",MAX($P$2:P789)-P789)","v":""}]
[789,null,null,null,null,null,null,null,null,null,null,null,null,0,0,0,10000,{"$f":"IF(OR(MAX($P$2:P790)-P790=0,C790=0),\"\",MAX($P$2:P790)-P790)","v":""}]
[790,null,null,null,null,null,null,null,null,null,null,null,null,0,0,0,10000,{"$f":"IF(OR(MAX($P$2:P791)-P791=0,C791=0),\"\",MAX($P$2:P791)-P791)","v":""}]
[791,null,null,null,null,null,null,null,null,null,null,null,null,0,0,0,10000,{"$f":"IF(OR(MAX($P$2:P792)-P792=0,C792=0),\"\",MAX($P$2:P792)-P792)","v":""}]
[792,null,null,null,null,null,null,null,null,null,null,null,null,0,0,0,10000,{"$f":"IF(OR(MAX($P$2:P793)-P793=0,C793=0),\"\",MAX($P$2:P793)-P793)","v":""}]
[793,null,null,null,null,null,null,null,null,null,null,null,null,0,0,0,10000,{"$f":"IF(OR(MAX($P$2:P794)-P794=0,C794=0),\"\",MAX($P$2:P794)-P794)","v":""}]
[794,null,null,null,null,null,null,null,null,null,null,null,null,0,0,0,10000,{"$f":"IF(OR(MAX($P$2:P795)-P795=0,C795=0),\"\",MAX($P$2:P795)-P795)","v":""}]
[795,null,null,null,null,null,null,null,null,null,null,null,null,0,0,0,10000,{"$f":"IF(OR(MAX($P$2:P796)-P796=0,C796=0),\"\",MAX($P$2:P796)-P796)","v":""}]
[796,null,null,null,null,null,null,null,null,null,null,null,null,0,0,0,10000,{"$f":"IF(OR(MAX($P$2:P797)-P797=0,C797=0),\"\",MAX($P$2:P797)-P797)","v":""}]
[797,null,null,null,null,null,null,null,null,null,null,null,null,0,0,0,10000,{"$f":"IF(OR(MAX($P$2:P798)-P798=0,C798=0),\"\",MAX($P$2:P798)-P798)","v":""}]
[798,null,null,null,null,null,null,null,null,null,null,null,null,0,0,0,10000,{"$f":"IF(OR(MAX($P$2:P799)-P799=0,C799=0),\"\",MAX($P$2:P799)-P799)","v":""}]
[799,null,null,null,null,null,null,null,null,null,null,null,null,0,0,0,10000,{"$f":"IF(OR(MAX($P$2:P800)-P800=0,C800=0),\"\",MAX($P$2:P800)-P800)","v":""}]
[800,null,null,null,null,null,null,null,null,null,null,null,null,0,0,0,10000,{"$f":"IF(OR(MAX($P$2:P801)-P801=0,C801=0),\"\",MAX($P$2:P801)-P801)","v":""}]
[801,null,null,null,null,null,null,null,null,null,null,null,null,0,0,0,10000,{"$f":"IF(OR(MAX($P$2:P802)-P802=0,C802=0),\"\",MAX($P$2:P802)-P802)","v":""}]
[802,null,null,null,null,null,null,null,null,null,null,null,null,0,0,0,10000,{"$f":"IF(OR(MAX($P$2:P803)-P803=0,C803=0),\"\",MAX($P$2:P803)-P803)","v":""}]
[803,null,null,null,null,null,null,null,null,null,null,null,null,0,0,0,10000,{"$f":"IF(OR(MAX($P$2:P804)-P804=0,C804=0),\"\",MAX($P$2:P804)-P804)","v":""}]
[804,null,null,null,null,null,null,null,null,null,null,null,null,0,0,0,10000,{"$f":"IF(OR(MAX($P$2:P805)-P805=0,C805=0),\"\",MAX($P$2:P805)-P805)","v":""}]
[805,null,null,null,null,null,null,null,null,null,null,null,null,0,0,0,10000,{"$f":"IF(OR(MAX($P$2:P806)-P806=0,C806=0),\"\",MAX($P$2:P806)-P806)","v":""}]
[806,null,null,null,null,null,null,null,null,null,null,null,null,0,0,0,10000,{"$f":"IF(OR(MAX($P$2:P807)-P807=0,C807=0),\"\",MAX($P$2:P807)-P807)","v":""}]
[807,null,null,null,null,null,null,null,null,null,null,null,null,0,0,0,10000,{"$f":"IF(OR(MAX($P$2:P808)-P808=0,C808=0),\"\",MAX($P$2:P808)-P808)","v":""}]
[808,null,null,null,null,null,null,null,null,null,null,null,null,0,0,0,10000,{"$f":"IF(OR(MAX($P$2:P809)-P809=0,C809=0),\"\",MAX($P$2:P809)-P809)","v":""}]
[809,null,null,null,null,null,null,null,null,null,null,null,null,0,0,0,10000,{"$f":"IF(OR(MAX($P$2:P810)-P810=0,C810=0),\"\",MAX($P$2:P810)-P810)","v":""}]
[810,null,null,null,null,null,null,null,null,null,null,null,null,0,0,0,10000,{"$f":"IF(OR(MAX($P$2:P811)-P811=0,C811=0),\"\",MAX($P$2:P811)-P811)","v":""}]
[811,null,null,null,null,null,null,null,null,null,null,null,null,0,0,0,10000,{"$f":"IF(OR(MAX($P$2:P812)-P812=0,C812=0),\"\",MAX($P$2:P812)-P812)","v":""}]
[812,null,null,null,null,null,null,null,null,null,null,null,null,0,0,0,10000,{"$f":"IF(OR(MAX($P$2:P813)-P813=0,C813=0),\"\",MAX($P$2:P813)-P813)","v":""}]
[813,null,null,null,null,null,null,null,null,null,null,null,null,0,0,0,10000,{"$f":"IF(OR(MAX($P$2:P814)-P814=0,C814=0),\"\",MAX($P$2:P814)-P814)","v":""}]
[814,null,null,null,null,null,null,null,null,null,null,null,null,0,0,0,10000,{"$f":"IF(OR(MAX($P$2:P815)-P815=0,C815=0),\"\",MAX($P$2:P815)-P815)","v":""}]
[815,null,null,null,null,null,null,null,null,null,null,null,null,0,0,0,10000,{"$f":"IF(OR(MAX($P$2:P816)-P816=0,C816=0),\"\",MAX($P$2:P816)-P816)","v":""}]
[816,null,null,null,null,null,null,null,null,null,null,null,null,0,0,0,10000,{"$f":"IF(OR(MAX($P$2:P817)-P817=0,C817=0),\"\",MAX($P$2:P817)-P817)","v":""}]
[817,null,null,null,null,null,null,null,null,null,null,null,null,0,0,0,10000,{"$f":"IF(OR(MAX($P$2:P818)-P818=0,C818=0),\"\",MAX($P$2:P818)-P818)","v":""}]
[818,null,null,null,null,null,null,null,null,null,null,null,null,0,0,0,10000,{"$f":"IF(OR(MAX($P$2:P819)-P819=0,C819=0),\"\",MAX($P$2:P819)-P819)","v":""}]
[819,null,null,null,null,null,null,null,null,null,null,null,null,0,0,0,10000,{"$f":"IF(OR(MAX($P$2:P820)-P820=0,C820=0),\"\",MAX($P$2:P820)-P820)","v":""}]
[820,null,null,null,null,null,null,null,null,null,null,null,null,0,0,0,10000,{"$f":"IF(OR(MAX($P$2:P821)-P821=0,C821=0),\"\",MAX($P$2:P821)-P821)","v":""}]
[821,null,null,null,null,null,null,null,null,null,null,null,null,0,0,0,10000,{"$f":"IF(OR(MAX($P$2:P822)-P822=0,C822=0),\"\",MAX($P$2:P822)-P822)","v":""}]
[822,null,null,null,null,null,null,null,null,null,null,null,null,0,0,0,10000,{"$f":"IF(OR(MAX($P$2:P823)-P823=0,C823=0),\"\",MAX($P$2:P823)-P823)","v":""}]
[823,null,null,null,null,null,null,null,null,null,null,null,null,0,0,0,10000,{"$f":"IF(OR(MAX($P$2:P824)-P824=0,C824=0),\"\",MAX($P$2:P824)-P824)","v":""}]
[824,null,null,null,null,null,null,null,null,null,null,null,null,0,0,0,10000,{"$f":"IF(OR(MAX($P$2:P825)-P825=0,C825=0),\"\",MAX($P$2:P825)-P825)","v":""}]
[825,null,null,null,null,null,null,null,null,null,null,null,null,0,0,0,10000,{"$f":"IF(OR(MAX($P$2:P826)-P826=0,C826=0),\"\",MAX($P$2:P826)-P826)","v":""}]
[826,null,null,null,null,null,null,null,null,null,null,null,null,0,0,0,10000,{"$f":"IF(OR(MAX($P$2:P827)-P827=0,C827=0),\"\",MAX($P$2:P827)-P827)","v":""}]
[827,null,null,null,null,null,null,null,null,null,null,null,null,0,0,0,10000,{"$f":"IF(OR(MAX($P$2:P828)-P828=0,C828=0),\"\",MAX($P$2:P828)-P828)","v":""}]
[828,null,null,null,null,null,null,null,null,null,null,null,null,0,0,0,10000,{"$f":"IF(OR(MAX($P$2:P829)-P829=0,C829=0),\"\",MAX($P$2:P829)-P829)","v":""}]
[829,null,null,null,null,null,null,null,null,null,null,null,null,0,0,0,10000,{"$f":"IF(OR(MAX($P$2:P830)-P830=0,C830=0),\"\",MAX($P$2:P830)-P830)","v":""}]
[830,null,null,null,null,null,null,null,null,null,null,null,null,0,0,0,10000,{"$f":"IF(OR(MAX($P$2:P831)-P831=0,C831=0),\"\",MAX($P$2:P831)-P831)","v":""}]
[831,null,null,null,null,null,null,null,null,null,null,null,null,0,0,0,10000,{"$f":"IF(OR(MAX($P$2:P832)-P832=0,C832=0),\"\",MAX($P$2:P832)-P832)","v":""}]
[832,null,null,null,null,null,null,null,null,null,null,null,null,0,0,0,10000,{"$f":"IF(OR(MAX($P$2:P833)-P833=0,C833=0),\"\",MAX($P$2:P833)-P833)","v":""}]
[833,null,null,null,null,null,null,null,null,null,null,null,null,0,0,0,10000,{"$f":"IF(OR(MAX($P$2:P834)-P834=0,C834=0),\"\",MAX($P$2:P834)-P834)","v":""}]
[834,null,null,null,null,null,null,null,null,null,null,null,null,0,0,0,10000,{"$f":"IF(OR(MAX($P$2:P835)-P835=0,C835=0),\"\",MAX($P$2:P835)-P835)","v":""}]
[835,null,null,null,null,null,null,null,null,null,null,null,null,0,0,{"$f":"P835+N836-O836","v":0},{"$f":"Q835+N836-O836","v":10000},{"$f":"IF(OR(MAX($P$2:P836)-P836=0,C836=0),\"\",MAX($P$2:P836)-P836)","v":""}]
[836,null,null,null,null,null,null,null,null,null,null,null,null,0,0,0,10000,{"$f":"IF(OR(MAX($P$2:P837)-P837=0,C837=0),\"\",MAX($P$2:P837)-P837)","v":""}]
[837,null,null,null,null,null,null,null,null,null,null,null,null,{"$f":"IF(B838=1,I838+J838+K838+L838-M838,0)","v":0},0,0,10000,{"$f":"IF(OR(MAX($P$2:P838)-P838=0,C838=0),\"\",MAX($P$2:P838)-P838)","v":""}]
[838,null,null,null,null,null,null,null,null,null,null,null,null,0,0,0,10000,{"$f":"IF(OR(MAX($P$2:P839)-P839=0,C839=0),\"\",MAX($P$2:P839)-P839)","v":""}]
[839,null,null,null,null,null,null,null,null,null,null,null,null,0,0,0,10000,{"$f":"IF(OR(MAX($P$2:P840)-P840=0,C840=0),\"\",MAX($P$2:P840)-P840)","v":""}]
[840,null,null,null,null,null,null,null,null,null,null,null,null,0,0,0,10000,{"$f":"IF(OR(MAX($P$2:P841)-P841=0,C841=0),\"\",MAX($P$2:P841)-P841)","v":""}]
[841,null,null,null,null,null,null,null,null,null,null,null,null,0,0,0,10000,{"$f":"IF(OR(MAX($P$2:P842)-P842=0,C842=0),\"\",MAX($P$2:P842)-P842)","v":""}]
[842,null,null,null,null,null,null,null,null,null,null,null,null,0,0,0,10000,{"$f":"IF(OR(MAX($P$2:P843)-P843=0,C843=0),\"\",MAX($P$2:P843)-P843)","v":""}]
[843,null,null,null,null,null,null,null,null,null,null,null,null,0,0,0,10000,{"$f":"IF(OR(MAX($P$2:P844)-P844=0,C844=0),\"\",MAX($P$2:P844)-P844)","v":""}]
[844,null,null,null,null,null,null,null,null,null,null,null,null,0,0,0,10000,{"$f":"IF(OR(MAX($P$2:P845)-P845=0,C845=0),\"\",MAX($P$2:P845)-P845)","v":""}]
[845,null,null,null,null,null,null,null,null,null,null,null,null,0,0,0,10000,{"$f":"IF(OR(MAX($P$2:P846)-P846=0,C846=0),\"\",MAX($P$2:P846)-P846)","v":""}]
[846,null,null,null,null,null,null,null,null,null,null,null,null,0,0,0,10000,{"$f":"IF(OR(MAX($P$2:P847)-P847=0,C847=0),\"\",MAX($P$2:P847)-P847)","v":""}]
[847,null,null,null,null,null,null,null,null,null,null,null,null,0,0,0,10000,{"$f":"IF(OR(MAX($P$2:P848)-P848=0,C848=0),\"\",MAX($P$2:P848)-P848)","v":""}]
[848,null,null,null,null,null,null,null,null,null,null,null,null,0,0,0,10000,{"$f":"IF(OR(MAX($P$2:P849)-P849=0,C849=0),\"\",MAX($P$2:P849)-P849)","v":""}]
[849,null,null,null,null,null,null,null,null,null,null,null,null,0,0,0,10000,{"$f":"IF(OR(MAX($P$2:P850)-P850=0,C850=0),\"\",MAX($P$2:P850)-P850)","v":""}]
[850,null,null,null,null,null,null,null,null,null,null,null,null,0,0,0,10000,{"$f":"IF(OR(MAX($P$2:P851)-P851=0,C851=0),\"\",MAX($P$2:P851)-P851)","v":""}]
[851,null,null,null,null,null,null,null,null,null,null,null,null,0,0,0,10000,{"$f":"IF(OR(MAX($P$2:P852)-P852=0,C852=0),\"\",MAX($P$2:P852)-P852)","v":""}]
[852,null,null,null,null,null,null,null,null,null,null,null,null,0,0,0,10000,{"$f":"IF(OR(MAX($P$2:P853)-P853=0,C853=0),\"\",MAX($P$2:P853)-P853)","v":""}]
[853,null,null,null,null,null,null,null,null,null,null,null,null,0,0,0,10000,{"$f":"IF(OR(MAX($P$2:P854)-P854=0,C854=0),\"\",MAX($P$2:P854)-P854)","v":""}]
[854,null,null,null,null,null,null,null,null,null,null,null,null,0,0,0,10000,{"$f":"IF(OR(MAX($P$2:P855)-P855=0,C855=0),\"\",MAX($P$2:P855)-P855)","v":""}]
[855,null,null,null,null,null,null,null,null,null,null,null,null,0,0,0,10000,{"$f":"IF(OR(MAX($P$2:P856)-P856=0,C856=0),\"\",MAX($P$2:P856)-P856)","v":""}]
[856,null,null,null,null,null,null,null,null,null,null,null,null,0,0,0,10000,{"$f":"IF(OR(MAX($P$2:P857)-P857=0,C857=0),\"\",MAX($P$2:P857)-P857)","v":""}]
[857,null,null,null,null,null,null,null,null,null,null,null,null,0,0,0,10000,{"$f":"IF(OR(MAX($P$2:P858)-P858=0,C858=0),\"\",MAX($P$2:P858)-P858)","v":""}]
[858,null,null,null,null,null,null,null,null,null,null,null,null,0,0,0,10000,{"$f":"IF(OR(MAX($P$2:P859)-P859=0,C859=0),\"\",MAX($P$2:P859)-P859)","v":""}]
[859,null,null,null,null,null,null,null,null,null,null,null,null,0,0,0,10000,{"$f":"IF(OR(MAX($P$2:P860)-P860=0,C860=0),\"\",MAX($P$2:P860)-P860)","v":""}]
[860,null,null,null,null,null,null,null,null,null,null,null,null,0,0,0,10000,{"$f":"IF(OR(MAX($P$2:P861)-P861=0,C861=0),\"\",MAX($P$2:P861)-P861)","v":""}]
[861,null,null,null,null,null,null,null,null,null,null,null,null,0,0,0,10000,{"$f":"IF(OR(MAX($P$2:P862)-P862=0,C862=0),\"\",MAX($P$2:P862)-P862)","v":""}]
[862,null,null,null,null,null,null,null,null,null,null,null,null,0,0,0,10000,{"$f":"IF(OR(MAX($P$2:P863)-P863=0,C863=0),\"\",MAX($P$2:P863)-P863)","v":""}]
[863,null,null,null,null,null,null,null,null,null,null,null,null,0,0,0,10000,{"$f":"IF(OR(MAX($P$2:P864)-P864=0,C864=0),\"\",MAX($P$2:P864)-P864)","v":""}]
[864,null,null,null,null,null,null,null,null,null,null,null,null,0,0,0,10000,{"$f":"IF(OR(MAX($P$2:P865)-P865=0,C865=0),\"\",MAX($P$2:P865)-P865)","v":""}]
[865,null,null,null,null,null,null,null,null,null,null,null,null,0,0,0,10000,{"$f":"IF(OR(MAX($P$2:P866)-P866=0,C866=0),\"\",MAX($P$2:P866)-P866)","v":""}]
[866,null,null,null,null,null,null,null,null,null,null,null,null,0,0,0,10000,{"$f":"IF(OR(MAX($P$2:P867)-P867=0,C867=0),\"\",MAX($P$2:P867)-P867)","v":""}]
[867,null,null,null,null,null,null,null,null,null,null,null,null,0,0,0,10000,{"$f":"IF(OR(MAX($P$2:P868)-P868=0,C868=0),\"\",MAX($P$2:P868)-P868)","v":""}]
[868,null,null,null,null,null,null,null,null,null,null,null,null,0,0,0,10000,{"$f":"IF(OR(MAX($P$2:P869)-P869=0,C869=0),\"\",MAX($P$2:P869)-P869)","v":""}]
[869,null,null,null,null,null,null,null,null,null,null,null,null,0,0,0,10000,{"$f":"IF(OR(MAX($P$2:P870)-P870=0,C870=0),\"\",MAX($P$2:P870)-P870)","v":""}]
[870,null,null,null,null,null,null,null,null,null,null,null,null,0,0,0,10000,{"$f":"IF(OR(MAX($P$2:P871)-P871=0,C871=0),\"\",MAX($P$2:P871)-P871)","v":""}]
[871,null,null,null,null,null,null,null,null,null,null,null,null,0,0,0,10000,{"$f":"IF(OR(MAX($P$2:P872)-P872=0,C872=0),\"\",MAX($P$2:P872)-P872)","v":""}]
[872,null,null,null,null,null,null,null,null,null,null,null,null,0,0,0,10000,{"$f":"IF(OR(MAX($P$2:P873)-P873=0,C873=0),\"\",MAX($P$2:P873)-P873)","v":""}]
[873,null,null,null,null,null,null,null,null,null,null,null,null,0,0,0,10000,{"$f":"IF(OR(MAX($P$2:P874)-P874=0,C874=0),\"\",MAX($P$2:P874)-P874)","v":""}]
[874,null,null,null,null,null,null,null,null,null,null,null,null,0,0,0,10000,{"$f":"IF(OR(MAX($P$2:P875)-P875=0,C875=0),\"\",MAX($P$2:P875)-P875)","v":""}]
[875,null,null,null,null,null,null,null,null,null,null,null,null,0,0,0,10000,{"$f":"IF(OR(MAX($P$2:P876)-P876=0,C876=0),\"\",MAX($P$2:P876)-P876)","v":""}]
[876,null,null,null,null,null,null,null,null,null,null,null,null,0,0,0,10000,{"$f":"IF(OR(MAX($P$2:P877)-P877=0,C877=0),\"\",MAX($P$2:P877)-P877)","v":""}]
[877,null,null,null,null,null,null,null,null,null,null,null,null,0,0,0,10000,{"$f":"IF(OR(MAX($P$2:P878)-P878=0,C878=0),\"\",MAX($P$2:P878)-P878)","v":""}]
[878,null,null,null,null,null,null,null,null,null,null,null,null,0,0,0,10000,{"$f":"IF(OR(MAX($P$2:P879)-P879=0,C879=0),\"\",MAX($P$2:P879)-P879)","v":""}]
[879,null,null,null,null,null,null,null,null,null,null,null,null,0,0,0,10000,{"$f":"IF(OR(MAX($P$2:P880)-P880=0,C880=0),\"\",MAX($P$2:P880)-P880)","v":""}]
[880,null,null,null,null,null,null,null,null,null,null,null,null,0,0,0,10000,{"$f":"IF(OR(MAX($P$2:P881)-P881=0,C881=0),\"\",MAX($P$2:P881)-P881)","v":""}]
[881,null,null,null,null,null,null,null,null,null,null,null,null,0,0,0,10000,{"$f":"IF(OR(MAX($P$2:P882)-P882=0,C882=0),\"\",MAX($P$2:P882)-P882)","v":""}]
[882,null,null,null,null,null,null,null,null,null,null,null,null,0,0,0,10000,{"$f":"IF(OR(MAX($P$2:P883)-P883=0,C883=0),\"\",MAX($P$2:P883)-P883)","v":""}]
[883,null,null,null,null,null,null,null,null,null,null,null,null,0,0,0,10000,{"$f":"IF(OR(MAX($P$2:P884)-P884=0,C884=0),\"\",MAX($P$2:P884)-P884)","v":""}]
[884,null,null,null,null,null,null,null,null,null,null,null,null,0,0,0,10000,{"$f":"IF(OR(MAX($P$2:P885)-P885=0,C885=0),\"\",MAX($P$2:P885)-P885)","v":""}]
[885,null,null,null,null,null,null,null,null,null,null,null,null,0,0,0,10000,{"$f":"IF(OR(MAX($P$2:P886)-P886=0,C886=0),\"\",MAX($P$2:P886)-P886)","v":""}]
[886,null,null,null,null,null,null,null,null,null,null,null,null,0,0,0,10000,{"$f":"IF(OR(MAX($P$2:P887)-P887=0,C887=0),\"\",MAX($P$2:P887)-P887)","v":""}]
[887,null,null,null,null,null,null,null,null,null,null,null,null,0,0,0,10000,{"$f":"IF(OR(MAX($P$2:P888)-P888=0,C888=0),\"\",MAX($P$2:P888)-P888)","v":""}]
[888,null,null,null,null,null,null,null,null,null,null,null,null,0,0,0,10000,{"$f":"IF(OR(MAX($P$2:P889)-P889=0,C889=0),\"\",MAX($P$2:P889)-P889)","v":""}]
[889,null,null,null,null,null,null,null,null,null,null,null,null,0,0,0,10000,{"$f":"IF(OR(MAX($P$2:P890)-P890=0,C890=0),\"\",MAX($P$2:P890)-P890)","v":""}]
[890,null,null,null,null,null,null,null,null,null,null,null,null,0,0,0,10000,{"$f":"IF(OR(MAX($P$2:P891)-P891=0,C891=0),\"\",MAX($P$2:P891)-P891)","v":""}]
[891,null,null,null,null,null,null,null,null,null,null,null,null,0,0,0,10000,{"$f":"IF(OR(MAX($P$2:P892)-P892=0,C892=0),\"\",MAX($P$2:P892)-P892)","v":""}]
[892,null,null,null,null,null,null,null,null,null,null,null,null,0,0,0,10000,{"$f":"IF(OR(MAX($P$2:P893)-P893=0,C893=0),\"\",MAX($P$2:P893)-P893)","v":""}]
[893,null,null,null,null,null,null,null,null,null,null,null,null,0,0,0,10000,{"$f":"IF(OR(MAX($P$2:P894)-P894=0,C894=0),\"\",MAX($P$2:P894)-P894)","v":""}]
[894,null,null,null,null,null,null,null,null,null,null,null,null,0,0,0,10000,{"$f":"IF(OR(MAX($P$2:P895)-P895=0,C895=0),\"\",MAX($P$2:P895)-P895)","v":""}]
[895,null,null,null,null,null,null,null,null,null,null,null,null,0,0,0,10000,{"$f":"IF(OR(MAX($P$2:P896)-P896=0,C896=0),\"\",MAX($P$2:P896)-P896)","v":""}]
[896,null,null,null,null,null,null,null,null,null,null,null,null,0,0,0,10000,{"$f":"IF(OR(MAX($P$2:P897)-P897=0,C897=0),\"\",MAX($P$2:P897)-P897)","v":""}]
[897,null,null,null,null,null,null,null,null,null,null,null,null,0,0,0,10000,{"$f":"IF(OR(MAX($P$2:P898)-P898=0,C898=0),\"\",MAX($P$2:P898)-P898)","v":""}]
[898,null,null,null,null,null,null,null,null,null,null,null,null,0,0,0,10000,{"$f":"IF(OR(MAX($P$2:P899)-P899=0,C899=0),\"\",MAX($P$2:P899)-P899)","v":""}]
[899,null,null,null,null,null,null,null,null,null,null,null,null,0,0,{"$f":"P899+N900-O900","v":0},{"$f":"Q899+N900-O900","v":10000},{"$f":"IF(OR(MAX($P$2:P900)-P900=0,C900=0),\"\",MAX($P$2:P900)-P900)","v":""}]
[900,null,null,null,null,null,null,null,null,null,null,null,null,0,0,0,10000,{"$f":"IF(OR(MAX($P$2:P901)-P901=0,C901=0),\"\",MAX($P$2:P901)-P901)","v":""}]
[901,null,null,null,null,null,null,null,null,null,null,null,null,{"$f":"IF(B902=1,I902+J902+K902+L902-M902,0)","v":0},0,0,10000,{"$f":"IF(OR(MAX($P$2:P902)-P902=0,C902=0),\"\",MAX($P$2:P902)-P902)","v":""}]
[902,null,null,null,null,null,null,null,null,null,null,null,null,0,0,0,10000,{"$f":"IF(OR(MAX($P$2:P903)-P903=0,C903=0),\"\",MAX($P$2:P903)-P903)","v":""}]
[903,null,null,null,null,null,null,null,null,null,null,null,null,0,0,0,10000,{"$f":"IF(OR(MAX($P$2:P904)-P904=0,C904=0),\"\",MAX($P$2:P904)-P904)","v":""}]
[904,null,null,null,null,null,null,null,null,null,null,null,null,0,0,0,10000,{"$f":"IF(OR(MAX($P$2:P905)-P905=0,C905=0),\"\",MAX($P$2:P905)-P905)","v":""}]
[905,null,null,null,null,null,null,null,null,null,null,null,null,0,0,0,10000,{"$f":"IF(OR(MAX($P$2:P906)-P906=0,C906=0),\"\",MAX($P$2:P906)-P906)","v":""}]
[906,null,null,null,null,null,null,null,null,null,null,null,null,0,0,0,10000,{"$f":"IF(OR(MAX($P$2:P907)-P907=0,C907=0),\"\",MAX($P$2:P907)-P907)","v":""}]
[907,null,null,null,null,null,null,null,null,null,null,null,null,0,0,0,10000,{"$f":"IF(OR(MAX($P$2:P908)-P908=0,C908=0),\"\",MAX($P$2:P908)-P908)","v":""}]
[908,null,null,null,null,null,null,null,null,null,null,null,null,0,0,0,10000,{"$f":"IF(OR(MAX($P$2:P909)-P909=0,C909=0),\"\",MAX($P$2:P909)-P909)","v":""}]
[909,null,null,null,null,null,null,null,null,null,null,null,null,0,0,0,10000,{"$f":"IF(OR(MAX($P$2:P910)-P910=0,C910=0),\"\",MAX($P$2:P910)-P910)","v":""}]
[910,null,null,null,null,null,null,null,null,null,null,null,null,0,0,0,10000,{"$f":"IF(OR(MAX($P$2:P911)-P911=0,C911=0),\"\",MAX($P$2:P911)-P911)","v":""}]
[911,null,null,null,null,null,null,null,null,null,null,null,null,0,0,0,10000,{"$f":"IF(OR(MAX($P$2:P912)-P912=0,C912=0),\"\",MAX($P$2:P912)-P912)","v":""}]
[912,null,null,null,null,null,null,null,null,null,null,null,null,0,0,0,10000,{"$f":"IF(OR(MAX($P$2:P913)-P913=0,C913=0),\"\",MAX($P$2:P913)-P913)","v":""}]
[913,null,null,null,null,null,null,null,null,null,null,null,null,0,0,0,10000,{"$f":"IF(OR(MAX($P$2:P914)-P914=0,C914=0),\"\",MAX($P$2:P914)-P914)","v":""}]
[914,null,null,null,null,null,null,null,null,null,null,null,null,0,0,0,10000,{"$f":"IF(OR(MAX($P$2:P915)-P915=0,C915=0),\"\",MAX($P$2:P915)-P915)","v":""}]
[915,null,null,null,null,null,null,null,null,null,null,null,null,0,0,0,10000,{"$f":"IF(OR(MAX($P$2:P916)-P916=0,C916=0),\"\",MAX($P$2:P916)-P916)","v":""}]
[916,null,null,null,null,null,null,null,null,null,null,null,null,0,0,0,10000,{"$f":"IF(OR(MAX($P$2:P917)-P917=0,C917=0),\"\",MAX($P$2:P917)-P917)","v":""}]
[917,null,null,null,null,null,null,null,null,null,null,null,null,0,0,0,10000,{"$f":"IF(OR(MAX($P$2:P918)-P918=0,C918=0),\"\",MAX($P$2:P918)-P918)","v":""}]
[918,null,null,null,null,null,null,null,null,null,null,null,null,0,0,0,10000,{"$f":"IF(OR(MAX($P$2:P919)-P919=0,C919=0),\"\",MAX($P$2:P919)-P919)","v":""}]
[919,null,null,null,null,null,null,null,null,null,null,null,null,0,0,0,10000,{"$f":"IF(OR(MAX($P$2:P920)-P920=0,C920=0),\"\",MAX($P$2:P920)-P920)","v":""}]
[920,null,null,null,null,null,null,null,null,null,null,null,null,0,0,0,10000,{"$f":"IF(OR(MAX($P$2:P921)-P921=0,C921=0),\"\",MAX($P$2:P921)-P921)","v":""}]
[921,null,null,null,null,null,null,null,null,null,null,null,null,0,0,0,10000,{"$f":"IF(OR(MAX($P$2:P922)-P922=0,C922=0),\"\",MAX($P$2:P922)-P922)","v":""}]
[922,null,null,null,null,null,null,null,null,null,null,null,null,0,0,0,10000,{"$f":"IF(OR(MAX($P$2:P923)-P923=0,C923=0),\"\",MAX($P$2:P923)-P923)","v":""}]
[923,null,null,null,null,null,null,null,null,null,null,null,null,0,0,0,10000,{"$f":"IF(OR(MAX($P$2:P924)-P924=0,C924=0),\"\",MAX($P$2:P924)-P924)","v":""}]
[924,null,null,null,null,null,null,null,null,null,null,null,null,0,0,0,10000,{"$f":"IF(OR(MAX($P$2:P925)-P925=0,C925=0),\"\",MAX($P$2:P925)-P925)","v":""}]
[925,null,null,null,null,null,null,null,null,null,null,null,null,0,0,0,10000,{"$f":"IF(OR(MAX($P$2:P926)-P926=0,C926=0),\"\",MAX($P$2:P926)-P926)","v":""}]
[926,null,null,null,null,null,null,null,null,null,null,null,null,0,0,0,10000,{"$f":"IF(OR(MAX($P$2:P927)-P927=0,C927=0),\"\",MAX($P$2:P927)-P927)","v":""}]
[927,null,null,null,null,null,null,null,null,null,null,null,null,0,0,0,10000,{"$f":"IF(OR(MAX($P$2:P928)-P928=0,C928=0),\"\",MAX($P$2:P928)-P928)","v":""}]
[928,null,null,null,null,null,null,null,null,null,null,null,null,0,0,0,10000,{"$f":"IF(OR(MAX($P$2:P929)-P929=0,C929=0),\"\",MAX($P$2:P929)-P929)","v":""}]
[929,null,null,null,null,null,null,null,null,null,null,null,null,0,0,0,10000,{"$f":"IF(OR(MAX($P$2:P930)-P930=0,C930=0),\"\",MAX($P$2:P930)-P930)","v":""}]
[930,null,null,null,null,null,null,null,null,null,null,null,null,0,0,0,10000,{"$f":"IF(OR(MAX($P$2:P931)-P931=0,C931=0),\"\",MAX($P$2:P931)-P931)","v":""}]
[931,null,null,null,null,null,null,null,null,null,null,null,null,0,0,0,10000,{"$f":"IF(OR(MAX($P$2:P932)-P932=0,C932=0),\"\",MAX($P$2:P932)-P932)","v":""}]
[932,null,null,null,null,null,null,null,null,null,null,null,null,0,0,0,10000,{"$f":"IF(OR(MAX($P$2:P933)-P933=0,C933=0),\"\",MAX($P$2:P933)-P933)","v":""}]
[933,null,null,null,null,null,null,null,null,null,null,null,null,0,0,0,10000,{"$f":"IF(OR(MAX($P$2:P934)-P934=0,C934=0),\"\",MAX($P$2:P934)-P934)","v":""}]
[934,null,null,null,null,null,null,null,null,null,null,null,null,0,0,0,10000,{"$f":"IF(OR(MAX($P$2:P935)-P935=0,C935=0),\"\",MAX($P$2:P935)-P935)","v":""}]
[935,null,null,null,null,null,null,null,null,null,null,null,null,0,0,0,10000,{"$f":"IF(OR(MAX($P$2:P936)-P936=0,C936=0),\"\",MAX($P$2:P936)-P936)","v":""}]
[936,null,null,null,null,null,null,null,null,null,null,null,null,0,0,0,10000,{"$f":"IF(OR(MAX($P$2:P937)-P937=0,C937=0),\"\",MAX($P$2:P937)-P937)","v":""}]
[937,null,null,null,null,null,null,null,null,null,null,null,null,0,0,0,10000,{"$f":"IF(OR(MAX($P$2:P938)-P938=0,C938=0),\"\",MAX($P$2:P938)-P938)","v":""}]
[938,null,null,null,null,null,null,null,null,null,null,null,null,0,0,0,10000,{"$f":"IF(OR(MAX($P$2:P939)-P939=0,C939=0),\"\",MAX($P$2:P939)-P939)","v":""}]
[939,null,null,null,null,null,null,null,null,null,null,null,null,0,0,0,10000,{"$f":"IF(OR(MAX($P$2:P940)-P940=0,C940=0),\"\",MAX($P$2:P940)-P940)","v":""}]
[940,null,null,null,null,null,null,null,null,null,null,null,null,0,0,0,10000,{"$f":"IF(OR(MAX($P$2:P941)-P941=0,C941=0),\"\",MAX($P$2:P941)-P941)","v":""}]
[941,null,null,null,null,null,null,null,null,null,null,null,null,0,0,0,10000,{"$f":"IF(OR(MAX($P$2:P942)-P942=0,C942=0),\"\",MAX($P$2:P942)-P942)","v":""}]
[942,null,null,null,null,null,null,null,null,null,null,null,null,0,0,0,10000,{"$f":"IF(OR(MAX($P$2:P943)-P943=0,C943=0),\"\",MAX($P$2:P943)-P943)","v":""}]
[943,null,null,null,null,null,null,null,null,null,null,null,null,0,0,0,10000,{"$f":"IF(OR(MAX($P$2:P944)-P944=0,C944=0),\"\",MAX($P$2:P944)-P944)","v":""}]
[944,null,null,null,null,null,null,null,null,null,null,null,null,0,0,0,10000,{"$f":"IF(OR(MAX($P$2:P945)-P945=0,C945=0),\"\",MAX($P$2:P945)-P945)","v":""}]
[945,null,null,null,null,null,null,null,null,null,null,null,null,0,0,0,10000,{"$f":"IF(OR(MAX($P$2:P946)-P946=0,C946=0),\"\",MAX($P$2:P946)-P946)","v":""}]
[946,null,null,null,null,null,null,null,null,null,null,null,null,0,0,0,10000,{"$f":"IF(OR(MAX($P$2:P947)-P947=0,C947=0),\"\",MAX($P$2:P947)-P947)","v":""}]
[947,null,null,null,null,null,null,null,null,null,null,null,null,0,0,0,10000,{"$f":"IF(OR(MAX($P$2:P948)-P948=0,C948=0),\"\",MAX($P$2:P948)-P948)","v":""}]
[948,null,null,null,null,null,null,null,null,null,null,null,null,0,0,0,10000,{"$f":"IF(OR(MAX($P$2:P949)-P949=0,C949=0),\"\",MAX($P$2:P949)-P949)","v":""}]
[949,null,null,null,null,null,null,null,null,null,null,null,null,0,0,0,10000,{"$f":"IF(OR(MAX($P$2:P950)-P950=0,C950=0),\"\",MAX($P$2:P950)-P950)","v":""}]
[950,null,null,null,null,null,null,null,null,null,null,null,null,0,0,0,10000,{"$f":"IF(OR(MAX($P$2:P951)-P951=0,C951=0),\"\",MAX($P$2:P951)-P951)","v":""}]
[951,null,null,null,null,null,null,null,null,null,null,null,null,0,0,0,10000,{"$f":"IF(OR(MAX($P$2:P952)-P952=0,C952=0),\"\",MAX($P$2:P952)-P952)","v":""}]
[952,null,null,null,null,null,null,null,null,null,null,null,null,0,0,0,10000,{"$f":"IF(OR(MAX($P$2:P953)-P953=0,C953=0),\"\",MAX($P$2:P953)-P953)","v":""}]
[953,null,null,null,null,null,null,null,null,null,null,null,null,0,0,0,10000,{"$f":"IF(OR(MAX($P$2:P954)-P954=0,C954=0),\"\",MAX($P$2:P954)-P954)","v":""}]
[954,null,null,null,null,null,null,null,null,null,null,null,null,0,0,0,10000,{"$f":"IF(OR(MAX($P$2:P955)-P955=0,C955=0),\"\",MAX($P$2:P955)-P955)","v":""}]
[955,null,null,null,null,null,null,null,null,null,null,null,null,0,0,0,10000,{"$f":"IF(OR(MAX($P$2:P956)-P956=0,C956=0),\"\",MAX($P$2:P956)-P956)","v":""}]
[956,null,null,null,null,null,null,null,null,null,null,null,null,0,0,0,10000,{"$f":"IF(OR(MAX($P$2:P957)-P957=0,C957=0),\"\",MAX($P$2:P957)-P957)","v":""}]
[957,null,null,null,null,null,null,null,null,null,null,null,null,0,0,0,10000,{"$f":"IF(OR(MAX($P$2:P958)-P958=0,C958=0),\"\",MAX($P$2:P958)-P958)","v":""}]
[958,null,null,null,null,null,null,null,null,null,null,null,null,0,0,0,10000,{"$f":"IF(OR(MAX($P$2:P959)-P959=0,C959=0),\"\",MAX($P$2:P959)-P959)","v":""}]
[959,null,null,null,null,null,null,null,null,null,null,null,null,0,0,0,10000,{"$f":"IF(OR(MAX($P$2:P960)-P960=0,C960=0),\"\",MAX($P$2:P960)-P960)","v":""}]
[960,null,null,null,null,null,null,null,null,null,null,null,null,0,0,0,10000,{"$f":"IF(OR(MAX($P$2:P961)-P961=0,C961=0),\"\",MAX($P$2:P961)-P961)","v":""}]
[961,null,null,null,null,null,null,null,null,null,null,null,null,0,0,0,10000,{"$f":"IF(OR(MAX($P$2:P962)-P962=0,C962=0),\"\",MAX($P$2:P962)-P962)","v":""}]
[962,null,null,null,null,null,null,null,null,null,null,null,null,0,0,0,10000,{"$f":"IF(OR(MAX($P$2:P963)-P963=0,C963=0),\"\",MAX($P$2:P963)-P963)","v":""}]
[963,null,null,null,null,null,null,null,null,null,null,null,null,0,0,{"$f":"P963+N964-O964","v":0},{"$f":"Q963+N964-O964","v":10000},{"$f":"IF(OR(MAX($P$2:P964)-P964=0,C964=0),\"\",MAX($P$2:P964)-P964)","v":""}]
[964,null,null,null,null,null,null,null,null,null,null,null,null,0,0,0,10000,{"$f":"IF(OR(MAX($P$2:P965)-P965=0,C965=0),\"\",MAX($P$2:P965)-P965)","v":""}]
[965,null,null,null,null,null,null,null,null,null,null,null,null,{"$f":"IF(B966=1,I966+J966+K966+L966-M966,0)","v":0},0,0,10000,{"$f":"IF(OR(MAX($P$2:P966)-P966=0,C966=0),\"\",MAX($P$2:P966)-P966)","v":""}]
[966,null,null,null,null,null,null,null,null,null,null,null,null,0,0,0,10000,{"$f":"IF(OR(MAX($P$2:P967)-P967=0,C967=0),\"\",MAX($P$2:P967)-P967)","v":""}]
[967,null,null,null,null,null,null,null,null,null,null,null,null,0,0,0,10000,{"$f":"IF(OR(MAX($P$2:P968)-P968=0,C968=0),\"\",MAX($P$2:P968)-P968)","v":""}]
[968,null,null,null,null,null,null,null,null,null,null,null,null,0,0,0,10000,{"$f":"IF(OR(MAX($P$2:P969)-P969=0,C969=0),\"\",MAX($P$2:P969)-P969)","v":""}]
[969,null,null,null,null,null,null,null,null,null,null,null,null,0,0,0,10000,{"$f":"IF(OR(MAX($P$2:P970)-P970=0,C970=0),\"\",MAX($P$2:P970)-P970)","v":""}]
[970,null,null,null,null,null,null,null,null,null,null,null,null,0,0,0,10000,{"$f":"IF(OR(MAX($P$2:P971)-P971=0,C971=0),\"\",MAX($P$2:P971)-P971)","v":""}]
[971,null,null,null,null,null,null,null,null,null,null,null,null,0,0,0,10000,{"$f":"IF(OR(MAX($P$2:P972)-P972=0,C972=0),\"\",MAX($P$2:P972)-P972)","v":""}]
[972,null,null,null,null,null,null,null,null,null,null,null,null,0,0,0,10000,{"$f":"IF(OR(MAX($P$2:P973)-P973=0,C973=0),\"\",MAX($P$2:P973)-P973)","v":""}]
[973,null,null,null,null,null,null,null,null,null,null,null,null,0,0,0,10000,{"$f":"IF(OR(MAX($P$2:P974)-P974=0,C974=0),\"\",MAX($P$2:P974)-P974)","v":""}]
[974,null,null,null,null,null,null,null,null,null,null,null,null,0,0,0,10000,{"$f":"IF(OR(MAX($P$2:P975)-P975=0,C975=0),\"\",MAX($P$2:P975)-P975)","v":""}]
[975,null,null,null,null,null,null,null,null,null,null,null,null,0,0,0,10000,{"$f":"IF(OR(MAX($P$2:P976)-P976=0,C976=0),\"\",MAX($P$2:P976)-P976)","v":""}]
[976,null,null,null,null,null,null,null,null,null,null,null,null,0,0,0,10000,{"$f":"IF(OR(MAX($P$2:P977)-P977=0,C977=0),\"\",MAX($P$2:P977)-P977)","v":""}]
[977,null,null,null,null,null,null,null,null,null,null,null,null,0,0,0,10000,{"$f":"IF(OR(MAX($P$2:P978)-P978=0,C978=0),\"\",MAX($P$2:P978)-P978)","v":""}]
[978,null,null,null,null,null,null,null,null,null,null,null,null,0,0,0,10000,{"$f":"IF(OR(MAX($P$2:P979)-P979=0,C979=0),\"\",MAX($P$2:P979)-P979)","v":""}]
[979,null,null,null,null,null,null,null,null,null,null,null,null,0,0,0,10000,{"$f":"IF(OR(MAX($P$2:P980)-P980=0,C980=0),\"\",MAX($P$2:P980)-P980)","v":""}]
[980,null,null,null,null,null,null,null,null,null,null,null,null,0,0,0,10000,{"$f":"IF(OR(MAX($P$2:P981)-P981=0,C981=0),\"\",MAX($P$2:P981)-P981)","v":""}]
[981,null,null,null,null,null,null,null,null,null,null,null,null,0,0,0,10000,{"$f":"IF(OR(MAX($P$2:P982)-P982=0,C982=0),\"\",MAX($P$2:P982)-P982)","v":""}]
[982,null,null,null,null,null,null,null,null,null,null,null,null,0,0,0,10000,{"$f":"IF(OR(MAX($P$2:P983)-P983=0,C983=0),\"\",MAX($P$2:P983)-P983)","v":""}]
[983,null,null,null,null,null,null,null,null,null,null,null,null,0,0,0,10000,{"$f":"IF(OR(MAX($P$2:P984)-P984=0,C984=0),\"\",MAX($P$2:P984)-P984)","v":""}]
[984,null,null,null,null,null,null,null,null,null,null,null,null,0,0,0,10000,{"$f":"IF(OR(MAX($P$2:P985)-P985=0,C985=0),\"\",MAX($P$2:P985)-P985)","v":""}]
[985,null,null,null,null,null,null,null,null,null,null,null,null,0,0,0,10000,{"$f":"IF(OR(MAX($P$2:P986)-P986=0,C986=0),\"\",MAX($P$2:P986)-P986)","v":""}]
[986,null,null,null,null,null,null,null,null,null,null,null,null,0,0,0,10000,{"$f":"IF(OR(MAX($P$2:P987)-P987=0,C987=0),\"\",MAX($P$2:P987)-P987)","v":""}]
[987,null,null,null,null,null,null,null,null,null,null,null,null,0,0,0,10000,{"$f":"IF(OR(MAX($P$2:P988)-P988=0,C988=0),\"\",MAX($P$2:P988)-P988)","v":""}]
[988,null,null,null,null,null,null,null,null,null,null,null,null,0,0,0,10000,{"$f":"IF(OR(MAX($P$2:P989)-P989=0,C989=0),\"\",MAX($P$2:P989)-P989)","v":""}]
[989,null,null,null,null,null,null,null,null,null,null,null,null,0,0,0,10000,{"$f":"IF(OR(MAX($P$2:P990)-P990=0,C990=0),\"\",MAX($P$2:P990)-P990)","v":""}]
[990,null,null,null,null,null,null,null,null,null,null,null,null,0,0,0,10000,{"$f":"IF(OR(MAX($P$2:P991)-P991=0,C991=0),\"\",MAX($P$2:P991)-P991)","v":""}]
[991,null,null,null,null,null,null,null,null,null,null,null,null,0,0,0,10000,{"$f":"IF(OR(MAX($P$2:P992)-P992=0,C992=0),\"\",MAX($P$2:P992)-P992)","v":""}]
[992,null,null,null,null,null,null,null,null,null,null,null,null,0,0,0,10000,{"$f":"IF(OR(MAX($P$2:P993)-P993=0,C993=0),\"\",MAX($P$2:P993)-P993)","v":""}]
[993,null,null,null,null,null,null,null,null,null,null,null,null,0,0,0,10000,{"$f":"IF(OR(MAX($P$2:P994)-P994=0,C994=0),\"\",MAX($P$2:P994)-P994)","v":""}]
[994,null,null,null,null,null,null,null,null,null,null,null,null,0,0,0,10000,{"$f":"IF(OR(MAX($P$2:P995)-P995=0,C995=0),\"\",MAX($P$2:P995)-P995)","v":""}]
[995,null,null,null,null,null,null,null,null,null,null,null,null,0,0,0,10000,{"$f":"IF(OR(MAX($P$2:P996)-P996=0,C996=0),\"\",MAX($P$2:P996)-P996)","v":""}]
[996,null,null,null,null,null,null,null,null,null,null,null,null,0,0,0,10000,{"$f":"IF(OR(MAX($P$2:P997)-P997=0,C997=0),\"\",MAX($P$2:P997)-P997)","v":""}]
[997,null,null,null,null,null,null,null,null,null,null,null,null,0,0,0,10000,{"$f":"IF(OR(MAX($P$2:P998)-P998=0,C998=0),\"\",MAX($P$2:P998)-P998)","v":""}]
[998,null,null,null,null,null,null,null,null,null,null,null,null,0,0,0,10000,{"$f":"IF(OR(MAX($P$2:P999)-P999=0,C999=0),\"\",MAX($P$2:P999)-P999)","v":""}]
[999,null,null,null,null,null,null,null,null,null,null,null,null,0,0,0,10000,{"$f":"IF(OR(MAX($P$2:P1000)-P1000=0,C1000=0),\"\",MAX($P$2:P1000)-P1000)","v":""}]
[1000,null,null,null,null,null,null,null,null,null,null,null,null,0,0,0,10000,{"$f":"IF(OR(MAX($P$2:P1001)-P1001=0,C1001=0),\"\",MAX($P$2:P1001)-P1001)","v":""}]
[1001,null,null,null,null,null,null,null,null,null,null,null,null,0,0,0,10000,{"$f":"IF(OR(MAX($P$2:P1002)-P1002=0,C1002=0),\"\",MAX($P$2:P1002)-P1002)","v":""}]
[1002,null,null,null,null,null,null,null,null,null,null,null,null,0,0,0,10000,{"$f":"IF(OR(MAX($P$2:P1003)-P1003=0,C1003=0),\"\",MAX($P$2:P1003)-P1003)","v":""}]
[1003,null,null,null,null,null,null,null,null,null,null,null,null,0,0,0,10000,{"$f":"IF(OR(MAX($P$2:P1004)-P1004=0,C1004=0),\"\",MAX($P$2:P1004)-P1004)","v":""}]
[1004,null,null,null,null,null,null,null,null,null,null,null,null,0,0,0,10000,{"$f":"IF(OR(MAX($P$2:P1005)-P1005=0,C1005=0),\"\",MAX($P$2:P1005)-P1005)","v":""}]
[1005,null,null,null,null,null,null,null,null,null,null,null,null,0,0,0,10000,{"$f":"IF(OR(MAX($P$2:P1006)-P1006=0,C1006=0),\"\",MAX($P$2:P1006)-P1006)","v":""}]
[1006,null,null,null,null,null,null,null,null,null,null,null,null,0,0,0,10000,{"$f":"IF(OR(MAX($P$2:P1007)-P1007=0,C1007=0),\"\",MAX($P$2:P1007)-P1007)","v":""}]
[1007,null,null,null,null,null,null,null,null,null,null,null,null,0,0,0,10000,{"$f":"IF(OR(MAX($P$2:P1008)-P1008=0,C1008=0),\"\",MAX($P$2:P1008)-P1008)","v":""}]
[1008,null,null,null,null,null,null,null,null,null,null,null,null,0,0,0,10000,{"$f":"IF(OR(MAX($P$2:P1009)-P1009=0,C1009=0),\"\",MAX($P$2:P1009)-P1009)","v":""}]
[1009,null,null,null,null,null,null,null,null,null,null,null,null,0,0,0,10000,{"$f":"IF(OR(MAX($P$2:P1010)-P1010=0,C1010=0),\"\",MAX($P$2:P1010)-P1010)","v":""}]
[1010,null,null,null,null,null,null,null,null,null,null,null,null,0,0,0,10000,{"$f":"IF(OR(MAX($P$2:P1011)-P1011=0,C1011=0),\"\",MAX($P$2:P1011)-P1011)","v":""}]
[1011,null,null,null,null,null,null,null,null,null,null,null,null,0,0,0,10000,{"$f":"IF(OR(MAX($P$2:P1012)-P1012=0,C1012=0),\"\",MAX($P$2:P1012)-P1012)","v":""}]
[1012,null,null,null,null,null,null,null,null,null,null,null,null,0,0,0,10000,{"$f":"IF(OR(MAX($P$2:P1013)-P1013=0,C1013=0),\"\",MAX($P$2:P1013)-P1013)","v":""}]
[1013,null,null,null,null,null,null,null,null,null,null,null,null,0,0,0,10000,{"$f":"IF(OR(MAX($P$2:P1014)-P1014=0,C1014=0),\"\",MAX($P$2:P1014)-P1014)","v":""}]
[1014,null,null,null,null,null,null,null,null,null,null,null,null,0,0,0,10000,{"$f":"IF(OR(MAX($P$2:P1015)-P1015=0,C1015=0),\"\",MAX($P$2:P1015)-P1015)","v":""}]
[1015,null,null,null,null,null,null,null,null,null,null,null,null,0,0,0,10000,{"$f":"IF(OR(MAX($P$2:P1016)-P1016=0,C1016=0),\"\",MAX($P$2:P1016)-P1016)","v":""}]
[1016,null,null,null,null,null,null,null,null,null,null,null,null,0,0,0,10000,{"$f":"IF(OR(MAX($P$2:P1017)-P1017=0,C1017=0),\"\",MAX($P$2:P1017)-P1017)","v":""}]
[1017,null,null,null,null,null,null,null,null,null,null,null,null,0,0,0,10000,{"$f":"IF(OR(MAX($P$2:P1018)-P1018=0,C1018=0),\"\",MAX($P$2:P1018)-P1018)","v":""}]
[1018,null,null,null,null,null,null,null,null,null,null,null,null,0,0,0,10000,{"$f":"IF(OR(MAX($P$2:P1019)-P1019=0,C1019=0),\"\",MAX($P$2:P1019)-P1019)","v":""}]
[1019,null,null,null,null,null,null,null,null,null,null,null,null,0,0,0,10000,{"$f":"IF(OR(MAX($P$2:P1020)-P1020=0,C1020=0),\"\",MAX($P$2:P1020)-P1020)","v":""}]
[1020,null,null,null,null,null,null,null,null,null,null,null,null,0,0,0,10000,{"$f":"IF(OR(MAX($P$2:P1021)-P1021=0,C1021=0),\"\",MAX($P$2:P1021)-P1021)","v":""}]
[1021,null,null,null,null,null,null,null,null,null,null,null,null,0,0,0,10000,{"$f":"IF(OR(MAX($P$2:P1022)-P1022=0,C1022=0),\"\",MAX($P$2:P1022)-P1022)","v":""}]
[1022,null,null,null,null,null,null,null,null,null,null,null,null,0,0,0,10000,{"$f":"IF(OR(MAX($P$2:P1023)-P1023=0,C1023=0),\"\",MAX($P$2:P1023)-P1023)","v":""}]
[1023,null,null,null,null,null,null,null,null,null,null,null,null,0,0,0,10000,{"$f":"IF(OR(MAX($P$2:P1024)-P1024=0,C1024=0),\"\",MAX($P$2:P1024)-P1024)","v":""}]
[1024,null,null,null,null,null,null,null,null,null,null,null,null,0,0,0,10000,{"$f":"IF(OR(MAX($P$2:P1025)-P1025=0,C1025=0),\"\",MAX($P$2:P1025)-P1025)","v":""}]
[1025,null,null,null,null,null,null,null,null,null,null,null,null,0,0,0,10000,{"$f":"IF(OR(MAX($P$2:P1026)-P1026=0,C1026=0),\"\",MAX($P$2:P1026)-P1026)","v":""}]
[1026,null,null,null,null,null,null,null,null,null,null,null,null,0,0,0,10000,{"$f":"IF(OR(MAX($P$2:P1027)-P1027=0,C1027=0),\"\",MAX($P$2:P1027)-P1027)","v":""}]
[1027,null,null,null,null,null,null,null,null,null,null,null,null,0,0,{"$f":"P1027+N1028-O1028","v":0},{"$f":"Q1027+N1028-O1028","v":10000},{"$f":"IF(OR(MAX($P$2:P1028)-P1028=0,C1028=0),\"\",MAX($P$2:P1028)-P1028)","v":""}]
[1028,null,null,null,null,null,null,null,null,null,null,null,null,0,0,0,10000,{"$f":"IF(OR(MAX($P$2:P1029)-P1029=0,C1029=0),\"\",MAX($P$2:P1029)-P1029)","v":""}]
[1029,null,null,null,null,null,null,null,null,null,null,null,null,{"$f":"IF(B1030=1,I1030+J1030+K1030+L1030-M1030,0)","v":0},0,0,10000,{"$f":"IF(OR(MAX($P$2:P1030)-P1030=0,C1030=0),\"\",MAX($P$2:P1030)-P1030)","v":""}]
[1030,null,null,null,null,null,null,null,null,null,null,null,null,0,0,0,10000,{"$f":"IF(OR(MAX($P$2:P1031)-P1031=0,C1031=0),\"\",MAX($P$2:P1031)-P1031)","v":""}]
[1031,null,null,null,null,null,null,null,null,null,null,null,null,0,0,0,10000,{"$f":"IF(OR(MAX($P$2:P1032)-P1032=0,C1032=0),\"\",MAX($P$2:P1032)-P1032)","v":""}]
[1032,null,null,null,null,null,null,null,null,null,null,null,null,0,0,0,10000,{"$f":"IF(OR(MAX($P$2:P1033)-P1033=0,C1033=0),\"\",MAX($P$2:P1033)-P1033)","v":""}]
[1033,null,null,null,null,null,null,null,null,null,null,null,null,0,0,0,10000,{"$f":"IF(OR(MAX($P$2:P1034)-P1034=0,C1034=0),\"\",MAX($P$2:P1034)-P1034)","v":""}]
[1034,null,null,null,null,null,null,null,null,null,null,null,null,0,0,0,10000,{"$f":"IF(OR(MAX($P$2:P1035)-P1035=0,C1035=0),\"\",MAX($P$2:P1035)-P1035)","v":""}]
[1035,null,null,null,null,null,null,null,null,null,null,null,null,0,0,0,10000,{"$f":"IF(OR(MAX($P$2:P1036)-P1036=0,C1036=0),\"\",MAX($P$2:P1036)-P1036)","v":""}]
[1036,null,null,null,null,null,null,null,null,null,null,null,null,0,0,0,10000,{"$f":"IF(OR(MAX($P$2:P1037)-P1037=0,C1037=0),\"\",MAX($P$2:P1037)-P1037)","v":""}]
[1037,null,null,null,null,null,null,null,null,null,null,null,null,0,0,0,10000,{"$f":"IF(OR(MAX($P$2:P1038)-P1038=0,C1038=0),\"\",MAX($P$2:P1038)-P1038)","v":""}]
[1038,null,null,null,null,null,null,null,null,null,null,null,null,0,0,0,10000,{"$f":"IF(OR(MAX($P$2:P1039)-P1039=0,C1039=0),\"\",MAX($P$2:P1039)-P1039)","v":""}]
[1039,null,null,null,null,null,null,null,null,null,null,null,null,0,0,0,10000,{"$f":"IF(OR(MAX($P$2:P1040)-P1040=0,C1040=0),\"\",MAX($P$2:P1040)-P1040)","v":""}]
[1040,null,null,null,null,null,null,null,null,null,null,null,null,0,0,0,10000,{"$f":"IF(OR(MAX($P$2:P1041)-P1041=0,C1041=0),\"\",MAX($P$2:P1041)-P1041)","v":""}]
[1041,null,null,null,null,null,null,null,null,null,null,null,null,0,0,0,10000,{"$f":"IF(OR(MAX($P$2:P1042)-P1042=0,C1042=0),\"\",MAX($P$2:P1042)-P1042)","v":""}]
[1042,null,null,null,null,null,null,null,null,null,null,null,null,0,0,0,10000,{"$f":"IF(OR(MAX($P$2:P1043)-P1043=0,C1043=0),\"\",MAX($P$2:P1043)-P1043)","v":""}]
[1043,null,null,null,null,null,null,null,null,null,null,null,null,0,0,0,10000,{"$f":"IF(OR(MAX($P$2:P1044)-P1044=0,C1044=0),\"\",MAX($P$2:P1044)-P1044)","v":""}]
[1044,null,null,null,null,null,null,null,null,null,null,null,null,0,0,0,10000,{"$f":"IF(OR(MAX($P$2:P1045)-P1045=0,C1045=0),\"\",MAX($P$2:P1045)-P1045)","v":""}]
[1045,null,null,null,null,null,null,null,null,null,null,null,null,0,0,0,10000,{"$f":"IF(OR(MAX($P$2:P1046)-P1046=0,C1046=0),\"\",MAX($P$2:P1046)-P1046)","v":""}]
[1046,null,null,null,null,null,null,null,null,null,null,null,null,0,0,0,10000,{"$f":"IF(OR(MAX($P$2:P1047)-P1047=0,C1047=0),\"\",MAX($P$2:P1047)-P1047)","v":""}]
[1047,null,null,null,null,null,null,null,null,null,null,null,null,0,0,0,10000,{"$f":"IF(OR(MAX($P$2:P1048)-P1048=0,C1048=0),\"\",MAX($P$2:P1048)-P1048)","v":""}]
[1048,null,null,null,null,null,null,null,null,null,null,null,null,0,0,0,10000,{"$f":"IF(OR(MAX($P$2:P1049)-P1049=0,C1049=0),\"\",MAX($P$2:P1049)-P1049)","v":""}]
[1049,null,null,null,null,null,null,null,null,null,null,null,null,0,0,0,10000,{"$f":"IF(OR(MAX($P$2:P1050)-P1050=0,C1050=0),\"\",MAX($P$2:P1050)-P1050)","v":""}]
[1050,null,null,null,null,null,null,null,null,null,null,null,null,0,0,0,10000,{"$f":"IF(OR(MAX($P$2:P1051)-P1051=0,C1051=0),\"\",MAX($P$2:P1051)-P1051)","v":""}]
[1051,null,null,null,null,null,null,null,null,null,null,null,null,0,0,0,10000,{"$f":"IF(OR(MAX($P$2:P1052)-P1052=0,C1052=0),\"\",MAX($P$2:P1052)-P1052)","v":""}]
[1052,null,null,null,null,null,null,null,null,null,null,null,null,0,0,0,10000,{"$f":"IF(OR(MAX($P$2:P1053)-P1053=0,C1053=0),\"\",MAX($P$2:P1053)-P1053)","v":""}]
[1053,null,null,null,null,null,null,null,null,null,null,null,null,0,0,0,10000,{"$f":"IF(OR(MAX($P$2:P1054)-P1054=0,C1054=0),\"\",MAX($P$2:P1054)-P1054)","v":""}]
[1054,null,null,null,null,null,null,null,null,null,null,null,null,0,0,0,10000,{"$f":"IF(OR(MAX($P$2:P1055)-P1055=0,C1055=0),\"\",MAX($P$2:P1055)-P1055)","v":""}]
[1055,null,null,null,null,null,null,null,null,null,null,null,null,0,0,0,10000,{"$f":"IF(OR(MAX($P$2:P1056)-P1056=0,C1056=0),\"\",MAX($P$2:P1056)-P1056)","v":""}]
[1056,null,null,null,null,null,null,null,null,null,null,null,null,0,0,0,10000,{"$f":"IF(OR(MAX($P$2:P1057)-P1057=0,C1057=0),\"\",MAX($P$2:P1057)-P1057)","v":""}]
[1057,null,null,null,null,null,null,null,null,null,null,null,null,0,0,0,10000,{"$f":"IF(OR(MAX($P$2:P1058)-P1058=0,C1058=0),\"\",MAX($P$2:P1058)-P1058)","v":""}]
[1058,null,null,null,null,null,null,null,null,null,null,null,null,0,0,0,10000,{"$f":"IF(OR(MAX($P$2:P1059)-P1059=0,C1059=0),\"\",MAX($P$2:P1059)-P1059)","v":""}]
[1059,null,null,null,null,null,null,null,null,null,null,null,null,0,0,0,10000,{"$f":"IF(OR(MAX($P$2:P1060)-P1060=0,C1060=0),\"\",MAX($P$2:P1060)-P1060)","v":""}]
[1060,null,null,null,null,null,null,null,null,null,null,null,null,0,0,0,10000,{"$f":"IF(OR(MAX($P$2:P1061)-P1061=0,C1061=0),\"\",MAX($P$2:P1061)-P1061)","v":""}]
[1061,null,null,null,null,null,null,null,null,null,null,null,null,0,0,0,10000,{"$f":"IF(OR(MAX($P$2:P1062)-P1062=0,C1062=0),\"\",MAX($P$2:P1062)-P1062)","v":""}]
[1062,null,null,null,null,null,null,null,null,null,null,null,null,0,0,0,10000,{"$f":"IF(OR(MAX($P$2:P1063)-P1063=0,C1063=0),\"\",MAX($P$2:P1063)-P1063)","v":""}]
[1063,null,null,null,null,null,null,null,null,null,null,null,null,0,0,0,10000,{"$f":"IF(OR(MAX($P$2:P1064)-P1064=0,C1064=0),\"\",MAX($P$2:P1064)-P1064)","v":""}]
[1064,null,null,null,null,null,null,null,null,null,null,null,null,0,0,0,10000,{"$f":"IF(OR(MAX($P$2:P1065)-P1065=0,C1065=0),\"\",MAX($P$2:P1065)-P1065)","v":""}]
[1065,null,null,null,null,null,null,null,null,null,null,null,null,0,0,0,10000,{"$f":"IF(OR(MAX($P$2:P1066)-P1066=0,C1066=0),\"\",MAX($P$2:P1066)-P1066)","v":""}]
[1066,null,null,null,null,null,null,null,null,null,null,null,null,0,0,0,10000,{"$f":"IF(OR(MAX($P$2:P1067)-P1067=0,C1067=0),\"\",MAX($P$2:P1067)-P1067)","v":""}]
[1067,null,null,null,null,null,null,null,null,null,null,null,null,0,0,0,10000,{"$f":"IF(OR(MAX($P$2:P1068)-P1068=0,C1068=0),\"\",MAX($P$2:P1068)-P1068)","v":""}]
[1068,null,null,null,null,null,null,null,null,null,null,null,null,0,0,0,10000,{"$f":"IF(OR(MAX($P$2:P1069)-P1069=0,C1069=0),\"\",MAX($P$2:P1069)-P1069)","v":""}]
[1069,null,null,null,null,null,null,null,null,null,null,null,null,0,0,0,10000,{"$f":"IF(OR(MAX($P$2:P1070)-P1070=0,C1070=0),\"\",MAX($P$2:P1070)-P1070)","v":""}]
[1070,null,null,null,null,null,null,null,null,null,null,null,null,0,0,0,10000,{"$f":"IF(OR(MAX($P$2:P1071)-P1071=0,C1071=0),\"\",MAX($P$2:P1071)-P1071)","v":""}]
[1071,null,null,null,null,null,null,null,null,null,null,null,null,0,0,0,10000,{"$f":"IF(OR(MAX($P$2:P1072)-P1072=0,C1072=0),\"\",MAX($P$2:P1072)-P1072)","v":""}]
[1072,null,null,null,null,null,null,null,null,null,null,null,null,0,0,0,10000,{"$f":"IF(OR(MAX($P$2:P1073)-P1073=0,C1073=0),\"\",MAX($P$2:P1073)-P1073)","v":""}]
[1073,null,null,null,null,null,null,null,null,null,null,null,null,0,0,0,10000,{"$f":"IF(OR(MAX($P$2:P1074)-P1074=0,C1074=0),\"\",MAX($P$2:P1074)-P1074)","v":""}]
[1074,null,null,null,null,null,null,null,null,null,null,null,null,0,0,0,10000,{"$f":"IF(OR(MAX($P$2:P1075)-P1075=0,C1075=0),\"\",MAX($P$2:P1075)-P1075)","v":""}]
[1075,null,null,null,null,null,null,null,null,null,null,null,null,0,0,0,10000,{"$f":"IF(OR(MAX($P$2:P1076)-P1076=0,C1076=0),\"\",MAX($P$2:P1076)-P1076)","v":""}]
[1076,null,null,null,null,null,null,null,null,null,null,null,null,0,0,0,10000,{"$f":"IF(OR(MAX($P$2:P1077)-P1077=0,C1077=0),\"\",MAX($P$2:P1077)-P1077)","v":""}]
[1077,null,null,null,null,null,null,null,null,null,null,null,null,0,0,0,10000,{"$f":"IF(OR(MAX($P$2:P1078)-P1078=0,C1078=0),\"\",MAX($P$2:P1078)-P1078)","v":""}]
[1078,null,null,null,null,null,null,null,null,null,null,null,null,0,0,0,10000,{"$f":"IF(OR(MAX($P$2:P1079)-P1079=0,C1079=0),\"\",MAX($P$2:P1079)-P1079)","v":""}]
[1079,null,null,null,null,null,null,null,null,null,null,null,null,0,0,0,10000,{"$f":"IF(OR(MAX($P$2:P1080)-P1080=0,C1080=0),\"\",MAX($P$2:P1080)-P1080)","v":""}]
[1080,null,null,null,null,null,null,null,null,null,null,null,null,0,0,0,10000,{"$f":"IF(OR(MAX($P$2:P1081)-P1081=0,C1081=0),\"\",MAX($P$2:P1081)-P1081)","v":""}]
[1081,null,null,null,null,null,null,null,null,null,null,null,null,0,0,0,10000,{"$f":"IF(OR(MAX($P$2:P1082)-P1082=0,C1082=0),\"\",MAX($P$2:P1082)-P1082)","v":""}]
[1082,null,null,null,null,null,null,null,null,null,null,null,null,0,0,0,10000,{"$f":"IF(OR(MAX($P$2:P1083)-P1083=0,C1083=0),\"\",MAX($P$2:P1083)-P1083)","v":""}]
[1083,null,null,null,null,null,null,null,null,null,null,null,null,0,0,0,10000,{"$f":"IF(OR(MAX($P$2:P1084)-P1084=0,C1084=0),\"\",MAX($P$2:P1084)-P1084)","v":""}]
[1084,null,null,null,null,null,null,null,null,null,null,null,null,0,0,0,10000,{"$f":"IF(OR(MAX($P$2:P1085)-P1085=0,C1085=0),\"\",MAX($P$2:P1085)-P1085)","v":""}]
[1085,null,null,null,null,null,null,null,null,null,null,null,null,0,0,0,10000,{"$f":"IF(OR(MAX($P$2:P1086)-P1086=0,C1086=0),\"\",MAX($P$2:P1086)-P1086)","v":""}]
[1086,null,null,null,null,null,null,null,null,null,null,null,null,0,0,0,10000,{"$f":"IF(OR(MAX($P$2:P1087)-P1087=0,C1087=0),\"\",MAX($P$2:P1087)-P1087)","v":""}]
[1087,null,null,null,null,null,null,null,null,null,null,null,null,0,0,0,10000,{"$f":"IF(OR(MAX($P$2:P1088)-P1088=0,C1088=0),\"\",MAX($P$2:P1088)-P1088)","v":""}]
[1088,null,null,null,null,null,null,null,null,null,null,null,null,0,0,0,10000,{"$f":"IF(OR(MAX($P$2:P1089)-P1089=0,C1089=0),\"\",MAX($P$2:P1089)-P1089)","v":""}]
[1089,null,null,null,null,null,null,null,null,null,null,null,null,0,0,0,10000,{"$f":"IF(OR(MAX($P$2:P1090)-P1090=0,C1090=0),\"\",MAX($P$2:P1090)-P1090)","v":""}]
[1090,null,null,null,null,null,null,null,null,null,null,null,null,0,0,0,10000,{"$f":"IF(OR(MAX($P$2:P1091)-P1091=0,C1091=0),\"\",MAX($P$2:P1091)-P1091)","v":""}]
[1091,null,null,null,null,null,null,null,null,null,null,null,null,0,0,{"$f":"P1091+N1092-O1092","v":0},{"$f":"Q1091+N1092-O1092","v":10000},{"$f":"IF(OR(MAX($P$2:P1092)-P1092=0,C1092=0),\"\",MAX($P$2:P1092)-P1092)","v":""}]
[1092,null,null,null,null,null,null,null,null,null,null,null,null,0,0,0,10000,{"$f":"IF(OR(MAX($P$2:P1093)-P1093=0,C1093=0),\"\",MAX($P$2:P1093)-P1093)","v":""}]
[1093,null,null,null,null,null,null,null,null,null,null,null,null,{"$f":"IF(B1094=1,I1094+J1094+K1094+L1094-M1094,0)","v":0},0,0,10000,{"$f":"IF(OR(MAX($P$2:P1094)-P1094=0,C1094=0),\"\",MAX($P$2:P1094)-P1094)","v":""}]
[1094,null,null,null,null,null,null,null,null,null,null,null,null,0,0,0,10000,{"$f":"IF(OR(MAX($P$2:P1095)-P1095=0,C1095=0),\"\",MAX($P$2:P1095)-P1095)","v":""}]
[1095,null,null,null,null,null,null,null,null,null,null,null,null,0,0,0,10000,{"$f":"IF(OR(MAX($P$2:P1096)-P1096=0,C1096=0),\"\",MAX($P$2:P1096)-P1096)","v":""}]
[1096,null,null,null,null,null,null,null,null,null,null,null,null,0,0,0,10000,{"$f":"IF(OR(MAX($P$2:P1097)-P1097=0,C1097=0),\"\",MAX($P$2:P1097)-P1097)","v":""}]
[1097,null,null,null,null,null,null,null,null,null,null,null,null,0,0,0,10000,{"$f":"IF(OR(MAX($P$2:P1098)-P1098=0,C1098=0),\"\",MAX($P$2:P1098)-P1098)","v":""}]
[1098,null,null,null,null,null,null,null,null,null,null,null,null,0,0,0,10000,{"$f":"IF(OR(MAX($P$2:P1099)-P1099=0,C1099=0),\"\",MAX($P$2:P1099)-P1099)","v":""}]
[1099,null,null,null,null,null,null,null,null,null,null,null,null,0,0,0,10000,{"$f":"IF(OR(MAX($P$2:P1100)-P1100=0,C1100=0),\"\",MAX($P$2:P1100)-P1100)","v":""}]
[1100,null,null,null,null,null,null,null,null,null,null,null,null,0,0,0,10000,{"$f":"IF(OR(MAX($P$2:P1101)-P1101=0,C1101=0),\"\",MAX($P$2:P1101)-P1101)","v":""}]
[1101,null,null,null,null,null,null,null,null,null,null,null,null,0,0,0,10000,{"$f":"IF(OR(MAX($P$2:P1102)-P1102=0,C1102=0),\"\",MAX($P$2:P1102)-P1102)","v":""}]
[1102,null,null,null,null,null,null,null,null,null,null,null,null,0,0,0,10000,{"$f":"IF(OR(MAX($P$2:P1103)-P1103=0,C1103=0),\"\",MAX($P$2:P1103)-P1103)","v":""}]
[1103,null,null,null,null,null,null,null,null,null,null,null,null,0,0,0,10000,{"$f":"IF(OR(MAX($P$2:P1104)-P1104=0,C1104=0),\"\",MAX($P$2:P1104)-P1104)","v":""}]
[1104,null,null,null,null,null,null,null,null,null,null,null,null,0,0,0,10000,{"$f":"IF(OR(MAX($P$2:P1105)-P1105=0,C1105=0),\"\",MAX($P$2:P1105)-P1105)","v":""}]
[1105,null,null,null,null,null,null,null,null,null,null,null,null,0,0,0,10000,{"$f":"IF(OR(MAX($P$2:P1106)-P1106=0,C1106=0),\"\",MAX($P$2:P1106)-P1106)","v":""}]
[1106,null,null,null,null,null,null,null,null,null,null,null,null,0,0,0,10000,{"$f":"IF(OR(MAX($P$2:P1107)-P1107=0,C1107=0),\"\",MAX($P$2:P1107)-P1107)","v":""}]
[1107,null,null,null,null,null,null,null,null,null,null,null,null,0,0,0,10000,{"$f":"IF(OR(MAX($P$2:P1108)-P1108=0,C1108=0),\"\",MAX($P$2:P1108)-P1108)","v":""}]
[1108,null,null,null,null,null,null,null,null,null,null,null,null,0,0,0,10000,{"$f":"IF(OR(MAX($P$2:P1109)-P1109=0,C1109=0),\"\",MAX($P$2:P1109)-P1109)","v":""}]
[1109,null,null,null,null,null,null,null,null,null,null,null,null,0,0,0,10000,{"$f":"IF(OR(MAX($P$2:P1110)-P1110=0,C1110=0),\"\",MAX($P$2:P1110)-P1110)","v":""}]
[1110,null,null,null,null,null,null,null,null,null,null,null,null,0,0,0,10000,{"$f":"IF(OR(MAX($P$2:P1111)-P1111=0,C1111=0),\"\",MAX($P$2:P1111)-P1111)","v":""}]
[1111,null,null,null,null,null,null,null,null,null,null,null,null,0,0,0,10000,{"$f":"IF(OR(MAX($P$2:P1112)-P1112=0,C1112=0),\"\",MAX($P$2:P1112)-P1112)","v":""}]
[1112,null,null,null,null,null,null,null,null,null,null,null,null,0,0,0,10000,{"$f":"IF(OR(MAX($P$2:P1113)-P1113=0,C1113=0),\"\",MAX($P$2:P1113)-P1113)","v":""}]
[1113,null,null,null,null,null,null,null,null,null,null,null,null,0,0,0,10000,{"$f":"IF(OR(MAX($P$2:P1114)-P1114=0,C1114=0),\"\",MAX($P$2:P1114)-P1114)","v":""}]
[1114,null,null,null,null,null,null,null,null,null,null,null,null,0,0,0,10000,{"$f":"IF(OR(MAX($P$2:P1115)-P1115=0,C1115=0),\"\",MAX($P$2:P1115)-P1115)","v":""}]
[1115,null,null,null,null,null,null,null,null,null,null,null,null,0,0,0,10000,{"$f":"IF(OR(MAX($P$2:P1116)-P1116=0,C1116=0),\"\",MAX($P$2:P1116)-P1116)","v":""}]
[1116,null,null,null,null,null,null,null,null,null,null,null,null,0,0,0,10000,{"$f":"IF(OR(MAX($P$2:P1117)-P1117=0,C1117=0),\"\",MAX($P$2:P1117)-P1117)","v":""}]
[1117,null,null,null,null,null,null,null,null,null,null,null,null,0,0,0,10000,{"$f":"IF(OR(MAX($P$2:P1118)-P1118=0,C1118=0),\"\",MAX($P$2:P1118)-P1118)","v":""}]
[1118,null,null,null,null,null,null,null,null,null,null,null,null,0,0,0,10000,{"$f":"IF(OR(MAX($P$2:P1119)-P1119=0,C1119=0),\"\",MAX($P$2:P1119)-P1119)","v":""}]
[1119,null,null,null,null,null,null,null,null,null,null,null,null,0,0,0,10000,{"$f":"IF(OR(MAX($P$2:P1120)-P1120=0,C1120=0),\"\",MAX($P$2:P1120)-P1120)","v":""}]
[1120,null,null,null,null,null,null,null,null,null,null,null,null,0,0,0,10000,{"$f":"IF(OR(MAX($P$2:P1121)-P1121=0,C1121=0),\"\",MAX($P$2:P1121)-P1121)","v":""}]
[1121,null,null,null,null,null,null,null,null,null,null,null,null,0,0,0,10000,{"$f":"IF(OR(MAX($P$2:P1122)-P1122=0,C1122=0),\"\",MAX($P$2:P1122)-P1122)","v":""}]
[1122,null,null,null,null,null,null,null,null,null,null,null,null,0,0,0,10000,{"$f":"IF(OR(MAX($P$2:P1123)-P1123=0,C1123=0),\"\",MAX($P$2:P1123)-P1123)","v":""}]
[1123,null,null,null,null,null,null,null,null,null,null,null,null,0,0,0,10000,{"$f":"IF(OR(MAX($P$2:P1124)-P1124=0,C1124=0),\"\",MAX($P$2:P1124)-P1124)","v":""}]
[1124,null,null,null,null,null,null,null,null,null,null,null,null,0,0,0,10000,{"$f":"IF(OR(MAX($P$2:P1125)-P1125=0,C1125=0),\"\",MAX($P$2:P1125)-P1125)","v":""}]
[1125,null,null,null,null,null,null,null,null,null,null,null,null,0,0,0,10000,{"$f":"IF(OR(MAX($P$2:P1126)-P1126=0,C1126=0),\"\",MAX($P$2:P1126)-P1126)","v":""}]
[1126,null,null,null,null,null,null,null,null,null,null,null,null,0,0,0,10000,{"$f":"IF(OR(MAX($P$2:P1127)-P1127=0,C1127=0),\"\",MAX($P$2:P1127)-P1127)","v":""}]
[1127,null,null,null,null,null,null,null,null,null,null,null,null,0,0,0,10000,{"$f":"IF(OR(MAX($P$2:P1128)-P1128=0,C1128=0),\"\",MAX($P$2:P1128)-P1128)","v":""}]
[1128,null,null,null,null,null,null,null,null,null,null,null,null,0,0,0,10000,{"$f":"IF(OR(MAX($P$2:P1129)-P1129=0,C1129=0),\"\",MAX($P$2:P1129)-P1129)","v":""}]
[1129,null,null,null,null,null,null,null,null,null,null,null,null,0,0,0,10000,{"$f":"IF(OR(MAX($P$2:P1130)-P1130=0,C1130=0),\"\",MAX($P$2:P1130)-P1130)","v":""}]
[1130,null,null,null,null,null,null,null,null,null,null,null,null,0,0,0,10000,{"$f":"IF(OR(MAX($P$2:P1131)-P1131=0,C1131=0),\"\",MAX($P$2:P1131)-P1131)","v":""}]
[1131,null,null,null,null,null,null,null,null,null,null,null,null,0,0,0,10000,{"$f":"IF(OR(MAX($P$2:P1132)-P1132=0,C1132=0),\"\",MAX($P$2:P1132)-P1132)","v":""}]
[1132,null,null,null,null,null,null,null,null,null,null,null,null,0,0,0,10000,{"$f":"IF(OR(MAX($P$2:P1133)-P1133=0,C1133=0),\"\",MAX($P$2:P1133)-P1133)","v":""}]
[1133,null,null,null,null,null,null,null,null,null,null,null,null,0,0,0,10000,{"$f":"IF(OR(MAX($P$2:P1134)-P1134=0,C1134=0),\"\",MAX($P$2:P1134)-P1134)","v":""}]
[1134,null,null,null,null,null,null,null,null,null,null,null,null,0,0,0,10000,{"$f":"IF(OR(MAX($P$2:P1135)-P1135=0,C1135=0),\"\",MAX($P$2:P1135)-P1135)","v":""}]
[1135,null,null,null,null,null,null,null,null,null,null,null,null,0,0,0,10000,{"$f":"IF(OR(MAX($P$2:P1136)-P1136=0,C1136=0),\"\",MAX($P$2:P1136)-P1136)","v":""}]
[1136,null,null,null,null,null,null,null,null,null,null,null,null,0,0,0,10000,{"$f":"IF(OR(MAX($P$2:P1137)-P1137=0,C1137=0),\"\",MAX($P$2:P1137)-P1137)","v":""}]
[1137,null,null,null,null,null,null,null,null,null,null,null,null,0,0,0,10000,{"$f":"IF(OR(MAX($P$2:P1138)-P1138=0,C1138=0),\"\",MAX($P$2:P1138)-P1138)","v":""}]
[1138,null,null,null,null,null,null,null,null,null,null,null,null,0,0,0,10000,{"$f":"IF(OR(MAX($P$2:P1139)-P1139=0,C1139=0),\"\",MAX($P$2:P1139)-P1139)","v":""}]
[1139,null,null,null,null,null,null,null,null,null,null,null,null,0,0,0,10000,{"$f":"IF(OR(MAX($P$2:P1140)-P1140=0,C1140=0),\"\",MAX($P$2:P1140)-P1140)","v":""}]
[1140,null,null,null,null,null,null,null,null,null,null,null,null,0,0,0,10000,{"$f":"IF(OR(MAX($P$2:P1141)-P1141=0,C1141=0),\"\",MAX($P$2:P1141)-P1141)","v":""}]
[1141,null,null,null,null,null,null,null,null,null,null,null,null,0,0,0,10000,{"$f":"IF(OR(MAX($P$2:P1142)-P1142=0,C1142=0),\"\",MAX($P$2:P1142)-P1142)","v":""}]
[1142,null,null,null,null,null,null,null,null,null,null,null,null,0,0,0,10000,{"$f":"IF(OR(MAX($P$2:P1143)-P1143=0,C1143=0),\"\",MAX($P$2:P1143)-P1143)","v":""}]
[1143,null,null,null,null,null,null,null,null,null,null,null,null,0,0,0,10000,{"$f":"IF(OR(MAX($P$2:P1144)-P1144=0,C1144=0),\"\",MAX($P$2:P1144)-P1144)","v":""}]
[1144,null,null,null,null,null,null,null,null,null,null,null,null,0,0,0,10000,{"$f":"IF(OR(MAX($P$2:P1145)-P1145=0,C1145=0),\"\",MAX($P$2:P1145)-P1145)","v":""}]
[1145,null,null,null,null,null,null,null,null,null,null,null,null,0,0,0,10000,{"$f":"IF(OR(MAX($P$2:P1146)-P1146=0,C1146=0),\"\",MAX($P$2:P1146)-P1146)","v":""}]
[1146,null,null,null,null,null,null,null,null,null,null,null,null,0,0,0,10000,{"$f":"IF(OR(MAX($P$2:P1147)-P1147=0,C1147=0),\"\",MAX($P$2:P1147)-P1147)","v":""}]
[1147,null,null,null,null,null,null,null,null,null,null,null,null,0,0,0,10000,{"$f":"IF(OR(MAX($P$2:P1148)-P1148=0,C1148=0),\"\",MAX($P$2:P1148)-P1148)","v":""}]
[1148,null,null,null,null,null,null,null,null,null,null,null,null,0,0,0,10000,{"$f":"IF(OR(MAX($P$2:P1149)-P1149=0,C1149=0),\"\",MAX($P$2:P1149)-P1149)","v":""}]
[1149,null,null,null,null,null,null,null,null,null,null,null,null,0,0,0,10000,{"$f":"IF(OR(MAX($P$2:P1150)-P1150=0,C1150=0),\"\",MAX($P$2:P1150)-P1150)","v":""}]
[1150,null,null,null,null,null,null,null,null,null,null,null,null,0,0,0,10000,{"$f":"IF(OR(MAX($P$2:P1151)-P1151=0,C1151=0),\"\",MAX($P$2:P1151)-P1151)","v":""}]
[1151,null,null,null,null,null,null,null,null,null,null,null,null,0,0,0,10000,{"$f":"IF(OR(MAX($P$2:P1152)-P1152=0,C1152=0),\"\",MAX($P$2:P1152)-P1152)","v":""}]
[1152,null,null,null,null,null,null,null,null,null,null,null,null,0,0,0,10000,{"$f":"IF(OR(MAX($P$2:P1153)-P1153=0,C1153=0),\"\",MAX($P$2:P1153)-P1153)","v":""}]
[1153,null,null,null,null,null,null,null,null,null,null,null,null,0,0,0,10000,{"$f":"IF(OR(MAX($P$2:P1154)-P1154=0,C1154=0),\"\",MAX($P$2:P1154)-P1154)","v":""}]
[1154,null,null,null,null,null,null,null,null,null,null,null,null,0,0,0,10000,{"$f":"IF(OR(MAX($P$2:P1155)-P1155=0,C1155=0),\"\",MAX($P$2:P1155)-P1155)","v":""}]
[1155,null,null,null,null,null,null,null,null,null,null,null,null,0,0,{"$f":"P1155+N1156-O1156","v":0},{"$f":"Q1155+N1156-O1156","v":10000},{"$f":"IF(OR(MAX($P$2:P1156)-P1156=0,C1156=0),\"\",MAX($P$2:P1156)-P1156)","v":""}]
[1156,null,null,null,null,null,null,null,null,null,null,null,null,0,0,0,10000,{"$f":"IF(OR(MAX($P$2:P1157)-P1157=0,C1157=0),\"\",MAX($P$2:P1157)-P1157)","v":""}]
[1157,null,null,null,null,null,null,null,null,null,null,null,null,{"$f":"IF(B1158=1,I1158+J1158+K1158+L1158-M1158,0)","v":0},0,0,10000,{"$f":"IF(OR(MAX($P$2:P1158)-P1158=0,C1158=0),\"\",MAX($P$2:P1158)-P1158)","v":""}]
[1158,null,null,null,null,null,null,null,null,null,null,null,null,0,0,0,10000,{"$f":"IF(OR(MAX($P$2:P1159)-P1159=0,C1159=0),\"\",MAX($P$2:P1159)-P1159)","v":""}]
[1159,null,null,null,null,null,null,null,null,null,null,null,null,0,0,0,10000,{"$f":"IF(OR(MAX($P$2:P1160)-P1160=0,C1160=0),\"\",MAX($P$2:P1160)-P1160)","v":""}]
[1160,null,null,null,null,null,null,null,null,null,null,null,null,0,0,0,10000,{"$f":"IF(OR(MAX($P$2:P1161)-P1161=0,C1161=0),\"\",MAX($P$2:P1161)-P1161)","v":""}]
[1161,null,null,null,null,null,null,null,null,null,null,null,null,0,0,0,10000,{"$f":"IF(OR(MAX($P$2:P1162)-P1162=0,C1162=0),\"\",MAX($P$2:P1162)-P1162)","v":""}]
[1162,null,null,null,null,null,null,null,null,null,null,null,null,0,0,0,10000,{"$f":"IF(OR(MAX($P$2:P1163)-P1163=0,C1163=0),\"\",MAX($P$2:P1163)-P1163)","v":""}]
[1163,null,null,null,null,null,null,null,null,null,null,null,null,0,0,0,10000,{"$f":"IF(OR(MAX($P$2:P1164)-P1164=0,C1164=0),\"\",MAX($P$2:P1164)-P1164)","v":""}]
[1164,null,null,null,null,null,null,null,null,null,null,null,null,0,0,0,10000,{"$f":"IF(OR(MAX($P$2:P1165)-P1165=0,C1165=0),\"\",MAX($P$2:P1165)-P1165)","v":""}]
[1165,null,null,null,null,null,null,null,null,null,null,null,null,0,0,0,10000,{"$f":"IF(OR(MAX($P$2:P1166)-P1166=0,C1166=0),\"\",MAX($P$2:P1166)-P1166)","v":""}]
[1166,null,null,null,null,null,null,null,null,null,null,null,null,0,0,0,10000,{"$f":"IF(OR(MAX($P$2:P1167)-P1167=0,C1167=0),\"\",MAX($P$2:P1167)-P1167)","v":""}]
[1167,null,null,null,null,null,null,null,null,null,null,null,null,0,0,0,10000,{"$f":"IF(OR(MAX($P$2:P1168)-P1168=0,C1168=0),\"\",MAX($P$2:P1168)-P1168)","v":""}]
[1168,null,null,null,null,null,null,null,null,null,null,null,null,0,0,0,10000,{"$f":"IF(OR(MAX($P$2:P1169)-P1169=0,C1169=0),\"\",MAX($P$2:P1169)-P1169)","v":""}]
[1169,null,null,null,null,null,null,null,null,null,null,null,null,0,0,0,10000,{"$f":"IF(OR(MAX($P$2:P1170)-P1170=0,C1170=0),\"\",MAX($P$2:P1170)-P1170)","v":""}]
[1170,null,null,null,null,null,null,null,null,null,null,null,null,0,0,0,10000,{"$f":"IF(OR(MAX($P$2:P1171)-P1171=0,C1171=0),\"\",MAX($P$2:P1171)-P1171)","v":""}]
[1171,null,null,null,null,null,null,null,null,null,null,null,null,0,0,0,10000,{"$f":"IF(OR(MAX($P$2:P1172)-P1172=0,C1172=0),\"\",MAX($P$2:P1172)-P1172)","v":""}]
[1172,null,null,null,null,null,null,null,null,null,null,null,null,0,0,0,10000,{"$f":"IF(OR(MAX($P$2:P1173)-P1173=0,C1173=0),\"\",MAX($P$2:P1173)-P1173)","v":""}]
[1173,null,null,null,null,null,null,null,null,null,null,null,null,0,0,0,10000,{"$f":"IF(OR(MAX($P$2:P1174)-P1174=0,C1174=0),\"\",MAX($P$2:P1174)-P1174)","v":""}]
[1174,null,null,null,null,null,null,null,null,null,null,null,null,0,0,0,10000,{"$f":"IF(OR(MAX($P$2:P1175)-P1175=0,C1175=0),\"\",MAX($P$2:P1175)-P1175)","v":""}]
[1175,null,null,null,null,null,null,null,null,null,null,null,null,0,0,0,10000,{"$f":"IF(OR(MAX($P$2:P1176)-P1176=0,C1176=0),\"\",MAX($P$2:P1176)-P1176)","v":""}]
[1176,null,null,null,null,null,null,null,null,null,null,null,null,0,0,0,10000,{"$f":"IF(OR(MAX($P$2:P1177)-P1177=0,C1177=0),\"\",MAX($P$2:P1177)-P1177)","v":""}]
[1177,null,null,null,null,null,null,null,null,null,null,null,null,0,0,0,10000,{"$f":"IF(OR(MAX($P$2:P1178)-P1178=0,C1178=0),\"\",MAX($P$2:P1178)-P1178)","v":""}]
[1178,null,null,null,null,null,null,null,null,null,null,null,null,0,0,0,10000,{"$f":"IF(OR(MAX($P$2:P1179)-P1179=0,C1179=0),\"\",MAX($P$2:P1179)-P1179)","v":""}]
[1179,null,null,null,null,null,null,null,null,null,null,null,null,0,0,0,10000,{"$f":"IF(OR(MAX($P$2:P1180)-P1180=0,C1180=0),\"\",MAX($P$2:P1180)-P1180)","v":""}]
[1180,null,null,null,null,null,null,null,null,null,null,null,null,0,0,0,10000,{"$f":"IF(OR(MAX($P$2:P1181)-P1181=0,C1181=0),\"\",MAX($P$2:P1181)-P1181)","v":""}]
[1181,null,null,null,null,null,null,null,null,null,null,null,null,0,0,0,10000,{"$f":"IF(OR(MAX($P$2:P1182)-P1182=0,C1182=0),\"\",MAX($P$2:P1182)-P1182)","v":""}]
[1182,null,null,null,null,null,null,null,null,null,null,null,null,0,0,0,10000,{"$f":"IF(OR(MAX($P$2:P1183)-P1183=0,C1183=0),\"\",MAX($P$2:P1183)-P1183)","v":""}]
[1183,null,null,null,null,null,null,null,null,null,null,null,null,0,0,0,10000,{"$f":"IF(OR(MAX($P$2:P1184)-P1184=0,C1184=0),\"\",MAX($P$2:P1184)-P1184)","v":""}]
[1184,null,null,null,null,null,null,null,null,null,null,null,null,0,0,0,10000,{"$f":"IF(OR(MAX($P$2:P1185)-P1185=0,C1185=0),\"\",MAX($P$2:P1185)-P1185)","v":""}]
[1185,null,null,null,null,null,null,null,null,null,null,null,null,0,0,0,10000,{"$f":"IF(OR(MAX($P$2:P1186)-P1186=0,C1186=0),\"\",MAX($P$2:P1186)-P1186)","v":""}]
[1186,null,null,null,null,null,null,null,null,null,null,null,null,0,0,0,10000,{"$f":"IF(OR(MAX($P$2:P1187)-P1187=0,C1187=0),\"\",MAX($P$2:P1187)-P1187)","v":""}]
[1187,null,null,null,null,null,null,null,null,null,null,null,null,0,0,0,10000,{"$f":"IF(OR(MAX($P$2:P1188)-P1188=0,C1188=0),\"\",MAX($P$2:P1188)-P1188)","v":""}]
[1188,null,null,null,null,null,null,null,null,null,null,null,null,0,0,0,10000,{"$f":"IF(OR(MAX($P$2:P1189)-P1189=0,C1189=0),\"\",MAX($P$2:P1189)-P1189)","v":""}]
[1189,null,null,null,null,null,null,null,null,null,null,null,null,0,0,0,10000,{"$f":"IF(OR(MAX($P$2:P1190)-P1190=0,C1190=0),\"\",MAX($P$2:P1190)-P1190)","v":""}]
[1190,null,null,null,null,null,null,null,null,null,null,null,null,0,0,0,10000,{"$f":"IF(OR(MAX($P$2:P1191)-P1191=0,C1191=0),\"\",MAX($P$2:P1191)-P1191)","v":""}]
[1191,null,null,null,null,null,null,null,null,null,null,null,null,0,0,0,10000,{"$f":"IF(OR(MAX($P$2:P1192)-P1192=0,C1192=0),\"\",MAX($P$2:P1192)-P1192)","v":""}]
[1192,null,null,null,null,null,null,null,null,null,null,null,null,0,0,0,10000,{"$f":"IF(OR(MAX($P$2:P1193)-P1193=0,C1193=0),\"\",MAX($P$2:P1193)-P1193)","v":""}]
[1193,null,null,null,null,null,null,null,null,null,null,null,null,0,0,0,10000,{"$f":"IF(OR(MAX($P$2:P1194)-P1194=0,C1194=0),\"\",MAX($P$2:P1194)-P1194)","v":""}]
[1194,null,null,null,null,null,null,null,null,null,null,null,null,0,0,0,10000,{"$f":"IF(OR(MAX($P$2:P1195)-P1195=0,C1195=0),\"\",MAX($P$2:P1195)-P1195)","v":""}]
[1195,null,null,null,null,null,null,null,null,null,null,null,null,0,0,0,10000,{"$f":"IF(OR(MAX($P$2:P1196)-P1196=0,C1196=0),\"\",MAX($P$2:P1196)-P1196)","v":""}]
[1196,null,null,null,null,null,null,null,null,null,null,null,null,0,0,0,10000,{"$f":"IF(OR(MAX($P$2:P1197)-P1197=0,C1197=0),\"\",MAX($P$2:P1197)-P1197)","v":""}]
[1197,null,null,null,null,null,null,null,null,null,null,null,null,0,0,0,10000,{"$f":"IF(OR(MAX($P$2:P1198)-P1198=0,C1198=0),\"\",MAX($P$2:P1198)-P1198)","v":""}]
[1198,null,null,null,null,null,null,null,null,null,null,null,null,0,0,0,10000,{"$f":"IF(OR(MAX($P$2:P1199)-P1199=0,C1199=0),\"\",MAX($P$2:P1199)-P1199)","v":""}]
[1199,null,null,null,null,null,null,null,null,null,null,null,null,0,0,0,10000,{"$f":"IF(OR(MAX($P$2:P1200)-P1200=0,C1200=0),\"\",MAX($P$2:P1200)-P1200)","v":""}]
[1200,null,null,null,null,null,null,null,null,null,null,null,null,0,0,0,10000,{"$f":"IF(OR(MAX($P$2:P1201)-P1201=0,C1201=0),\"\",MAX($P$2:P1201)-P1201)","v":""}]
[1201,null,null,null,null,null,null,null,null,null,null,null,null,0,0,0,10000,{"$f":"IF(OR(MAX($P$2:P1202)-P1202=0,C1202=0),\"\",MAX($P$2:P1202)-P1202)","v":""}]
[1202,null,null,null,null,null,null,null,null,null,null,null,null,0,0,0,10000,{"$f":"IF(OR(MAX($P$2:P1203)-P1203=0,C1203=0),\"\",MAX($P$2:P1203)-P1203)","v":""}]
[1203,null,null,null,null,null,null,null,null,null,null,null,null,0,0,0,10000,{"$f":"IF(OR(MAX($P$2:P1204)-P1204=0,C1204=0),\"\",MAX($P$2:P1204)-P1204)","v":""}]
[1204,null,null,null,null,null,null,null,null,null,null,null,null,0,0,0,10000,{"$f":"IF(OR(MAX($P$2:P1205)-P1205=0,C1205=0),\"\",MAX($P$2:P1205)-P1205)","v":""}]
[1205,null,null,null,null,null,null,null,null,null,null,null,null,0,0,0,10000,{"$f":"IF(OR(MAX($P$2:P1206)-P1206=0,C1206=0),\"\",MAX($P$2:P1206)-P1206)","v":""}]
[1206,null,null,null,null,null,null,null,null,null,null,null,null,0,0,0,10000,{"$f":"IF(OR(MAX($P$2:P1207)-P1207=0,C1207=0),\"\",MAX($P$2:P1207)-P1207)","v":""}]
[1207,null,null,null,null,null,null,null,null,null,null,null,null,0,0,0,10000,{"$f":"IF(OR(MAX($P$2:P1208)-P1208=0,C1208=0),\"\",MAX($P$2:P1208)-P1208)","v":""}]
[1208,null,null,null,null,null,null,null,null,null,null,null,null,0,0,0,10000,{"$f":"IF(OR(MAX($P$2:P1209)-P1209=0,C1209=0),\"\",MAX($P$2:P1209)-P1209)","v":""}]
[1209,null,null,null,null,null,null,null,null,null,null,null,null,0,0,0,10000,{"$f":"IF(OR(MAX($P$2:P1210)-P1210=0,C1210=0),\"\",MAX($P$2:P1210)-P1210)","v":""}]
[1210,null,null,null,null,null,null,null,null,null,null,null,null,0,0,0,10000,{"$f":"IF(OR(MAX($P$2:P1211)-P1211=0,C1211=0),\"\",MAX($P$2:P1211)-P1211)","v":""}]
[1211,null,null,null,null,null,null,null,null,null,null,null,null,0,0,0,10000,{"$f":"IF(OR(MAX($P$2:P1212)-P1212=0,C1212=0),\"\",MAX($P$2:P1212)-P1212)","v":""}]
[1212,null,null,null,null,null,null,null,null,null,null,null,null,0,0,0,10000,{"$f":"IF(OR(MAX($P$2:P1213)-P1213=0,C1213=0),\"\",MAX($P$2:P1213)-P1213)","v":""}]
[1213,null,null,null,null,null,null,null,null,null,null,null,null,0,0,0,10000,{"$f":"IF(OR(MAX($P$2:P1214)-P1214=0,C1214=0),\"\",MAX($P$2:P1214)-P1214)","v":""}]
[1214,null,null,null,null,null,null,null,null,null,null,null,null,0,0,0,10000,{"$f":"IF(OR(MAX($P$2:P1215)-P1215=0,C1215=0),\"\",MAX($P$2:P1215)-P1215)","v":""}]
[1215,null,null,null,null,null,null,null,null,null,null,null,null,0,0,0,10000,{"$f":"IF(OR(MAX($P$2:P1216)-P1216=0,C1216=0),\"\",MAX($P$2:P1216)-P1216)","v":""}]
[1216,null,null,null,null,null,null,null,null,null,null,null,null,0,0,0,10000,{"$f":"IF(OR(MAX($P$2:P1217)-P1217=0,C1217=0),\"\",MAX($P$2:P1217)-P1217)","v":""}]
[1217,null,null,null,null,null,null,null,null,null,null,null,null,0,0,0,10000,{"$f":"IF(OR(MAX($P$2:P1218)-P1218=0,C1218=0),\"\",MAX($P$2:P1218)-P1218)","v":""}]
[1218,null,null,null,null,null,null,null,null,null,null,null,null,0,0,0,10000,{"$f":"IF(OR(MAX($P$2:P1219)-P1219=0,C1219=0),\"\",MAX($P$2:P1219)-P1219)","v":""}]
[1219,null,null,null,null,null,null,null,null,null,null,null,null,0,0,{"$f":"P1219+N1220-O1220","v":0},{"$f":"Q1219+N1220-O1220","v":10000},{"$f":"IF(OR(MAX($P$2:P1220)-P1220=0,C1220=0),\"\",MAX($P$2:P1220)-P1220)","v":""}]
[1220,null,null,null,null,null,null,null,null,null,null,null,null,0,0,0,10000,{"$f":"IF(OR(MAX($P$2:P1221)-P1221=0,C1221=0),\"\",MAX($P$2:P1221)-P1221)","v":""}]
[1221,null,null,null,null,null,null,null,null,null,null,null,null,{"$f":"IF(B1222=1,I1222+J1222+K1222+L1222-M1222,0)","v":0},0,0,10000,{"$f":"IF(OR(MAX($P$2:P1222)-P1222=0,C1222=0),\"\",MAX($P$2:P1222)-P1222)","v":""}]
[1222,null,null,null,null,null,null,null,null,null,null,null,null,0,0,0,10000,{"$f":"IF(OR(MAX($P$2:P1223)-P1223=0,C1223=0),\"\",MAX($P$2:P1223)-P1223)","v":""}]
[1223,null,null,null,null,null,null,null,null,null,null,null,null,0,0,0,10000,{"$f":"IF(OR(MAX($P$2:P1224)-P1224=0,C1224=0),\"\",MAX($P$2:P1224)-P1224)","v":""}]
[1224,null,null,null,null,null,null,null,null,null,null,null,null,0,0,0,10000,{"$f":"IF(OR(MAX($P$2:P1225)-P1225=0,C1225=0),\"\",MAX($P$2:P1225)-P1225)","v":""}]
[1225,null,null,null,null,null,null,null,null,null,null,null,null,0,0,0,10000,{"$f":"IF(OR(MAX($P$2:P1226)-P1226=0,C1226=0),\"\",MAX($P$2:P1226)-P1226)","v":""}]
[1226,null,null,null,null,null,null,null,null,null,null,null,null,0,0,0,10000,{"$f":"IF(OR(MAX($P$2:P1227)-P1227=0,C1227=0),\"\",MAX($P$2:P1227)-P1227)","v":""}]
[1227,null,null,null,null,null,null,null,null,null,null,null,null,0,0,0,10000,{"$f":"IF(OR(MAX($P$2:P1228)-P1228=0,C1228=0),\"\",MAX($P$2:P1228)-P1228)","v":""}]
[1228,null,null,null,null,null,null,null,null,null,null,null,null,0,0,0,10000,{"$f":"IF(OR(MAX($P$2:P1229)-P1229=0,C1229=0),\"\",MAX($P$2:P1229)-P1229)","v":""}]
[1229,null,null,null,null,null,null,null,null,null,null,null,null,0,0,0,10000,{"$f":"IF(OR(MAX($P$2:P1230)-P1230=0,C1230=0),\"\",MAX($P$2:P1230)-P1230)","v":""}]
[1230,null,null,null,null,null,null,null,null,null,null,null,null,0,0,0,10000,{"$f":"IF(OR(MAX($P$2:P1231)-P1231=0,C1231=0),\"\",MAX($P$2:P1231)-P1231)","v":""}]
[1231,null,null,null,null,null,null,null,null,null,null,null,null,0,0,0,10000,{"$f":"IF(OR(MAX($P$2:P1232)-P1232=0,C1232=0),\"\",MAX($P$2:P1232)-P1232)","v":""}]
[1232,null,null,null,null,null,null,null,null,null,null,null,null,0,0,0,10000,{"$f":"IF(OR(MAX($P$2:P1233)-P1233=0,C1233=0),\"\",MAX($P$2:P1233)-P1233)","v":""}]
[1233,null,null,null,null,null,null,null,null,null,null,null,null,0,0,0,10000,{"$f":"IF(OR(MAX($P$2:P1234)-P1234=0,C1234=0),\"\",MAX($P$2:P1234)-P1234)","v":""}]
[1234,null,null,null,null,null,null,null,null,null,null,null,null,0,0,0,10000,{"$f":"IF(OR(MAX($P$2:P1235)-P1235=0,C1235=0),\"\",MAX($P$2:P1235)-P1235)","v":""}]
[1235,null,null,null,null,null,null,null,null,null,null,null,null,0,0,0,10000,{"$f":"IF(OR(MAX($P$2:P1236)-P1236=0,C1236=0),\"\",MAX($P$2:P1236)-P1236)","v":""}]
[1236,null,null,null,null,null,null,null,null,null,null,null,null,0,0,0,10000,{"$f":"IF(OR(MAX($P$2:P1237)-P1237=0,C1237=0),\"\",MAX($P$2:P1237)-P1237)","v":""}]
[1237,null,null,null,null,null,null,null,null,null,null,null,null,0,0,0,10000,{"$f":"IF(OR(MAX($P$2:P1238)-P1238=0,C1238=0),\"\",MAX($P$2:P1238)-P1238)","v":""}]
[1238,null,null,null,null,null,null,null,null,null,null,null,null,0,0,0,10000,{"$f":"IF(OR(MAX($P$2:P1239)-P1239=0,C1239=0),\"\",MAX($P$2:P1239)-P1239)","v":""}]
[1239,null,null,null,null,null,null,null,null,null,null,null,null,0,0,0,10000,{"$f":"IF(OR(MAX($P$2:P1240)-P1240=0,C1240=0),\"\",MAX($P$2:P1240)-P1240)","v":""}]
[1240,null,null,null,null,null,null,null,null,null,null,null,null,0,0,0,10000,{"$f":"IF(OR(MAX($P$2:P1241)-P1241=0,C1241=0),\"\",MAX($P$2:P1241)-P1241)","v":""}]
[1241,null,null,null,null,null,null,null,null,null,null,null,null,0,0,0,10000,{"$f":"IF(OR(MAX($P$2:P1242)-P1242=0,C1242=0),\"\",MAX($P$2:P1242)-P1242)","v":""}]
[1242,null,null,null,null,null,null,null,null,null,null,null,null,0,0,0,10000,{"$f":"IF(OR(MAX($P$2:P1243)-P1243=0,C1243=0),\"\",MAX($P$2:P1243)-P1243)","v":""}]
[1243,null,null,null,null,null,null,null,null,null,null,null,null,0,0,0,10000,{"$f":"IF(OR(MAX($P$2:P1244)-P1244=0,C1244=0),\"\",MAX($P$2:P1244)-P1244)","v":""}]
[1244,null,null,null,null,null,null,null,null,null,null,null,null,0,0,0,10000,{"$f":"IF(OR(MAX($P$2:P1245)-P1245=0,C1245=0),\"\",MAX($P$2:P1245)-P1245)","v":""}]
[1245,null,null,null,null,null,null,null,null,null,null,null,null,0,0,0,10000,{"$f":"IF(OR(MAX($P$2:P1246)-P1246=0,C1246=0),\"\",MAX($P$2:P1246)-P1246)","v":""}]
[1246,null,null,null,null,null,null,null,null,null,null,null,null,0,0,0,10000,{"$f":"IF(OR(MAX($P$2:P1247)-P1247=0,C1247=0),\"\",MAX($P$2:P1247)-P1247)","v":""}]
[1247,null,null,null,null,null,null,null,null,null,null,null,null,0,0,0,10000,{"$f":"IF(OR(MAX($P$2:P1248)-P1248=0,C1248=0),\"\",MAX($P$2:P1248)-P1248)","v":""}]
[1248,null,null,null,null,null,null,null,null,null,null,null,null,0,0,0,10000,{"$f":"IF(OR(MAX($P$2:P1249)-P1249=0,C1249=0),\"\",MAX($P$2:P1249)-P1249)","v":""}]
[1249,null,null,null,null,null,null,null,null,null,null,null,null,0,0,0,10000,{"$f":"IF(OR(MAX($P$2:P1250)-P1250=0,C1250=0),\"\",MAX($P$2:P1250)-P1250)","v":""}]
[1250,null,null,null,null,null,null,null,null,null,null,null,null,0,0,0,10000,{"$f":"IF(OR(MAX($P$2:P1251)-P1251=0,C1251=0),\"\",MAX($P$2:P1251)-P1251)","v":""}]
[1251,null,null,null,null,null,null,null,null,null,null,null,null,0,0,0,10000,{"$f":"IF(OR(MAX($P$2:P1252)-P1252=0,C1252=0),\"\",MAX($P$2:P1252)-P1252)","v":""}]
[1252,null,null,null,null,null,null,null,null,null,null,null,null,0,0,0,10000,{"$f":"IF(OR(MAX($P$2:P1253)-P1253=0,C1253=0),\"\",MAX($P$2:P1253)-P1253)","v":""}]
[1253,null,null,null,null,null,null,null,null,null,null,null,null,0,0,0,10000,{"$f":"IF(OR(MAX($P$2:P1254)-P1254=0,C1254=0),\"\",MAX($P$2:P1254)-P1254)","v":""}]
[1254,null,null,null,null,null,null,null,null,null,null,null,null,0,0,0,10000,{"$f":"IF(OR(MAX($P$2:P1255)-P1255=0,C1255=0),\"\",MAX($P$2:P1255)-P1255)","v":""}]
[1255,null,null,null,null,null,null,null,null,null,null,null,null,0,0,0,10000,{"$f":"IF(OR(MAX($P$2:P1256)-P1256=0,C1256=0),\"\",MAX($P$2:P1256)-P1256)","v":""}]
[1256,null,null,null,null,null,null,null,null,null,null,null,null,0,0,0,10000,{"$f":"IF(OR(MAX($P$2:P1257)-P1257=0,C1257=0),\"\",MAX($P$2:P1257)-P1257)","v":""}]
[1257,null,null,null,null,null,null,null,null,null,null,null,null,0,0,0,10000,{"$f":"IF(OR(MAX($P$2:P1258)-P1258=0,C1258=0),\"\",MAX($P$2:P1258)-P1258)","v":""}]
[1258,null,null,null,null,null,null,null,null,null,null,null,null,0,0,0,10000,{"$f":"IF(OR(MAX($P$2:P1259)-P1259=0,C1259=0),\"\",MAX($P$2:P1259)-P1259)","v":""}]
[1259,null,null,null,null,null,null,null,null,null,null,null,null,0,0,0,10000,{"$f":"IF(OR(MAX($P$2:P1260)-P1260=0,C1260=0),\"\",MAX($P$2:P1260)-P1260)","v":""}]
[1260,null,null,null,null,null,null,null,null,null,null,null,null,0,0,0,10000,{"$f":"IF(OR(MAX($P$2:P1261)-P1261=0,C1261=0),\"\",MAX($P$2:P1261)-P1261)","v":""}]
[1261,null,null,null,null,null,null,null,null,null,null,null,null,0,0,0,10000,{"$f":"IF(OR(MAX($P$2:P1262)-P1262=0,C1262=0),\"\",MAX($P$2:P1262)-P1262)","v":""}]
[1262,null,null,null,null,null,null,null,null,null,null,null,null,0,0,0,10000,{"$f":"IF(OR(MAX($P$2:P1263)-P1263=0,C1263=0),\"\",MAX($P$2:P1263)-P1263)","v":""}]
[1263,null,null,null,null,null,null,null,null,null,null,null,null,0,0,0,10000,{"$f":"IF(OR(MAX($P$2:P1264)-P1264=0,C1264=0),\"\",MAX($P$2:P1264)-P1264)","v":""}]
[1264,null,null,null,null,null,null,null,null,null,null,null,null,0,0,0,10000,{"$f":"IF(OR(MAX($P$2:P1265)-P1265=0,C1265=0),\"\",MAX($P$2:P1265)-P1265)","v":""}]
[1265,null,null,null,null,null,null,null,null,null,null,null,null,0,0,0,10000,{"$f":"IF(OR(MAX($P$2:P1266)-P1266=0,C1266=0),\"\",MAX($P$2:P1266)-P1266)","v":""}]
[1266,null,null,null,null,null,null,null,null,null,null,null,null,0,0,0,10000,{"$f":"IF(OR(MAX($P$2:P1267)-P1267=0,C1267=0),\"\",MAX($P$2:P1267)-P1267)","v":""}]
[1267,null,null,null,null,null,null,null,null,null,null,null,null,0,0,0,10000,{"$f":"IF(OR(MAX($P$2:P1268)-P1268=0,C1268=0),\"\",MAX($P$2:P1268)-P1268)","v":""}]
[1268,null,null,null,null,null,null,null,null,null,null,null,null,0,0,0,10000,{"$f":"IF(OR(MAX($P$2:P1269)-P1269=0,C1269=0),\"\",MAX($P$2:P1269)-P1269)","v":""}]
[1269,null,null,null,null,null,null,null,null,null,null,null,null,0,0,0,10000,{"$f":"IF(OR(MAX($P$2:P1270)-P1270=0,C1270=0),\"\",MAX($P$2:P1270)-P1270)","v":""}]
[1270,null,null,null,null,null,null,null,null,null,null,null,null,0,0,0,10000,{"$f":"IF(OR(MAX($P$2:P1271)-P1271=0,C1271=0),\"\",MAX($P$2:P1271)-P1271)","v":""}]
[1271,null,null,null,null,null,null,null,null,null,null,null,null,0,0,0,10000,{"$f":"IF(OR(MAX($P$2:P1272)-P1272=0,C1272=0),\"\",MAX($P$2:P1272)-P1272)","v":""}]
[1272,null,null,null,null,null,null,null,null,null,null,null,null,0,0,0,10000,{"$f":"IF(OR(MAX($P$2:P1273)-P1273=0,C1273=0),\"\",MAX($P$2:P1273)-P1273)","v":""}]
[1273,null,null,null,null,null,null,null,null,null,null,null,null,0,0,0,10000,{"$f":"IF(OR(MAX($P$2:P1274)-P1274=0,C1274=0),\"\",MAX($P$2:P1274)-P1274)","v":""}]
[1274,null,null,null,null,null,null,null,null,null,null,null,null,0,0,0,10000,{"$f":"IF(OR(MAX($P$2:P1275)-P1275=0,C1275=0),\"\",MAX($P$2:P1275)-P1275)","v":""}]
[1275,null,null,null,null,null,null,null,null,null,null,null,null,0,0,0,10000,{"$f":"IF(OR(MAX($P$2:P1276)-P1276=0,C1276=0),\"\",MAX($P$2:P1276)-P1276)","v":""}]
[1276,null,null,null,null,null,null,null,null,null,null,null,null,0,0,0,10000,{"$f":"IF(OR(MAX($P$2:P1277)-P1277=0,C1277=0),\"\",MAX($P$2:P1277)-P1277)","v":""}]
[1277,null,null,null,null,null,null,null,null,null,null,null,null,0,0,0,10000,{"$f":"IF(OR(MAX($P$2:P1278)-P1278=0,C1278=0),\"\",MAX($P$2:P1278)-P1278)","v":""}]
[1278,null,null,null,null,null,null,null,null,null,null,null,null,0,0,0,10000,{"$f":"IF(OR(MAX($P$2:P1279)-P1279=0,C1279=0),\"\",MAX($P$2:P1279)-P1279)","v":""}]
[1279,null,null,null,null,null,null,null,null,null,null,null,null,0,0,0,10000,{"$f":"IF(OR(MAX($P$2:P1280)-P1280=0,C1280=0),\"\",MAX($P$2:P1280)-P1280)","v":""}]
[1280,null,null,null,null,null,null,null,null,null,null,null,null,0,0,0,10000,{"$f":"IF(OR(MAX($P$2:P1281)-P1281=0,C1281=0),\"\",MAX($P$2:P1281)-P1281)","v":""}]
[1281,null,null,null,null,null,null,null,null,null,null,null,null,0,0,0,10000,{"$f":"IF(OR(MAX($P$2:P1282)-P1282=0,C1282=0),\"\",MAX($P$2:P1282)-P1282)","v":""}]
[1282,null,null,null,null,null,null,null,null,null,null,null,null,0,0,0,10000,{"$f":"IF(OR(MAX($P$2:P1283)-P1283=0,C1283=0),\"\",MAX($P$2:P1283)-P1283)","v":""}]
[1283,null,null,null,null,null,null,null,null,null,null,null,null,0,0,{"$f":"P1283+N1284-O1284","v":0},{"$f":"Q1283+N1284-O1284","v":10000},{"$f":"IF(OR(MAX($P$2:P1284)-P1284=0,C1284=0),\"\",MAX($P$2:P1284)-P1284)","v":""}]
[1284,null,null,null,null,null,null,null,null,null,null,null,null,0,0,0,10000,{"$f":"IF(OR(MAX($P$2:P1285)-P1285=0,C1285=0),\"\",MAX($P$2:P1285)-P1285)","v":""}]
[1285,null,null,null,null,null,null,null,null,null,null,null,null,{"$f":"IF(B1286=1,I1286+J1286+K1286+L1286-M1286,0)","v":0},0,0,10000,{"$f":"IF(OR(MAX($P$2:P1286)-P1286=0,C1286=0),\"\",MAX($P$2:P1286)-P1286)","v":""}]
[1286,null,null,null,null,null,null,null,null,null,null,null,null,0,0,0,10000,{"$f":"IF(OR(MAX($P$2:P1287)-P1287=0,C1287=0),\"\",MAX($P$2:P1287)-P1287)","v":""}]
[1287,null,null,null,null,null,null,null,null,null,null,null,null,0,0,0,10000,{"$f":"IF(OR(MAX($P$2:P1288)-P1288=0,C1288=0),\"\",MAX($P$2:P1288)-P1288)","v":""}]
[1288,null,null,null,null,null,null,null,null,null,null,null,null,0,0,0,10000,{"$f":"IF(OR(MAX($P$2:P1289)-P1289=0,C1289=0),\"\",MAX($P$2:P1289)-P1289)","v":""}]
[1289,null,null,null,null,null,null,null,null,null,null,null,null,0,0,0,10000,{"$f":"IF(OR(MAX($P$2:P1290)-P1290=0,C1290=0),\"\",MAX($P$2:P1290)-P1290)","v":""}]
[1290,null,null,null,null,null,null,null,null,null,null,null,null,0,0,0,10000,{"$f":"IF(OR(MAX($P$2:P1291)-P1291=0,C1291=0),\"\",MAX($P$2:P1291)-P1291)","v":""}]
[1291,null,null,null,null,null,null,null,null,null,null,null,null,0,0,0,10000,{"$f":"IF(OR(MAX($P$2:P1292)-P1292=0,C1292=0),\"\",MAX($P$2:P1292)-P1292)","v":""}]
[1292,null,null,null,null,null,null,null,null,null,null,null,null,0,0,0,10000,{"$f":"IF(OR(MAX($P$2:P1293)-P1293=0,C1293=0),\"\",MAX($P$2:P1293)-P1293)","v":""}]
[1293,null,null,null,null,null,null,null,null,null,null,null,null,0,0,0,10000,{"$f":"IF(OR(MAX($P$2:P1294)-P1294=0,C1294=0),\"\",MAX($P$2:P1294)-P1294)","v":""}]
[1294,null,null,null,null,null,null,null,null,null,null,null,null,0,0,0,10000,{"$f":"IF(OR(MAX($P$2:P1295)-P1295=0,C1295=0),\"\",MAX($P$2:P1295)-P1295)","v":""}]
[1295,null,null,null,null,null,null,null,null,null,null,null,null,0,0,0,10000,{"$f":"IF(OR(MAX($P$2:P1296)-P1296=0,C1296=0),\"\",MAX($P$2:P1296)-P1296)","v":""}]
[1296,null,null,null,null,null,null,null,null,null,null,null,null,0,0,0,10000,{"$f":"IF(OR(MAX($P$2:P1297)-P1297=0,C1297=0),\"\",MAX($P$2:P1297)-P1297)","v":""}]
[1297,null,null,null,null,null,null,null,null,null,null,null,null,0,0,0,10000,{"$f":"IF(OR(MAX($P$2:P1298)-P1298=0,C1298=0),\"\",MAX($P$2:P1298)-P1298)","v":""}]
[1298,null,null,null,null,null,null,null,null,null,null,null,null,0,0,0,10000,{"$f":"IF(OR(MAX($P$2:P1299)-P1299=0,C1299=0),\"\",MAX($P$2:P1299)-P1299)","v":""}]
[1299,null,null,null,null,null,null,null,null,null,null,null,null,0,0,0,10000,{"$f":"IF(OR(MAX($P$2:P1300)-P1300=0,C1300=0),\"\",MAX($P$2:P1300)-P1300)","v":""}]
[1300,null,null,null,null,null,null,null,null,null,null,null,null,0,0,0,10000,{"$f":"IF(OR(MAX($P$2:P1301)-P1301=0,C1301=0),\"\",MAX($P$2:P1301)-P1301)","v":""}]
[1301,null,null,null,null,null,null,null,null,null,null,null,null,0,0,0,10000,{"$f":"IF(OR(MAX($P$2:P1302)-P1302=0,C1302=0),\"\",MAX($P$2:P1302)-P1302)","v":""}]
[1302,null,null,null,null,null,null,null,null,null,null,null,null,0,0,0,10000,{"$f":"IF(OR(MAX($P$2:P1303)-P1303=0,C1303=0),\"\",MAX($P$2:P1303)-P1303)","v":""}]
[1303,null,null,null,null,null,null,null,null,null,null,null,null,0,0,0,10000,{"$f":"IF(OR(MAX($P$2:P1304)-P1304=0,C1304=0),\"\",MAX($P$2:P1304)-P1304)","v":""}]
[1304,null,null,null,null,null,null,null,null,null,null,null,null,0,0,0,10000,{"$f":"IF(OR(MAX($P$2:P1305)-P1305=0,C1305=0),\"\",MAX($P$2:P1305)-P1305)","v":""}]
[1305,null,null,null,null,null,null,null,null,null,null,null,null,0,0,0,10000,{"$f":"IF(OR(MAX($P$2:P1306)-P1306=0,C1306=0),\"\",MAX($P$2:P1306)-P1306)","v":""}]
[1306,null,null,null,null,null,null,null,null,null,null,null,null,0,0,0,10000,{"$f":"IF(OR(MAX($P$2:P1307)-P1307=0,C1307=0),\"\",MAX($P$2:P1307)-P1307)","v":""}]
[1307,null,null,null,null,null,null,null,null,null,null,null,null,0,0,0,10000,{"$f":"IF(OR(MAX($P$2:P1308)-P1308=0,C1308=0),\"\",MAX($P$2:P1308)-P1308)","v":""}]
[1308,null,null,null,null,null,null,null,null,null,null,null,null,0,0,0,10000,{"$f":"IF(OR(MAX($P$2:P1309)-P1309=0,C1309=0),\"\",MAX($P$2:P1309)-P1309)","v":""}]
[1309,null,null,null,null,null,null,null,null,null,null,null,null,0,0,0,10000,{"$f":"IF(OR(MAX($P$2:P1310)-P1310=0,C1310=0),\"\",MAX($P$2:P1310)-P1310)","v":""}]
[1310,null,null,null,null,null,null,null,null,null,null,null,null,0,0,0,10000,{"$f":"IF(OR(MAX($P$2:P1311)-P1311=0,C1311=0),\"\",MAX($P$2:P1311)-P1311)","v":""}]
[1311,null,null,null,null,null,null,null,null,null,null,null,null,0,0,0,10000,{"$f":"IF(OR(MAX($P$2:P1312)-P1312=0,C1312=0),\"\",MAX($P$2:P1312)-P1312)","v":""}]
[1312,null,null,null,null,null,null,null,null,null,null,null,null,0,0,0,10000,{"$f":"IF(OR(MAX($P$2:P1313)-P1313=0,C1313=0),\"\",MAX($P$2:P1313)-P1313)","v":""}]
[1313,null,null,null,null,null,null,null,null,null,null,null,null,0,0,0,10000,{"$f":"IF(OR(MAX($P$2:P1314)-P1314=0,C1314=0),\"\",MAX($P$2:P1314)-P1314)","v":""}]
[1314,null,null,null,null,null,null,null,null,null,null,null,null,0,0,0,10000,{"$f":"IF(OR(MAX($P$2:P1315)-P1315=0,C1315=0),\"\",MAX($P$2:P1315)-P1315)","v":""}]
[1315,null,null,null,null,null,null,null,null,null,null,null,null,0,0,0,10000,{"$f":"IF(OR(MAX($P$2:P1316)-P1316=0,C1316=0),\"\",MAX($P$2:P1316)-P1316)","v":""}]
[1316,null,null,null,null,null,null,null,null,null,null,null,null,0,0,0,10000,{"$f":"IF(OR(MAX($P$2:P1317)-P1317=0,C1317=0),\"\",MAX($P$2:P1317)-P1317)","v":""}]
[1317,null,null,null,null,null,null,null,null,null,null,null,null,0,0,0,10000,{"$f":"IF(OR(MAX($P$2:P1318)-P1318=0,C1318=0),\"\",MAX($P$2:P1318)-P1318)","v":""}]
[1318,null,null,null,null,null,null,null,null,null,null,null,null,0,0,0,10000,{"$f":"IF(OR(MAX($P$2:P1319)-P1319=0,C1319=0),\"\",MAX($P$2:P1319)-P1319)","v":""}]
[1319,null,null,null,null,null,null,null,null,null,null,null,null,0,0,0,10000,{"$f":"IF(OR(MAX($P$2:P1320)-P1320=0,C1320=0),\"\",MAX($P$2:P1320)-P1320)","v":""}]
[1320,null,null,null,null,null,null,null,null,null,null,null,null,0,0,0,10000,{"$f":"IF(OR(MAX($P$2:P1321)-P1321=0,C1321=0),\"\",MAX($P$2:P1321)-P1321)","v":""}]
[1321,null,null,null,null,null,null,null,null,null,null,null,null,0,0,0,10000,{"$f":"IF(OR(MAX($P$2:P1322)-P1322=0,C1322=0),\"\",MAX($P$2:P1322)-P1322)","v":""}]
[1322,null,null,null,null,null,null,null,null,null,null,null,null,0,0,0,10000,{"$f":"IF(OR(MAX($P$2:P1323)-P1323=0,C1323=0),\"\",MAX($P$2:P1323)-P1323)","v":""}]
[1323,null,null,null,null,null,null,null,null,null,null,null,null,0,0,0,10000,{"$f":"IF(OR(MAX($P$2:P1324)-P1324=0,C1324=0),\"\",MAX($P$2:P1324)-P1324)","v":""}]
[1324,null,null,null,null,null,null,null,null,null,null,null,null,0,0,0,10000,{"$f":"IF(OR(MAX($P$2:P1325)-P1325=0,C1325=0),\"\",MAX($P$2:P1325)-P1325)","v":""}]
[1325,null,null,null,null,null,null,null,null,null,null,null,null,0,0,0,10000,{"$f":"IF(OR(MAX($P$2:P1326)-P1326=0,C1326=0),\"\",MAX($P$2:P1326)-P1326)","v":""}]
[1326,null,null,null,null,null,null,null,null,null,null,null,null,0,0,0,10000,{"$f":"IF(OR(MAX($P$2:P1327)-P1327=0,C1327=0),\"\",MAX($P$2:P1327)-P1327)","v":""}]
[1327,null,null,null,null,null,null,null,null,null,null,null,null,0,0,0,10000,{"$f":"IF(OR(MAX($P$2:P1328)-P1328=0,C1328=0),\"\",MAX($P$2:P1328)-P1328)","v":""}]
[1328,null,null,null,null,null,null,null,null,null,null,null,null,0,0,0,10000,{"$f":"IF(OR(MAX($P$2:P1329)-P1329=0,C1329=0),\"\",MAX($P$2:P1329)-P1329)","v":""}]
[1329,null,null,null,null,null,null,null,null,null,null,null,null,0,0,0,10000,{"$f":"IF(OR(MAX($P$2:P1330)-P1330=0,C1330=0),\"\",MAX($P$2:P1330)-P1330)","v":""}]
[1330,null,null,null,null,null,null,null,null,null,null,null,null,0,0,0,10000,{"$f":"IF(OR(MAX($P$2:P1331)-P1331=0,C1331=0),\"\",MAX($P$2:P1331)-P1331)","v":""}]
[1331,null,null,null,null,null,null,null,null,null,null,null,null,0,0,0,10000,{"$f":"IF(OR(MAX($P$2:P1332)-P1332=0,C1332=0),\"\",MAX($P$2:P1332)-P1332)","v":""}]
[1332,null,null,null,null,null,null,null,null,null,null,null,null,0,0,0,10000,{"$f":"IF(OR(MAX($P$2:P1333)-P1333=0,C1333=0),\"\",MAX($P$2:P1333)-P1333)","v":""}]
[1333,null,null,null,null,null,null,null,null,null,null,null,null,0,0,0,10000,{"$f":"IF(OR(MAX($P$2:P1334)-P1334=0,C1334=0),\"\",MAX($P$2:P1334)-P1334)","v":""}]
[1334,null,null,null,null,null,null,null,null,null,null,null,null,0,0,0,10000,{"$f":"IF(OR(MAX($P$2:P1335)-P1335=0,C1335=0),\"\",MAX($P$2:P1335)-P1335)","v":""}]
[1335,null,null,null,null,null,null,null,null,null,null,null,null,0,0,0,10000,{"$f":"IF(OR(MAX($P$2:P1336)-P1336=0,C1336=0),\"\",MAX($P$2:P1336)-P1336)","v":""}]
[1336,null,null,null,null,null,null,null,null,null,null,null,null,0,0,0,10000,{"$f":"IF(OR(MAX($P$2:P1337)-P1337=0,C1337=0),\"\",MAX($P$2:P1337)-P1337)","v":""}]
[1337,null,null,null,null,null,null,null,null,null,null,null,null,0,0,0,10000,{"$f":"IF(OR(MAX($P$2:P1338)-P1338=0,C1338=0),\"\",MAX($P$2:P1338)-P1338)","v":""}]
[1338,null,null,null,null,null,null,null,null,null,null,null,null,0,0,0,10000,{"$f":"IF(OR(MAX($P$2:P1339)-P1339=0,C1339=0),\"\",MAX($P$2:P1339)-P1339)","v":""}]
[1339,null,null,null,null,null,null,null,null,null,null,null,null,0,0,0,10000,{"$f":"IF(OR(MAX($P$2:P1340)-P1340=0,C1340=0),\"\",MAX($P$2:P1340)-P1340)","v":""}]
[1340,null,null,null,null,null,null,null,null,null,null,null,null,0,0,0,10000,{"$f":"IF(OR(MAX($P$2:P1341)-P1341=0,C1341=0),\"\",MAX($P$2:P1341)-P1341)","v":""}]
[1341,null,null,null,null,null,null,null,null,null,null,null,null,0,0,0,10000,{"$f":"IF(OR(MAX($P$2:P1342)-P1342=0,C1342=0),\"\",MAX($P$2:P1342)-P1342)","v":""}]
[1342,null,null,null,null,null,null,null,null,null,null,null,null,0,0,0,10000,{"$f":"IF(OR(MAX($P$2:P1343)-P1343=0,C1343=0),\"\",MAX($P$2:P1343)-P1343)","v":""}]
[1343,null,null,null,null,null,null,null,null,null,null,null,null,0,0,0,10000,{"$f":"IF(OR(MAX($P$2:P1344)-P1344=0,C1344=0),\"\",MAX($P$2:P1344)-P1344)","v":""}]
[1344,null,null,null,null,null,null,null,null,null,null,null,null,0,0,0,10000,{"$f":"IF(OR(MAX($P$2:P1345)-P1345=0,C1345=0),\"\",MAX($P$2:P1345)-P1345)","v":""}]
[1345,null,null,null,null,null,null,null,null,null,null,null,null,0,0,0,10000,{"$f":"IF(OR(MAX($P$2:P1346)-P1346=0,C1346=0),\"\",MAX($P$2:P1346)-P1346)","v":""}]
[1346,null,null,null,null,null,null,null,null,null,null,null,null,0,0,0,10000,{"$f":"IF(OR(MAX($P$2:P1347)-P1347=0,C1347=0),\"\",MAX($P$2:P1347)-P1347)","v":""}]
[1347,null,null,null,null,null,null,null,null,null,null,null,null,0,0,{"$f":"P1347+N1348-O1348","v":0},{"$f":"Q1347+N1348-O1348","v":10000},{"$f":"IF(OR(MAX($P$2:P1348)-P1348=0,C1348=0),\"\",MAX($P$2:P1348)-P1348)","v":""}]
[1348,null,null,null,null,null,null,null,null,null,null,null,null,0,0,0,10000,{"$f":"IF(OR(MAX($P$2:P1349)-P1349=0,C1349=0),\"\",MAX($P$2:P1349)-P1349)","v":""}]
[1349,null,null,null,null,null,null,null,null,null,null,null,null,{"$f":"IF(B1350=1,I1350+J1350+K1350+L1350-M1350,0)","v":0},0,0,10000,{"$f":"IF(OR(MAX($P$2:P1350)-P1350=0,C1350=0),\"\",MAX($P$2:P1350)-P1350)","v":""}]
[1350,null,null,null,null,null,null,null,null,null,null,null,null,0,0,0,10000,{"$f":"IF(OR(MAX($P$2:P1351)-P1351=0,C1351=0),\"\",MAX($P$2:P1351)-P1351)","v":""}]
[1351,null,null,null,null,null,null,null,null,null,null,null,null,0,0,0,10000,{"$f":"IF(OR(MAX($P$2:P1352)-P1352=0,C1352=0),\"\",MAX($P$2:P1352)-P1352)","v":""}]
[1352,null,null,null,null,null,null,null,null,null,null,null,null,0,0,0,10000,{"$f":"IF(OR(MAX($P$2:P1353)-P1353=0,C1353=0),\"\",MAX($P$2:P1353)-P1353)","v":""}]
[1353,null,null,null,null,null,null,null,null,null,null,null,null,0,0,0,10000,{"$f":"IF(OR(MAX($P$2:P1354)-P1354=0,C1354=0),\"\",MAX($P$2:P1354)-P1354)","v":""}]
[1354,null,null,null,null,null,null,null,null,null,null,null,null,0,0,0,10000,{"$f":"IF(OR(MAX($P$2:P1355)-P1355=0,C1355=0),\"\",MAX($P$2:P1355)-P1355)","v":""}]
[1355,null,null,null,null,null,null,null,null,null,null,null,null,0,0,0,10000,{"$f":"IF(OR(MAX($P$2:P1356)-P1356=0,C1356=0),\"\",MAX($P$2:P1356)-P1356)","v":""}]
[1356,null,null,null,null,null,null,null,null,null,null,null,null,0,0,0,10000,{"$f":"IF(OR(MAX($P$2:P1357)-P1357=0,C1357=0),\"\",MAX($P$2:P1357)-P1357)","v":""}]
[1357,null,null,null,null,null,null,null,null,null,null,null,null,0,0,0,10000,{"$f":"IF(OR(MAX($P$2:P1358)-P1358=0,C1358=0),\"\",MAX($P$2:P1358)-P1358)","v":""}]
[1358,null,null,null,null,null,null,null,null,null,null,null,null,0,0,0,10000,{"$f":"IF(OR(MAX($P$2:P1359)-P1359=0,C1359=0),\"\",MAX($P$2:P1359)-P1359)","v":""}]
[1359,null,null,null,null,null,null,null,null,null,null,null,null,0,0,0,10000,{"$f":"IF(OR(MAX($P$2:P1360)-P1360=0,C1360=0),\"\",MAX($P$2:P1360)-P1360)","v":""}]
[1360,null,null,null,null,null,null,null,null,null,null,null,null,0,0,0,10000,{"$f":"IF(OR(MAX($P$2:P1361)-P1361=0,C1361=0),\"\",MAX($P$2:P1361)-P1361)","v":""}]
[1361,null,null,null,null,null,null,null,null,null,null,null,null,0,0,0,10000,{"$f":"IF(OR(MAX($P$2:P1362)-P1362=0,C1362=0),\"\",MAX($P$2:P1362)-P1362)","v":""}]
[1362,null,null,null,null,null,null,null,null,null,null,null,null,0,0,0,10000,{"$f":"IF(OR(MAX($P$2:P1363)-P1363=0,C1363=0),\"\",MAX($P$2:P1363)-P1363)","v":""}]
[1363,null,null,null,null,null,null,null,null,null,null,null,null,0,0,0,10000,{"$f":"IF(OR(MAX($P$2:P1364)-P1364=0,C1364=0),\"\",MAX($P$2:P1364)-P1364)","v":""}]
[1364,null,null,null,null,null,null,null,null,null,null,null,null,0,0,0,10000,{"$f":"IF(OR(MAX($P$2:P1365)-P1365=0,C1365=0),\"\",MAX($P$2:P1365)-P1365)","v":""}]
[1365,null,null,null,null,null,null,null,null,null,null,null,null,0,0,0,10000,{"$f":"IF(OR(MAX($P$2:P1366)-P1366=0,C1366=0),\"\",MAX($P$2:P1366)-P1366)","v":""}]
[1366,null,null,null,null,null,null,null,null,null,null,null,null,0,0,0,10000,{"$f":"IF(OR(MAX($P$2:P1367)-P1367=0,C1367=0),\"\",MAX($P$2:P1367)-P1367)","v":""}]
[1367,null,null,null,null,null,null,null,null,null,null,null,null,0,0,0,10000,{"$f":"IF(OR(MAX($P$2:P1368)-P1368=0,C1368=0),\"\",MAX($P$2:P1368)-P1368)","v":""}]
[1368,null,null,null,null,null,null,null,null,null,null,null,null,0,0,0,10000,{"$f":"IF(OR(MAX($P$2:P1369)-P1369=0,C1369=0),\"\",MAX($P$2:P1369)-P1369)","v":""}]
[1369,null,null,null,null,null,null,null,null,null,null,null,null,0,0,0,10000,{"$f":"IF(OR(MAX($P$2:P1370)-P1370=0,C1370=0),\"\",MAX($P$2:P1370)-P1370)","v":""}]
[1370,null,null,null,null,null,null,null,null,null,null,null,null,0,0,0,10000,{"$f":"IF(OR(MAX($P$2:P1371)-P1371=0,C1371=0),\"\",MAX($P$2:P1371)-P1371)","v":""}]
[1371,null,null,null,null,null,null,null,null,null,null,null,null,0,0,0,10000,{"$f":"IF(OR(MAX($P$2:P1372)-P1372=0,C1372=0),\"\",MAX($P$2:P1372)-P1372)","v":""}]
[1372,null,null,null,null,null,null,null,null,null,null,null,null,0,0,0,10000,{"$f":"IF(OR(MAX($P$2:P1373)-P1373=0,C1373=0),\"\",MAX($P$2:P1373)-P1373)","v":""}]
[1373,null,null,null,null,null,null,null,null,null,null,null,null,0,0,0,10000,{"$f":"IF(OR(MAX($P$2:P1374)-P1374=0,C1374=0),\"\",MAX($P$2:P1374)-P1374)","v":""}]
[1374,null,null,null,null,null,null,null,null,null,null,null,null,0,0,0,10000,{"$f":"IF(OR(MAX($P$2:P1375)-P1375=0,C1375=0),\"\",MAX($P$2:P1375)-P1375)","v":""}]
[1375,null,null,null,null,null,null,null,null,null,null,null,null,0,0,0,10000,{"$f":"IF(OR(MAX($P$2:P1376)-P1376=0,C1376=0),\"\",MAX($P$2:P1376)-P1376)","v":""}]
[1376,null,null,null,null,null,null,null,null,null,null,null,null,0,0,0,10000,{"$f":"IF(OR(MAX($P$2:P1377)-P1377=0,C1377=0),\"\",MAX($P$2:P1377)-P1377)","v":""}]
[1377,null,null,null,null,null,null,null,null,null,null,null,null,0,0,0,10000,{"$f":"IF(OR(MAX($P$2:P1378)-P1378=0,C1378=0),\"\",MAX($P$2:P1378)-P1378)","v":""}]
[1378,null,null,null,null,null,null,null,null,null,null,null,null,0,0,0,10000,{"$f":"IF(OR(MAX($P$2:P1379)-P1379=0,C1379=0),\"\",MAX($P$2:P1379)-P1379)","v":""}]
[1379,null,null,null,null,null,null,null,null,null,null,null,null,0,0,0,10000,{"$f":"IF(OR(MAX($P$2:P1380)-P1380=0,C1380=0),\"\",MAX($P$2:P1380)-P1380)","v":""}]
[1380,null,null,null,null,null,null,null,null,null,null,null,null,0,0,0,10000,{"$f":"IF(OR(MAX($P$2:P1381)-P1381=0,C1381=0),\"\",MAX($P$2:P1381)-P1381)","v":""}]
[1381,null,null,null,null,null,null,null,null,null,null,null,null,0,0,0,10000,{"$f":"IF(OR(MAX($P$2:P1382)-P1382=0,C1382=0),\"\",MAX($P$2:P1382)-P1382)","v":""}]
[1382,null,null,null,null,null,null,null,null,null,null,null,null,0,0,0,10000,{"$f":"IF(OR(MAX($P$2:P1383)-P1383=0,C1383=0),\"\",MAX($P$2:P1383)-P1383)","v":""}]
[1383,null,null,null,null,null,null,null,null,null,null,null,null,0,0,0,10000,{"$f":"IF(OR(MAX($P$2:P1384)-P1384=0,C1384=0),\"\",MAX($P$2:P1384)-P1384)","v":""}]
[1384,null,null,null,null,null,null,null,null,null,null,null,null,0,0,0,10000,{"$f":"IF(OR(MAX($P$2:P1385)-P1385=0,C1385=0),\"\",MAX($P$2:P1385)-P1385)","v":""}]
[1385,null,null,null,null,null,null,null,null,null,null,null,null,0,0,0,10000,{"$f":"IF(OR(MAX($P$2:P1386)-P1386=0,C1386=0),\"\",MAX($P$2:P1386)-P1386)","v":""}]
[1386,null,null,null,null,null,null,null,null,null,null,null,null,0,0,0,10000,{"$f":"IF(OR(MAX($P$2:P1387)-P1387=0,C1387=0),\"\",MAX($P$2:P1387)-P1387)","v":""}]
[1387,null,null,null,null,null,null,null,null,null,null,null,null,0,0,0,10000,{"$f":"IF(OR(MAX($P$2:P1388)-P1388=0,C1388=0),\"\",MAX($P$2:P1388)-P1388)","v":""}]
[1388,null,null,null,null,null,null,null,null,null,null,null,null,0,0,0,10000,{"$f":"IF(OR(MAX($P$2:P1389)-P1389=0,C1389=0),\"\",MAX($P$2:P1389)-P1389)","v":""}]
[1389,null,null,null,null,null,null,null,null,null,null,null,null,0,0,0,10000,{"$f":"IF(OR(MAX($P$2:P1390)-P1390=0,C1390=0),\"\",MAX($P$2:P1390)-P1390)","v":""}]
[1390,null,null,null,null,null,null,null,null,null,null,null,null,0,0,0,10000,{"$f":"IF(OR(MAX($P$2:P1391)-P1391=0,C1391=0),\"\",MAX($P$2:P1391)-P1391)","v":""}]
[1391,null,null,null,null,null,null,null,null,null,null,null,null,0,0,0,10000,{"$f":"IF(OR(MAX($P$2:P1392)-P1392=0,C1392=0),\"\",MAX($P$2:P1392)-P1392)","v":""}]
[1392,null,null,null,null,null,null,null,null,null,null,null,null,0,0,0,10000,{"$f":"IF(OR(MAX($P$2:P1393)-P1393=0,C1393=0),\"\",MAX($P$2:P1393)-P1393)","v":""}]
[1393,null,null,null,null,null,null,null,null,null,null,null,null,0,0,0,10000,{"$f":"IF(OR(MAX($P$2:P1394)-P1394=0,C1394=0),\"\",MAX($P$2:P1394)-P1394)","v":""}]
[1394,null,null,null,null,null,null,null,null,null,null,null,null,0,0,0,10000,{"$f":"IF(OR(MAX($P$2:P1395)-P1395=0,C1395=0),\"\",MAX($P$2:P1395)-P1395)","v":""}]
[1395,null,null,null,null,null,null,null,null,null,null,null,null,0,0,0,10000,{"$f":"IF(OR(MAX($P$2:P1396)-P1396=0,C1396=0),\"\",MAX($P$2:P1396)-P1396)","v":""}]
[1396,null,null,null,null,null,null,null,null,null,null,null,null,0,0,0,10000,{"$f":"IF(OR(MAX($P$2:P1397)-P1397=0,C1397=0),\"\",MAX($P$2:P1397)-P1397)","v":""}]
[1397,null,null,null,null,null,null,null,null,null,null,null,null,0,0,0,10000,{"$f":"IF(OR(MAX($P$2:P1398)-P1398=0,C1398=0),\"\",MAX($P$2:P1398)-P1398)","v":""}]
[1398,null,null,null,null,null,null,null,null,null,null,null,null,0,0,0,10000,{"$f":"IF(OR(MAX($P$2:P1399)-P1399=0,C1399=0),\"\",MAX($P$2:P1399)-P1399)","v":""}]
[1399,null,null,null,null,null,null,null,null,null,null,null,null,0,0,0,10000,{"$f":"IF(OR(MAX($P$2:P1400)-P1400=0,C1400=0),\"\",MAX($P$2:P1400)-P1400)","v":""}]
[1400,null,null,null,null,null,null,null,null,null,null,null,null,0,0,0,10000,{"$f":"IF(OR(MAX($P$2:P1401)-P1401=0,C1401=0),\"\",MAX($P$2:P1401)-P1401)","v":""}]
[1401,null,null,null,null,null,null,null,null,null,null,null,null,0,0,0,10000,{"$f":"IF(OR(MAX($P$2:P1402)-P1402=0,C1402=0),\"\",MAX($P$2:P1402)-P1402)","v":""}]
[1402,null,null,null,null,null,null,null,null,null,null,null,null,0,0,0,10000,{"$f":"IF(OR(MAX($P$2:P1403)-P1403=0,C1403=0),\"\",MAX($P$2:P1403)-P1403)","v":""}]
[1403,null,null,null,null,null,null,null,null,null,null,null,null,0,0,0,10000,{"$f":"IF(OR(MAX($P$2:P1404)-P1404=0,C1404=0),\"\",MAX($P$2:P1404)-P1404)","v":""}]
[1404,null,null,null,null,null,null,null,null,null,null,null,null,0,0,0,10000,{"$f":"IF(OR(MAX($P$2:P1405)-P1405=0,C1405=0),\"\",MAX($P$2:P1405)-P1405)","v":""}]
[1405,null,null,null,null,null,null,null,null,null,null,null,null,0,0,0,10000,{"$f":"IF(OR(MAX($P$2:P1406)-P1406=0,C1406=0),\"\",MAX($P$2:P1406)-P1406)","v":""}]
[1406,null,null,null,null,null,null,null,null,null,null,null,null,0,0,0,10000,{"$f":"IF(OR(MAX($P$2:P1407)-P1407=0,C1407=0),\"\",MAX($P$2:P1407)-P1407)","v":""}]
[1407,null,null,null,null,null,null,null,null,null,null,null,null,0,0,0,10000,{"$f":"IF(OR(MAX($P$2:P1408)-P1408=0,C1408=0),\"\",MAX($P$2:P1408)-P1408)","v":""}]
[1408,null,null,null,null,null,null,null,null,null,null,null,null,0,0,0,10000,{"$f":"IF(OR(MAX($P$2:P1409)-P1409=0,C1409=0),\"\",MAX($P$2:P1409)-P1409)","v":""}]
[1409,null,null,null,null,null,null,null,null,null,null,null,null,0,0,0,10000,{"$f":"IF(OR(MAX($P$2:P1410)-P1410=0,C1410=0),\"\",MAX($P$2:P1410)-P1410)","v":""}]
[1410,null,null,null,null,null,null,null,null,null,null,null,null,0,0,0,10000,{"$f":"IF(OR(MAX($P$2:P1411)-P1411=0,C1411=0),\"\",MAX($P$2:P1411)-P1411)","v":""}]
[1411,null,null,null,null,null,null,null,null,null,null,null,null,0,0,{"$f":"P1411+N1412-O1412","v":0},{"$f":"Q1411+N1412-O1412","v":10000},{"$f":"IF(OR(MAX($P$2:P1412)-P1412=0,C1412=0),\"\",MAX($P$2:P1412)-P1412)","v":""}]
[1412,null,null,null,null,null,null,null,null,null,null,null,null,0,0,0,10000,{"$f":"IF(OR(MAX($P$2:P1413)-P1413=0,C1413=0),\"\",MAX($P$2:P1413)-P1413)","v":""}]
[1413,null,null,null,null,null,null,null,null,null,null,null,null,{"$f":"IF(B1414=1,I1414+J1414+K1414+L1414-M1414,0)","v":0},0,0,10000,{"$f":"IF(OR(MAX($P$2:P1414)-P1414=0,C1414=0),\"\",MAX($P$2:P1414)-P1414)","v":""}]
[1414,null,null,null,null,null,null,null,null,null,null,null,null,0,0,0,10000,{"$f":"IF(OR(MAX($P$2:P1415)-P1415=0,C1415=0),\"\",MAX($P$2:P1415)-P1415)","v":""}]
[1415,null,null,null,null,null,null,null,null,null,null,null,null,0,0,0,10000,{"$f":"IF(OR(MAX($P$2:P1416)-P1416=0,C1416=0),\"\",MAX($P$2:P1416)-P1416)","v":""}]
[1416,null,null,null,null,null,null,null,null,null,null,null,null,0,0,0,10000,{"$f":"IF(OR(MAX($P$2:P1417)-P1417=0,C1417=0),\"\",MAX($P$2:P1417)-P1417)","v":""}]
[1417,null,null,null,null,null,null,null,null,null,null,null,null,0,0,0,10000,{"$f":"IF(OR(MAX($P$2:P1418)-P1418=0,C1418=0),\"\",MAX($P$2:P1418)-P1418)","v":""}]
[1418,null,null,null,null,null,null,null,null,null,null,null,null,0,0,0,10000,{"$f":"IF(OR(MAX($P$2:P1419)-P1419=0,C1419=0),\"\",MAX($P$2:P1419)-P1419)","v":""}]
[1419,null,null,null,null,null,null,null,null,null,null,null,null,0,0,0,10000,{"$f":"IF(OR(MAX($P$2:P1420)-P1420=0,C1420=0),\"\",MAX($P$2:P1420)-P1420)","v":""}]
[1420,null,null,null,null,null,null,null,null,null,null,null,null,0,0,0,10000,{"$f":"IF(OR(MAX($P$2:P1421)-P1421=0,C1421=0),\"\",MAX($P$2:P1421)-P1421)","v":""}]
[1421,null,null,null,null,null,null,null,null,null,null,null,null,0,0,0,10000,{"$f":"IF(OR(MAX($P$2:P1422)-P1422=0,C1422=0),\"\",MAX($P$2:P1422)-P1422)","v":""}]
[1422,null,null,null,null,null,null,null,null,null,null,null,null,0,0,0,10000,{"$f":"IF(OR(MAX($P$2:P1423)-P1423=0,C1423=0),\"\",MAX($P$2:P1423)-P1423)","v":""}]
[1423,null,null,null,null,null,null,null,null,null,null,null,null,0,0,0,10000,{"$f":"IF(OR(MAX($P$2:P1424)-P1424=0,C1424=0),\"\",MAX($P$2:P1424)-P1424)","v":""}]
[1424,null,null,null,null,null,null,null,null,null,null,null,null,0,0,0,10000,{"$f":"IF(OR(MAX($P$2:P1425)-P1425=0,C1425=0),\"\",MAX($P$2:P1425)-P1425)","v":""}]
[1425,null,null,null,null,null,null,null,null,null,null,null,null,0,0,0,10000,{"$f":"IF(OR(MAX($P$2:P1426)-P1426=0,C1426=0),\"\",MAX($P$2:P1426)-P1426)","v":""}]
[1426,null,null,null,null,null,null,null,null,null,null,null,null,0,0,0,10000,{"$f":"IF(OR(MAX($P$2:P1427)-P1427=0,C1427=0),\"\",MAX($P$2:P1427)-P1427)","v":""}]
[1427,null,null,null,null,null,null,null,null,null,null,null,null,0,0,0,10000,{"$f":"IF(OR(MAX($P$2:P1428)-P1428=0,C1428=0),\"\",MAX($P$2:P1428)-P1428)","v":""}]
[1428,null,null,null,null,null,null,null,null,null,null,null,null,0,0,0,10000,{"$f":"IF(OR(MAX($P$2:P1429)-P1429=0,C1429=0),\"\",MAX($P$2:P1429)-P1429)","v":""}]
[1429,null,null,null,null,null,null,null,null,null,null,null,null,0,0,0,10000,{"$f":"IF(OR(MAX($P$2:P1430)-P1430=0,C1430=0),\"\",MAX($P$2:P1430)-P1430)","v":""}]
[1430,null,null,null,null,null,null,null,null,null,null,null,null,0,0,0,10000,{"$f":"IF(OR(MAX($P$2:P1431)-P1431=0,C1431=0),\"\",MAX($P$2:P1431)-P1431)","v":""}]
[1431,null,null,null,null,null,null,null,null,null,null,null,null,0,0,0,10000,{"$f":"IF(OR(MAX($P$2:P1432)-P1432=0,C1432=0),\"\",MAX($P$2:P1432)-P1432)","v":""}]
[1432,null,null,null,null,null,null,null,null,null,null,null,null,0,0,0,10000,{"$f":"IF(OR(MAX($P$2:P1433)-P1433=0,C1433=0),\"\",MAX($P$2:P1433)-P1433)","v":""}]
[1433,null,null,null,null,null,null,null,null,null,null,null,null,0,0,0,10000,{"$f":"IF(OR(MAX($P$2:P1434)-P1434=0,C1434=0),\"\",MAX($P$2:P1434)-P1434)","v":""}]
[1434,null,null,null,null,null,null,null,null,null,null,null,null,0,0,0,10000,{"$f":"IF(OR(MAX($P$2:P1435)-P1435=0,C1435=0),\"\",MAX($P$2:P1435)-P1435)","v":""}]
[1435,null,null,null,null,null,null,null,null,null,null,null,null,0,0,0,10000,{"$f":"IF(OR(MAX($P$2:P1436)-P1436=0,C1436=0),\"\",MAX($P$2:P1436)-P1436)","v":""}]
[1436,null,null,null,null,null,null,null,null,null,null,null,null,0,0,0,10000,{"$f":"IF(OR(MAX($P$2:P1437)-P1437=0,C1437=0),\"\",MAX($P$2:P1437)-P1437)","v":""}]
[1437,null,null,null,null,null,null,null,null,null,null,null,null,0,0,0,10000,{"$f":"IF(OR(MAX($P$2:P1438)-P1438=0,C1438=0),\"\",MAX($P$2:P1438)-P1438)","v":""}]
[1438,null,null,null,null,null,null,null,null,null,null,null,null,0,0,0,10000,{"$f":"IF(OR(MAX($P$2:P1439)-P1439=0,C1439=0),\"\",MAX($P$2:P1439)-P1439)","v":""}]
[1439,null,null,null,null,null,null,null,null,null,null,null,null,0,0,0,10000,{"$f":"IF(OR(MAX($P$2:P1440)-P1440=0,C1440=0),\"\",MAX($P$2:P1440)-P1440)","v":""}]
[1440,null,null,null,null,null,null,null,null,null,null,null,null,0,0,0,10000,{"$f":"IF(OR(MAX($P$2:P1441)-P1441=0,C1441=0),\"\",MAX($P$2:P1441)-P1441)","v":""}]
[1441,null,null,null,null,null,null,null,null,null,null,null,null,0,0,0,10000,{"$f":"IF(OR(MAX($P$2:P1442)-P1442=0,C1442=0),\"\",MAX($P$2:P1442)-P1442)","v":""}]
[1442,null,null,null,null,null,null,null,null,null,null,null,null,0,0,0,10000,{"$f":"IF(OR(MAX($P$2:P1443)-P1443=0,C1443=0),\"\",MAX($P$2:P1443)-P1443)","v":""}]
[1443,null,null,null,null,null,null,null,null,null,null,null,null,0,0,0,10000,{"$f":"IF(OR(MAX($P$2:P1444)-P1444=0,C1444=0),\"\",MAX($P$2:P1444)-P1444)","v":""}]
[1444,null,null,null,null,null,null,null,null,null,null,null,null,0,0,0,10000,{"$f":"IF(OR(MAX($P$2:P1445)-P1445=0,C1445=0),\"\",MAX($P$2:P1445)-P1445)","v":""}]
[1445,null,null,null,null,null,null,null,null,null,null,null,null,0,0,0,10000,{"$f":"IF(OR(MAX($P$2:P1446)-P1446=0,C1446=0),\"\",MAX($P$2:P1446)-P1446)","v":""}]
[1446,null,null,null,null,null,null,null,null,null,null,null,null,0,0,0,10000,{"$f":"IF(OR(MAX($P$2:P1447)-P1447=0,C1447=0),\"\",MAX($P$2:P1447)-P1447)","v":""}]
[1447,null,null,null,null,null,null,null,null,null,null,null,null,0,0,0,10000,{"$f":"IF(OR(MAX($P$2:P1448)-P1448=0,C1448=0),\"\",MAX($P$2:P1448)-P1448)","v":""}]
[1448,null,null,null,null,null,null,null,null,null,null,null,null,0,0,0,10000,{"$f":"IF(OR(MAX($P$2:P1449)-P1449=0,C1449=0),\"\",MAX($P$2:P1449)-P1449)","v":""}]
[1449,null,null,null,null,null,null,null,null,null,null,null,null,0,0,0,10000,{"$f":"IF(OR(MAX($P$2:P1450)-P1450=0,C1450=0),\"\",MAX($P$2:P1450)-P1450)","v":""}]
[1450,null,null,null,null,null,null,null,null,null,null,null,null,0,0,0,10000,{"$f":"IF(OR(MAX($P$2:P1451)-P1451=0,C1451=0),\"\",MAX($P$2:P1451)-P1451)","v":""}]
[1451,null,null,null,null,null,null,null,null,null,null,null,null,0,0,0,10000,{"$f":"IF(OR(MAX($P$2:P1452)-P1452=0,C1452=0),\"\",MAX($P$2:P1452)-P1452)","v":""}]
[1452,null,null,null,null,null,null,null,null,null,null,null,null,0,0,0,10000,{"$f":"IF(OR(MAX($P$2:P1453)-P1453=0,C1453=0),\"\",MAX($P$2:P1453)-P1453)","v":""}]
[1453,null,null,null,null,null,null,null,null,null,null,null,null,0,0,0,10000,{"$f":"IF(OR(MAX($P$2:P1454)-P1454=0,C1454=0),\"\",MAX($P$2:P1454)-P1454)","v":""}]
[1454,null,null,null,null,null,null,null,null,null,null,null,null,0,0,0,10000,{"$f":"IF(OR(MAX($P$2:P1455)-P1455=0,C1455=0),\"\",MAX($P$2:P1455)-P1455)","v":""}]
[1455,null,null,null,null,null,null,null,null,null,null,null,null,0,0,0,10000,{"$f":"IF(OR(MAX($P$2:P1456)-P1456=0,C1456=0),\"\",MAX($P$2:P1456)-P1456)","v":""}]
[1456,null,null,null,null,null,null,null,null,null,null,null,null,0,0,0,10000,{"$f":"IF(OR(MAX($P$2:P1457)-P1457=0,C1457=0),\"\",MAX($P$2:P1457)-P1457)","v":""}]
[1457,null,null,null,null,null,null,null,null,null,null,null,null,0,0,0,10000,{"$f":"IF(OR(MAX($P$2:P1458)-P1458=0,C1458=0),\"\",MAX($P$2:P1458)-P1458)","v":""}]
[1458,null,null,null,null,null,null,null,null,null,null,null,null,0,0,0,10000,{"$f":"IF(OR(MAX($P$2:P1459)-P1459=0,C1459=0),\"\",MAX($P$2:P1459)-P1459)","v":""}]
[1459,null,null,null,null,null,null,null,null,null,null,null,null,0,0,0,10000,{"$f":"IF(OR(MAX($P$2:P1460)-P1460=0,C1460=0),\"\",MAX($P$2:P1460)-P1460)","v":""}]
[1460,null,null,null,null,null,null,null,null,null,null,null,null,0,0,0,10000,{"$f":"IF(OR(MAX($P$2:P1461)-P1461=0,C1461=0),\"\",MAX($P$2:P1461)-P1461)","v":""}]
[1461,null,null,null,null,null,null,null,null,null,null,null,null,0,0,0,10000,{"$f":"IF(OR(MAX($P$2:P1462)-P1462=0,C1462=0),\"\",MAX($P$2:P1462)-P1462)","v":""}]
[1462,null,null,null,null,null,null,null,null,null,null,null,null,0,0,0,10000,{"$f":"IF(OR(MAX($P$2:P1463)-P1463=0,C1463=0),\"\",MAX($P$2:P1463)-P1463)","v":""}]
[1463,null,null,null,null,null,null,null,null,null,null,null,null,0,0,0,10000,{"$f":"IF(OR(MAX($P$2:P1464)-P1464=0,C1464=0),\"\",MAX($P$2:P1464)-P1464)","v":""}]
[1464,null,null,null,null,null,null,null,null,null,null,null,null,0,0,0,10000,{"$f":"IF(OR(MAX($P$2:P1465)-P1465=0,C1465=0),\"\",MAX($P$2:P1465)-P1465)","v":""}]
[1465,null,null,null,null,null,null,null,null,null,null,null,null,0,0,0,10000,{"$f":"IF(OR(MAX($P$2:P1466)-P1466=0,C1466=0),\"\",MAX($P$2:P1466)-P1466)","v":""}]
[1466,null,null,null,null,null,null,null,null,null,null,null,null,0,0,0,10000,{"$f":"IF(OR(MAX($P$2:P1467)-P1467=0,C1467=0),\"\",MAX($P$2:P1467)-P1467)","v":""}]
[1467,null,null,null,null,null,null,null,null,null,null,null,null,0,0,0,10000,{"$f":"IF(OR(MAX($P$2:P1468)-P1468=0,C1468=0),\"\",MAX($P$2:P1468)-P1468)","v":""}]
[1468,null,null,null,null,null,null,null,null,null,null,null,null,0,0,0,10000,{"$f":"IF(OR(MAX($P$2:P1469)-P1469=0,C1469=0),\"\",MAX($P$2:P1469)-P1469)","v":""}]
[1469,null,null,null,null,null,null,null,null,null,null,null,null,0,0,0,10000,{"$f":"IF(OR(MAX($P$2:P1470)-P1470=0,C1470=0),\"\",MAX($P$2:P1470)-P1470)","v":""}]
[1470,null,null,null,null,null,null,null,null,null,null,null,null,0,0,0,10000,{"$f":"IF(OR(MAX($P$2:P1471)-P1471=0,C1471=0),\"\",MAX($P$2:P1471)-P1471)","v":""}]
[1471,null,null,null,null,null,null,null,null,null,null,null,null,0,0,0,10000,{"$f":"IF(OR(MAX($P$2:P1472)-P1472=0,C1472=0),\"\",MAX($P$2:P1472)-P1472)","v":""}]
[1472,null,null,null,null,null,null,null,null,null,null,null,null,0,0,0,10000,{"$f":"IF(OR(MAX($P$2:P1473)-P1473=0,C1473=0),\"\",MAX($P$2:P1473)-P1473)","v":""}]
[1473,null,null,null,null,null,null,null,null,null,null,null,null,0,0,0,10000,{"$f":"IF(OR(MAX($P$2:P1474)-P1474=0,C1474=0),\"\",MAX($P$2:P1474)-P1474)","v":""}]
[1474,null,null,null,null,null,null,null,null,null,null,null,null,0,0,0,10000,{"$f":"IF(OR(MAX($P$2:P1475)-P1475=0,C1475=0),\"\",MAX($P$2:P1475)-P1475)","v":""}]
[1475,null,null,null,null,null,null,null,null,null,null,null,null,0,0,{"$f":"P1475+N1476-O1476","v":0},{"$f":"Q1475+N1476-O1476","v":10000},{"$f":"IF(OR(MAX($P$2:P1476)-P1476=0,C1476=0),\"\",MAX($P$2:P1476)-P1476)","v":""}]
[1476,null,null,null,null,null,null,null,null,null,null,null,null,0,0,0,10000,{"$f":"IF(OR(MAX($P$2:P1477)-P1477=0,C1477=0),\"\",MAX($P$2:P1477)-P1477)","v":""}]
[1477,null,null,null,null,null,null,null,null,null,null,null,null,{"$f":"IF(B1478=1,I1478+J1478+K1478+L1478-M1478,0)","v":0},0,0,10000,{"$f":"IF(OR(MAX($P$2:P1478)-P1478=0,C1478=0),\"\",MAX($P$2:P1478)-P1478)","v":""}]
[1478,null,null,null,null,null,null,null,null,null,null,null,null,0,0,0,10000,{"$f":"IF(OR(MAX($P$2:P1479)-P1479=0,C1479=0),\"\",MAX($P$2:P1479)-P1479)","v":""}]
[1479,null,null,null,null,null,null,null,null,null,null,null,null,0,0,0,10000,{"$f":"IF(OR(MAX($P$2:P1480)-P1480=0,C1480=0),\"\",MAX($P$2:P1480)-P1480)","v":""}]
[1480,null,null,null,null,null,null,null,null,null,null,null,null,0,0,0,10000,{"$f":"IF(OR(MAX($P$2:P1481)-P1481=0,C1481=0),\"\",MAX($P$2:P1481)-P1481)","v":""}]
[1481,null,null,null,null,null,null,null,null,null,null,null,null,0,0,0,10000,{"$f":"IF(OR(MAX($P$2:P1482)-P1482=0,C1482=0),\"\",MAX($P$2:P1482)-P1482)","v":""}]
[1482,null,null,null,null,null,null,null,null,null,null,null,null,0,0,0,10000,{"$f":"IF(OR(MAX($P$2:P1483)-P1483=0,C1483=0),\"\",MAX($P$2:P1483)-P1483)","v":""}]
[1483,null,null,null,null,null,null,null,null,null,null,null,null,0,0,0,10000,{"$f":"IF(OR(MAX($P$2:P1484)-P1484=0,C1484=0),\"\",MAX($P$2:P1484)-P1484)","v":""}]
[1484,null,null,null,null,null,null,null,null,null,null,null,null,0,0,0,10000,{"$f":"IF(OR(MAX($P$2:P1485)-P1485=0,C1485=0),\"\",MAX($P$2:P1485)-P1485)","v":""}]
[1485,null,null,null,null,null,null,null,null,null,null,null,null,0,0,0,10000,{"$f":"IF(OR(MAX($P$2:P1486)-P1486=0,C1486=0),\"\",MAX($P$2:P1486)-P1486)","v":""}]
[1486,null,null,null,null,null,null,null,null,null,null,null,null,0,0,0,10000,{"$f":"IF(OR(MAX($P$2:P1487)-P1487=0,C1487=0),\"\",MAX($P$2:P1487)-P1487)","v":""}]
[1487,null,null,null,null,null,null,null,null,null,null,null,null,0,0,0,10000,{"$f":"IF(OR(MAX($P$2:P1488)-P1488=0,C1488=0),\"\",MAX($P$2:P1488)-P1488)","v":""}]
[1488,null,null,null,null,null,null,null,null,null,null,null,null,0,0,0,10000,{"$f":"IF(OR(MAX($P$2:P1489)-P1489=0,C1489=0),\"\",MAX($P$2:P1489)-P1489)","v":""}]
[1489,null,null,null,null,null,null,null,null,null,null,null,null,0,0,0,10000,{"$f":"IF(OR(MAX($P$2:P1490)-P1490=0,C1490=0),\"\",MAX($P$2:P1490)-P1490)","v":""}]
[1490,null,null,null,null,null,null,null,null,null,null,null,null,0,0,0,10000,{"$f":"IF(OR(MAX($P$2:P1491)-P1491=0,C1491=0),\"\",MAX($P$2:P1491)-P1491)","v":""}]
[1491,null,null,null,null,null,null,null,null,null,null,null,null,0,0,0,10000,{"$f":"IF(OR(MAX($P$2:P1492)-P1492=0,C1492=0),\"\",MAX($P$2:P1492)-P1492)","v":""}]
[1492,null,null,null,null,null,null,null,null,null,null,null,null,0,0,0,10000,{"$f":"IF(OR(MAX($P$2:P1493)-P1493=0,C1493=0),\"\",MAX($P$2:P1493)-P1493)","v":""}]
[1493,null,null,null,null,null,null,null,null,null,null,null,null,0,0,0,10000,{"$f":"IF(OR(MAX($P$2:P1494)-P1494=0,C1494=0),\"\",MAX($P$2:P1494)-P1494)","v":""}]
[1494,null,null,null,null,null,null,null,null,null,null,null,null,0,0,0,10000,{"$f":"IF(OR(MAX($P$2:P1495)-P1495=0,C1495=0),\"\",MAX($P$2:P1495)-P1495)","v":""}]
[1495,null,null,null,null,null,null,null,null,null,null,null,null,0,0,0,10000,{"$f":"IF(OR(MAX($P$2:P1496)-P1496=0,C1496=0),\"\",MAX($P$2:P1496)-P1496)","v":""}]
[1496,null,null,null,null,null,null,null,null,null,null,null,null,0,0,0,10000,{"$f":"IF(OR(MAX($P$2:P1497)-P1497=0,C1497=0),\"\",MAX($P$2:P1497)-P1497)","v":""}]
[1497,null,null,null,null,null,null,null,null,null,null,null,null,0,0,0,10000,{"$f":"IF(OR(MAX($P$2:P1498)-P1498=0,C1498=0),\"\",MAX($P$2:P1498)-P1498)","v":""}]
[1498,null,null,null,null,null,null,null,null,null,null,null,null,0,0,0,10000,{"$f":"IF(OR(MAX($P$2:P1499)-P1499=0,C1499=0),\"\",MAX($P$2:P1499)-P1499)","v":""}]
[1499,null,null,null,null,null,null,null,null,null,null,null,null,0,0,0,10000,{"$f":"IF(OR(MAX($P$2:P1500)-P1500=0,C1500=0),\"\",MAX($P$2:P1500)-P1500)","v":""}]
[1500,null,null,null,null,null,null,null,null,null,null,null,null,0,0,0,10000,{"$f":"IF(OR(MAX($P$2:P1501)-P1501=0,C1501=0),\"\",MAX($P$2:P1501)-P1501)","v":""}]
[1501,null,null,null,null,null,null,null,null,null,null,null,null,0,0,0,10000,{"$f":"IF(OR(MAX($P$2:P1502)-P1502=0,C1502=0),\"\",MAX($P$2:P1502)-P1502)","v":""}]
[1502,null,null,null,null,null,null,null,null,null,null,null,null,0,0,0,10000,{"$f":"IF(OR(MAX($P$2:P1503)-P1503=0,C1503=0),\"\",MAX($P$2:P1503)-P1503)","v":""}]
[1503,null,null,null,null,null,null,null,null,null,null,null,null,0,0,0,10000,{"$f":"IF(OR(MAX($P$2:P1504)-P1504=0,C1504=0),\"\",MAX($P$2:P1504)-P1504)","v":""}]
[1504,null,null,null,null,null,null,null,null,null,null,null,null,0,0,0,10000,{"$f":"IF(OR(MAX($P$2:P1505)-P1505=0,C1505=0),\"\",MAX($P$2:P1505)-P1505)","v":""}]
[1505,null,null,null,null,null,null,null,null,null,null,null,null,0,0,0,10000,{"$f":"IF(OR(MAX($P$2:P1506)-P1506=0,C1506=0),\"\",MAX($P$2:P1506)-P1506)","v":""}]
[1506,null,null,null,null,null,null,null,null,null,null,null,null,0,0,0,10000,{"$f":"IF(OR(MAX($P$2:P1507)-P1507=0,C1507=0),\"\",MAX($P$2:P1507)-P1507)","v":""}]
[1507,null,null,null,null,null,null,null,null,null,null,null,null,0,0,0,10000,{"$f":"IF(OR(MAX($P$2:P1508)-P1508=0,C1508=0),\"\",MAX($P$2:P1508)-P1508)","v":""}]
[1508,null,null,null,null,null,null,null,null,null,null,null,null,0,0,0,10000,{"$f":"IF(OR(MAX($P$2:P1509)-P1509=0,C1509=0),\"\",MAX($P$2:P1509)-P1509)","v":""}]
[1509,null,null,null,null,null,null,null,null,null,null,null,null,0,0,0,10000,{"$f":"IF(OR(MAX($P$2:P1510)-P1510=0,C1510=0),\"\",MAX($P$2:P1510)-P1510)","v":""}]
[1510,null,null,null,null,null,null,null,null,null,null,null,null,0,0,0,10000,{"$f":"IF(OR(MAX($P$2:P1511)-P1511=0,C1511=0),\"\",MAX($P$2:P1511)-P1511)","v":""}]
[1511,null,null,null,null,null,null,null,null,null,null,null,null,0,0,0,10000,{"$f":"IF(OR(MAX($P$2:P1512)-P1512=0,C1512=0),\"\",MAX($P$2:P1512)-P1512)","v":""}]
[1512,null,null,null,null,null,null,null,null,null,null,null,null,0,0,0,10000,{"$f":"IF(OR(MAX($P$2:P1513)-P1513=0,C1513=0),\"\",MAX($P$2:P1513)-P1513)","v":""}]
[1513,null,null,null,null,null,null,null,null,null,null,null,null,0,0,0,10000,{"$f":"IF(OR(MAX($P$2:P1514)-P1514=0,C1514=0),\"\",MAX($P$2:P1514)-P1514)","v":""}]
[1514,null,null,null,null,null,null,null,null,null,null,null,null,0,0,0,10000,{"$f":"IF(OR(MAX($P$2:P1515)-P1515=0,C1515=0),\"\",MAX($P$2:P1515)-P1515)","v":""}]
[1515,null,null,null,null,null,null,null,null,null,null,null,null,0,0,0,10000,{"$f":"IF(OR(MAX($P$2:P1516)-P1516=0,C1516=0),\"\",MAX($P$2:P1516)-P1516)","v":""}]
[1516,null,null,null,null,null,null,null,null,null,null,null,null,0,0,0,10000,{"$f":"IF(OR(MAX($P$2:P1517)-P1517=0,C1517=0),\"\",MAX($P$2:P1517)-P1517)","v":""}]
[1517,null,null,null,null,null,null,null,null,null,null,null,null,0,0,0,10000,{"$f":"IF(OR(MAX($P$2:P1518)-P1518=0,C1518=0),\"\",MAX($P$2:P1518)-P1518)","v":""}]
[1518,null,null,null,null,null,null,null,null,null,null,null,null,0,0,0,10000,{"$f":"IF(OR(MAX($P$2:P1519)-P1519=0,C1519=0),\"\",MAX($P$2:P1519)-P1519)","v":""}]
[1519,null,null,null,null,null,null,null,null,null,null,null,null,0,0,0,10000,{"$f":"IF(OR(MAX($P$2:P1520)-P1520=0,C1520=0),\"\",MAX($P$2:P1520)-P1520)","v":""}]
[1520,null,null,null,null,null,null,null,null,null,null,null,null,0,0,0,10000,{"$f":"IF(OR(MAX($P$2:P1521)-P1521=0,C1521=0),\"\",MAX($P$2:P1521)-P1521)","v":""}]
[1521,null,null,null,null,null,null,null,null,null,null,null,null,0,0,0,10000,{"$f":"IF(OR(MAX($P$2:P1522)-P1522=0,C1522=0),\"\",MAX($P$2:P1522)-P1522)","v":""}]
[1522,null,null,null,null,null,null,null,null,null,null,null,null,0,0,0,10000,{"$f":"IF(OR(MAX($P$2:P1523)-P1523=0,C1523=0),\"\",MAX($P$2:P1523)-P1523)","v":""}]
[1523,null,null,null,null,null,null,null,null,null,null,null,null,0,0,0,10000,{"$f":"IF(OR(MAX($P$2:P1524)-P1524=0,C1524=0),\"\",MAX($P$2:P1524)-P1524)","v":""}]
[1524,null,null,null,null,null,null,null,null,null,null,null,null,0,0,0,10000,{"$f":"IF(OR(MAX($P$2:P1525)-P1525=0,C1525=0),\"\",MAX($P$2:P1525)-P1525)","v":""}]
[1525,null,null,null,null,null,null,null,null,null,null,null,null,0,0,0,10000,{"$f":"IF(OR(MAX($P$2:P1526)-P1526=0,C1526=0),\"\",MAX($P$2:P1526)-P1526)","v":""}]
[1526,null,null,null,null,null,null,null,null,null,null,null,null,0,0,0,10000,{"$f":"IF(OR(MAX($P$2:P1527)-P1527=0,C1527=0),\"\",MAX($P$2:P1527)-P1527)","v":""}]
[1527,null,null,null,null,null,null,null,null,null,null,null,null,0,0,0,10000,{"$f":"IF(OR(MAX($P$2:P1528)-P1528=0,C1528=0),\"\",MAX($P$2:P1528)-P1528)","v":""}]
[1528,null,null,null,null,null,null,null,null,null,null,null,null,0,0,0,10000,{"$f":"IF(OR(MAX($P$2:P1529)-P1529=0,C1529=0),\"\",MAX($P$2:P1529)-P1529)","v":""}]
[1529,null,null,null,null,null,null,null,null,null,null,null,null,0,0,0,10000,{"$f":"IF(OR(MAX($P$2:P1530)-P1530=0,C1530=0),\"\",MAX($P$2:P1530)-P1530)","v":""}]
[1530,null,null,null,null,null,null,null,null,null,null,null,null,0,0,0,10000,{"$f":"IF(OR(MAX($P$2:P1531)-P1531=0,C1531=0),\"\",MAX($P$2:P1531)-P1531)","v":""}]
[1531,null,null,null,null,null,null,null,null,null,null,null,null,0,0,0,10000,{"$f":"IF(OR(MAX($P$2:P1532)-P1532=0,C1532=0),\"\",MAX($P$2:P1532)-P1532)","v":""}]
[1532,null,null,null,null,null,null,null,null,null,null,null,null,0,0,0,10000,{"$f":"IF(OR(MAX($P$2:P1533)-P1533=0,C1533=0),\"\",MAX($P$2:P1533)-P1533)","v":""}]
[1533,null,null,null,null,null,null,null,null,null,null,null,null,0,0,0,10000,{"$f":"IF(OR(MAX($P$2:P1534)-P1534=0,C1534=0),\"\",MAX($P$2:P1534)-P1534)","v":""}]
[1534,null,null,null,null,null,null,null,null,null,null,null,null,0,0,0,10000,{"$f":"IF(OR(MAX($P$2:P1535)-P1535=0,C1535=0),\"\",MAX($P$2:P1535)-P1535)","v":""}]
[1535,null,null,null,null,null,null,null,null,null,null,null,null,0,0,0,10000,{"$f":"IF(OR(MAX($P$2:P1536)-P1536=0,C1536=0),\"\",MAX($P$2:P1536)-P1536)","v":""}]
[1536,null,null,null,null,null,null,null,null,null,null,null,null,0,0,0,10000,{"$f":"IF(OR(MAX($P$2:P1537)-P1537=0,C1537=0),\"\",MAX($P$2:P1537)-P1537)","v":""}]
[1537,null,null,null,null,null,null,null,null,null,null,null,null,0,0,0,10000,{"$f":"IF(OR(MAX($P$2:P1538)-P1538=0,C1538=0),\"\",MAX($P$2:P1538)-P1538)","v":""}]
[1538,null,null,null,null,null,null,null,null,null,null,null,null,0,0,0,10000,{"$f":"IF(OR(MAX($P$2:P1539)-P1539=0,C1539=0),\"\",MAX($P$2:P1539)-P1539)","v":""}]
[1539,null,null,null,null,null,null,null,null,null,null,null,null,0,0,{"$f":"P1539+N1540-O1540","v":0},{"$f":"Q1539+N1540-O1540","v":10000},{"$f":"IF(OR(MAX($P$2:P1540)-P1540=0,C1540=0),\"\",MAX($P$2:P1540)-P1540)","v":""}]
[1540,null,null,null,null,null,null,null,null,null,null,null,null,0,0,0,10000,{"$f":"IF(OR(MAX($P$2:P1541)-P1541=0,C1541=0),\"\",MAX($P$2:P1541)-P1541)","v":""}]
[1541,null,null,null,null,null,null,null,null,null,null,null,null,{"$f":"IF(B1542=1,I1542+J1542+K1542+L1542-M1542,0)","v":0},0,0,10000,{"$f":"IF(OR(MAX($P$2:P1542)-P1542=0,C1542=0),\"\",MAX($P$2:P1542)-P1542)","v":""}]
[1542,null,null,null,null,null,null,null,null,null,null,null,null,0,0,0,10000,{"$f":"IF(OR(MAX($P$2:P1543)-P1543=0,C1543=0),\"\",MAX($P$2:P1543)-P1543)","v":""}]
[1543,null,null,null,null,null,null,null,null,null,null,null,null,0,0,0,10000,{"$f":"IF(OR(MAX($P$2:P1544)-P1544=0,C1544=0),\"\",MAX($P$2:P1544)-P1544)","v":""}]
[1544,null,null,null,null,null,null,null,null,null,null,null,null,0,0,0,10000,{"$f":"IF(OR(MAX($P$2:P1545)-P1545=0,C1545=0),\"\",MAX($P$2:P1545)-P1545)","v":""}]
[1545,null,null,null,null,null,null,null,null,null,null,null,null,0,0,0,10000,{"$f":"IF(OR(MAX($P$2:P1546)-P1546=0,C1546=0),\"\",MAX($P$2:P1546)-P1546)","v":""}]
[1546,null,null,null,null,null,null,null,null,null,null,null,null,0,0,0,10000,{"$f":"IF(OR(MAX($P$2:P1547)-P1547=0,C1547=0),\"\",MAX($P$2:P1547)-P1547)","v":""}]
[1547,null,null,null,null,null,null,null,null,null,null,null,null,0,0,0,10000,{"$f":"IF(OR(MAX($P$2:P1548)-P1548=0,C1548=0),\"\",MAX($P$2:P1548)-P1548)","v":""}]
[1548,null,null,null,null,null,null,null,null,null,null,null,null,0,0,0,10000,{"$f":"IF(OR(MAX($P$2:P1549)-P1549=0,C1549=0),\"\",MAX($P$2:P1549)-P1549)","v":""}]
[1549,null,null,null,null,null,null,null,null,null,null,null,null,0,0,0,10000,{"$f":"IF(OR(MAX($P$2:P1550)-P1550=0,C1550=0),\"\",MAX($P$2:P1550)-P1550)","v":""}]
[1550,null,null,null,null,null,null,null,null,null,null,null,null,0,0,0,10000,{"$f":"IF(OR(MAX($P$2:P1551)-P1551=0,C1551=0),\"\",MAX($P$2:P1551)-P1551)","v":""}]
[1551,null,null,null,null,null,null,null,null,null,null,null,null,0,0,0,10000,{"$f":"IF(OR(MAX($P$2:P1552)-P1552=0,C1552=0),\"\",MAX($P$2:P1552)-P1552)","v":""}]
[1552,null,null,null,null,null,null,null,null,null,null,null,null,0,0,0,10000,{"$f":"IF(OR(MAX($P$2:P1553)-P1553=0,C1553=0),\"\",MAX($P$2:P1553)-P1553)","v":""}]
[1553,null,null,null,null,null,null,null,null,null,null,null,null,0,0,0,10000,{"$f":"IF(OR(MAX($P$2:P1554)-P1554=0,C1554=0),\"\",MAX($P$2:P1554)-P1554)","v":""}]
[1554,null,null,null,null,null,null,null,null,null,null,null,null,0,0,0,10000,{"$f":"IF(OR(MAX($P$2:P1555)-P1555=0,C1555=0),\"\",MAX($P$2:P1555)-P1555)","v":""}]
[1555,null,null,null,null,null,null,null,null,null,null,null,null,0,0,0,10000,{"$f":"IF(OR(MAX($P$2:P1556)-P1556=0,C1556=0),\"\",MAX($P$2:P1556)-P1556)","v":""}]
[1556,null,null,null,null,null,null,null,null,null,null,null,null,0,0,0,10000,{"$f":"IF(OR(MAX($P$2:P1557)-P1557=0,C1557=0),\"\",MAX($P$2:P1557)-P1557)","v":""}]
[1557,null,null,null,null,null,null,null,null,null,null,null,null,0,0,0,10000,{"$f":"IF(OR(MAX($P$2:P1558)-P1558=0,C1558=0),\"\",MAX($P$2:P1558)-P1558)","v":""}]
[1558,null,null,null,null,null,null,null,null,null,null,null,null,0,0,0,10000,{"$f":"IF(OR(MAX($P$2:P1559)-P1559=0,C1559=0),\"\",MAX($P$2:P1559)-P1559)","v":""}]
[1559,null,null,null,null,null,null,null,null,null,null,null,null,0,0,0,10000,{"$f":"IF(OR(MAX($P$2:P1560)-P1560=0,C1560=0),\"\",MAX($P$2:P1560)-P1560)","v":""}]
[1560,null,null,null,null,null,null,null,null,null,null,null,null,0,0,0,10000,{"$f":"IF(OR(MAX($P$2:P1561)-P1561=0,C1561=0),\"\",MAX($P$2:P1561)-P1561)","v":""}]
[1561,null,null,null,null,null,null,null,null,null,null,null,null,0,0,0,10000,{"$f":"IF(OR(MAX($P$2:P1562)-P1562=0,C1562=0),\"\",MAX($P$2:P1562)-P1562)","v":""}]
[1562,null,null,null,null,null,null,null,null,null,null,null,null,0,0,0,10000,{"$f":"IF(OR(MAX($P$2:P1563)-P1563=0,C1563=0),\"\",MAX($P$2:P1563)-P1563)","v":""}]
[1563,null,null,null,null,null,null,null,null,null,null,null,null,0,0,0,10000,{"$f":"IF(OR(MAX($P$2:P1564)-P1564=0,C1564=0),\"\",MAX($P$2:P1564)-P1564)","v":""}]
[1564,null,null,null,null,null,null,null,null,null,null,null,null,0,0,0,10000,{"$f":"IF(OR(MAX($P$2:P1565)-P1565=0,C1565=0),\"\",MAX($P$2:P1565)-P1565)","v":""}]
[1565,null,null,null,null,null,null,null,null,null,null,null,null,0,0,0,10000,{"$f":"IF(OR(MAX($P$2:P1566)-P1566=0,C1566=0),\"\",MAX($P$2:P1566)-P1566)","v":""}]
[1566,null,null,null,null,null,null,null,null,null,null,null,null,0,0,0,10000,{"$f":"IF(OR(MAX($P$2:P1567)-P1567=0,C1567=0),\"\",MAX($P$2:P1567)-P1567)","v":""}]
[1567,null,null,null,null,null,null,null,null,null,null,null,null,0,0,0,10000,{"$f":"IF(OR(MAX($P$2:P1568)-P1568=0,C1568=0),\"\",MAX($P$2:P1568)-P1568)","v":""}]
[1568,null,null,null,null,null,null,null,null,null,null,null,null,0,0,0,10000,{"$f":"IF(OR(MAX($P$2:P1569)-P1569=0,C1569=0),\"\",MAX($P$2:P1569)-P1569)","v":""}]
[1569,null,null,null,null,null,null,null,null,null,null,null,null,0,0,0,10000,{"$f":"IF(OR(MAX($P$2:P1570)-P1570=0,C1570=0),\"\",MAX($P$2:P1570)-P1570)","v":""}]
[1570,null,null,null,null,null,null,null,null,null,null,null,null,0,0,0,10000,{"$f":"IF(OR(MAX($P$2:P1571)-P1571=0,C1571=0),\"\",MAX($P$2:P1571)-P1571)","v":""}]
[1571,null,null,null,null,null,null,null,null,null,null,null,null,0,0,0,10000,{"$f":"IF(OR(MAX($P$2:P1572)-P1572=0,C1572=0),\"\",MAX($P$2:P1572)-P1572)","v":""}]
[1572,null,null,null,null,null,null,null,null,null,null,null,null,0,0,0,10000,{"$f":"IF(OR(MAX($P$2:P1573)-P1573=0,C1573=0),\"\",MAX($P$2:P1573)-P1573)","v":""}]
[1573,null,null,null,null,null,null,null,null,null,null,null,null,0,0,0,10000,{"$f":"IF(OR(MAX($P$2:P1574)-P1574=0,C1574=0),\"\",MAX($P$2:P1574)-P1574)","v":""}]
[1574,null,null,null,null,null,null,null,null,null,null,null,null,0,0,0,10000,{"$f":"IF(OR(MAX($P$2:P1575)-P1575=0,C1575=0),\"\",MAX($P$2:P1575)-P1575)","v":""}]
[1575,null,null,null,null,null,null,null,null,null,null,null,null,0,0,0,10000,{"$f":"IF(OR(MAX($P$2:P1576)-P1576=0,C1576=0),\"\",MAX($P$2:P1576)-P1576)","v":""}]
[1576,null,null,null,null,null,null,null,null,null,null,null,null,0,0,0,10000,{"$f":"IF(OR(MAX($P$2:P1577)-P1577=0,C1577=0),\"\",MAX($P$2:P1577)-P1577)","v":""}]
[1577,null,null,null,null,null,null,null,null,null,null,null,null,0,0,0,10000,{"$f":"IF(OR(MAX($P$2:P1578)-P1578=0,C1578=0),\"\",MAX($P$2:P1578)-P1578)","v":""}]
[1578,null,null,null,null,null,null,null,null,null,null,null,null,0,0,0,10000,{"$f":"IF(OR(MAX($P$2:P1579)-P1579=0,C1579=0),\"\",MAX($P$2:P1579)-P1579)","v":""}]
[1579,null,null,null,null,null,null,null,null,null,null,null,null,0,0,0,10000,{"$f":"IF(OR(MAX($P$2:P1580)-P1580=0,C1580=0),\"\",MAX($P$2:P1580)-P1580)","v":""}]
[1580,null,null,null,null,null,null,null,null,null,null,null,null,0,0,0,10000,{"$f":"IF(OR(MAX($P$2:P1581)-P1581=0,C1581=0),\"\",MAX($P$2:P1581)-P1581)","v":""}]
[1581,null,null,null,null,null,null,null,null,null,null,null,null,0,0,0,10000,{"$f":"IF(OR(MAX($P$2:P1582)-P1582=0,C1582=0),\"\",MAX($P$2:P1582)-P1582)","v":""}]
[1582,null,null,null,null,null,null,null,null,null,null,null,null,0,0,0,10000,{"$f":"IF(OR(MAX($P$2:P1583)-P1583=0,C1583=0),\"\",MAX($P$2:P1583)-P1583)","v":""}]
[1583,null,null,null,null,null,null,null,null,null,null,null,null,0,0,0,10000,{"$f":"IF(OR(MAX($P$2:P1584)-P1584=0,C1584=0),\"\",MAX($P$2:P1584)-P1584)","v":""}]
[1584,null,null,null,null,null,null,null,null,null,null,null,null,0,0,0,10000,{"$f":"IF(OR(MAX($P$2:P1585)-P1585=0,C1585=0),\"\",MAX($P$2:P1585)-P1585)","v":""}]
[1585,null,null,null,null,null,null,null,null,null,null,null,null,0,0,0,10000,{"$f":"IF(OR(MAX($P$2:P1586)-P1586=0,C1586=0),\"\",MAX($P$2:P1586)-P1586)","v":""}]
[1586,null,null,null,null,null,null,null,null,null,null,null,null,0,0,0,10000,{"$f":"IF(OR(MAX($P$2:P1587)-P1587=0,C1587=0),\"\",MAX($P$2:P1587)-P1587)","v":""}]
[1587,null,null,null,null,null,null,null,null,null,null,null,null,0,0,0,10000,{"$f":"IF(OR(MAX($P$2:P1588)-P1588=0,C1588=0),\"\",MAX($P$2:P1588)-P1588)","v":""}]
[1588,null,null,null,null,null,null,null,null,null,null,null,null,0,0,0,10000,{"$f":"IF(OR(MAX($P$2:P1589)-P1589=0,C1589=0),\"\",MAX($P$2:P1589)-P1589)","v":""}]
[1589,null,null,null,null,null,null,null,null,null,null,null,null,0,0,0,10000,{"$f":"IF(OR(MAX($P$2:P1590)-P1590=0,C1590=0),\"\",MAX($P$2:P1590)-P1590)","v":""}]
[1590,null,null,null,null,null,null,null,null,null,null,null,null,0,0,0,10000,{"$f":"IF(OR(MAX($P$2:P1591)-P1591=0,C1591=0),\"\",MAX($P$2:P1591)-P1591)","v":""}]
[1591,null,null,null,null,null,null,null,null,null,null,null,null,0,0,0,10000,{"$f":"IF(OR(MAX($P$2:P1592)-P1592=0,C1592=0),\"\",MAX($P$2:P1592)-P1592)","v":""}]
[1592,null,null,null,null,null,null,null,null,null,null,null,null,0,0,0,10000,{"$f":"IF(OR(MAX($P$2:P1593)-P1593=0,C1593=0),\"\",MAX($P$2:P1593)-P1593)","v":""}]
[1593,null,null,null,null,null,null,null,null,null,null,null,null,0,0,0,10000,{"$f":"IF(OR(MAX($P$2:P1594)-P1594=0,C1594=0),\"\",MAX($P$2:P1594)-P1594)","v":""}]
[1594,null,null,null,null,null,null,null,null,null,null,null,null,0,0,0,10000,{"$f":"IF(OR(MAX($P$2:P1595)-P1595=0,C1595=0),\"\",MAX($P$2:P1595)-P1595)","v":""}]
[1595,null,null,null,null,null,null,null,null,null,null,null,null,0,0,0,10000,{"$f":"IF(OR(MAX($P$2:P1596)-P1596=0,C1596=0),\"\",MAX($P$2:P1596)-P1596)","v":""}]
[1596,null,null,null,null,null,null,null,null,null,null,null,null,0,0,0,10000,{"$f":"IF(OR(MAX($P$2:P1597)-P1597=0,C1597=0),\"\",MAX($P$2:P1597)-P1597)","v":""}]
[1597,null,null,null,null,null,null,null,null,null,null,null,null,0,0,0,10000,{"$f":"IF(OR(MAX($P$2:P1598)-P1598=0,C1598=0),\"\",MAX($P$2:P1598)-P1598)","v":""}]
[1598,null,null,null,null,null,null,null,null,null,null,null,null,0,0,0,10000,{"$f":"IF(OR(MAX($P$2:P1599)-P1599=0,C1599=0),\"\",MAX($P$2:P1599)-P1599)","v":""}]
[1599,null,null,null,null,null,null,null,null,null,null,null,null,0,0,0,10000,{"$f":"IF(OR(MAX($P$2:P1600)-P1600=0,C1600=0),\"\",MAX($P$2:P1600)-P1600)","v":""}]
[1600,null,null,null,null,null,null,null,null,null,null,null,null,0,0,0,10000,{"$f":"IF(OR(MAX($P$2:P1601)-P1601=0,C1601=0),\"\",MAX($P$2:P1601)-P1601)","v":""}]
[1601,null,null,null,null,null,null,null,null,null,null,null,null,0,0,0,10000,{"$f":"IF(OR(MAX($P$2:P1602)-P1602=0,C1602=0),\"\",MAX($P$2:P1602)-P1602)","v":""}]
[1602,null,null,null,null,null,null,null,null,null,null,null,null,0,0,0,10000,{"$f":"IF(OR(MAX($P$2:P1603)-P1603=0,C1603=0),\"\",MAX($P$2:P1603)-P1603)","v":""}]
[1603,null,null,null,null,null,null,null,null,null,null,null,null,0,0,{"$f":"P1603+N1604-O1604","v":0},{"$f":"Q1603+N1604-O1604","v":10000},{"$f":"IF(OR(MAX($P$2:P1604)-P1604=0,C1604=0),\"\",MAX($P$2:P1604)-P1604)","v":""}]
[1604,null,null,null,null,null,null,null,null,null,null,null,null,0,0,0,10000,{"$f":"IF(OR(MAX($P$2:P1605)-P1605=0,C1605=0),\"\",MAX($P$2:P1605)-P1605)","v":""}]
[1605,null,null,null,null,null,null,null,null,null,null,null,null,{"$f":"IF(B1606=1,I1606+J1606+K1606+L1606-M1606,0)","v":0},0,0,10000,{"$f":"IF(OR(MAX($P$2:P1606)-P1606=0,C1606=0),\"\",MAX($P$2:P1606)-P1606)","v":""}]
[1606,null,null,null,null,null,null,null,null,null,null,null,null,0,0,0,10000,{"$f":"IF(OR(MAX($P$2:P1607)-P1607=0,C1607=0),\"\",MAX($P$2:P1607)-P1607)","v":""}]
[1607,null,null,null,null,null,null,null,null,null,null,null,null,0,0,0,10000,{"$f":"IF(OR(MAX($P$2:P1608)-P1608=0,C1608=0),\"\",MAX($P$2:P1608)-P1608)","v":""}]
[1608,null,null,null,null,null,null,null,null,null,null,null,null,0,0,0,10000,{"$f":"IF(OR(MAX($P$2:P1609)-P1609=0,C1609=0),\"\",MAX($P$2:P1609)-P1609)","v":""}]
[1609,null,null,null,null,null,null,null,null,null,null,null,null,0,0,0,10000,{"$f":"IF(OR(MAX($P$2:P1610)-P1610=0,C1610=0),\"\",MAX($P$2:P1610)-P1610)","v":""}]
[1610,null,null,null,null,null,null,null,null,null,null,null,null,0,0,0,10000,{"$f":"IF(OR(MAX($P$2:P1611)-P1611=0,C1611=0),\"\",MAX($P$2:P1611)-P1611)","v":""}]
[1611,null,null,null,null,null,null,null,null,null,null,null,null,0,0,0,10000,{"$f":"IF(OR(MAX($P$2:P1612)-P1612=0,C1612=0),\"\",MAX($P$2:P1612)-P1612)","v":""}]
[1612,null,null,null,null,null,null,null,null,null,null,null,null,0,0,0,10000,{"$f":"IF(OR(MAX($P$2:P1613)-P1613=0,C1613=0),\"\",MAX($P$2:P1613)-P1613)","v":""}]
[1613,null,null,null,null,null,null,null,null,null,null,null,null,0,0,0,10000,{"$f":"IF(OR(MAX($P$2:P1614)-P1614=0,C1614=0),\"\",MAX($P$2:P1614)-P1614)","v":""}]
[1614,null,null,null,null,null,null,null,null,null,null,null,null,0,0,0,10000,{"$f":"IF(OR(MAX($P$2:P1615)-P1615=0,C1615=0),\"\",MAX($P$2:P1615)-P1615)","v":""}]
[1615,null,null,null,null,null,null,null,null,null,null,null,null,0,0,0,10000,{"$f":"IF(OR(MAX($P$2:P1616)-P1616=0,C1616=0),\"\",MAX($P$2:P1616)-P1616)","v":""}]
[1616,null,null,null,null,null,null,null,null,null,null,null,null,0,0,0,10000,{"$f":"IF(OR(MAX($P$2:P1617)-P1617=0,C1617=0),\"\",MAX($P$2:P1617)-P1617)","v":""}]
[1617,null,null,null,null,null,null,null,null,null,null,null,null,0,0,0,10000,{"$f":"IF(OR(MAX($P$2:P1618)-P1618=0,C1618=0),\"\",MAX($P$2:P1618)-P1618)","v":""}]
[1618,null,null,null,null,null,null,null,null,null,null,null,null,0,0,0,10000,{"$f":"IF(OR(MAX($P$2:P1619)-P1619=0,C1619=0),\"\",MAX($P$2:P1619)-P1619)","v":""}]
[1619,null,null,null,null,null,null,null,null,null,null,null,null,0,0,0,10000,{"$f":"IF(OR(MAX($P$2:P1620)-P1620=0,C1620=0),\"\",MAX($P$2:P1620)-P1620)","v":""}]
[1620,null,null,null,null,null,null,null,null,null,null,null,null,0,0,0,10000,{"$f":"IF(OR(MAX($P$2:P1621)-P1621=0,C1621=0),\"\",MAX($P$2:P1621)-P1621)","v":""}]
[1621,null,null,null,null,null,null,null,null,null,null,null,null,0,0,0,10000,{"$f":"IF(OR(MAX($P$2:P1622)-P1622=0,C1622=0),\"\",MAX($P$2:P1622)-P1622)","v":""}]
[1622,null,null,null,null,null,null,null,null,null,null,null,null,0,0,0,10000,{"$f":"IF(OR(MAX($P$2:P1623)-P1623=0,C1623=0),\"\",MAX($P$2:P1623)-P1623)","v":""}]
[1623,null,null,null,null,null,null,null,null,null,null,null,null,0,0,0,10000,{"$f":"IF(OR(MAX($P$2:P1624)-P1624=0,C1624=0),\"\",MAX($P$2:P1624)-P1624)","v":""}]
[1624,null,null,null,null,null,null,null,null,null,null,null,null,0,0,0,10000,{"$f":"IF(OR(MAX($P$2:P1625)-P1625=0,C1625=0),\"\",MAX($P$2:P1625)-P1625)","v":""}]
[1625,null,null,null,null,null,null,null,null,null,null,null,null,0,0,0,10000,{"$f":"IF(OR(MAX($P$2:P1626)-P1626=0,C1626=0),\"\",MAX($P$2:P1626)-P1626)","v":""}]
[1626,null,null,null,null,null,null,null,null,null,null,null,null,0,0,0,10000,{"$f":"IF(OR(MAX($P$2:P1627)-P1627=0,C1627=0),\"\",MAX($P$2:P1627)-P1627)","v":""}]
[1627,null,null,null,null,null,null,null,null,null,null,null,null,0,0,0,10000,{"$f":"IF(OR(MAX($P$2:P1628)-P1628=0,C1628=0),\"\",MAX($P$2:P1628)-P1628)","v":""}]
[1628,null,null,null,null,null,null,null,null,null,null,null,null,0,0,0,10000,{"$f":"IF(OR(MAX($P$2:P1629)-P1629=0,C1629=0),\"\",MAX($P$2:P1629)-P1629)","v":""}]
[1629,null,null,null,null,null,null,null,null,null,null,null,null,0,0,0,10000,{"$f":"IF(OR(MAX($P$2:P1630)-P1630=0,C1630=0),\"\",MAX($P$2:P1630)-P1630)","v":""}]
[1630,null,null,null,null,null,null,null,null,null,null,null,null,0,0,0,10000,{"$f":"IF(OR(MAX($P$2:P1631)-P1631=0,C1631=0),\"\",MAX($P$2:P1631)-P1631)","v":""}]
[1631,null,null,null,null,null,null,null,null,null,null,null,null,0,0,0,10000,{"$f":"IF(OR(MAX($P$2:P1632)-P1632=0,C1632=0),\"\",MAX($P$2:P1632)-P1632)","v":""}]
[1632,null,null,null,null,null,null,null,null,null,null,null,null,0,0,0,10000,{"$f":"IF(OR(MAX($P$2:P1633)-P1633=0,C1633=0),\"\",MAX($P$2:P1633)-P1633)","v":""}]
[1633,null,null,null,null,null,null,null,null,null,null,null,null,0,0,0,10000,{"$f":"IF(OR(MAX($P$2:P1634)-P1634=0,C1634=0),\"\",MAX($P$2:P1634)-P1634)","v":""}]
[1634,null,null,null,null,null,null,null,null,null,null,null,null,0,0,0,10000,{"$f":"IF(OR(MAX($P$2:P1635)-P1635=0,C1635=0),\"\",MAX($P$2:P1635)-P1635)","v":""}]
[1635,null,null,null,null,null,null,null,null,null,null,null,null,0,0,0,10000,{"$f":"IF(OR(MAX($P$2:P1636)-P1636=0,C1636=0),\"\",MAX($P$2:P1636)-P1636)","v":""}]
[1636,null,null,null,null,null,null,null,null,null,null,null,null,0,0,0,10000,{"$f":"IF(OR(MAX($P$2:P1637)-P1637=0,C1637=0),\"\",MAX($P$2:P1637)-P1637)","v":""}]
[1637,null,null,null,null,null,null,null,null,null,null,null,null,0,0,0,10000,{"$f":"IF(OR(MAX($P$2:P1638)-P1638=0,C1638=0),\"\",MAX($P$2:P1638)-P1638)","v":""}]
[1638,null,null,null,null,null,null,null,null,null,null,null,null,0,0,0,10000,{"$f":"IF(OR(MAX($P$2:P1639)-P1639=0,C1639=0),\"\",MAX($P$2:P1639)-P1639)","v":""}]
[1639,null,null,null,null,null,null,null,null,null,null,null,null,0,0,0,10000,{"$f":"IF(OR(MAX($P$2:P1640)-P1640=0,C1640=0),\"\",MAX($P$2:P1640)-P1640)","v":""}]
[1640,null,null,null,null,null,null,null,null,null,null,null,null,0,0,0,10000,{"$f":"IF(OR(MAX($P$2:P1641)-P1641=0,C1641=0),\"\",MAX($P$2:P1641)-P1641)","v":""}]
[1641,null,null,null,null,null,null,null,null,null,null,null,null,0,0,0,10000,{"$f":"IF(OR(MAX($P$2:P1642)-P1642=0,C1642=0),\"\",MAX($P$2:P1642)-P1642)","v":""}]
[1642,null,null,null,null,null,null,null,null,null,null,null,null,0,0,0,10000,{"$f":"IF(OR(MAX($P$2:P1643)-P1643=0,C1643=0),\"\",MAX($P$2:P1643)-P1643)","v":""}]
[1643,null,null,null,null,null,null,null,null,null,null,null,null,0,0,0,10000,{"$f":"IF(OR(MAX($P$2:P1644)-P1644=0,C1644=0),\"\",MAX($P$2:P1644)-P1644)","v":""}]
[1644,null,null,null,null,null,null,null,null,null,null,null,null,0,0,0,10000,{"$f":"IF(OR(MAX($P$2:P1645)-P1645=0,C1645=0),\"\",MAX($P$2:P1645)-P1645)","v":""}]
[1645,null,null,null,null,null,null,null,null,null,null,null,null,0,0,0,10000,{"$f":"IF(OR(MAX($P$2:P1646)-P1646=0,C1646=0),\"\",MAX($P$2:P1646)-P1646)","v":""}]
[1646,null,null,null,null,null,null,null,null,null,null,null,null,0,0,0,10000,{"$f":"IF(OR(MAX($P$2:P1647)-P1647=0,C1647=0),\"\",MAX($P$2:P1647)-P1647)","v":""}]
[1647,null,null,null,null,null,null,null,null,null,null,null,null,0,0,0,10000,{"$f":"IF(OR(MAX($P$2:P1648)-P1648=0,C1648=0),\"\",MAX($P$2:P1648)-P1648)","v":""}]
[1648,null,null,null,null,null,null,null,null,null,null,null,null,0,0,0,10000,{"$f":"IF(OR(MAX($P$2:P1649)-P1649=0,C1649=0),\"\",MAX($P$2:P1649)-P1649)","v":""}]
[1649,null,null,null,null,null,null,null,null,null,null,null,null,0,0,0,10000,{"$f":"IF(OR(MAX($P$2:P1650)-P1650=0,C1650=0),\"\",MAX($P$2:P1650)-P1650)","v":""}]
[1650,null,null,null,null,null,null,null,null,null,null,null,null,0,0,0,10000,{"$f":"IF(OR(MAX($P$2:P1651)-P1651=0,C1651=0),\"\",MAX($P$2:P1651)-P1651)","v":""}]
[1651,null,null,null,null,null,null,null,null,null,null,null,null,0,0,0,10000,{"$f":"IF(OR(MAX($P$2:P1652)-P1652=0,C1652=0),\"\",MAX($P$2:P1652)-P1652)","v":""}]
[1652,null,null,null,null,null,null,null,null,null,null,null,null,0,0,0,10000,{"$f":"IF(OR(MAX($P$2:P1653)-P1653=0,C1653=0),\"\",MAX($P$2:P1653)-P1653)","v":""}]
[1653,null,null,null,null,null,null,null,null,null,null,null,null,0,0,0,10000,{"$f":"IF(OR(MAX($P$2:P1654)-P1654=0,C1654=0),\"\",MAX($P$2:P1654)-P1654)","v":""}]
[1654,null,null,null,null,null,null,null,null,null,null,null,null,0,0,0,10000,{"$f":"IF(OR(MAX($P$2:P1655)-P1655=0,C1655=0),\"\",MAX($P$2:P1655)-P1655)","v":""}]
[1655,null,null,null,null,null,null,null,null,null,null,null,null,0,0,0,10000,{"$f":"IF(OR(MAX($P$2:P1656)-P1656=0,C1656=0),\"\",MAX($P$2:P1656)-P1656)","v":""}]
[1656,null,null,null,null,null,null,null,null,null,null,null,null,0,0,0,10000,{"$f":"IF(OR(MAX($P$2:P1657)-P1657=0,C1657=0),\"\",MAX($P$2:P1657)-P1657)","v":""}]
[1657,null,null,null,null,null,null,null,null,null,null,null,null,0,0,0,10000,{"$f":"IF(OR(MAX($P$2:P1658)-P1658=0,C1658=0),\"\",MAX($P$2:P1658)-P1658)","v":""}]
[1658,null,null,null,null,null,null,null,null,null,null,null,null,0,0,0,10000,{"$f":"IF(OR(MAX($P$2:P1659)-P1659=0,C1659=0),\"\",MAX($P$2:P1659)-P1659)","v":""}]
[1659,null,null,null,null,null,null,null,null,null,null,null,null,0,0,0,10000,{"$f":"IF(OR(MAX($P$2:P1660)-P1660=0,C1660=0),\"\",MAX($P$2:P1660)-P1660)","v":""}]
[1660,null,null,null,null,null,null,null,null,null,null,null,null,0,0,0,10000,{"$f":"IF(OR(MAX($P$2:P1661)-P1661=0,C1661=0),\"\",MAX($P$2:P1661)-P1661)","v":""}]
[1661,null,null,null,null,null,null,null,null,null,null,null,null,0,0,0,10000,{"$f":"IF(OR(MAX($P$2:P1662)-P1662=0,C1662=0),\"\",MAX($P$2:P1662)-P1662)","v":""}]
[1662,null,null,null,null,null,null,null,null,null,null,null,null,0,0,0,10000,{"$f":"IF(OR(MAX($P$2:P1663)-P1663=0,C1663=0),\"\",MAX($P$2:P1663)-P1663)","v":""}]
[1663,null,null,null,null,null,null,null,null,null,null,null,null,0,0,0,10000,{"$f":"IF(OR(MAX($P$2:P1664)-P1664=0,C1664=0),\"\",MAX($P$2:P1664)-P1664)","v":""}]
[1664,null,null,null,null,null,null,null,null,null,null,null,null,0,0,0,10000,{"$f":"IF(OR(MAX($P$2:P1665)-P1665=0,C1665=0),\"\",MAX($P$2:P1665)-P1665)","v":""}]
[1665,null,null,null,null,null,null,null,null,null,null,null,null,0,0,0,10000,{"$f":"IF(OR(MAX($P$2:P1666)-P1666=0,C1666=0),\"\",MAX($P$2:P1666)-P1666)","v":""}]
[1666,null,null,null,null,null,null,null,null,null,null,null,null,0,0,0,10000,{"$f":"IF(OR(MAX($P$2:P1667)-P1667=0,C1667=0),\"\",MAX($P$2:P1667)-P1667)","v":""}]
[1667,null,null,null,null,null,null,null,null,null,null,null,null,0,0,{"$f":"P1667+N1668-O1668","v":0},{"$f":"Q1667+N1668-O1668","v":10000},{"$f":"IF(OR(MAX($P$2:P1668)-P1668=0,C1668=0),\"\",MAX($P$2:P1668)-P1668)","v":""}]
[1668,null,null,null,null,null,null,null,null,null,null,null,null,0,0,0,10000,{"$f":"IF(OR(MAX($P$2:P1669)-P1669=0,C1669=0),\"\",MAX($P$2:P1669)-P1669)","v":""}]
[1669,null,null,null,null,null,null,null,null,null,null,null,null,{"$f":"IF(B1670=1,I1670+J1670+K1670+L1670-M1670,0)","v":0},0,0,10000,{"$f":"IF(OR(MAX($P$2:P1670)-P1670=0,C1670=0),\"\",MAX($P$2:P1670)-P1670)","v":""}]
[1670,null,null,null,null,null,null,null,null,null,null,null,null,0,0,0,10000,{"$f":"IF(OR(MAX($P$2:P1671)-P1671=0,C1671=0),\"\",MAX($P$2:P1671)-P1671)","v":""}]
[1671,null,null,null,null,null,null,null,null,null,null,null,null,0,0,0,10000,{"$f":"IF(OR(MAX($P$2:P1672)-P1672=0,C1672=0),\"\",MAX($P$2:P1672)-P1672)","v":""}]
[1672,null,null,null,null,null,null,null,null,null,null,null,null,0,0,0,10000,{"$f":"IF(OR(MAX($P$2:P1673)-P1673=0,C1673=0),\"\",MAX($P$2:P1673)-P1673)","v":""}]
[1673,null,null,null,null,null,null,null,null,null,null,null,null,0,0,0,10000,{"$f":"IF(OR(MAX($P$2:P1674)-P1674=0,C1674=0),\"\",MAX($P$2:P1674)-P1674)","v":""}]
[1674,null,null,null,null,null,null,null,null,null,null,null,null,0,0,0,10000,{"$f":"IF(OR(MAX($P$2:P1675)-P1675=0,C1675=0),\"\",MAX($P$2:P1675)-P1675)","v":""}]
[1675,null,null,null,null,null,null,null,null,null,null,null,null,0,0,0,10000,{"$f":"IF(OR(MAX($P$2:P1676)-P1676=0,C1676=0),\"\",MAX($P$2:P1676)-P1676)","v":""}]
[1676,null,null,null,null,null,null,null,null,null,null,null,null,0,0,0,10000,{"$f":"IF(OR(MAX($P$2:P1677)-P1677=0,C1677=0),\"\",MAX($P$2:P1677)-P1677)","v":""}]
[1677,null,null,null,null,null,null,null,null,null,null,null,null,0,0,0,10000,{"$f":"IF(OR(MAX($P$2:P1678)-P1678=0,C1678=0),\"\",MAX($P$2:P1678)-P1678)","v":""}]
[1678,null,null,null,null,null,null,null,null,null,null,null,null,0,0,0,10000,{"$f":"IF(OR(MAX($P$2:P1679)-P1679=0,C1679=0),\"\",MAX($P$2:P1679)-P1679)","v":""}]
[1679,null,null,null,null,null,null,null,null,null,null,null,null,0,0,0,10000,{"$f":"IF(OR(MAX($P$2:P1680)-P1680=0,C1680=0),\"\",MAX($P$2:P1680)-P1680)","v":""}]
[1680,null,null,null,null,null,null,null,null,null,null,null,null,0,0,0,10000,{"$f":"IF(OR(MAX($P$2:P1681)-P1681=0,C1681=0),\"\",MAX($P$2:P1681)-P1681)","v":""}]
[1681,null,null,null,null,null,null,null,null,null,null,null,null,0,0,0,10000,{"$f":"IF(OR(MAX($P$2:P1682)-P1682=0,C1682=0),\"\",MAX($P$2:P1682)-P1682)","v":""}]
[1682,null,null,null,null,null,null,null,null,null,null,null,null,0,0,0,10000,{"$f":"IF(OR(MAX($P$2:P1683)-P1683=0,C1683=0),\"\",MAX($P$2:P1683)-P1683)","v":""}]
[1683,null,null,null,null,null,null,null,null,null,null,null,null,0,0,0,10000,{"$f":"IF(OR(MAX($P$2:P1684)-P1684=0,C1684=0),\"\",MAX($P$2:P1684)-P1684)","v":""}]
[1684,null,null,null,null,null,null,null,null,null,null,null,null,0,0,0,10000,{"$f":"IF(OR(MAX($P$2:P1685)-P1685=0,C1685=0),\"\",MAX($P$2:P1685)-P1685)","v":""}]
[1685,null,null,null,null,null,null,null,null,null,null,null,null,0,0,0,10000,{"$f":"IF(OR(MAX($P$2:P1686)-P1686=0,C1686=0),\"\",MAX($P$2:P1686)-P1686)","v":""}]
[1686,null,null,null,null,null,null,null,null,null,null,null,null,0,0,0,10000,{"$f":"IF(OR(MAX($P$2:P1687)-P1687=0,C1687=0),\"\",MAX($P$2:P1687)-P1687)","v":""}]
[1687,null,null,null,null,null,null,null,null,null,null,null,null,0,0,0,10000,{"$f":"IF(OR(MAX($P$2:P1688)-P1688=0,C1688=0),\"\",MAX($P$2:P1688)-P1688)","v":""}]
[1688,null,null,null,null,null,null,null,null,null,null,null,null,0,0,0,10000,{"$f":"IF(OR(MAX($P$2:P1689)-P1689=0,C1689=0),\"\",MAX($P$2:P1689)-P1689)","v":""}]
[1689,null,null,null,null,null,null,null,null,null,null,null,null,0,0,0,10000,{"$f":"IF(OR(MAX($P$2:P1690)-P1690=0,C1690=0),\"\",MAX($P$2:P1690)-P1690)","v":""}]
[1690,null,null,null,null,null,null,null,null,null,null,null,null,0,0,0,10000,{"$f":"IF(OR(MAX($P$2:P1691)-P1691=0,C1691=0),\"\",MAX($P$2:P1691)-P1691)","v":""}]
[1691,null,null,null,null,null,null,null,null,null,null,null,null,0,0,0,10000,{"$f":"IF(OR(MAX($P$2:P1692)-P1692=0,C1692=0),\"\",MAX($P$2:P1692)-P1692)","v":""}]
[1692,null,null,null,null,null,null,null,null,null,null,null,null,0,0,0,10000,{"$f":"IF(OR(MAX($P$2:P1693)-P1693=0,C1693=0),\"\",MAX($P$2:P1693)-P1693)","v":""}]
[1693,null,null,null,null,null,null,null,null,null,null,null,null,0,0,0,10000,{"$f":"IF(OR(MAX($P$2:P1694)-P1694=0,C1694=0),\"\",MAX($P$2:P1694)-P1694)","v":""}]
[1694,null,null,null,null,null,null,null,null,null,null,null,null,0,0,0,10000,{"$f":"IF(OR(MAX($P$2:P1695)-P1695=0,C1695=0),\"\",MAX($P$2:P1695)-P1695)","v":""}]
[1695,null,null,null,null,null,null,null,null,null,null,null,null,0,0,0,10000,{"$f":"IF(OR(MAX($P$2:P1696)-P1696=0,C1696=0),\"\",MAX($P$2:P1696)-P1696)","v":""}]
[1696,null,null,null,null,null,null,null,null,null,null,null,null,0,0,0,10000,{"$f":"IF(OR(MAX($P$2:P1697)-P1697=0,C1697=0),\"\",MAX($P$2:P1697)-P1697)","v":""}]
[1697,null,null,null,null,null,null,null,null,null,null,null,null,0,0,0,10000,{"$f":"IF(OR(MAX($P$2:P1698)-P1698=0,C1698=0),\"\",MAX($P$2:P1698)-P1698)","v":""}]
[1698,null,null,null,null,null,null,null,null,null,null,null,null,0,0,0,10000,{"$f":"IF(OR(MAX($P$2:P1699)-P1699=0,C1699=0),\"\",MAX($P$2:P1699)-P1699)","v":""}]
[1699,null,null,null,null,null,null,null,null,null,null,null,null,0,0,0,10000,{"$f":"IF(OR(MAX($P$2:P1700)-P1700=0,C1700=0),\"\",MAX($P$2:P1700)-P1700)","v":""}]
[1700,null,null,null,null,null,null,null,null,null,null,null,null,0,0,0,10000,{"$f":"IF(OR(MAX($P$2:P1701)-P1701=0,C1701=0),\"\",MAX($P$2:P1701)-P1701)","v":""}]
[1701,null,null,null,null,null,null,null,null,null,null,null,null,0,0,0,10000,{"$f":"IF(OR(MAX($P$2:P1702)-P1702=0,C1702=0),\"\",MAX($P$2:P1702)-P1702)","v":""}]
[1702,null,null,null,null,null,null,null,null,null,null,null,null,0,0,0,10000,{"$f":"IF(OR(MAX($P$2:P1703)-P1703=0,C1703=0),\"\",MAX($P$2:P1703)-P1703)","v":""}]
[1703,null,null,null,null,null,null,null,null,null,null,null,null,0,0,0,10000,{"$f":"IF(OR(MAX($P$2:P1704)-P1704=0,C1704=0),\"\",MAX($P$2:P1704)-P1704)","v":""}]
[1704,null,null,null,null,null,null,null,null,null,null,null,null,0,0,0,10000,{"$f":"IF(OR(MAX($P$2:P1705)-P1705=0,C1705=0),\"\",MAX($P$2:P1705)-P1705)","v":""}]
[1705,null,null,null,null,null,null,null,null,null,null,null,null,0,0,0,10000,{"$f":"IF(OR(MAX($P$2:P1706)-P1706=0,C1706=0),\"\",MAX($P$2:P1706)-P1706)","v":""}]
[1706,null,null,null,null,null,null,null,null,null,null,null,null,0,0,0,10000,{"$f":"IF(OR(MAX($P$2:P1707)-P1707=0,C1707=0),\"\",MAX($P$2:P1707)-P1707)","v":""}]
[1707,null,null,null,null,null,null,null,null,null,null,null,null,0,0,0,10000,{"$f":"IF(OR(MAX($P$2:P1708)-P1708=0,C1708=0),\"\",MAX($P$2:P1708)-P1708)","v":""}]
[1708,null,null,null,null,null,null,null,null,null,null,null,null,0,0,0,10000,{"$f":"IF(OR(MAX($P$2:P1709)-P1709=0,C1709=0),\"\",MAX($P$2:P1709)-P1709)","v":""}]
[1709,null,null,null,null,null,null,null,null,null,null,null,null,0,0,0,10000,{"$f":"IF(OR(MAX($P$2:P1710)-P1710=0,C1710=0),\"\",MAX($P$2:P1710)-P1710)","v":""}]
[1710,null,null,null,null,null,null,null,null,null,null,null,null,0,0,0,10000,{"$f":"IF(OR(MAX($P$2:P1711)-P1711=0,C1711=0),\"\",MAX($P$2:P1711)-P1711)","v":""}]
[1711,null,null,null,null,null,null,null,null,null,null,null,null,0,0,0,10000,{"$f":"IF(OR(MAX($P$2:P1712)-P1712=0,C1712=0),\"\",MAX($P$2:P1712)-P1712)","v":""}]
[1712,null,null,null,null,null,null,null,null,null,null,null,null,0,0,0,10000,{"$f":"IF(OR(MAX($P$2:P1713)-P1713=0,C1713=0),\"\",MAX($P$2:P1713)-P1713)","v":""}]
[1713,null,null,null,null,null,null,null,null,null,null,null,null,0,0,0,10000,{"$f":"IF(OR(MAX($P$2:P1714)-P1714=0,C1714=0),\"\",MAX($P$2:P1714)-P1714)","v":""}]
[1714,null,null,null,null,null,null,null,null,null,null,null,null,0,0,0,10000,{"$f":"IF(OR(MAX($P$2:P1715)-P1715=0,C1715=0),\"\",MAX($P$2:P1715)-P1715)","v":""}]
[1715,null,null,null,null,null,null,null,null,null,null,null,null,0,0,0,10000,{"$f":"IF(OR(MAX($P$2:P1716)-P1716=0,C1716=0),\"\",MAX($P$2:P1716)-P1716)","v":""}]
[1716,null,null,null,null,null,null,null,null,null,null,null,null,0,0,0,10000,{"$f":"IF(OR(MAX($P$2:P1717)-P1717=0,C1717=0),\"\",MAX($P$2:P1717)-P1717)","v":""}]
[1717,null,null,null,null,null,null,null,null,null,null,null,null,0,0,0,10000,{"$f":"IF(OR(MAX($P$2:P1718)-P1718=0,C1718=0),\"\",MAX($P$2:P1718)-P1718)","v":""}]
[1718,null,null,null,null,null,null,null,null,null,null,null,null,0,0,0,10000,{"$f":"IF(OR(MAX($P$2:P1719)-P1719=0,C1719=0),\"\",MAX($P$2:P1719)-P1719)","v":""}]
[1719,null,null,null,null,null,null,null,null,null,null,null,null,0,0,0,10000,{"$f":"IF(OR(MAX($P$2:P1720)-P1720=0,C1720=0),\"\",MAX($P$2:P1720)-P1720)","v":""}]
[1720,null,null,null,null,null,null,null,null,null,null,null,null,0,0,0,10000,{"$f":"IF(OR(MAX($P$2:P1721)-P1721=0,C1721=0),\"\",MAX($P$2:P1721)-P1721)","v":""}]
[1721,null,null,null,null,null,null,null,null,null,null,null,null,0,0,0,10000,{"$f":"IF(OR(MAX($P$2:P1722)-P1722=0,C1722=0),\"\",MAX($P$2:P1722)-P1722)","v":""}]
[1722,null,null,null,null,null,null,null,null,null,null,null,null,0,0,0,10000,{"$f":"IF(OR(MAX($P$2:P1723)-P1723=0,C1723=0),\"\",MAX($P$2:P1723)-P1723)","v":""}]
[1723,null,null,null,null,null,null,null,null,null,null,null,null,0,0,0,10000,{"$f":"IF(OR(MAX($P$2:P1724)-P1724=0,C1724=0),\"\",MAX($P$2:P1724)-P1724)","v":""}]
[1724,null,null,null,null,null,null,null,null,null,null,null,null,0,0,0,10000,{"$f":"IF(OR(MAX($P$2:P1725)-P1725=0,C1725=0),\"\",MAX($P$2:P1725)-P1725)","v":""}]
[1725,null,null,null,null,null,null,null,null,null,null,null,null,0,0,0,10000,{"$f":"IF(OR(MAX($P$2:P1726)-P1726=0,C1726=0),\"\",MAX($P$2:P1726)-P1726)","v":""}]
[1726,null,null,null,null,null,null,null,null,null,null,null,null,0,0,0,10000,{"$f":"IF(OR(MAX($P$2:P1727)-P1727=0,C1727=0),\"\",MAX($P$2:P1727)-P1727)","v":""}]
[1727,null,null,null,null,null,null,null,null,null,null,null,null,0,0,0,10000,{"$f":"IF(OR(MAX($P$2:P1728)-P1728=0,C1728=0),\"\",MAX($P$2:P1728)-P1728)","v":""}]
[1728,null,null,null,null,null,null,null,null,null,null,null,null,0,0,0,10000,{"$f":"IF(OR(MAX($P$2:P1729)-P1729=0,C1729=0),\"\",MAX($P$2:P1729)-P1729)","v":""}]
[1729,null,null,null,null,null,null,null,null,null,null,null,null,0,0,0,10000,{"$f":"IF(OR(MAX($P$2:P1730)-P1730=0,C1730=0),\"\",MAX($P$2:P1730)-P1730)","v":""}]
[1730,null,null,null,null,null,null,null,null,null,null,null,null,0,0,0,10000,{"$f":"IF(OR(MAX($P$2:P1731)-P1731=0,C1731=0),\"\",MAX($P$2:P1731)-P1731)","v":""}]
[1731,null,null,null,null,null,null,null,null,null,null,null,null,0,0,{"$f":"P1731+N1732-O1732","v":0},{"$f":"Q1731+N1732-O1732","v":10000},{"$f":"IF(OR(MAX($P$2:P1732)-P1732=0,C1732=0),\"\",MAX($P$2:P1732)-P1732)","v":""}]
[1732,null,null,null,null,null,null,null,null,null,null,null,null,0,0,0,10000,{"$f":"IF(OR(MAX($P$2:P1733)-P1733=0,C1733=0),\"\",MAX($P$2:P1733)-P1733)","v":""}]
[1733,null,null,null,null,null,null,null,null,null,null,null,null,{"$f":"IF(B1734=1,I1734+J1734+K1734+L1734-M1734,0)","v":0},0,0,10000,{"$f":"IF(OR(MAX($P$2:P1734)-P1734=0,C1734=0),\"\",MAX($P$2:P1734)-P1734)","v":""}]
[1734,null,null,null,null,null,null,null,null,null,null,null,null,0,0,0,10000,{"$f":"IF(OR(MAX($P$2:P1735)-P1735=0,C1735=0),\"\",MAX($P$2:P1735)-P1735)","v":""}]
[1735,null,null,null,null,null,null,null,null,null,null,null,null,0,0,0,10000,{"$f":"IF(OR(MAX($P$2:P1736)-P1736=0,C1736=0),\"\",MAX($P$2:P1736)-P1736)","v":""}]
[1736,null,null,null,null,null,null,null,null,null,null,null,null,0,0,0,10000,{"$f":"IF(OR(MAX($P$2:P1737)-P1737=0,C1737=0),\"\",MAX($P$2:P1737)-P1737)","v":""}]
[1737,null,null,null,null,null,null,null,null,null,null,null,null,0,0,0,10000,{"$f":"IF(OR(MAX($P$2:P1738)-P1738=0,C1738=0),\"\",MAX($P$2:P1738)-P1738)","v":""}]
[1738,null,null,null,null,null,null,null,null,null,null,null,null,0,0,0,10000,{"$f":"IF(OR(MAX($P$2:P1739)-P1739=0,C1739=0),\"\",MAX($P$2:P1739)-P1739)","v":""}]
[1739,null,null,null,null,null,null,null,null,null,null,null,null,0,0,0,10000,{"$f":"IF(OR(MAX($P$2:P1740)-P1740=0,C1740=0),\"\",MAX($P$2:P1740)-P1740)","v":""}]
[1740,null,null,null,null,null,null,null,null,null,null,null,null,0,0,0,10000,{"$f":"IF(OR(MAX($P$2:P1741)-P1741=0,C1741=0),\"\",MAX($P$2:P1741)-P1741)","v":""}]
[1741,null,null,null,null,null,null,null,null,null,null,null,null,0,0,0,10000,{"$f":"IF(OR(MAX($P$2:P1742)-P1742=0,C1742=0),\"\",MAX($P$2:P1742)-P1742)","v":""}]
[1742,null,null,null,null,null,null,null,null,null,null,null,null,0,0,0,10000,{"$f":"IF(OR(MAX($P$2:P1743)-P1743=0,C1743=0),\"\",MAX($P$2:P1743)-P1743)","v":""}]
[1743,null,null,null,null,null,null,null,null,null,null,null,null,0,0,0,10000,{"$f":"IF(OR(MAX($P$2:P1744)-P1744=0,C1744=0),\"\",MAX($P$2:P1744)-P1744)","v":""}]
[1744,null,null,null,null,null,null,null,null,null,null,null,null,0,0,0,10000,{"$f":"IF(OR(MAX($P$2:P1745)-P1745=0,C1745=0),\"\",MAX($P$2:P1745)-P1745)","v":""}]
[1745,null,null,null,null,null,null,null,null,null,null,null,null,0,0,0,10000,{"$f":"IF(OR(MAX($P$2:P1746)-P1746=0,C1746=0),\"\",MAX($P$2:P1746)-P1746)","v":""}]
[1746,null,null,null,null,null,null,null,null,null,null,null,null,0,0,0,10000,{"$f":"IF(OR(MAX($P$2:P1747)-P1747=0,C1747=0),\"\",MAX($P$2:P1747)-P1747)","v":""}]
[1747,null,null,null,null,null,null,null,null,null,null,null,null,0,0,0,10000,{"$f":"IF(OR(MAX($P$2:P1748)-P1748=0,C1748=0),\"\",MAX($P$2:P1748)-P1748)","v":""}]
[1748,null,null,null,null,null,null,null,null,null,null,null,null,0,0,0,10000,{"$f":"IF(OR(MAX($P$2:P1749)-P1749=0,C1749=0),\"\",MAX($P$2:P1749)-P1749)","v":""}]
[1749,null,null,null,null,null,null,null,null,null,null,null,null,0,0,0,10000,{"$f":"IF(OR(MAX($P$2:P1750)-P1750=0,C1750=0),\"\",MAX($P$2:P1750)-P1750)","v":""}]
[1750,null,null,null,null,null,null,null,null,null,null,null,null,0,0,0,10000,{"$f":"IF(OR(MAX($P$2:P1751)-P1751=0,C1751=0),\"\",MAX($P$2:P1751)-P1751)","v":""}]
[1751,null,null,null,null,null,null,null,null,null,null,null,null,0,0,0,10000,{"$f":"IF(OR(MAX($P$2:P1752)-P1752=0,C1752=0),\"\",MAX($P$2:P1752)-P1752)","v":""}]
[1752,null,null,null,null,null,null,null,null,null,null,null,null,0,0,0,10000,{"$f":"IF(OR(MAX($P$2:P1753)-P1753=0,C1753=0),\"\",MAX($P$2:P1753)-P1753)","v":""}]
[1753,null,null,null,null,null,null,null,null,null,null,null,null,0,0,0,10000,{"$f":"IF(OR(MAX($P$2:P1754)-P1754=0,C1754=0),\"\",MAX($P$2:P1754)-P1754)","v":""}]
[1754,null,null,null,null,null,null,null,null,null,null,null,null,0,0,0,10000,{"$f":"IF(OR(MAX($P$2:P1755)-P1755=0,C1755=0),\"\",MAX($P$2:P1755)-P1755)","v":""}]
[1755,null,null,null,null,null,null,null,null,null,null,null,null,0,0,0,10000,{"$f":"IF(OR(MAX($P$2:P1756)-P1756=0,C1756=0),\"\",MAX($P$2:P1756)-P1756)","v":""}]
[1756,null,null,null,null,null,null,null,null,null,null,null,null,0,0,0,10000,{"$f":"IF(OR(MAX($P$2:P1757)-P1757=0,C1757=0),\"\",MAX($P$2:P1757)-P1757)","v":""}]
[1757,null,null,null,null,null,null,null,null,null,null,null,null,0,0,0,10000,{"$f":"IF(OR(MAX($P$2:P1758)-P1758=0,C1758=0),\"\",MAX($P$2:P1758)-P1758)","v":""}]
[1758,null,null,null,null,null,null,null,null,null,null,null,null,0,0,0,10000,{"$f":"IF(OR(MAX($P$2:P1759)-P1759=0,C1759=0),\"\",MAX($P$2:P1759)-P1759)","v":""}]
[1759,null,null,null,null,null,null,null,null,null,null,null,null,0,0,0,10000,{"$f":"IF(OR(MAX($P$2:P1760)-P1760=0,C1760=0),\"\",MAX($P$2:P1760)-P1760)","v":""}]
[1760,null,null,null,null,null,null,null,null,null,null,null,null,0,0,0,10000,{"$f":"IF(OR(MAX($P$2:P1761)-P1761=0,C1761=0),\"\",MAX($P$2:P1761)-P1761)","v":""}]
[1761,null,null,null,null,null,null,null,null,null,null,null,null,0,0,0,10000,{"$f":"IF(OR(MAX($P$2:P1762)-P1762=0,C1762=0),\"\",MAX($P$2:P1762)-P1762)","v":""}]
[1762,null,null,null,null,null,null,null,null,null,null,null,null,0,0,0,10000,{"$f":"IF(OR(MAX($P$2:P1763)-P1763=0,C1763=0),\"\",MAX($P$2:P1763)-P1763)","v":""}]
[1763,null,null,null,null,null,null,null,null,null,null,null,null,0,0,0,10000,{"$f":"IF(OR(MAX($P$2:P1764)-P1764=0,C1764=0),\"\",MAX($P$2:P1764)-P1764)","v":""}]
[1764,null,null,null,null,null,null,null,null,null,null,null,null,0,0,0,10000,{"$f":"IF(OR(MAX($P$2:P1765)-P1765=0,C1765=0),\"\",MAX($P$2:P1765)-P1765)","v":""}]
[1765,null,null,null,null,null,null,null,null,null,null,null,null,0,0,0,10000,{"$f":"IF(OR(MAX($P$2:P1766)-P1766=0,C1766=0),\"\",MAX($P$2:P1766)-P1766)","v":""}]
[1766,null,null,null,null,null,null,null,null,null,null,null,null,0,0,0,10000,{"$f":"IF(OR(MAX($P$2:P1767)-P1767=0,C1767=0),\"\",MAX($P$2:P1767)-P1767)","v":""}]
[1767,null,null,null,null,null,null,null,null,null,null,null,null,0,0,0,10000,{"$f":"IF(OR(MAX($P$2:P1768)-P1768=0,C1768=0),\"\",MAX($P$2:P1768)-P1768)","v":""}]
[1768,null,null,null,null,null,null,null,null,null,null,null,null,0,0,0,10000,{"$f":"IF(OR(MAX($P$2:P1769)-P1769=0,C1769=0),\"\",MAX($P$2:P1769)-P1769)","v":""}]
[1769,null,null,null,null,null,null,null,null,null,null,null,null,0,0,0,10000,{"$f":"IF(OR(MAX($P$2:P1770)-P1770=0,C1770=0),\"\",MAX($P$2:P1770)-P1770)","v":""}]
[1770,null,null,null,null,null,null,null,null,null,null,null,null,0,0,0,10000,{"$f":"IF(OR(MAX($P$2:P1771)-P1771=0,C1771=0),\"\",MAX($P$2:P1771)-P1771)","v":""}]
[1771,null,null,null,null,null,null,null,null,null,null,null,null,0,0,0,10000,{"$f":"IF(OR(MAX($P$2:P1772)-P1772=0,C1772=0),\"\",MAX($P$2:P1772)-P1772)","v":""}]
[1772,null,null,null,null,null,null,null,null,null,null,null,null,0,0,0,10000,{"$f":"IF(OR(MAX($P$2:P1773)-P1773=0,C1773=0),\"\",MAX($P$2:P1773)-P1773)","v":""}]
[1773,null,null,null,null,null,null,null,null,null,null,null,null,0,0,0,10000,{"$f":"IF(OR(MAX($P$2:P1774)-P1774=0,C1774=0),\"\",MAX($P$2:P1774)-P1774)","v":""}]
[1774,null,null,null,null,null,null,null,null,null,null,null,null,0,0,0,10000,{"$f":"IF(OR(MAX($P$2:P1775)-P1775=0,C1775=0),\"\",MAX($P$2:P1775)-P1775)","v":""}]
[1775,null,null,null,null,null,null,null,null,null,null,null,null,0,0,0,10000,{"$f":"IF(OR(MAX($P$2:P1776)-P1776=0,C1776=0),\"\",MAX($P$2:P1776)-P1776)","v":""}]
[1776,null,null,null,null,null,null,null,null,null,null,null,null,0,0,0,10000,{"$f":"IF(OR(MAX($P$2:P1777)-P1777=0,C1777=0),\"\",MAX($P$2:P1777)-P1777)","v":""}]
[1777,null,null,null,null,null,null,null,null,null,null,null,null,0,0,0,10000,{"$f":"IF(OR(MAX($P$2:P1778)-P1778=0,C1778=0),\"\",MAX($P$2:P1778)-P1778)","v":""}]
[1778,null,null,null,null,null,null,null,null,null,null,null,null,0,0,0,10000,{"$f":"IF(OR(MAX($P$2:P1779)-P1779=0,C1779=0),\"\",MAX($P$2:P1779)-P1779)","v":""}]
[1779,null,null,null,null,null,null,null,null,null,null,null,null,0,0,0,10000,{"$f":"IF(OR(MAX($P$2:P1780)-P1780=0,C1780=0),\"\",MAX($P$2:P1780)-P1780)","v":""}]
[1780,null,null,null,null,null,null,null,null,null,null,null,null,0,0,0,10000,{"$f":"IF(OR(MAX($P$2:P1781)-P1781=0,C1781=0),\"\",MAX($P$2:P1781)-P1781)","v":""}]
[1781,null,null,null,null,null,null,null,null,null,null,null,null,0,0,0,10000,{"$f":"IF(OR(MAX($P$2:P1782)-P1782=0,C1782=0),\"\",MAX($P$2:P1782)-P1782)","v":""}]
[1782,null,null,null,null,null,null,null,null,null,null,null,null,0,0,0,10000,{"$f":"IF(OR(MAX($P$2:P1783)-P1783=0,C1783=0),\"\",MAX($P$2:P1783)-P1783)","v":""}]
[1783,null,null,null,null,null,null,null,null,null,null,null,null,0,0,0,10000,{"$f":"IF(OR(MAX($P$2:P1784)-P1784=0,C1784=0),\"\",MAX($P$2:P1784)-P1784)","v":""}]
[1784,null,null,null,null,null,null,null,null,null,null,null,null,0,0,0,10000,{"$f":"IF(OR(MAX($P$2:P1785)-P1785=0,C1785=0),\"\",MAX($P$2:P1785)-P1785)","v":""}]
[1785,null,null,null,null,null,null,null,null,null,null,null,null,0,0,0,10000,{"$f":"IF(OR(MAX($P$2:P1786)-P1786=0,C1786=0),\"\",MAX($P$2:P1786)-P1786)","v":""}]
[1786,null,null,null,null,null,null,null,null,null,null,null,null,0,0,0,10000,{"$f":"IF(OR(MAX($P$2:P1787)-P1787=0,C1787=0),\"\",MAX($P$2:P1787)-P1787)","v":""}]
[1787,null,null,null,null,null,null,null,null,null,null,null,null,0,0,0,10000,{"$f":"IF(OR(MAX($P$2:P1788)-P1788=0,C1788=0),\"\",MAX($P$2:P1788)-P1788)","v":""}]
[1788,null,null,null,null,null,null,null,null,null,null,null,null,0,0,0,10000,{"$f":"IF(OR(MAX($P$2:P1789)-P1789=0,C1789=0),\"\",MAX($P$2:P1789)-P1789)","v":""}]
[1789,null,null,null,null,null,null,null,null,null,null,null,null,0,0,0,10000,{"$f":"IF(OR(MAX($P$2:P1790)-P1790=0,C1790=0),\"\",MAX($P$2:P1790)-P1790)","v":""}]
[1790,null,null,null,null,null,null,null,null,null,null,null,null,0,0,0,10000,{"$f":"IF(OR(MAX($P$2:P1791)-P1791=0,C1791=0),\"\",MAX($P$2:P1791)-P1791)","v":""}]
[1791,null,null,null,null,null,null,null,null,null,null,null,null,0,0,0,10000,{"$f":"IF(OR(MAX($P$2:P1792)-P1792=0,C1792=0),\"\",MAX($P$2:P1792)-P1792)","v":""}]
[1792,null,null,null,null,null,null,null,null,null,null,null,null,0,0,0,10000,{"$f":"IF(OR(MAX($P$2:P1793)-P1793=0,C1793=0),\"\",MAX($P$2:P1793)-P1793)","v":""}]
[1793,null,null,null,null,null,null,null,null,null,null,null,null,0,0,0,10000,{"$f":"IF(OR(MAX($P$2:P1794)-P1794=0,C1794=0),\"\",MAX($P$2:P1794)-P1794)","v":""}]
[1794,null,null,null,null,null,null,null,null,null,null,null,null,0,0,0,10000,{"$f":"IF(OR(MAX($P$2:P1795)-P1795=0,C1795=0),\"\",MAX($P$2:P1795)-P1795)","v":""}]
[1795,null,null,null,null,null,null,null,null,null,null,null,null,0,0,{"$f":"P1795+N1796-O1796","v":0},{"$f":"Q1795+N1796-O1796","v":10000},{"$f":"IF(OR(MAX($P$2:P1796)-P1796=0,C1796=0),\"\",MAX($P$2:P1796)-P1796)","v":""}]
[1796,null,null,null,null,null,null,null,null,null,null,null,null,0,0,0,10000,{"$f":"IF(OR(MAX($P$2:P1797)-P1797=0,C1797=0),\"\",MAX($P$2:P1797)-P1797)","v":""}]
[1797,null,null,null,null,null,null,null,null,null,null,null,null,{"$f":"IF(B1798=1,I1798+J1798+K1798+L1798-M1798,0)","v":0},0,0,10000,{"$f":"IF(OR(MAX($P$2:P1798)-P1798=0,C1798=0),\"\",MAX($P$2:P1798)-P1798)","v":""}]
[1798,null,null,null,null,null,null,null,null,null,null,null,null,0,0,0,10000,{"$f":"IF(OR(MAX($P$2:P1799)-P1799=0,C1799=0),\"\",MAX($P$2:P1799)-P1799)","v":""}]
[1799,null,null,null,null,null,null,null,null,null,null,null,null,0,0,0,10000,{"$f":"IF(OR(MAX($P$2:P1800)-P1800=0,C1800=0),\"\",MAX($P$2:P1800)-P1800)","v":""}]
[1800,null,null,null,null,null,null,null,null,null,null,null,null,0,0,0,10000,{"$f":"IF(OR(MAX($P$2:P1801)-P1801=0,C1801=0),\"\",MAX($P$2:P1801)-P1801)","v":""}]
[1801,null,null,null,null,null,null,null,null,null,null,null,null,0,0,0,10000,{"$f":"IF(OR(MAX($P$2:P1802)-P1802=0,C1802=0),\"\",MAX($P$2:P1802)-P1802)","v":""}]
[1802,null,null,null,null,null,null,null,null,null,null,null,null,0,0,0,10000,{"$f":"IF(OR(MAX($P$2:P1803)-P1803=0,C1803=0),\"\",MAX($P$2:P1803)-P1803)","v":""}]
[1803,null,null,null,null,null,null,null,null,null,null,null,null,0,0,0,10000,{"$f":"IF(OR(MAX($P$2:P1804)-P1804=0,C1804=0),\"\",MAX($P$2:P1804)-P1804)","v":""}]
[1804,null,null,null,null,null,null,null,null,null,null,null,null,0,0,0,10000,{"$f":"IF(OR(MAX($P$2:P1805)-P1805=0,C1805=0),\"\",MAX($P$2:P1805)-P1805)","v":""}]
[1805,null,null,null,null,null,null,null,null,null,null,null,null,0,0,0,10000,{"$f":"IF(OR(MAX($P$2:P1806)-P1806=0,C1806=0),\"\",MAX($P$2:P1806)-P1806)","v":""}]
[1806,null,null,null,null,null,null,null,null,null,null,null,null,0,0,0,10000,{"$f":"IF(OR(MAX($P$2:P1807)-P1807=0,C1807=0),\"\",MAX($P$2:P1807)-P1807)","v":""}]
[1807,null,null,null,null,null,null,null,null,null,null,null,null,0,0,0,10000,{"$f":"IF(OR(MAX($P$2:P1808)-P1808=0,C1808=0),\"\",MAX($P$2:P1808)-P1808)","v":""}]
[1808,null,null,null,null,null,null,null,null,null,null,null,null,0,0,0,10000,{"$f":"IF(OR(MAX($P$2:P1809)-P1809=0,C1809=0),\"\",MAX($P$2:P1809)-P1809)","v":""}]
[1809,null,null,null,null,null,null,null,null,null,null,null,null,0,0,0,10000,{"$f":"IF(OR(MAX($P$2:P1810)-P1810=0,C1810=0),\"\",MAX($P$2:P1810)-P1810)","v":""}]
[1810,null,null,null,null,null,null,null,null,null,null,null,null,0,0,0,10000,{"$f":"IF(OR(MAX($P$2:P1811)-P1811=0,C1811=0),\"\",MAX($P$2:P1811)-P1811)","v":""}]
[1811,null,null,null,null,null,null,null,null,null,null,null,null,0,0,0,10000,{"$f":"IF(OR(MAX($P$2:P1812)-P1812=0,C1812=0),\"\",MAX($P$2:P1812)-P1812)","v":""}]
[1812,null,null,null,null,null,null,null,null,null,null,null,null,0,0,0,10000,{"$f":"IF(OR(MAX($P$2:P1813)-P1813=0,C1813=0),\"\",MAX($P$2:P1813)-P1813)","v":""}]
[1813,null,null,null,null,null,null,null,null,null,null,null,null,0,0,0,10000,{"$f":"IF(OR(MAX($P$2:P1814)-P1814=0,C1814=0),\"\",MAX($P$2:P1814)-P1814)","v":""}]
[1814,null,null,null,null,null,null,null,null,null,null,null,null,0,0,0,10000,{"$f":"IF(OR(MAX($P$2:P1815)-P1815=0,C1815=0),\"\",MAX($P$2:P1815)-P1815)","v":""}]
[1815,null,null,null,null,null,null,null,null,null,null,null,null,0,0,0,10000,{"$f":"IF(OR(MAX($P$2:P1816)-P1816=0,C1816=0),\"\",MAX($P$2:P1816)-P1816)","v":""}]
[1816,null,null,null,null,null,null,null,null,null,null,null,null,0,0,0,10000,{"$f":"IF(OR(MAX($P$2:P1817)-P1817=0,C1817=0),\"\",MAX($P$2:P1817)-P1817)","v":""}]
[1817,null,null,null,null,null,null,null,null,null,null,null,null,0,0,0,10000,{"$f":"IF(OR(MAX($P$2:P1818)-P1818=0,C1818=0),\"\",MAX($P$2:P1818)-P1818)","v":""}]
[1818,null,null,null,null,null,null,null,null,null,null,null,null,0,0,0,10000,{"$f":"IF(OR(MAX($P$2:P1819)-P1819=0,C1819=0),\"\",MAX($P$2:P1819)-P1819)","v":""}]
[1819,null,null,null,null,null,null,null,null,null,null,null,null,0,0,0,10000,{"$f":"IF(OR(MAX($P$2:P1820)-P1820=0,C1820=0),\"\",MAX($P$2:P1820)-P1820)","v":""}]
[1820,null,null,null,null,null,null,null,null,null,null,null,null,0,0,0,10000,{"$f":"IF(OR(MAX($P$2:P1821)-P1821=0,C1821=0),\"\",MAX($P$2:P1821)-P1821)","v":""}]
[1821,null,null,null,null,null,null,null,null,null,null,null,null,0,0,0,10000,{"$f":"IF(OR(MAX($P$2:P1822)-P1822=0,C1822=0),\"\",MAX($P$2:P1822)-P1822)","v":""}]
[1822,null,null,null,null,null,null,null,null,null,null,null,null,0,0,0,10000,{"$f":"IF(OR(MAX($P$2:P1823)-P1823=0,C1823=0),\"\",MAX($P$2:P1823)-P1823)","v":""}]
[1823,null,null,null,null,null,null,null,null,null,null,null,null,0,0,0,10000,{"$f":"IF(OR(MAX($P$2:P1824)-P1824=0,C1824=0),\"\",MAX($P$2:P1824)-P1824)","v":""}]
[1824,null,null,null,null,null,null,null,null,null,null,null,null,0,0,0,10000,{"$f":"IF(OR(MAX($P$2:P1825)-P1825=0,C1825=0),\"\",MAX($P$2:P1825)-P1825)","v":""}]
[1825,null,null,null,null,null,null,null,null,null,null,null,null,0,0,0,10000,{"$f":"IF(OR(MAX($P$2:P1826)-P1826=0,C1826=0),\"\",MAX($P$2:P1826)-P1826)","v":""}]
[1826,null,null,null,null,null,null,null,null,null,null,null,null,0,0,0,10000,{"$f":"IF(OR(MAX($P$2:P1827)-P1827=0,C1827=0),\"\",MAX($P$2:P1827)-P1827)","v":""}]
[1827,null,null,null,null,null,null,null,null,null,null,null,null,0,0,0,10000,{"$f":"IF(OR(MAX($P$2:P1828)-P1828=0,C1828=0),\"\",MAX($P$2:P1828)-P1828)","v":""}]
[1828,null,null,null,null,null,null,null,null,null,null,null,null,0,0,0,10000,{"$f":"IF(OR(MAX($P$2:P1829)-P1829=0,C1829=0),\"\",MAX($P$2:P1829)-P1829)","v":""}]
[1829,null,null,null,null,null,null,null,null,null,null,null,null,0,0,0,10000,{"$f":"IF(OR(MAX($P$2:P1830)-P1830=0,C1830=0),\"\",MAX($P$2:P1830)-P1830)","v":""}]
[1830,null,null,null,null,null,null,null,null,null,null,null,null,0,0,0,10000,{"$f":"IF(OR(MAX($P$2:P1831)-P1831=0,C1831=0),\"\",MAX($P$2:P1831)-P1831)","v":""}]
[1831,null,null,null,null,null,null,null,null,null,null,null,null,0,0,0,10000,{"$f":"IF(OR(MAX($P$2:P1832)-P1832=0,C1832=0),\"\",MAX($P$2:P1832)-P1832)","v":""}]
[1832,null,null,null,null,null,null,null,null,null,null,null,null,0,0,0,10000,{"$f":"IF(OR(MAX($P$2:P1833)-P1833=0,C1833=0),\"\",MAX($P$2:P1833)-P1833)","v":""}]
[1833,null,null,null,null,null,null,null,null,null,null,null,null,0,0,0,10000,{"$f":"IF(OR(MAX($P$2:P1834)-P1834=0,C1834=0),\"\",MAX($P$2:P1834)-P1834)","v":""}]
[1834,null,null,null,null,null,null,null,null,null,null,null,null,0,0,0,10000,{"$f":"IF(OR(MAX($P$2:P1835)-P1835=0,C1835=0),\"\",MAX($P$2:P1835)-P1835)","v":""}]
[1835,null,null,null,null,null,null,null,null,null,null,null,null,0,0,0,10000,{"$f":"IF(OR(MAX($P$2:P1836)-P1836=0,C1836=0),\"\",MAX($P$2:P1836)-P1836)","v":""}]
[1836,null,null,null,null,null,null,null,null,null,null,null,null,0,0,0,10000,{"$f":"IF(OR(MAX($P$2:P1837)-P1837=0,C1837=0),\"\",MAX($P$2:P1837)-P1837)","v":""}]
[1837,null,null,null,null,null,null,null,null,null,null,null,null,0,0,0,10000,{"$f":"IF(OR(MAX($P$2:P1838)-P1838=0,C1838=0),\"\",MAX($P$2:P1838)-P1838)","v":""}]
[1838,null,null,null,null,null,null,null,null,null,null,null,null,0,0,0,10000,{"$f":"IF(OR(MAX($P$2:P1839)-P1839=0,C1839=0),\"\",MAX($P$2:P1839)-P1839)","v":""}]
[1839,null,null,null,null,null,null,null,null,null,null,null,null,0,0,0,10000,{"$f":"IF(OR(MAX($P$2:P1840)-P1840=0,C1840=0),\"\",MAX($P$2:P1840)-P1840)","v":""}]
[1840,null,null,null,null,null,null,null,null,null,null,null,null,0,0,0,10000,{"$f":"IF(OR(MAX($P$2:P1841)-P1841=0,C1841=0),\"\",MAX($P$2:P1841)-P1841)","v":""}]
[1841,null,null,null,null,null,null,null,null,null,null,null,null,0,0,0,10000,{"$f":"IF(OR(MAX($P$2:P1842)-P1842=0,C1842=0),\"\",MAX($P$2:P1842)-P1842)","v":""}]
[1842,null,null,null,null,null,null,null,null,null,null,null,null,0,0,0,10000,{"$f":"IF(OR(MAX($P$2:P1843)-P1843=0,C1843=0),\"\",MAX($P$2:P1843)-P1843)","v":""}]
[1843,null,null,null,null,null,null,null,null,null,null,null,null,0,0,0,10000,{"$f":"IF(OR(MAX($P$2:P1844)-P1844=0,C1844=0),\"\",MAX($P$2:P1844)-P1844)","v":""}]
[1844,null,null,null,null,null,null,null,null,null,null,null,null,0,0,0,10000,{"$f":"IF(OR(MAX($P$2:P1845)-P1845=0,C1845=0),\"\",MAX($P$2:P1845)-P1845)","v":""}]
[1845,null,null,null,null,null,null,null,null,null,null,null,null,0,0,0,10000,{"$f":"IF(OR(MAX($P$2:P1846)-P1846=0,C1846=0),\"\",MAX($P$2:P1846)-P1846)","v":""}]
[1846,null,null,null,null,null,null,null,null,null,null,null,null,0,0,0,10000,{"$f":"IF(OR(MAX($P$2:P1847)-P1847=0,C1847=0),\"\",MAX($P$2:P1847)-P1847)","v":""}]
[1847,null,null,null,null,null,null,null,null,null,null,null,null,0,0,0,10000,{"$f":"IF(OR(MAX($P$2:P1848)-P1848=0,C1848=0),\"\",MAX($P$2:P1848)-P1848)","v":""}]
[1848,null,null,null,null,null,null,null,null,null,null,null,null,0,0,0,10000,{"$f":"IF(OR(MAX($P$2:P1849)-P1849=0,C1849=0),\"\",MAX($P$2:P1849)-P1849)","v":""}]
[1849,null,null,null,null,null,null,null,null,null,null,null,null,0,0,0,10000,{"$f":"IF(OR(MAX($P$2:P1850)-P1850=0,C1850=0),\"\",MAX($P$2:P1850)-P1850)","v":""}]
[1850,null,null,null,null,null,null,null,null,null,null,null,null,0,0,0,10000,{"$f":"IF(OR(MAX($P$2:P1851)-P1851=0,C1851=0),\"\",MAX($P$2:P1851)-P1851)","v":""}]
[1851,null,null,null,null,null,null,null,null,null,null,null,null,0,0,0,10000,{"$f":"IF(OR(MAX($P$2:P1852)-P1852=0,C1852=0),\"\",MAX($P$2:P1852)-P1852)","v":""}]
[1852,null,null,null,null,null,null,null,null,null,null,null,null,0,0,0,10000,{"$f":"IF(OR(MAX($P$2:P1853)-P1853=0,C1853=0),\"\",MAX($P$2:P1853)-P1853)","v":""}]
[1853,null,null,null,null,null,null,null,null,null,null,null,null,0,0,0,10000,{"$f":"IF(OR(MAX($P$2:P1854)-P1854=0,C1854=0),\"\",MAX($P$2:P1854)-P1854)","v":""}]
[1854,null,null,null,null,null,null,null,null,null,null,null,null,0,0,0,10000,{"$f":"IF(OR(MAX($P$2:P1855)-P1855=0,C1855=0),\"\",MAX($P$2:P1855)-P1855)","v":""}]
[1855,null,null,null,null,null,null,null,null,null,null,null,null,0,0,0,10000,{"$f":"IF(OR(MAX($P$2:P1856)-P1856=0,C1856=0),\"\",MAX($P$2:P1856)-P1856)","v":""}]
[1856,null,null,null,null,null,null,null,null,null,null,null,null,0,0,0,10000,{"$f":"IF(OR(MAX($P$2:P1857)-P1857=0,C1857=0),\"\",MAX($P$2:P1857)-P1857)","v":""}]
[1857,null,null,null,null,null,null,null,null,null,null,null,null,0,0,0,10000,{"$f":"IF(OR(MAX($P$2:P1858)-P1858=0,C1858=0),\"\",MAX($P$2:P1858)-P1858)","v":""}]
[1858,null,null,null,null,null,null,null,null,null,null,null,null,0,0,0,10000,{"$f":"IF(OR(MAX($P$2:P1859)-P1859=0,C1859=0),\"\",MAX($P$2:P1859)-P1859)","v":""}]
[1859,null,null,null,null,null,null,null,null,null,null,null,null,0,0,{"$f":"P1859+N1860-O1860","v":0},{"$f":"Q1859+N1860-O1860","v":10000},{"$f":"IF(OR(MAX($P$2:P1860)-P1860=0,C1860=0),\"\",MAX($P$2:P1860)-P1860)","v":""}]
[1860,null,null,null,null,null,null,null,null,null,null,null,null,0,0,0,10000,{"$f":"IF(OR(MAX($P$2:P1861)-P1861=0,C1861=0),\"\",MAX($P$2:P1861)-P1861)","v":""}]
[1861,null,null,null,null,null,null,null,null,null,null,null,null,{"$f":"IF(B1862=1,I1862+J1862+K1862+L1862-M1862,0)","v":0},0,0,10000,{"$f":"IF(OR(MAX($P$2:P1862)-P1862=0,C1862=0),\"\",MAX($P$2:P1862)-P1862)","v":""}]
[1862,null,null,null,null,null,null,null,null,null,null,null,null,0,0,0,10000,{"$f":"IF(OR(MAX($P$2:P1863)-P1863=0,C1863=0),\"\",MAX($P$2:P1863)-P1863)","v":""}]
[1863,null,null,null,null,null,null,null,null,null,null,null,null,0,0,0,10000,{"$f":"IF(OR(MAX($P$2:P1864)-P1864=0,C1864=0),\"\",MAX($P$2:P1864)-P1864)","v":""}]
[1864,null,null,null,null,null,null,null,null,null,null,null,null,0,0,0,10000,{"$f":"IF(OR(MAX($P$2:P1865)-P1865=0,C1865=0),\"\",MAX($P$2:P1865)-P1865)","v":""}]
[1865,null,null,null,null,null,null,null,null,null,null,null,null,0,0,0,10000,{"$f":"IF(OR(MAX($P$2:P1866)-P1866=0,C1866=0),\"\",MAX($P$2:P1866)-P1866)","v":""}]
[1866,null,null,null,null,null,null,null,null,null,null,null,null,0,0,0,10000,{"$f":"IF(OR(MAX($P$2:P1867)-P1867=0,C1867=0),\"\",MAX($P$2:P1867)-P1867)","v":""}]
[1867,null,null,null,null,null,null,null,null,null,null,null,null,0,0,0,10000,{"$f":"IF(OR(MAX($P$2:P1868)-P1868=0,C1868=0),\"\",MAX($P$2:P1868)-P1868)","v":""}]
[1868,null,null,null,null,null,null,null,null,null,null,null,null,0,0,0,10000,{"$f":"IF(OR(MAX($P$2:P1869)-P1869=0,C1869=0),\"\",MAX($P$2:P1869)-P1869)","v":""}]
[1869,null,null,null,null,null,null,null,null,null,null,null,null,0,0,0,10000,{"$f":"IF(OR(MAX($P$2:P1870)-P1870=0,C1870=0),\"\",MAX($P$2:P1870)-P1870)","v":""}]
[1870,null,null,null,null,null,null,null,null,null,null,null,null,0,0,0,10000,{"$f":"IF(OR(MAX($P$2:P1871)-P1871=0,C1871=0),\"\",MAX($P$2:P1871)-P1871)","v":""}]
[1871,null,null,null,null,null,null,null,null,null,null,null,null,0,0,0,10000,{"$f":"IF(OR(MAX($P$2:P1872)-P1872=0,C1872=0),\"\",MAX($P$2:P1872)-P1872)","v":""}]
[1872,null,null,null,null,null,null,null,null,null,null,null,null,0,0,0,10000,{"$f":"IF(OR(MAX($P$2:P1873)-P1873=0,C1873=0),\"\",MAX($P$2:P1873)-P1873)","v":""}]
[1873,null,null,null,null,null,null,null,null,null,null,null,null,0,0,0,10000,{"$f":"IF(OR(MAX($P$2:P1874)-P1874=0,C1874=0),\"\",MAX($P$2:P1874)-P1874)","v":""}]
[1874,null,null,null,null,null,null,null,null,null,null,null,null,0,0,0,10000,{"$f":"IF(OR(MAX($P$2:P1875)-P1875=0,C1875=0),\"\",MAX($P$2:P1875)-P1875)","v":""}]
[1875,null,null,null,null,null,null,null,null,null,null,null,null,0,0,0,10000,{"$f":"IF(OR(MAX($P$2:P1876)-P1876=0,C1876=0),\"\",MAX($P$2:P1876)-P1876)","v":""}]
[1876,null,null,null,null,null,null,null,null,null,null,null,null,0,0,0,10000,{"$f":"IF(OR(MAX($P$2:P1877)-P1877=0,C1877=0),\"\",MAX($P$2:P1877)-P1877)","v":""}]
[1877,null,null,null,null,null,null,null,null,null,null,null,null,0,0,0,10000,{"$f":"IF(OR(MAX($P$2:P1878)-P1878=0,C1878=0),\"\",MAX($P$2:P1878)-P1878)","v":""}]
[1878,null,null,null,null,null,null,null,null,null,null,null,null,0,0,0,10000,{"$f":"IF(OR(MAX($P$2:P1879)-P1879=0,C1879=0),\"\",MAX($P$2:P1879)-P1879)","v":""}]
[1879,null,null,null,null,null,null,null,null,null,null,null,null,0,0,0,10000,{"$f":"IF(OR(MAX($P$2:P1880)-P1880=0,C1880=0),\"\",MAX($P$2:P1880)-P1880)","v":""}]
[1880,null,null,null,null,null,null,null,null,null,null,null,null,0,0,0,10000,{"$f":"IF(OR(MAX($P$2:P1881)-P1881=0,C1881=0),\"\",MAX($P$2:P1881)-P1881)","v":""}]
[1881,null,null,null,null,null,null,null,null,null,null,null,null,0,0,0,10000,{"$f":"IF(OR(MAX($P$2:P1882)-P1882=0,C1882=0),\"\",MAX($P$2:P1882)-P1882)","v":""}]
[1882,null,null,null,null,null,null,null,null,null,null,null,null,0,0,0,10000,{"$f":"IF(OR(MAX($P$2:P1883)-P1883=0,C1883=0),\"\",MAX($P$2:P1883)-P1883)","v":""}]
[1883,null,null,null,null,null,null,null,null,null,null,null,null,0,0,0,10000,{"$f":"IF(OR(MAX($P$2:P1884)-P1884=0,C1884=0),\"\",MAX($P$2:P1884)-P1884)","v":""}]
[1884,null,null,null,null,null,null,null,null,null,null,null,null,0,0,0,10000,{"$f":"IF(OR(MAX($P$2:P1885)-P1885=0,C1885=0),\"\",MAX($P$2:P1885)-P1885)","v":""}]
[1885,null,null,null,null,null,null,null,null,null,null,null,null,0,0,0,10000,{"$f":"IF(OR(MAX($P$2:P1886)-P1886=0,C1886=0),\"\",MAX($P$2:P1886)-P1886)","v":""}]
[1886,null,null,null,null,null,null,null,null,null,null,null,null,0,0,0,10000,{"$f":"IF(OR(MAX($P$2:P1887)-P1887=0,C1887=0),\"\",MAX($P$2:P1887)-P1887)","v":""}]
[1887,null,null,null,null,null,null,null,null,null,null,null,null,0,0,0,10000,{"$f":"IF(OR(MAX($P$2:P1888)-P1888=0,C1888=0),\"\",MAX($P$2:P1888)-P1888)","v":""}]
[1888,null,null,null,null,null,null,null,null,null,null,null,null,0,0,0,10000,{"$f":"IF(OR(MAX($P$2:P1889)-P1889=0,C1889=0),\"\",MAX($P$2:P1889)-P1889)","v":""}]
[1889,null,null,null,null,null,null,null,null,null,null,null,null,0,0,0,10000,{"$f":"IF(OR(MAX($P$2:P1890)-P1890=0,C1890=0),\"\",MAX($P$2:P1890)-P1890)","v":""}]
[1890,null,null,null,null,null,null,null,null,null,null,null,null,0,0,0,10000,{"$f":"IF(OR(MAX($P$2:P1891)-P1891=0,C1891=0),\"\",MAX($P$2:P1891)-P1891)","v":""}]
[1891,null,null,null,null,null,null,null,null,null,null,null,null,0,0,0,10000,{"$f":"IF(OR(MAX($P$2:P1892)-P1892=0,C1892=0),\"\",MAX($P$2:P1892)-P1892)","v":""}]
[1892,null,null,null,null,null,null,null,null,null,null,null,null,0,0,0,10000,{"$f":"IF(OR(MAX($P$2:P1893)-P1893=0,C1893=0),\"\",MAX($P$2:P1893)-P1893)","v":""}]
[1893,null,null,null,null,null,null,null,null,null,null,null,null,0,0,0,10000,{"$f":"IF(OR(MAX($P$2:P1894)-P1894=0,C1894=0),\"\",MAX($P$2:P1894)-P1894)","v":""}]
[1894,null,null,null,null,null,null,null,null,null,null,null,null,0,0,0,10000,{"$f":"IF(OR(MAX($P$2:P1895)-P1895=0,C1895=0),\"\",MAX($P$2:P1895)-P1895)","v":""}]
[1895,null,null,null,null,null,null,null,null,null,null,null,null,0,0,0,10000,{"$f":"IF(OR(MAX($P$2:P1896)-P1896=0,C1896=0),\"\",MAX($P$2:P1896)-P1896)","v":""}]
[1896,null,null,null,null,null,null,null,null,null,null,null,null,0,0,0,10000,{"$f":"IF(OR(MAX($P$2:P1897)-P1897=0,C1897=0),\"\",MAX($P$2:P1897)-P1897)","v":""}]
[1897,null,null,null,null,null,null,null,null,null,null,null,null,0,0,0,10000,{"$f":"IF(OR(MAX($P$2:P1898)-P1898=0,C1898=0),\"\",MAX($P$2:P1898)-P1898)","v":""}]
[1898,null,null,null,null,null,null,null,null,null,null,null,null,0,0,0,10000,{"$f":"IF(OR(MAX($P$2:P1899)-P1899=0,C1899=0),\"\",MAX($P$2:P1899)-P1899)","v":""}]
[1899,null,null,null,null,null,null,null,null,null,null,null,null,0,0,0,10000,{"$f":"IF(OR(MAX($P$2:P1900)-P1900=0,C1900=0),\"\",MAX($P$2:P1900)-P1900)","v":""}]
[1900,null,null,null,null,null,null,null,null,null,null,null,null,0,0,0,10000,{"$f":"IF(OR(MAX($P$2:P1901)-P1901=0,C1901=0),\"\",MAX($P$2:P1901)-P1901)","v":""}]
[1901,null,null,null,null,null,null,null,null,null,null,null,null,0,0,0,10000,{"$f":"IF(OR(MAX($P$2:P1902)-P1902=0,C1902=0),\"\",MAX($P$2:P1902)-P1902)","v":""}]
[1902,null,null,null,null,null,null,null,null,null,null,null,null,0,0,0,10000,{"$f":"IF(OR(MAX($P$2:P1903)-P1903=0,C1903=0),\"\",MAX($P$2:P1903)-P1903)","v":""}]
[1903,null,null,null,null,null,null,null,null,null,null,null,null,0,0,0,10000,{"$f":"IF(OR(MAX($P$2:P1904)-P1904=0,C1904=0),\"\",MAX($P$2:P1904)-P1904)","v":""}]
[1904,null,null,null,null,null,null,null,null,null,null,null,null,0,0,0,10000,{"$f":"IF(OR(MAX($P$2:P1905)-P1905=0,C1905=0),\"\",MAX($P$2:P1905)-P1905)","v":""}]
[1905,null,null,null,null,null,null,null,null,null,null,null,null,0,0,0,10000,{"$f":"IF(OR(MAX($P$2:P1906)-P1906=0,C1906=0),\"\",MAX($P$2:P1906)-P1906)","v":""}]
[1906,null,null,null,null,null,null,null,null,null,null,null,null,0,0,0,10000,{"$f":"IF(OR(MAX($P$2:P1907)-P1907=0,C1907=0),\"\",MAX($P$2:P1907)-P1907)","v":""}]
[1907,null,null,null,null,null,null,null,null,null,null,null,null,0,0,0,10000,{"$f":"IF(OR(MAX($P$2:P1908)-P1908=0,C1908=0),\"\",MAX($P$2:P1908)-P1908)","v":""}]
[1908,null,null,null,null,null,null,null,null,null,null,null,null,0,0,0,10000,{"$f":"IF(OR(MAX($P$2:P1909)-P1909=0,C1909=0),\"\",MAX($P$2:P1909)-P1909)","v":""}]
[1909,null,null,null,null,null,null,null,null,null,null,null,null,0,0,0,10000,{"$f":"IF(OR(MAX($P$2:P1910)-P1910=0,C1910=0),\"\",MAX($P$2:P1910)-P1910)","v":""}]
[1910,null,null,null,null,null,null,null,null,null,null,null,null,0,0,0,10000,{"$f":"IF(OR(MAX($P$2:P1911)-P1911=0,C1911=0),\"\",MAX($P$2:P1911)-P1911)","v":""}]
[1911,null,null,null,null,null,null,null,null,null,null,null,null,0,0,0,10000,{"$f":"IF(OR(MAX($P$2:P1912)-P1912=0,C1912=0),\"\",MAX($P$2:P1912)-P1912)","v":""}]
[1912,null,null,null,null,null,null,null,null,null,null,null,null,0,0,0,10000,{"$f":"IF(OR(MAX($P$2:P1913)-P1913=0,C1913=0),\"\",MAX($P$2:P1913)-P1913)","v":""}]
[1913,null,null,null,null,null,null,null,null,null,null,null,null,0,0,0,10000,{"$f":"IF(OR(MAX($P$2:P1914)-P1914=0,C1914=0),\"\",MAX($P$2:P1914)-P1914)","v":""}]
[1914,null,null,null,null,null,null,null,null,null,null,null,null,0,0,0,10000,{"$f":"IF(OR(MAX($P$2:P1915)-P1915=0,C1915=0),\"\",MAX($P$2:P1915)-P1915)","v":""}]
[1915,null,null,null,null,null,null,null,null,null,null,null,null,0,0,0,10000,{"$f":"IF(OR(MAX($P$2:P1916)-P1916=0,C1916=0),\"\",MAX($P$2:P1916)-P1916)","v":""}]
[1916,null,null,null,null,null,null,null,null,null,null,null,null,0,0,0,10000,{"$f":"IF(OR(MAX($P$2:P1917)-P1917=0,C1917=0),\"\",MAX($P$2:P1917)-P1917)","v":""}]
[1917,null,null,null,null,null,null,null,null,null,null,null,null,0,0,0,10000,{"$f":"IF(OR(MAX($P$2:P1918)-P1918=0,C1918=0),\"\",MAX($P$2:P1918)-P1918)","v":""}]
[1918,null,null,null,null,null,null,null,null,null,null,null,null,0,0,0,10000,{"$f":"IF(OR(MAX($P$2:P1919)-P1919=0,C1919=0),\"\",MAX($P$2:P1919)-P1919)","v":""}]
[1919,null,null,null,null,null,null,null,null,null,null,null,null,0,0,0,10000,{"$f":"IF(OR(MAX($P$2:P1920)-P1920=0,C1920=0),\"\",MAX($P$2:P1920)-P1920)","v":""}]
[1920,null,null,null,null,null,null,null,null,null,null,null,null,0,0,0,10000,{"$f":"IF(OR(MAX($P$2:P1921)-P1921=0,C1921=0),\"\",MAX($P$2:P1921)-P1921)","v":""}]
[1921,null,null,null,null,null,null,null,null,null,null,null,null,0,0,0,10000,{"$f":"IF(OR(MAX($P$2:P1922)-P1922=0,C1922=0),\"\",MAX($P$2:P1922)-P1922)","v":""}]
[1922,null,null,null,null,null,null,null,null,null,null,null,null,0,0,0,10000,{"$f":"IF(OR(MAX($P$2:P1923)-P1923=0,C1923=0),\"\",MAX($P$2:P1923)-P1923)","v":""}]
[1923,null,null,null,null,null,null,null,null,null,null,null,null,0,0,{"$f":"P1923+N1924-O1924","v":0},{"$f":"Q1923+N1924-O1924","v":10000},{"$f":"IF(OR(MAX($P$2:P1924)-P1924=0,C1924=0),\"\",MAX($P$2:P1924)-P1924)","v":""}]
[1924,null,null,null,null,null,null,null,null,null,null,null,null,0,0,0,10000,{"$f":"IF(OR(MAX($P$2:P1925)-P1925=0,C1925=0),\"\",MAX($P$2:P1925)-P1925)","v":""}]
[1925,null,null,null,null,null,null,null,null,null,null,null,null,{"$f":"IF(B1926=1,I1926+J1926+K1926+L1926-M1926,0)","v":0},0,0,10000,{"$f":"IF(OR(MAX($P$2:P1926)-P1926=0,C1926=0),\"\",MAX($P$2:P1926)-P1926)","v":""}]
[1926,null,null,null,null,null,null,null,null,null,null,null,null,0,0,0,10000,{"$f":"IF(OR(MAX($P$2:P1927)-P1927=0,C1927=0),\"\",MAX($P$2:P1927)-P1927)","v":""}]
[1927,null,null,null,null,null,null,null,null,null,null,null,null,0,0,0,10000,{"$f":"IF(OR(MAX($P$2:P1928)-P1928=0,C1928=0),\"\",MAX($P$2:P1928)-P1928)","v":""}]
[1928,null,null,null,null,null,null,null,null,null,null,null,null,0,0,0,10000,{"$f":"IF(OR(MAX($P$2:P1929)-P1929=0,C1929=0),\"\",MAX($P$2:P1929)-P1929)","v":""}]
[1929,null,null,null,null,null,null,null,null,null,null,null,null,0,0,0,10000,{"$f":"IF(OR(MAX($P$2:P1930)-P1930=0,C1930=0),\"\",MAX($P$2:P1930)-P1930)","v":""}]
[1930,null,null,null,null,null,null,null,null,null,null,null,null,0,0,0,10000,{"$f":"IF(OR(MAX($P$2:P1931)-P1931=0,C1931=0),\"\",MAX($P$2:P1931)-P1931)","v":""}]
[1931,null,null,null,null,null,null,null,null,null,null,null,null,0,0,0,10000,{"$f":"IF(OR(MAX($P$2:P1932)-P1932=0,C1932=0),\"\",MAX($P$2:P1932)-P1932)","v":""}]
[1932,null,null,null,null,null,null,null,null,null,null,null,null,0,0,0,10000,{"$f":"IF(OR(MAX($P$2:P1933)-P1933=0,C1933=0),\"\",MAX($P$2:P1933)-P1933)","v":""}]
[1933,null,null,null,null,null,null,null,null,null,null,null,null,0,0,0,10000,{"$f":"IF(OR(MAX($P$2:P1934)-P1934=0,C1934=0),\"\",MAX($P$2:P1934)-P1934)","v":""}]
[1934,null,null,null,null,null,null,null,null,null,null,null,null,0,0,0,10000,{"$f":"IF(OR(MAX($P$2:P1935)-P1935=0,C1935=0),\"\",MAX($P$2:P1935)-P1935)","v":""}]
[1935,null,null,null,null,null,null,null,null,null,null,null,null,0,0,0,10000,{"$f":"IF(OR(MAX($P$2:P1936)-P1936=0,C1936=0),\"\",MAX($P$2:P1936)-P1936)","v":""}]
[1936,null,null,null,null,null,null,null,null,null,null,null,null,0,0,0,10000,{"$f":"IF(OR(MAX($P$2:P1937)-P1937=0,C1937=0),\"\",MAX($P$2:P1937)-P1937)","v":""}]
[1937,null,null,null,null,null,null,null,null,null,null,null,null,0,0,0,10000,{"$f":"IF(OR(MAX($P$2:P1938)-P1938=0,C1938=0),\"\",MAX($P$2:P1938)-P1938)","v":""}]
[1938,null,null,null,null,null,null,null,null,null,null,null,null,0,0,0,10000,{"$f":"IF(OR(MAX($P$2:P1939)-P1939=0,C1939=0),\"\",MAX($P$2:P1939)-P1939)","v":""}]
[1939,null,null,null,null,null,null,null,null,null,null,null,null,0,0,0,10000,{"$f":"IF(OR(MAX($P$2:P1940)-P1940=0,C1940=0),\"\",MAX($P$2:P1940)-P1940)","v":""}]
[1940,null,null,null,null,null,null,null,null,null,null,null,null,0,0,0,10000,{"$f":"IF(OR(MAX($P$2:P1941)-P1941=0,C1941=0),\"\",MAX($P$2:P1941)-P1941)","v":""}]
[1941,null,null,null,null,null,null,null,null,null,null,null,null,0,0,0,10000,{"$f":"IF(OR(MAX($P$2:P1942)-P1942=0,C1942=0),\"\",MAX($P$2:P1942)-P1942)","v":""}]
[1942,null,null,null,null,null,null,null,null,null,null,null,null,0,0,0,10000,{"$f":"IF(OR(MAX($P$2:P1943)-P1943=0,C1943=0),\"\",MAX($P$2:P1943)-P1943)","v":""}]
[1943,null,null,null,null,null,null,null,null,null,null,null,null,0,0,0,10000,{"$f":"IF(OR(MAX($P$2:P1944)-P1944=0,C1944=0),\"\",MAX($P$2:P1944)-P1944)","v":""}]
[1944,null,null,null,null,null,null,null,null,null,null,null,null,0,0,0,10000,{"$f":"IF(OR(MAX($P$2:P1945)-P1945=0,C1945=0),\"\",MAX($P$2:P1945)-P1945)","v":""}]
[1945,null,null,null,null,null,null,null,null,null,null,null,null,0,0,0,10000,{"$f":"IF(OR(MAX($P$2:P1946)-P1946=0,C1946=0),\"\",MAX($P$2:P1946)-P1946)","v":""}]
[1946,null,null,null,null,null,null,null,null,null,null,null,null,0,0,0,10000,{"$f":"IF(OR(MAX($P$2:P1947)-P1947=0,C1947=0),\"\",MAX($P$2:P1947)-P1947)","v":""}]
[1947,null,null,null,null,null,null,null,null,null,null,null,null,0,0,0,10000,{"$f":"IF(OR(MAX($P$2:P1948)-P1948=0,C1948=0),\"\",MAX($P$2:P1948)-P1948)","v":""}]
[1948,null,null,null,null,null,null,null,null,null,null,null,null,0,0,0,10000,{"$f":"IF(OR(MAX($P$2:P1949)-P1949=0,C1949=0),\"\",MAX($P$2:P1949)-P1949)","v":""}]
[1949,null,null,null,null,null,null,null,null,null,null,null,null,0,0,0,10000,{"$f":"IF(OR(MAX($P$2:P1950)-P1950=0,C1950=0),\"\",MAX($P$2:P1950)-P1950)","v":""}]
[1950,null,null,null,null,null,null,null,null,null,null,null,null,0,0,0,10000,{"$f":"IF(OR(MAX($P$2:P1951)-P1951=0,C1951=0),\"\",MAX($P$2:P1951)-P1951)","v":""}]
[1951,null,null,null,null,null,null,null,null,null,null,null,null,0,0,0,10000,{"$f":"IF(OR(MAX($P$2:P1952)-P1952=0,C1952=0),\"\",MAX($P$2:P1952)-P1952)","v":""}]
[1952,null,null,null,null,null,null,null,null,null,null,null,null,0,0,0,10000,{"$f":"IF(OR(MAX($P$2:P1953)-P1953=0,C1953=0),\"\",MAX($P$2:P1953)-P1953)","v":""}]
[1953,null,null,null,null,null,null,null,null,null,null,null,null,0,0,0,10000,{"$f":"IF(OR(MAX($P$2:P1954)-P1954=0,C1954=0),\"\",MAX($P$2:P1954)-P1954)","v":""}]
[1954,null,null,null,null,null,null,null,null,null,null,null,null,0,0,0,10000,{"$f":"IF(OR(MAX($P$2:P1955)-P1955=0,C1955=0),\"\",MAX($P$2:P1955)-P1955)","v":""}]
[1955,null,null,null,null,null,null,null,null,null,null,null,null,0,0,0,10000,{"$f":"IF(OR(MAX($P$2:P1956)-P1956=0,C1956=0),\"\",MAX($P$2:P1956)-P1956)","v":""}]
[1956,null,null,null,null,null,null,null,null,null,null,null,null,0,0,0,10000,{"$f":"IF(OR(MAX($P$2:P1957)-P1957=0,C1957=0),\"\",MAX($P$2:P1957)-P1957)","v":""}]
[1957,null,null,null,null,null,null,null,null,null,null,null,null,0,0,0,10000,{"$f":"IF(OR(MAX($P$2:P1958)-P1958=0,C1958=0),\"\",MAX($P$2:P1958)-P1958)","v":""}]
[1958,null,null,null,null,null,null,null,null,null,null,null,null,0,0,0,10000,{"$f":"IF(OR(MAX($P$2:P1959)-P1959=0,C1959=0),\"\",MAX($P$2:P1959)-P1959)","v":""}]
[1959,null,null,null,null,null,null,null,null,null,null,null,null,0,0,0,10000,{"$f":"IF(OR(MAX($P$2:P1960)-P1960=0,C1960=0),\"\",MAX($P$2:P1960)-P1960)","v":""}]
[1960,null,null,null,null,null,null,null,null,null,null,null,null,0,0,0,10000,{"$f":"IF(OR(MAX($P$2:P1961)-P1961=0,C1961=0),\"\",MAX($P$2:P1961)-P1961)","v":""}]
[1961,null,null,null,null,null,null,null,null,null,null,null,null,0,0,0,10000,{"$f":"IF(OR(MAX($P$2:P1962)-P1962=0,C1962=0),\"\",MAX($P$2:P1962)-P1962)","v":""}]
[1962,null,null,null,null,null,null,null,null,null,null,null,null,0,0,0,10000,{"$f":"IF(OR(MAX($P$2:P1963)-P1963=0,C1963=0),\"\",MAX($P$2:P1963)-P1963)","v":""}]
[1963,null,null,null,null,null,null,null,null,null,null,null,null,0,0,0,10000,{"$f":"IF(OR(MAX($P$2:P1964)-P1964=0,C1964=0),\"\",MAX($P$2:P1964)-P1964)","v":""}]
[1964,null,null,null,null,null,null,null,null,null,null,null,null,0,0,0,10000,{"$f":"IF(OR(MAX($P$2:P1965)-P1965=0,C1965=0),\"\",MAX($P$2:P1965)-P1965)","v":""}]
[1965,null,null,null,null,null,null,null,null,null,null,null,null,0,0,0,10000,{"$f":"IF(OR(MAX($P$2:P1966)-P1966=0,C1966=0),\"\",MAX($P$2:P1966)-P1966)","v":""}]
[1966,null,null,null,null,null,null,null,null,null,null,null,null,0,0,0,10000,{"$f":"IF(OR(MAX($P$2:P1967)-P1967=0,C1967=0),\"\",MAX($P$2:P1967)-P1967)","v":""}]
[1967,null,null,null,null,null,null,null,null,null,null,null,null,0,0,0,10000,{"$f":"IF(OR(MAX($P$2:P1968)-P1968=0,C1968=0),\"\",MAX($P$2:P1968)-P1968)","v":""}]
[1968,null,null,null,null,null,null,null,null,null,null,null,null,0,0,0,10000,{"$f":"IF(OR(MAX($P$2:P1969)-P1969=0,C1969=0),\"\",MAX($P$2:P1969)-P1969)","v":""}]
[1969,null,null,null,null,null,null,null,null,null,null,null,null,0,0,0,10000,{"$f":"IF(OR(MAX($P$2:P1970)-P1970=0,C1970=0),\"\",MAX($P$2:P1970)-P1970)","v":""}]
[1970,null,null,null,null,null,null,null,null,null,null,null,null,0,0,0,10000,{"$f":"IF(OR(MAX($P$2:P1971)-P1971=0,C1971=0),\"\",MAX($P$2:P1971)-P1971)","v":""}]
[1971,null,null,null,null,null,null,null,null,null,null,null,null,0,0,0,10000,{"$f":"IF(OR(MAX($P$2:P1972)-P1972=0,C1972=0),\"\",MAX($P$2:P1972)-P1972)","v":""}]
[1972,null,null,null,null,null,null,null,null,null,null,null,null,0,0,0,10000,{"$f":"IF(OR(MAX($P$2:P1973)-P1973=0,C1973=0),\"\",MAX($P$2:P1973)-P1973)","v":""}]
[1973,null,null,null,null,null,null,null,null,null,null,null,null,0,0,0,10000,{"$f":"IF(OR(MAX($P$2:P1974)-P1974=0,C1974=0),\"\",MAX($P$2:P1974)-P1974)","v":""}]
[1974,null,null,null,null,null,null,null,null,null,null,null,null,0,0,0,10000,{"$f":"IF(OR(MAX($P$2:P1975)-P1975=0,C1975=0),\"\",MAX($P$2:P1975)-P1975)","v":""}]
[1975,null,null,null,null,null,null,null,null,null,null,null,null,0,0,0,10000,{"$f":"IF(OR(MAX($P$2:P1976)-P1976=0,C1976=0),\"\",MAX($P$2:P1976)-P1976)","v":""}]
[1976,null,null,null,null,null,null,null,null,null,null,null,null,0,0,0,10000,{"$f":"IF(OR(MAX($P$2:P1977)-P1977=0,C1977=0),\"\",MAX($P$2:P1977)-P1977)","v":""}]
[1977,null,null,null,null,null,null,null,null,null,null,null,null,0,0,0,10000,{"$f":"IF(OR(MAX($P$2:P1978)-P1978=0,C1978=0),\"\",MAX($P$2:P1978)-P1978)","v":""}]
[1978,null,null,null,null,null,null,null,null,null,null,null,null,0,0,0,10000,{"$f":"IF(OR(MAX($P$2:P1979)-P1979=0,C1979=0),\"\",MAX($P$2:P1979)-P1979)","v":""}]
[1979,null,null,null,null,null,null,null,null,null,null,null,null,0,0,0,10000,{"$f":"IF(OR(MAX($P$2:P1980)-P1980=0,C1980=0),\"\",MAX($P$2:P1980)-P1980)","v":""}]
[1980,null,null,null,null,null,null,null,null,null,null,null,null,0,0,0,10000,{"$f":"IF(OR(MAX($P$2:P1981)-P1981=0,C1981=0),\"\",MAX($P$2:P1981)-P1981)","v":""}]
[1981,null,null,null,null,null,null,null,null,null,null,null,null,0,0,0,10000,{"$f":"IF(OR(MAX($P$2:P1982)-P1982=0,C1982=0),\"\",MAX($P$2:P1982)-P1982)","v":""}]
[1982,null,null,null,null,null,null,null,null,null,null,null,null,0,0,0,10000,{"$f":"IF(OR(MAX($P$2:P1983)-P1983=0,C1983=0),\"\",MAX($P$2:P1983)-P1983)","v":""}]
[1983,null,null,null,null,null,null,null,null,null,null,null,null,0,0,0,10000,{"$f":"IF(OR(MAX($P$2:P1984)-P1984=0,C1984=0),\"\",MAX($P$2:P1984)-P1984)","v":""}]
[1984,null,null,null,null,null,null,null,null,null,null,null,null,0,0,0,10000,{"$f":"IF(OR(MAX($P$2:P1985)-P1985=0,C1985=0),\"\",MAX($P$2:P1985)-P1985)","v":""}]
[1985,null,null,null,null,null,null,null,null,null,null,null,null,0,0,0,10000,{"$f":"IF(OR(MAX($P$2:P1986)-P1986=0,C1986=0),\"\",MAX($P$2:P1986)-P1986)","v":""}]
[1986,null,null,null,null,null,null,null,null,null,null,null,null,0,0,0,10000,{"$f":"IF(OR(MAX($P$2:P1987)-P1987=0,C1987=0),\"\",MAX($P$2:P1987)-P1987)","v":""}]
[1987,null,null,null,null,null,null,null,null,null,null,null,null,0,0,{"$f":"P1987+N1988-O1988","v":0},{"$f":"Q1987+N1988-O1988","v":10000},{"$f":"IF(OR(MAX($P$2:P1988)-P1988=0,C1988=0),\"\",MAX($P$2:P1988)-P1988)","v":""}]
[1988,null,null,null,null,null,null,null,null,null,null,null,null,0,0,0,10000,{"$f":"IF(OR(MAX($P$2:P1989)-P1989=0,C1989=0),\"\",MAX($P$2:P1989)-P1989)","v":""}]
[1989,null,null,null,null,null,null,null,null,null,null,null,null,{"$f":"IF(B1990=1,I1990+J1990+K1990+L1990-M1990,0)","v":0},0,0,10000,{"$f":"IF(OR(MAX($P$2:P1990)-P1990=0,C1990=0),\"\",MAX($P$2:P1990)-P1990)","v":""}]
[1990,null,null,null,null,null,null,null,null,null,null,null,null,0,0,0,10000,{"$f":"IF(OR(MAX($P$2:P1991)-P1991=0,C1991=0),\"\",MAX($P$2:P1991)-P1991)","v":""}]
[1991,null,null,null,null,null,null,null,null,null,null,null,null,0,0,0,10000,{"$f":"IF(OR(MAX($P$2:P1992)-P1992=0,C1992=0),\"\",MAX($P$2:P1992)-P1992)","v":""}]
[1992,null,null,null,null,null,null,null,null,null,null,null,null,0,0,0,10000,{"$f":"IF(OR(MAX($P$2:P1993)-P1993=0,C1993=0),\"\",MAX($P$2:P1993)-P1993)","v":""}]
[1993,null,null,null,null,null,null,null,null,null,null,null,null,0,0,0,10000,{"$f":"IF(OR(MAX($P$2:P1994)-P1994=0,C1994=0),\"\",MAX($P$2:P1994)-P1994)","v":""}]
[1994,null,null,null,null,null,null,null,null,null,null,null,null,0,0,0,10000,{"$f":"IF(OR(MAX($P$2:P1995)-P1995=0,C1995=0),\"\",MAX($P$2:P1995)-P1995)","v":""}]
[1995,null,null,null,null,null,null,null,null,null,null,null,null,0,0,0,10000,{"$f":"IF(OR(MAX($P$2:P1996)-P1996=0,C1996=0),\"\",MAX($P$2:P1996)-P1996)","v":""}]
[1996,null,null,null,null,null,null,null,null,null,null,null,null,0,0,0,10000,{"$f":"IF(OR(MAX($P$2:P1997)-P1997=0,C1997=0),\"\",MAX($P$2:P1997)-P1997)","v":""}]
[1997,null,null,null,null,null,null,null,null,null,null,null,null,0,0,0,10000,{"$f":"IF(OR(MAX($P$2:P1998)-P1998=0,C1998=0),\"\",MAX($P$2:P1998)-P1998)","v":""}]
[1998,null,null,null,null,null,null,null,null,null,null,null,null,0,0,0,10000,{"$f":"IF(OR(MAX($P$2:P1999)-P1999=0,C1999=0),\"\",MAX($P$2:P1999)-P1999)","v":""}]
[1999,null,null,null,null,null,null,null,null,null,null,null,null,0,0,0,10000,{"$f":"IF(OR(MAX($P$2:P2000)-P2000=0,C2000=0),\"\",MAX($P$2:P2000)-P2000)","v":""}]
[2000,null,null,null,null,null,null,null,null,null,null,null,null,0,0,0,10000,{"$f":"IF(OR(MAX($P$2:P2001)-P2001=0,C2001=0),\"\",MAX($P$2:P2001)-P2001)","v":""}]
[2001,null,null,null,null,null,null,null,null,null,null,null,null,0,0,0,10000,{"$f":"IF(OR(MAX($P$2:P2002)-P2002=0,C2002=0),\"\",MAX($P$2:P2002)-P2002)","v":""}]
[2002,null,null,null,null,null,null,null,null,null,null,null,null,0,0,0,10000,{"$f":"IF(OR(MAX($P$2:P2003)-P2003=0,C2003=0),\"\",MAX($P$2:P2003)-P2003)","v":""}]
[2003,null,null,null,null,null,null,null,null,null,null,null,null,0,0,0,10000,{"$f":"IF(OR(MAX($P$2:P2004)-P2004=0,C2004=0),\"\",MAX($P$2:P2004)-P2004)","v":""}]
[2004,null,null,null,null,null,null,null,null,null,null,null,null,0,0,0,10000,{"$f":"IF(OR(MAX($P$2:P2005)-P2005=0,C2005=0),\"\",MAX($P$2:P2005)-P2005)","v":""}]
[2005,null,null,null,null,null,null,null,null,null,null,null,null,0,0,0,10000,{"$f":"IF(OR(MAX($P$2:P2006)-P2006=0,C2006=0),\"\",MAX($P$2:P2006)-P2006)","v":""}]
[2006,null,null,null,null,null,null,null,null,null,null,null,null,0,0,0,10000,{"$f":"IF(OR(MAX($P$2:P2007)-P2007=0,C2007=0),\"\",MAX($P$2:P2007)-P2007)","v":""}]
[2007,null,null,null,null,null,null,null,null,null,null,null,null,0,0,0,10000,{"$f":"IF(OR(MAX($P$2:P2008)-P2008=0,C2008=0),\"\",MAX($P$2:P2008)-P2008)","v":""}]
[2008,null,null,null,null,null,null,null,null,null,null,null,null,0,0,0,10000,{"$f":"IF(OR(MAX($P$2:P2009)-P2009=0,C2009=0),\"\",MAX($P$2:P2009)-P2009)","v":""}]
[2009,null,null,null,null,null,null,null,null,null,null,null,null,0,0,0,10000,{"$f":"IF(OR(MAX($P$2:P2010)-P2010=0,C2010=0),\"\",MAX($P$2:P2010)-P2010)","v":""}]
[2010,null,null,null,null,null,null,null,null,null,null,null,null,0,0,0,10000,{"$f":"IF(OR(MAX($P$2:P2011)-P2011=0,C2011=0),\"\",MAX($P$2:P2011)-P2011)","v":""}]
[2011,null,null,null,null,null,null,null,null,null,null,null,null,0,0,0,10000,{"$f":"IF(OR(MAX($P$2:P2012)-P2012=0,C2012=0),\"\",MAX($P$2:P2012)-P2012)","v":""}]
[2012,null,null,null,null,null,null,null,null,null,null,null,null,0,0,0,10000,{"$f":"IF(OR(MAX($P$2:P2013)-P2013=0,C2013=0),\"\",MAX($P$2:P2013)-P2013)","v":""}]
[2013,null,null,null,null,null,null,null,null,null,null,null,null,0,0,0,10000,{"$f":"IF(OR(MAX($P$2:P2014)-P2014=0,C2014=0),\"\",MAX($P$2:P2014)-P2014)","v":""}]
[2014,null,null,null,null,null,null,null,null,null,null,null,null,0,0,0,10000,{"$f":"IF(OR(MAX($P$2:P2015)-P2015=0,C2015=0),\"\",MAX($P$2:P2015)-P2015)","v":""}]
[2015,null,null,null,null,null,null,null,null,null,null,null,null,0,0,0,10000,{"$f":"IF(OR(MAX($P$2:P2016)-P2016=0,C2016=0),\"\",MAX($P$2:P2016)-P2016)","v":""}]
[2016,null,null,null,null,null,null,null,null,null,null,null,null,0,0,0,10000,{"$f":"IF(OR(MAX($P$2:P2017)-P2017=0,C2017=0),\"\",MAX($P$2:P2017)-P2017)","v":""}]
[2017,null,null,null,null,null,null,null,null,null,null,null,null,0,0,0,10000,{"$f":"IF(OR(MAX($P$2:P2018)-P2018=0,C2018=0),\"\",MAX($P$2:P2018)-P2018)","v":""}]
[2018,null,null,null,null,null,null,null,null,null,null,null,null,0,0,0,10000,{"$f":"IF(OR(MAX($P$2:P2019)-P2019=0,C2019=0),\"\",MAX($P$2:P2019)-P2019)","v":""}]
[2019,null,null,null,null,null,null,null,null,null,null,null,null,0,0,0,10000,{"$f":"IF(OR(MAX($P$2:P2020)-P2020=0,C2020=0),\"\",MAX($P$2:P2020)-P2020)","v":""}]
[2020,null,null,null,null,null,null,null,null,null,null,null,null,0,0,0,10000,{"$f":"IF(OR(MAX($P$2:P2021)-P2021=0,C2021=0),\"\",MAX($P$2:P2021)-P2021)","v":""}]
[2021,null,null,null,null,null,null,null,null,null,null,null,null,0,0,0,10000,{"$f":"IF(OR(MAX($P$2:P2022)-P2022=0,C2022=0),\"\",MAX($P$2:P2022)-P2022)","v":""}]
[2022,null,null,null,null,null,null,null,null,null,null,null,null,0,0,0,10000,{"$f":"IF(OR(MAX($P$2:P2023)-P2023=0,C2023=0),\"\",MAX($P$2:P2023)-P2023)","v":""}]
[2023,null,null,null,null,null,null,null,null,null,null,null,null,0,0,0,10000,{"$f":"IF(OR(MAX($P$2:P2024)-P2024=0,C2024=0),\"\",MAX($P$2:P2024)-P2024)","v":""}]
[2024,null,null,null,null,null,null,null,null,null,null,null,null,0,0,0,10000,{"$f":"IF(OR(MAX($P$2:P2025)-P2025=0,C2025=0),\"\",MAX($P$2:P2025)-P2025)","v":""}]
[2025,null,null,null,null,null,null,null,null,null,null,null,null,0,0,0,10000,{"$f":"IF(OR(MAX($P$2:P2026)-P2026=0,C2026=0),\"\",MAX($P$2:P2026)-P2026)","v":""}]
[2026,null,null,null,null,null,null,null,null,null,null,null,null,0,0,0,10000,{"$f":"IF(OR(MAX($P$2:P2027)-P2027=0,C2027=0),\"\",MAX($P$2:P2027)-P2027)","v":""}]
[2027,null,null,null,null,null,null,null,null,null,null,null,null,0,0,0,10000,{"$f":"IF(OR(MAX($P$2:P2028)-P2028=0,C2028=0),\"\",MAX($P$2:P2028)-P2028)","v":""}]
[2028,null,null,null,null,null,null,null,null,null,null,null,null,0,0,0,10000,{"$f":"IF(OR(MAX($P$2:P2029)-P2029=0,C2029=0),\"\",MAX($P$2:P2029)-P2029)","v":""}]
[2029,null,null,null,null,null,null,null,null,null,null,null,null,0,0,0,10000,{"$f":"IF(OR(MAX($P$2:P2030)-P2030=0,C2030=0),\"\",MAX($P$2:P2030)-P2030)","v":""}]
[2030,null,null,null,null,null,null,null,null,null,null,null,null,0,0,0,10000,{"$f":"IF(OR(MAX($P$2:P2031)-P2031=0,C2031=0),\"\",MAX($P$2:P2031)-P2031)","v":""}]
[2031,null,null,null,null,null,null,null,null,null,null,null,null,0,0,0,10000,{"$f":"IF(OR(MAX($P$2:P2032)-P2032=0,C2032=0),\"\",MAX($P$2:P2032)-P2032)","v":""}]
[2032,null,null,null,null,null,null,null,null,null,null,null,null,0,0,0,10000,{"$f":"IF(OR(MAX($P$2:P2033)-P2033=0,C2033=0),\"\",MAX($P$2:P2033)-P2033)","v":""}]
[2033,null,null,null,null,null,null,null,null,null,null,null,null,0,0,0,10000,{"$f":"IF(OR(MAX($P$2:P2034)-P2034=0,C2034=0),\"\",MAX($P$2:P2034)-P2034)","v":""}]
[2034,null,null,null,null,null,null,null,null,null,null,null,null,0,0,0,10000,{"$f":"IF(OR(MAX($P$2:P2035)-P2035=0,C2035=0),\"\",MAX($P$2:P2035)-P2035)","v":""}]
[2035,null,null,null,null,null,null,null,null,null,null,null,null,0,0,0,10000,{"$f":"IF(OR(MAX($P$2:P2036)-P2036=0,C2036=0),\"\",MAX($P$2:P2036)-P2036)","v":""}]
[2036,null,null,null,null,null,null,null,null,null,null,null,null,0,0,0,10000,{"$f":"IF(OR(MAX($P$2:P2037)-P2037=0,C2037=0),\"\",MAX($P$2:P2037)-P2037)","v":""}]
[2037,null,null,null,null,null,null,null,null,null,null,null,null,0,0,0,10000,{"$f":"IF(OR(MAX($P$2:P2038)-P2038=0,C2038=0),\"\",MAX($P$2:P2038)-P2038)","v":""}]
[2038,null,null,null,null,null,null,null,null,null,null,null,null,0,0,0,10000,{"$f":"IF(OR(MAX($P$2:P2039)-P2039=0,C2039=0),\"\",MAX($P$2:P2039)-P2039)","v":""}]
[2039,null,null,null,null,null,null,null,null,null,null,null,null,0,0,0,10000,{"$f":"IF(OR(MAX($P$2:P2040)-P2040=0,C2040=0),\"\",MAX($P$2:P2040)-P2040)","v":""}]
[2040,null,null,null,null,null,null,null,null,null,null,null,null,0,0,0,10000,{"$f":"IF(OR(MAX($P$2:P2041)-P2041=0,C2041=0),\"\",MAX($P$2:P2041)-P2041)","v":""}]
[2041,null,null,null,null,null,null,null,null,null,null,null,null,0,0,0,10000,{"$f":"IF(OR(MAX($P$2:P2042)-P2042=0,C2042=0),\"\",MAX($P$2:P2042)-P2042)","v":""}]
[2042,null,null,null,null,null,null,null,null,null,null,null,null,0,0,0,10000,{"$f":"IF(OR(MAX($P$2:P2043)-P2043=0,C2043=0),\"\",MAX($P$2:P2043)-P2043)","v":""}]
[2043,null,null,null,null,null,null,null,null,null,null,null,null,0,0,0,10000,{"$f":"IF(OR(MAX($P$2:P2044)-P2044=0,C2044=0),\"\",MAX($P$2:P2044)-P2044)","v":""}]
[2044,null,null,null,null,null,null,null,null,null,null,null,null,0,0,0,10000,{"$f":"IF(OR(MAX($P$2:P2045)-P2045=0,C2045=0),\"\",MAX($P$2:P2045)-P2045)","v":""}]
[2045,null,null,null,null,null,null,null,null,null,null,null,null,0,0,0,10000,{"$f":"IF(OR(MAX($P$2:P2046)-P2046=0,C2046=0),\"\",MAX($P$2:P2046)-P2046)","v":""}]
[2046,null,null,null,null,null,null,null,null,null,null,null,null,0,0,0,10000,{"$f":"IF(OR(MAX($P$2:P2047)-P2047=0,C2047=0),\"\",MAX($P$2:P2047)-P2047)","v":""}]
[2047,null,null,null,null,null,null,null,null,null,null,null,null,0,0,0,10000,{"$f":"IF(OR(MAX($P$2:P2048)-P2048=0,C2048=0),\"\",MAX($P$2:P2048)-P2048)","v":""}]
[2048,null,null,null,null,null,null,null,null,null,null,null,null,0,0,0,10000,{"$f":"IF(OR(MAX($P$2:P2049)-P2049=0,C2049=0),\"\",MAX($P$2:P2049)-P2049)","v":""}]
[2049,null,null,null,null,null,null,null,null,null,null,null,null,0,0,0,10000,{"$f":"IF(OR(MAX($P$2:P2050)-P2050=0,C2050=0),\"\",MAX($P$2:P2050)-P2050)","v":""}]
[2050,null,null,null,null,null,null,null,null,null,null,null,null,0,0,0,10000,{"$f":"IF(OR(MAX($P$2:P2051)-P2051=0,C2051=0),\"\",MAX($P$2:P2051)-P2051)","v":""}]
[2051,null,null,null,null,null,null,null,null,null,null,null,null,0,0,{"$f":"P2051+N2052-O2052","v":0},{"$f":"Q2051+N2052-O2052","v":10000},{"$f":"IF(OR(MAX($P$2:P2052)-P2052=0,C2052=0),\"\",MAX($P$2:P2052)-P2052)","v":""}]
[2052,null,null,null,null,null,null,null,null,null,null,null,null,0,0,0,10000,{"$f":"IF(OR(MAX($P$2:P2053)-P2053=0,C2053=0),\"\",MAX($P$2:P2053)-P2053)","v":""}]
[2053,null,null,null,null,null,null,null,null,null,null,null,null,{"$f":"IF(B2054=1,I2054+J2054+K2054+L2054-M2054,0)","v":0},0,0,10000,{"$f":"IF(OR(MAX($P$2:P2054)-P2054=0,C2054=0),\"\",MAX($P$2:P2054)-P2054)","v":""}]
[2054,null,null,null,null,null,null,null,null,null,null,null,null,0,0,0,10000,{"$f":"IF(OR(MAX($P$2:P2055)-P2055=0,C2055=0),\"\",MAX($P$2:P2055)-P2055)","v":""}]
[2055,null,null,null,null,null,null,null,null,null,null,null,null,0,0,0,10000,{"$f":"IF(OR(MAX($P$2:P2056)-P2056=0,C2056=0),\"\",MAX($P$2:P2056)-P2056)","v":""}]
[2056,null,null,null,null,null,null,null,null,null,null,null,null,0,0,0,10000,{"$f":"IF(OR(MAX($P$2:P2057)-P2057=0,C2057=0),\"\",MAX($P$2:P2057)-P2057)","v":""}]
[2057,null,null,null,null,null,null,null,null,null,null,null,null,0,0,0,10000,{"$f":"IF(OR(MAX($P$2:P2058)-P2058=0,C2058=0),\"\",MAX($P$2:P2058)-P2058)","v":""}]
[2058,null,null,null,null,null,null,null,null,null,null,null,null,0,0,0,10000,{"$f":"IF(OR(MAX($P$2:P2059)-P2059=0,C2059=0),\"\",MAX($P$2:P2059)-P2059)","v":""}]
[2059,null,null,null,null,null,null,null,null,null,null,null,null,0,0,0,10000,{"$f":"IF(OR(MAX($P$2:P2060)-P2060=0,C2060=0),\"\",MAX($P$2:P2060)-P2060)","v":""}]
[2060,null,null,null,null,null,null,null,null,null,null,null,null,0,0,0,10000,{"$f":"IF(OR(MAX($P$2:P2061)-P2061=0,C2061=0),\"\",MAX($P$2:P2061)-P2061)","v":""}]
[2061,null,null,null,null,null,null,null,null,null,null,null,null,0,0,0,10000,{"$f":"IF(OR(MAX($P$2:P2062)-P2062=0,C2062=0),\"\",MAX($P$2:P2062)-P2062)","v":""}]
[2062,null,null,null,null,null,null,null,null,null,null,null,null,0,0,0,10000,{"$f":"IF(OR(MAX($P$2:P2063)-P2063=0,C2063=0),\"\",MAX($P$2:P2063)-P2063)","v":""}]
[2063,null,null,null,null,null,null,null,null,null,null,null,null,0,0,0,10000,{"$f":"IF(OR(MAX($P$2:P2064)-P2064=0,C2064=0),\"\",MAX($P$2:P2064)-P2064)","v":""}]
[2064,null,null,null,null,null,null,null,null,null,null,null,null,0,0,0,10000,{"$f":"IF(OR(MAX($P$2:P2065)-P2065=0,C2065=0),\"\",MAX($P$2:P2065)-P2065)","v":""}]
[2065,null,null,null,null,null,null,null,null,null,null,null,null,0,0,0,10000,{"$f":"IF(OR(MAX($P$2:P2066)-P2066=0,C2066=0),\"\",MAX($P$2:P2066)-P2066)","v":""}]
[2066,null,null,null,null,null,null,null,null,null,null,null,null,0,0,0,10000,{"$f":"IF(OR(MAX($P$2:P2067)-P2067=0,C2067=0),\"\",MAX($P$2:P2067)-P2067)","v":""}]
[2067,null,null,null,null,null,null,null,null,null,null,null,null,0,0,0,10000,{"$f":"IF(OR(MAX($P$2:P2068)-P2068=0,C2068=0),\"\",MAX($P$2:P2068)-P2068)","v":""}]
[2068,null,null,null,null,null,null,null,null,null,null,null,null,0,0,0,10000,{"$f":"IF(OR(MAX($P$2:P2069)-P2069=0,C2069=0),\"\",MAX($P$2:P2069)-P2069)","v":""}]
[2069,null,null,null,null,null,null,null,null,null,null,null,null,0,0,0,10000,{"$f":"IF(OR(MAX($P$2:P2070)-P2070=0,C2070=0),\"\",MAX($P$2:P2070)-P2070)","v":""}]
[2070,null,null,null,null,null,null,null,null,null,null,null,null,0,0,0,10000,{"$f":"IF(OR(MAX($P$2:P2071)-P2071=0,C2071=0),\"\",MAX($P$2:P2071)-P2071)","v":""}]
[2071,null,null,null,null,null,null,null,null,null,null,null,null,0,0,0,10000,{"$f":"IF(OR(MAX($P$2:P2072)-P2072=0,C2072=0),\"\",MAX($P$2:P2072)-P2072)","v":""}]
[2072,null,null,null,null,null,null,null,null,null,null,null,null,0,0,0,10000,{"$f":"IF(OR(MAX($P$2:P2073)-P2073=0,C2073=0),\"\",MAX($P$2:P2073)-P2073)","v":""}]
[2073,null,null,null,null,null,null,null,null,null,null,null,null,0,0,0,10000,{"$f":"IF(OR(MAX($P$2:P2074)-P2074=0,C2074=0),\"\",MAX($P$2:P2074)-P2074)","v":""}]
[2074,null,null,null,null,null,null,null,null,null,null,null,null,0,0,0,10000,{"$f":"IF(OR(MAX($P$2:P2075)-P2075=0,C2075=0),\"\",MAX($P$2:P2075)-P2075)","v":""}]
[2075,null,null,null,null,null,null,null,null,null,null,null,null,0,0,0,10000,{"$f":"IF(OR(MAX($P$2:P2076)-P2076=0,C2076=0),\"\",MAX($P$2:P2076)-P2076)","v":""}]
[2076,null,null,null,null,null,null,null,null,null,null,null,null,0,0,0,10000,{"$f":"IF(OR(MAX($P$2:P2077)-P2077=0,C2077=0),\"\",MAX($P$2:P2077)-P2077)","v":""}]
[2077,null,null,null,null,null,null,null,null,null,null,null,null,0,0,0,10000,{"$f":"IF(OR(MAX($P$2:P2078)-P2078=0,C2078=0),\"\",MAX($P$2:P2078)-P2078)","v":""}]
[2078,null,null,null,null,null,null,null,null,null,null,null,null,0,0,0,10000,{"$f":"IF(OR(MAX($P$2:P2079)-P2079=0,C2079=0),\"\",MAX($P$2:P2079)-P2079)","v":""}]
[2079,null,null,null,null,null,null,null,null,null,null,null,null,0,0,0,10000,{"$f":"IF(OR(MAX($P$2:P2080)-P2080=0,C2080=0),\"\",MAX($P$2:P2080)-P2080)","v":""}]
[2080,null,null,null,null,null,null,null,null,null,null,null,null,0,0,0,10000,{"$f":"IF(OR(MAX($P$2:P2081)-P2081=0,C2081=0),\"\",MAX($P$2:P2081)-P2081)","v":""}]
[2081,null,null,null,null,null,null,null,null,null,null,null,null,0,0,0,10000,{"$f":"IF(OR(MAX($P$2:P2082)-P2082=0,C2082=0),\"\",MAX($P$2:P2082)-P2082)","v":""}]
[2082,null,null,null,null,null,null,null,null,null,null,null,null,0,0,0,10000,{"$f":"IF(OR(MAX($P$2:P2083)-P2083=0,C2083=0),\"\",MAX($P$2:P2083)-P2083)","v":""}]
[2083,null,null,null,null,null,null,null,null,null,null,null,null,0,0,0,10000,{"$f":"IF(OR(MAX($P$2:P2084)-P2084=0,C2084=0),\"\",MAX($P$2:P2084)-P2084)","v":""}]
[2084,null,null,null,null,null,null,null,null,null,null,null,null,0,0,0,10000,{"$f":"IF(OR(MAX($P$2:P2085)-P2085=0,C2085=0),\"\",MAX($P$2:P2085)-P2085)","v":""}]
[2085,null,null,null,null,null,null,null,null,null,null,null,null,0,0,0,10000,{"$f":"IF(OR(MAX($P$2:P2086)-P2086=0,C2086=0),\"\",MAX($P$2:P2086)-P2086)","v":""}]
[2086,null,null,null,null,null,null,null,null,null,null,null,null,0,0,0,10000,{"$f":"IF(OR(MAX($P$2:P2087)-P2087=0,C2087=0),\"\",MAX($P$2:P2087)-P2087)","v":""}]
[2087,null,null,null,null,null,null,null,null,null,null,null,null,0,0,0,10000,{"$f":"IF(OR(MAX($P$2:P2088)-P2088=0,C2088=0),\"\",MAX($P$2:P2088)-P2088)","v":""}]
[2088,null,null,null,null,null,null,null,null,null,null,null,null,0,0,0,10000,{"$f":"IF(OR(MAX($P$2:P2089)-P2089=0,C2089=0),\"\",MAX($P$2:P2089)-P2089)","v":""}]
[2089,null,null,null,null,null,null,null,null,null,null,null,null,0,0,0,10000,{"$f":"IF(OR(MAX($P$2:P2090)-P2090=0,C2090=0),\"\",MAX($P$2:P2090)-P2090)","v":""}]
[2090,null,null,null,null,null,null,null,null,null,null,null,null,0,0,0,10000,{"$f":"IF(OR(MAX($P$2:P2091)-P2091=0,C2091=0),\"\",MAX($P$2:P2091)-P2091)","v":""}]
[2091,null,null,null,null,null,null,null,null,null,null,null,null,0,0,0,10000,{"$f":"IF(OR(MAX($P$2:P2092)-P2092=0,C2092=0),\"\",MAX($P$2:P2092)-P2092)","v":""}]
[2092,null,null,null,null,null,null,null,null,null,null,null,null,0,0,0,10000,{"$f":"IF(OR(MAX($P$2:P2093)-P2093=0,C2093=0),\"\",MAX($P$2:P2093)-P2093)","v":""}]
[2093,null,null,null,null,null,null,null,null,null,null,null,null,0,0,0,10000,{"$f":"IF(OR(MAX($P$2:P2094)-P2094=0,C2094=0),\"\",MAX($P$2:P2094)-P2094)","v":""}]
[2094,null,null,null,null,null,null,null,null,null,null,null,null,0,0,0,10000,{"$f":"IF(OR(MAX($P$2:P2095)-P2095=0,C2095=0),\"\",MAX($P$2:P2095)-P2095)","v":""}]
[2095,null,null,null,null,null,null,null,null,null,null,null,null,0,0,0,10000,{"$f":"IF(OR(MAX($P$2:P2096)-P2096=0,C2096=0),\"\",MAX($P$2:P2096)-P2096)","v":""}]
[2096,null,null,null,null,null,null,null,null,null,null,null,null,0,0,0,10000,{"$f":"IF(OR(MAX($P$2:P2097)-P2097=0,C2097=0),\"\",MAX($P$2:P2097)-P2097)","v":""}]
[2097,null,null,null,null,null,null,null,null,null,null,null,null,0,0,0,10000,{"$f":"IF(OR(MAX($P$2:P2098)-P2098=0,C2098=0),\"\",MAX($P$2:P2098)-P2098)","v":""}]
[2098,null,null,null,null,null,null,null,null,null,null,null,null,0,0,0,10000,{"$f":"IF(OR(MAX($P$2:P2099)-P2099=0,C2099=0),\"\",MAX($P$2:P2099)-P2099)","v":""}]
[2099,null,null,null,null,null,null,null,null,null,null,null,null,0,0,0,10000,{"$f":"IF(OR(MAX($P$2:P2100)-P2100=0,C2100=0),\"\",MAX($P$2:P2100)-P2100)","v":""}]
[2100,null,null,null,null,null,null,null,null,null,null,null,null,0,0,0,10000,{"$f":"IF(OR(MAX($P$2:P2101)-P2101=0,C2101=0),\"\",MAX($P$2:P2101)-P2101)","v":""}]
[2101,null,null,null,null,null,null,null,null,null,null,null,null,0,0,0,10000,{"$f":"IF(OR(MAX($P$2:P2102)-P2102=0,C2102=0),\"\",MAX($P$2:P2102)-P2102)","v":""}]
[2102,null,null,null,null,null,null,null,null,null,null,null,null,0,0,0,10000,{"$f":"IF(OR(MAX($P$2:P2103)-P2103=0,C2103=0),\"\",MAX($P$2:P2103)-P2103)","v":""}]
[2103,null,null,null,null,null,null,null,null,null,null,null,null,0,0,0,10000,{"$f":"IF(OR(MAX($P$2:P2104)-P2104=0,C2104=0),\"\",MAX($P$2:P2104)-P2104)","v":""}]
[2104,null,null,null,null,null,null,null,null,null,null,null,null,0,0,0,10000,{"$f":"IF(OR(MAX($P$2:P2105)-P2105=0,C2105=0),\"\",MAX($P$2:P2105)-P2105)","v":""}]
[2105,null,null,null,null,null,null,null,null,null,null,null,null,0,0,0,10000,{"$f":"IF(OR(MAX($P$2:P2106)-P2106=0,C2106=0),\"\",MAX($P$2:P2106)-P2106)","v":""}]
[2106,null,null,null,null,null,null,null,null,null,null,null,null,0,0,0,10000,{"$f":"IF(OR(MAX($P$2:P2107)-P2107=0,C2107=0),\"\",MAX($P$2:P2107)-P2107)","v":""}]
[2107,null,null,null,null,null,null,null,null,null,null,null,null,0,0,0,10000,{"$f":"IF(OR(MAX($P$2:P2108)-P2108=0,C2108=0),\"\",MAX($P$2:P2108)-P2108)","v":""}]
[2108,null,null,null,null,null,null,null,null,null,null,null,null,0,0,0,10000,{"$f":"IF(OR(MAX($P$2:P2109)-P2109=0,C2109=0),\"\",MAX($P$2:P2109)-P2109)","v":""}]
[2109,null,null,null,null,null,null,null,null,null,null,null,null,0,0,0,10000,{"$f":"IF(OR(MAX($P$2:P2110)-P2110=0,C2110=0),\"\",MAX($P$2:P2110)-P2110)","v":""}]
[2110,null,null,null,null,null,null,null,null,null,null,null,null,0,0,0,10000,{"$f":"IF(OR(MAX($P$2:P2111)-P2111=0,C2111=0),\"\",MAX($P$2:P2111)-P2111)","v":""}]
[2111,null,null,null,null,null,null,null,null,null,null,null,null,0,0,0,10000,{"$f":"IF(OR(MAX($P$2:P2112)-P2112=0,C2112=0),\"\",MAX($P$2:P2112)-P2112)","v":""}]
[2112,null,null,null,null,null,null,null,null,null,null,null,null,0,0,0,10000,{"$f":"IF(OR(MAX($P$2:P2113)-P2113=0,C2113=0),\"\",MAX($P$2:P2113)-P2113)","v":""}]
[2113,null,null,null,null,null,null,null,null,null,null,null,null,0,0,0,10000,{"$f":"IF(OR(MAX($P$2:P2114)-P2114=0,C2114=0),\"\",MAX($P$2:P2114)-P2114)","v":""}]
[2114,null,null,null,null,null,null,null,null,null,null,null,null,0,0,0,10000,{"$f":"IF(OR(MAX($P$2:P2115)-P2115=0,C2115=0),\"\",MAX($P$2:P2115)-P2115)","v":""}]
[2115,null,null,null,null,null,null,null,null,null,null,null,null,0,0,{"$f":"P2115+N2116-O2116","v":0},{"$f":"Q2115+N2116-O2116","v":10000},{"$f":"IF(OR(MAX($P$2:P2116)-P2116=0,C2116=0),\"\",MAX($P$2:P2116)-P2116)","v":""}]
[2116,null,null,null,null,null,null,null,null,null,null,null,null,0,0,0,10000,{"$f":"IF(OR(MAX($P$2:P2117)-P2117=0,C2117=0),\"\",MAX($P$2:P2117)-P2117)","v":""}]
[2117,null,null,null,null,null,null,null,null,null,null,null,null,{"$f":"IF(B2118=1,I2118+J2118+K2118+L2118-M2118,0)","v":0},0,0,10000,{"$f":"IF(OR(MAX($P$2:P2118)-P2118=0,C2118=0),\"\",MAX($P$2:P2118)-P2118)","v":""}]
[2118,null,null,null,null,null,null,null,null,null,null,null,null,0,0,0,10000,{"$f":"IF(OR(MAX($P$2:P2119)-P2119=0,C2119=0),\"\",MAX($P$2:P2119)-P2119)","v":""}]
[2119,null,null,null,null,null,null,null,null,null,null,null,null,0,0,0,10000,{"$f":"IF(OR(MAX($P$2:P2120)-P2120=0,C2120=0),\"\",MAX($P$2:P2120)-P2120)","v":""}]
[2120,null,null,null,null,null,null,null,null,null,null,null,null,0,0,0,10000,{"$f":"IF(OR(MAX($P$2:P2121)-P2121=0,C2121=0),\"\",MAX($P$2:P2121)-P2121)","v":""}]
[2121,null,null,null,null,null,null,null,null,null,null,null,null,0,0,0,10000,{"$f":"IF(OR(MAX($P$2:P2122)-P2122=0,C2122=0),\"\",MAX($P$2:P2122)-P2122)","v":""}]
[2122,null,null,null,null,null,null,null,null,null,null,null,null,0,0,0,10000,{"$f":"IF(OR(MAX($P$2:P2123)-P2123=0,C2123=0),\"\",MAX($P$2:P2123)-P2123)","v":""}]
[2123,null,null,null,null,null,null,null,null,null,null,null,null,0,0,0,10000,{"$f":"IF(OR(MAX($P$2:P2124)-P2124=0,C2124=0),\"\",MAX($P$2:P2124)-P2124)","v":""}]
[2124,null,null,null,null,null,null,null,null,null,null,null,null,0,0,0,10000,{"$f":"IF(OR(MAX($P$2:P2125)-P2125=0,C2125=0),\"\",MAX($P$2:P2125)-P2125)","v":""}]
[2125,null,null,null,null,null,null,null,null,null,null,null,null,0,0,0,10000,{"$f":"IF(OR(MAX($P$2:P2126)-P2126=0,C2126=0),\"\",MAX($P$2:P2126)-P2126)","v":""}]
[2126,null,null,null,null,null,null,null,null,null,null,null,null,0,0,0,10000,{"$f":"IF(OR(MAX($P$2:P2127)-P2127=0,C2127=0),\"\",MAX($P$2:P2127)-P2127)","v":""}]
[2127,null,null,null,null,null,null,null,null,null,null,null,null,0,0,0,10000,{"$f":"IF(OR(MAX($P$2:P2128)-P2128=0,C2128=0),\"\",MAX($P$2:P2128)-P2128)","v":""}]
[2128,null,null,null,null,null,null,null,null,null,null,null,null,0,0,0,10000,{"$f":"IF(OR(MAX($P$2:P2129)-P2129=0,C2129=0),\"\",MAX($P$2:P2129)-P2129)","v":""}]
[2129,null,null,null,null,null,null,null,null,null,null,null,null,0,0,0,10000,{"$f":"IF(OR(MAX($P$2:P2130)-P2130=0,C2130=0),\"\",MAX($P$2:P2130)-P2130)","v":""}]
[2130,null,null,null,null,null,null,null,null,null,null,null,null,0,0,0,10000,{"$f":"IF(OR(MAX($P$2:P2131)-P2131=0,C2131=0),\"\",MAX($P$2:P2131)-P2131)","v":""}]
[2131,null,null,null,null,null,null,null,null,null,null,null,null,0,0,0,10000,{"$f":"IF(OR(MAX($P$2:P2132)-P2132=0,C2132=0),\"\",MAX($P$2:P2132)-P2132)","v":""}]
[2132,null,null,null,null,null,null,null,null,null,null,null,null,0,0,0,10000,{"$f":"IF(OR(MAX($P$2:P2133)-P2133=0,C2133=0),\"\",MAX($P$2:P2133)-P2133)","v":""}]
[2133,null,null,null,null,null,null,null,null,null,null,null,null,0,0,0,10000,{"$f":"IF(OR(MAX($P$2:P2134)-P2134=0,C2134=0),\"\",MAX($P$2:P2134)-P2134)","v":""}]
[2134,null,null,null,null,null,null,null,null,null,null,null,null,0,0,0,10000,{"$f":"IF(OR(MAX($P$2:P2135)-P2135=0,C2135=0),\"\",MAX($P$2:P2135)-P2135)","v":""}]
[2135,null,null,null,null,null,null,null,null,null,null,null,null,0,0,0,10000,{"$f":"IF(OR(MAX($P$2:P2136)-P2136=0,C2136=0),\"\",MAX($P$2:P2136)-P2136)","v":""}]
[2136,null,null,null,null,null,null,null,null,null,null,null,null,0,0,0,10000,{"$f":"IF(OR(MAX($P$2:P2137)-P2137=0,C2137=0),\"\",MAX($P$2:P2137)-P2137)","v":""}]
[2137,null,null,null,null,null,null,null,null,null,null,null,null,0,0,0,10000,{"$f":"IF(OR(MAX($P$2:P2138)-P2138=0,C2138=0),\"\",MAX($P$2:P2138)-P2138)","v":""}]
[2138,null,null,null,null,null,null,null,null,null,null,null,null,0,0,0,10000,{"$f":"IF(OR(MAX($P$2:P2139)-P2139=0,C2139=0),\"\",MAX($P$2:P2139)-P2139)","v":""}]
[2139,null,null,null,null,null,null,null,null,null,null,null,null,0,0,0,10000,{"$f":"IF(OR(MAX($P$2:P2140)-P2140=0,C2140=0),\"\",MAX($P$2:P2140)-P2140)","v":""}]
[2140,null,null,null,null,null,null,null,null,null,null,null,null,0,0,0,10000,{"$f":"IF(OR(MAX($P$2:P2141)-P2141=0,C2141=0),\"\",MAX($P$2:P2141)-P2141)","v":""}]
[2141,null,null,null,null,null,null,null,null,null,null,null,null,0,0,0,10000,{"$f":"IF(OR(MAX($P$2:P2142)-P2142=0,C2142=0),\"\",MAX($P$2:P2142)-P2142)","v":""}]
[2142,null,null,null,null,null,null,null,null,null,null,null,null,0,0,0,10000,{"$f":"IF(OR(MAX($P$2:P2143)-P2143=0,C2143=0),\"\",MAX($P$2:P2143)-P2143)","v":""}]
[2143,null,null,null,null,null,null,null,null,null,null,null,null,0,0,0,10000,{"$f":"IF(OR(MAX($P$2:P2144)-P2144=0,C2144=0),\"\",MAX($P$2:P2144)-P2144)","v":""}]
[2144,null,null,null,null,null,null,null,null,null,null,null,null,0,0,0,10000,{"$f":"IF(OR(MAX($P$2:P2145)-P2145=0,C2145=0),\"\",MAX($P$2:P2145)-P2145)","v":""}]
[2145,null,null,null,null,null,null,null,null,null,null,null,null,0,0,0,10000,{"$f":"IF(OR(MAX($P$2:P2146)-P2146=0,C2146=0),\"\",MAX($P$2:P2146)-P2146)","v":""}]
[2146,null,null,null,null,null,null,null,null,null,null,null,null,0,0,0,10000,{"$f":"IF(OR(MAX($P$2:P2147)-P2147=0,C2147=0),\"\",MAX($P$2:P2147)-P2147)","v":""}]
[2147,null,null,null,null,null,null,null,null,null,null,null,null,0,0,0,10000,{"$f":"IF(OR(MAX($P$2:P2148)-P2148=0,C2148=0),\"\",MAX($P$2:P2148)-P2148)","v":""}]
[2148,null,null,null,null,null,null,null,null,null,null,null,null,0,0,0,10000,{"$f":"IF(OR(MAX($P$2:P2149)-P2149=0,C2149=0),\"\",MAX($P$2:P2149)-P2149)","v":""}]
[2149,null,null,null,null,null,null,null,null,null,null,null,null,0,0,0,10000,{"$f":"IF(OR(MAX($P$2:P2150)-P2150=0,C2150=0),\"\",MAX($P$2:P2150)-P2150)","v":""}]
[2150,null,null,null,null,null,null,null,null,null,null,null,null,0,0,0,10000,{"$f":"IF(OR(MAX($P$2:P2151)-P2151=0,C2151=0),\"\",MAX($P$2:P2151)-P2151)","v":""}]
[2151,null,null,null,null,null,null,null,null,null,null,null,null,0,0,0,10000,{"$f":"IF(OR(MAX($P$2:P2152)-P2152=0,C2152=0),\"\",MAX($P$2:P2152)-P2152)","v":""}]
[2152,null,null,null,null,null,null,null,null,null,null,null,null,0,0,0,10000,{"$f":"IF(OR(MAX($P$2:P2153)-P2153=0,C2153=0),\"\",MAX($P$2:P2153)-P2153)","v":""}]
[2153,null,null,null,null,null,null,null,null,null,null,null,null,0,0,0,10000,{"$f":"IF(OR(MAX($P$2:P2154)-P2154=0,C2154=0),\"\",MAX($P$2:P2154)-P2154)","v":""}]
[2154,null,null,null,null,null,null,null,null,null,null,null,null,0,0,0,10000,{"$f":"IF(OR(MAX($P$2:P2155)-P2155=0,C2155=0),\"\",MAX($P$2:P2155)-P2155)","v":""}]
[2155,null,null,null,null,null,null,null,null,null,null,null,null,0,0,0,10000,{"$f":"IF(OR(MAX($P$2:P2156)-P2156=0,C2156=0),\"\",MAX($P$2:P2156)-P2156)","v":""}]
[2156,null,null,null,null,null,null,null,null,null,null,null,null,0,0,0,10000,{"$f":"IF(OR(MAX($P$2:P2157)-P2157=0,C2157=0),\"\",MAX($P$2:P2157)-P2157)","v":""}]
[2157,null,null,null,null,null,null,null,null,null,null,null,null,0,0,0,10000,{"$f":"IF(OR(MAX($P$2:P2158)-P2158=0,C2158=0),\"\",MAX($P$2:P2158)-P2158)","v":""}]
[2158,null,null,null,null,null,null,null,null,null,null,null,null,0,0,0,10000,{"$f":"IF(OR(MAX($P$2:P2159)-P2159=0,C2159=0),\"\",MAX($P$2:P2159)-P2159)","v":""}]
[2159,null,null,null,null,null,null,null,null,null,null,null,null,0,0,0,10000,{"$f":"IF(OR(MAX($P$2:P2160)-P2160=0,C2160=0),\"\",MAX($P$2:P2160)-P2160)","v":""}]
[2160,null,null,null,null,null,null,null,null,null,null,null,null,0,0,0,10000,{"$f":"IF(OR(MAX($P$2:P2161)-P2161=0,C2161=0),\"\",MAX($P$2:P2161)-P2161)","v":""}]
[2161,null,null,null,null,null,null,null,null,null,null,null,null,0,0,0,10000,{"$f":"IF(OR(MAX($P$2:P2162)-P2162=0,C2162=0),\"\",MAX($P$2:P2162)-P2162)","v":""}]
[2162,null,null,null,null,null,null,null,null,null,null,null,null,0,0,0,10000,{"$f":"IF(OR(MAX($P$2:P2163)-P2163=0,C2163=0),\"\",MAX($P$2:P2163)-P2163)","v":""}]
[2163,null,null,null,null,null,null,null,null,null,null,null,null,0,0,0,10000,{"$f":"IF(OR(MAX($P$2:P2164)-P2164=0,C2164=0),\"\",MAX($P$2:P2164)-P2164)","v":""}]
[2164,null,null,null,null,null,null,null,null,null,null,null,null,0,0,0,10000,{"$f":"IF(OR(MAX($P$2:P2165)-P2165=0,C2165=0),\"\",MAX($P$2:P2165)-P2165)","v":""}]
[2165,null,null,null,null,null,null,null,null,null,null,null,null,0,0,0,10000,{"$f":"IF(OR(MAX($P$2:P2166)-P2166=0,C2166=0),\"\",MAX($P$2:P2166)-P2166)","v":""}]
[2166,null,null,null,null,null,null,null,null,null,null,null,null,0,0,0,10000,{"$f":"IF(OR(MAX($P$2:P2167)-P2167=0,C2167=0),\"\",MAX($P$2:P2167)-P2167)","v":""}]
[2167,null,null,null,null,null,null,null,null,null,null,null,null,0,0,0,10000,{"$f":"IF(OR(MAX($P$2:P2168)-P2168=0,C2168=0),\"\",MAX($P$2:P2168)-P2168)","v":""}]
[2168,null,null,null,null,null,null,null,null,null,null,null,null,0,0,0,10000,{"$f":"IF(OR(MAX($P$2:P2169)-P2169=0,C2169=0),\"\",MAX($P$2:P2169)-P2169)","v":""}]
[2169,null,null,null,null,null,null,null,null,null,null,null,null,0,0,0,10000,{"$f":"IF(OR(MAX($P$2:P2170)-P2170=0,C2170=0),\"\",MAX($P$2:P2170)-P2170)","v":""}]
[2170,null,null,null,null,null,null,null,null,null,null,null,null,0,0,0,10000,{"$f":"IF(OR(MAX($P$2:P2171)-P2171=0,C2171=0),\"\",MAX($P$2:P2171)-P2171)","v":""}]
[2171,null,null,null,null,null,null,null,null,null,null,null,null,0,0,0,10000,{"$f":"IF(OR(MAX($P$2:P2172)-P2172=0,C2172=0),\"\",MAX($P$2:P2172)-P2172)","v":""}]
[2172,null,null,null,null,null,null,null,null,null,null,null,null,0,0,0,10000,{"$f":"IF(OR(MAX($P$2:P2173)-P2173=0,C2173=0),\"\",MAX($P$2:P2173)-P2173)","v":""}]
[2173,null,null,null,null,null,null,null,null,null,null,null,null,0,0,0,10000,{"$f":"IF(OR(MAX($P$2:P2174)-P2174=0,C2174=0),\"\",MAX($P$2:P2174)-P2174)","v":""}]
[2174,null,null,null,null,null,null,null,null,null,null,null,null,0,0,0,10000,{"$f":"IF(OR(MAX($P$2:P2175)-P2175=0,C2175=0),\"\",MAX($P$2:P2175)-P2175)","v":""}]
[2175,null,null,null,null,null,null,null,null,null,null,null,null,0,0,0,10000,{"$f":"IF(OR(MAX($P$2:P2176)-P2176=0,C2176=0),\"\",MAX($P$2:P2176)-P2176)","v":""}]
[2176,null,null,null,null,null,null,null,null,null,null,null,null,0,0,0,10000,{"$f":"IF(OR(MAX($P$2:P2177)-P2177=0,C2177=0),\"\",MAX($P$2:P2177)-P2177)","v":""}]
[2177,null,null,null,null,null,null,null,null,null,null,null,null,0,0,0,10000,{"$f":"IF(OR(MAX($P$2:P2178)-P2178=0,C2178=0),\"\",MAX($P$2:P2178)-P2178)","v":""}]
[2178,null,null,null,null,null,null,null,null,null,null,null,null,0,0,0,10000,{"$f":"IF(OR(MAX($P$2:P2179)-P2179=0,C2179=0),\"\",MAX($P$2:P2179)-P2179)","v":""}]
[2179,null,null,null,null,null,null,null,null,null,null,null,null,0,0,{"$f":"P2179+N2180-O2180","v":0},{"$f":"Q2179+N2180-O2180","v":10000},{"$f":"IF(OR(MAX($P$2:P2180)-P2180=0,C2180=0),\"\",MAX($P$2:P2180)-P2180)","v":""}]
[2180,null,null,null,null,null,null,null,null,null,null,null,null,0,0,0,10000,{"$f":"IF(OR(MAX($P$2:P2181)-P2181=0,C2181=0),\"\",MAX($P$2:P2181)-P2181)","v":""}]
[2181,null,null,null,null,null,null,null,null,null,null,null,null,{"$f":"IF(B2182=1,I2182+J2182+K2182+L2182-M2182,0)","v":0},0,0,10000,{"$f":"IF(OR(MAX($P$2:P2182)-P2182=0,C2182=0),\"\",MAX($P$2:P2182)-P2182)","v":""}]
[2182,null,null,null,null,null,null,null,null,null,null,null,null,0,0,0,10000,{"$f":"IF(OR(MAX($P$2:P2183)-P2183=0,C2183=0),\"\",MAX($P$2:P2183)-P2183)","v":""}]
[2183,null,null,null,null,null,null,null,null,null,null,null,null,0,0,0,10000,{"$f":"IF(OR(MAX($P$2:P2184)-P2184=0,C2184=0),\"\",MAX($P$2:P2184)-P2184)","v":""}]
[2184,null,null,null,null,null,null,null,null,null,null,null,null,0,0,0,10000,{"$f":"IF(OR(MAX($P$2:P2185)-P2185=0,C2185=0),\"\",MAX($P$2:P2185)-P2185)","v":""}]
[2185,null,null,null,null,null,null,null,null,null,null,null,null,0,0,0,10000,{"$f":"IF(OR(MAX($P$2:P2186)-P2186=0,C2186=0),\"\",MAX($P$2:P2186)-P2186)","v":""}]
[2186,null,null,null,null,null,null,null,null,null,null,null,null,0,0,0,10000,{"$f":"IF(OR(MAX($P$2:P2187)-P2187=0,C2187=0),\"\",MAX($P$2:P2187)-P2187)","v":""}]
[2187,null,null,null,null,null,null,null,null,null,null,null,null,0,0,0,10000,{"$f":"IF(OR(MAX($P$2:P2188)-P2188=0,C2188=0),\"\",MAX($P$2:P2188)-P2188)","v":""}]
[2188,null,null,null,null,null,null,null,null,null,null,null,null,0,0,0,10000,{"$f":"IF(OR(MAX($P$2:P2189)-P2189=0,C2189=0),\"\",MAX($P$2:P2189)-P2189)","v":""}]
[2189,null,null,null,null,null,null,null,null,null,null,null,null,0,0,0,10000,{"$f":"IF(OR(MAX($P$2:P2190)-P2190=0,C2190=0),\"\",MAX($P$2:P2190)-P2190)","v":""}]
[2190,null,null,null,null,null,null,null,null,null,null,null,null,0,0,0,10000,{"$f":"IF(OR(MAX($P$2:P2191)-P2191=0,C2191=0),\"\",MAX($P$2:P2191)-P2191)","v":""}]
[2191,null,null,null,null,null,null,null,null,null,null,null,null,0,0,0,10000,{"$f":"IF(OR(MAX($P$2:P2192)-P2192=0,C2192=0),\"\",MAX($P$2:P2192)-P2192)","v":""}]
[2192,null,null,null,null,null,null,null,null,null,null,null,null,0,0,0,10000,{"$f":"IF(OR(MAX($P$2:P2193)-P2193=0,C2193=0),\"\",MAX($P$2:P2193)-P2193)","v":""}]
[2193,null,null,null,null,null,null,null,null,null,null,null,null,0,0,0,10000,{"$f":"IF(OR(MAX($P$2:P2194)-P2194=0,C2194=0),\"\",MAX($P$2:P2194)-P2194)","v":""}]
[2194,null,null,null,null,null,null,null,null,null,null,null,null,0,0,0,10000,{"$f":"IF(OR(MAX($P$2:P2195)-P2195=0,C2195=0),\"\",MAX($P$2:P2195)-P2195)","v":""}]
[2195,null,null,null,null,null,null,null,null,null,null,null,null,0,0,0,10000,{"$f":"IF(OR(MAX($P$2:P2196)-P2196=0,C2196=0),\"\",MAX($P$2:P2196)-P2196)","v":""}]
[2196,null,null,null,null,null,null,null,null,null,null,null,null,0,0,0,10000,{"$f":"IF(OR(MAX($P$2:P2197)-P2197=0,C2197=0),\"\",MAX($P$2:P2197)-P2197)","v":""}]
[2197,null,null,null,null,null,null,null,null,null,null,null,null,0,0,0,10000,{"$f":"IF(OR(MAX($P$2:P2198)-P2198=0,C2198=0),\"\",MAX($P$2:P2198)-P2198)","v":""}]
[2198,null,null,null,null,null,null,null,null,null,null,null,null,0,0,0,10000,{"$f":"IF(OR(MAX($P$2:P2199)-P2199=0,C2199=0),\"\",MAX($P$2:P2199)-P2199)","v":""}]
[2199,null,null,null,null,null,null,null,null,null,null,null,null,0,0,0,10000,{"$f":"IF(OR(MAX($P$2:P2200)-P2200=0,C2200=0),\"\",MAX($P$2:P2200)-P2200)","v":""}]
[2200,null,null,null,null,null,null,null,null,null,null,null,null,0,0,0,10000,{"$f":"IF(OR(MAX($P$2:P2201)-P2201=0,C2201=0),\"\",MAX($P$2:P2201)-P2201)","v":""}]
[2201,null,null,null,null,null,null,null,null,null,null,null,null,0,0,0,10000,{"$f":"IF(OR(MAX($P$2:P2202)-P2202=0,C2202=0),\"\",MAX($P$2:P2202)-P2202)","v":""}]
[2202,null,null,null,null,null,null,null,null,null,null,null,null,0,0,0,10000,{"$f":"IF(OR(MAX($P$2:P2203)-P2203=0,C2203=0),\"\",MAX($P$2:P2203)-P2203)","v":""}]
[2203,null,null,null,null,null,null,null,null,null,null,null,null,0,0,0,10000,{"$f":"IF(OR(MAX($P$2:P2204)-P2204=0,C2204=0),\"\",MAX($P$2:P2204)-P2204)","v":""}]
[2204,null,null,null,null,null,null,null,null,null,null,null,null,0,0,0,10000,{"$f":"IF(OR(MAX($P$2:P2205)-P2205=0,C2205=0),\"\",MAX($P$2:P2205)-P2205)","v":""}]
[2205,null,null,null,null,null,null,null,null,null,null,null,null,0,0,0,10000,{"$f":"IF(OR(MAX($P$2:P2206)-P2206=0,C2206=0),\"\",MAX($P$2:P2206)-P2206)","v":""}]
[2206,null,null,null,null,null,null,null,null,null,null,null,null,0,0,0,10000,{"$f":"IF(OR(MAX($P$2:P2207)-P2207=0,C2207=0),\"\",MAX($P$2:P2207)-P2207)","v":""}]
[2207,null,null,null,null,null,null,null,null,null,null,null,null,0,0,0,10000,{"$f":"IF(OR(MAX($P$2:P2208)-P2208=0,C2208=0),\"\",MAX($P$2:P2208)-P2208)","v":""}]
[2208,null,null,null,null,null,null,null,null,null,null,null,null,0,0,0,10000,{"$f":"IF(OR(MAX($P$2:P2209)-P2209=0,C2209=0),\"\",MAX($P$2:P2209)-P2209)","v":""}]
[2209,null,null,null,null,null,null,null,null,null,null,null,null,0,0,0,10000,{"$f":"IF(OR(MAX($P$2:P2210)-P2210=0,C2210=0),\"\",MAX($P$2:P2210)-P2210)","v":""}]
[2210,null,null,null,null,null,null,null,null,null,null,null,null,0,0,0,10000,{"$f":"IF(OR(MAX($P$2:P2211)-P2211=0,C2211=0),\"\",MAX($P$2:P2211)-P2211)","v":""}]
[2211,null,null,null,null,null,null,null,null,null,null,null,null,0,0,0,10000,{"$f":"IF(OR(MAX($P$2:P2212)-P2212=0,C2212=0),\"\",MAX($P$2:P2212)-P2212)","v":""}]
[2212,null,null,null,null,null,null,null,null,null,null,null,null,0,0,0,10000,{"$f":"IF(OR(MAX($P$2:P2213)-P2213=0,C2213=0),\"\",MAX($P$2:P2213)-P2213)","v":""}]
[2213,null,null,null,null,null,null,null,null,null,null,null,null,0,0,0,10000,{"$f":"IF(OR(MAX($P$2:P2214)-P2214=0,C2214=0),\"\",MAX($P$2:P2214)-P2214)","v":""}]
[2214,null,null,null,null,null,null,null,null,null,null,null,null,0,0,0,10000,{"$f":"IF(OR(MAX($P$2:P2215)-P2215=0,C2215=0),\"\",MAX($P$2:P2215)-P2215)","v":""}]
[2215,null,null,null,null,null,null,null,null,null,null,null,null,0,0,0,10000,{"$f":"IF(OR(MAX($P$2:P2216)-P2216=0,C2216=0),\"\",MAX($P$2:P2216)-P2216)","v":""}]
[2216,null,null,null,null,null,null,null,null,null,null,null,null,0,0,0,10000,{"$f":"IF(OR(MAX($P$2:P2217)-P2217=0,C2217=0),\"\",MAX($P$2:P2217)-P2217)","v":""}]
[2217,null,null,null,null,null,null,null,null,null,null,null,null,0,0,0,10000,{"$f":"IF(OR(MAX($P$2:P2218)-P2218=0,C2218=0),\"\",MAX($P$2:P2218)-P2218)","v":""}]
[2218,null,null,null,null,null,null,null,null,null,null,null,null,0,0,0,10000,{"$f":"IF(OR(MAX($P$2:P2219)-P2219=0,C2219=0),\"\",MAX($P$2:P2219)-P2219)","v":""}]
[2219,null,null,null,null,null,null,null,null,null,null,null,null,0,0,0,10000,{"$f":"IF(OR(MAX($P$2:P2220)-P2220=0,C2220=0),\"\",MAX($P$2:P2220)-P2220)","v":""}]
[2220,null,null,null,null,null,null,null,null,null,null,null,null,0,0,0,10000,{"$f":"IF(OR(MAX($P$2:P2221)-P2221=0,C2221=0),\"\",MAX($P$2:P2221)-P2221)","v":""}]
[2221,null,null,null,null,null,null,null,null,null,null,null,null,0,0,0,10000,{"$f":"IF(OR(MAX($P$2:P2222)-P2222=0,C2222=0),\"\",MAX($P$2:P2222)-P2222)","v":""}]
[2222,null,null,null,null,null,null,null,null,null,null,null,null,0,0,0,10000,{"$f":"IF(OR(MAX($P$2:P2223)-P2223=0,C2223=0),\"\",MAX($P$2:P2223)-P2223)","v":""}]
[2223,null,null,null,null,null,null,null,null,null,null,null,null,0,0,0,10000,{"$f":"IF(OR(MAX($P$2:P2224)-P2224=0,C2224=0),\"\",MAX($P$2:P2224)-P2224)","v":""}]
[2224,null,null,null,null,null,null,null,null,null,null,null,null,0,0,0,10000,{"$f":"IF(OR(MAX($P$2:P2225)-P2225=0,C2225=0),\"\",MAX($P$2:P2225)-P2225)","v":""}]
[2225,null,null,null,null,null,null,null,null,null,null,null,null,0,0,0,10000,{"$f":"IF(OR(MAX($P$2:P2226)-P2226=0,C2226=0),\"\",MAX($P$2:P2226)-P2226)","v":""}]
[2226,null,null,null,null,null,null,null,null,null,null,null,null,0,0,0,10000,{"$f":"IF(OR(MAX($P$2:P2227)-P2227=0,C2227=0),\"\",MAX($P$2:P2227)-P2227)","v":""}]
[2227,null,null,null,null,null,null,null,null,null,null,null,null,0,0,0,10000,{"$f":"IF(OR(MAX($P$2:P2228)-P2228=0,C2228=0),\"\",MAX($P$2:P2228)-P2228)","v":""}]
[2228,null,null,null,null,null,null,null,null,null,null,null,null,0,0,0,10000,{"$f":"IF(OR(MAX($P$2:P2229)-P2229=0,C2229=0),\"\",MAX($P$2:P2229)-P2229)","v":""}]
[2229,null,null,null,null,null,null,null,null,null,null,null,null,0,0,0,10000,{"$f":"IF(OR(MAX($P$2:P2230)-P2230=0,C2230=0),\"\",MAX($P$2:P2230)-P2230)","v":""}]
[2230,null,null,null,null,null,null,null,null,null,null,null,null,0,0,0,10000,{"$f":"IF(OR(MAX($P$2:P2231)-P2231=0,C2231=0),\"\",MAX($P$2:P2231)-P2231)","v":""}]
[2231,null,null,null,null,null,null,null,null,null,null,null,null,0,0,0,10000,{"$f":"IF(OR(MAX($P$2:P2232)-P2232=0,C2232=0),\"\",MAX($P$2:P2232)-P2232)","v":""}]
[2232,null,null,null,null,null,null,null,null,null,null,null,null,0,0,0,10000,{"$f":"IF(OR(MAX($P$2:P2233)-P2233=0,C2233=0),\"\",MAX($P$2:P2233)-P2233)","v":""}]
[2233,null,null,null,null,null,null,null,null,null,null,null,null,0,0,0,10000,{"$f":"IF(OR(MAX($P$2:P2234)-P2234=0,C2234=0),\"\",MAX($P$2:P2234)-P2234)","v":""}]
[2234,null,null,null,null,null,null,null,null,null,null,null,null,0,0,0,10000,{"$f":"IF(OR(MAX($P$2:P2235)-P2235=0,C2235=0),\"\",MAX($P$2:P2235)-P2235)","v":""}]
[2235,null,null,null,null,null,null,null,null,null,null,null,null,0,0,0,10000,{"$f":"IF(OR(MAX($P$2:P2236)-P2236=0,C2236=0),\"\",MAX($P$2:P2236)-P2236)","v":""}]
[2236,null,null,null,null,null,null,null,null,null,null,null,null,0,0,0,10000,{"$f":"IF(OR(MAX($P$2:P2237)-P2237=0,C2237=0),\"\",MAX($P$2:P2237)-P2237)","v":""}]
[2237,null,null,null,null,null,null,null,null,null,null,null,null,0,0,0,10000,{"$f":"IF(OR(MAX($P$2:P2238)-P2238=0,C2238=0),\"\",MAX($P$2:P2238)-P2238)","v":""}]
[2238,null,null,null,null,null,null,null,null,null,null,null,null,0,0,0,10000,{"$f":"IF(OR(MAX($P$2:P2239)-P2239=0,C2239=0),\"\",MAX($P$2:P2239)-P2239)","v":""}]
[2239,null,null,null,null,null,null,null,null,null,null,null,null,0,0,0,10000,{"$f":"IF(OR(MAX($P$2:P2240)-P2240=0,C2240=0),\"\",MAX($P$2:P2240)-P2240)","v":""}]
[2240,null,null,null,null,null,null,null,null,null,null,null,null,0,0,0,10000,{"$f":"IF(OR(MAX($P$2:P2241)-P2241=0,C2241=0),\"\",MAX($P$2:P2241)-P2241)","v":""}]
[2241,null,null,null,null,null,null,null,null,null,null,null,null,0,0,0,10000,{"$f":"IF(OR(MAX($P$2:P2242)-P2242=0,C2242=0),\"\",MAX($P$2:P2242)-P2242)","v":""}]
[2242,null,null,null,null,null,null,null,null,null,null,null,null,0,0,0,10000,{"$f":"IF(OR(MAX($P$2:P2243)-P2243=0,C2243=0),\"\",MAX($P$2:P2243)-P2243)","v":""}]
[2243,null,null,null,null,null,null,null,null,null,null,null,null,0,0,{"$f":"P2243+N2244-O2244","v":0},{"$f":"Q2243+N2244-O2244","v":10000},{"$f":"IF(OR(MAX($P$2:P2244)-P2244=0,C2244=0),\"\",MAX($P$2:P2244)-P2244)","v":""}]
[2244,null,null,null,null,null,null,null,null,null,null,null,null,0,0,0,10000,{"$f":"IF(OR(MAX($P$2:P2245)-P2245=0,C2245=0),\"\",MAX($P$2:P2245)-P2245)","v":""}]
[2245,null,null,null,null,null,null,null,null,null,null,null,null,{"$f":"IF(B2246=1,I2246+J2246+K2246+L2246-M2246,0)","v":0},0,0,10000,{"$f":"IF(OR(MAX($P$2:P2246)-P2246=0,C2246=0),\"\",MAX($P$2:P2246)-P2246)","v":""}]
[2246,null,null,null,null,null,null,null,null,null,null,null,null,0,0,0,10000,{"$f":"IF(OR(MAX($P$2:P2247)-P2247=0,C2247=0),\"\",MAX($P$2:P2247)-P2247)","v":""}]
[2247,null,null,null,null,null,null,null,null,null,null,null,null,0,0,0,10000,{"$f":"IF(OR(MAX($P$2:P2248)-P2248=0,C2248=0),\"\",MAX($P$2:P2248)-P2248)","v":""}]
[2248,null,null,null,null,null,null,null,null,null,null,null,null,0,0,0,10000,{"$f":"IF(OR(MAX($P$2:P2249)-P2249=0,C2249=0),\"\",MAX($P$2:P2249)-P2249)","v":""}]
[2249,null,null,null,null,null,null,null,null,null,null,null,null,0,0,0,10000,{"$f":"IF(OR(MAX($P$2:P2250)-P2250=0,C2250=0),\"\",MAX($P$2:P2250)-P2250)","v":""}]
[2250,null,null,null,null,null,null,null,null,null,null,null,null,0,0,0,10000,{"$f":"IF(OR(MAX($P$2:P2251)-P2251=0,C2251=0),\"\",MAX($P$2:P2251)-P2251)","v":""}]
[2251,null,null,null,null,null,null,null,null,null,null,null,null,0,0,0,10000,{"$f":"IF(OR(MAX($P$2:P2252)-P2252=0,C2252=0),\"\",MAX($P$2:P2252)-P2252)","v":""}]
[2252,null,null,null,null,null,null,null,null,null,null,null,null,0,0,0,10000,{"$f":"IF(OR(MAX($P$2:P2253)-P2253=0,C2253=0),\"\",MAX($P$2:P2253)-P2253)","v":""}]
[2253,null,null,null,null,null,null,null,null,null,null,null,null,0,0,0,10000,{"$f":"IF(OR(MAX($P$2:P2254)-P2254=0,C2254=0),\"\",MAX($P$2:P2254)-P2254)","v":""}]
[2254,null,null,null,null,null,null,null,null,null,null,null,null,0,0,0,10000,{"$f":"IF(OR(MAX($P$2:P2255)-P2255=0,C2255=0),\"\",MAX($P$2:P2255)-P2255)","v":""}]
[2255,null,null,null,null,null,null,null,null,null,null,null,null,0,0,0,10000,{"$f":"IF(OR(MAX($P$2:P2256)-P2256=0,C2256=0),\"\",MAX($P$2:P2256)-P2256)","v":""}]
[2256,null,null,null,null,null,null,null,null,null,null,null,null,0,0,0,10000,{"$f":"IF(OR(MAX($P$2:P2257)-P2257=0,C2257=0),\"\",MAX($P$2:P2257)-P2257)","v":""}]
[2257,null,null,null,null,null,null,null,null,null,null,null,null,0,0,0,10000,{"$f":"IF(OR(MAX($P$2:P2258)-P2258=0,C2258=0),\"\",MAX($P$2:P2258)-P2258)","v":""}]
[2258,null,null,null,null,null,null,null,null,null,null,null,null,0,0,0,10000,{"$f":"IF(OR(MAX($P$2:P2259)-P2259=0,C2259=0),\"\",MAX($P$2:P2259)-P2259)","v":""}]
[2259,null,null,null,null,null,null,null,null,null,null,null,null,0,0,0,10000,{"$f":"IF(OR(MAX($P$2:P2260)-P2260=0,C2260=0),\"\",MAX($P$2:P2260)-P2260)","v":""}]
[2260,null,null,null,null,null,null,null,null,null,null,null,null,0,0,0,10000,{"$f":"IF(OR(MAX($P$2:P2261)-P2261=0,C2261=0),\"\",MAX($P$2:P2261)-P2261)","v":""}]
[2261,null,null,null,null,null,null,null,null,null,null,null,null,0,0,0,10000,{"$f":"IF(OR(MAX($P$2:P2262)-P2262=0,C2262=0),\"\",MAX($P$2:P2262)-P2262)","v":""}]
[2262,null,null,null,null,null,null,null,null,null,null,null,null,0,0,0,10000,{"$f":"IF(OR(MAX($P$2:P2263)-P2263=0,C2263=0),\"\",MAX($P$2:P2263)-P2263)","v":""}]
[2263,null,null,null,null,null,null,null,null,null,null,null,null,0,0,0,10000,{"$f":"IF(OR(MAX($P$2:P2264)-P2264=0,C2264=0),\"\",MAX($P$2:P2264)-P2264)","v":""}]
[2264,null,null,null,null,null,null,null,null,null,null,null,null,0,0,0,10000,{"$f":"IF(OR(MAX($P$2:P2265)-P2265=0,C2265=0),\"\",MAX($P$2:P2265)-P2265)","v":""}]
[2265,null,null,null,null,null,null,null,null,null,null,null,null,0,0,0,10000,{"$f":"IF(OR(MAX($P$2:P2266)-P2266=0,C2266=0),\"\",MAX($P$2:P2266)-P2266)","v":""}]
[2266,null,null,null,null,null,null,null,null,null,null,null,null,0,0,0,10000,{"$f":"IF(OR(MAX($P$2:P2267)-P2267=0,C2267=0),\"\",MAX($P$2:P2267)-P2267)","v":""}]
[2267,null,null,null,null,null,null,null,null,null,null,null,null,0,0,0,10000,{"$f":"IF(OR(MAX($P$2:P2268)-P2268=0,C2268=0),\"\",MAX($P$2:P2268)-P2268)","v":""}]
[2268,null,null,null,null,null,null,null,null,null,null,null,null,0,0,0,10000,{"$f":"IF(OR(MAX($P$2:P2269)-P2269=0,C2269=0),\"\",MAX($P$2:P2269)-P2269)","v":""}]
[2269,null,null,null,null,null,null,null,null,null,null,null,null,0,0,0,10000,{"$f":"IF(OR(MAX($P$2:P2270)-P2270=0,C2270=0),\"\",MAX($P$2:P2270)-P2270)","v":""}]
[2270,null,null,null,null,null,null,null,null,null,null,null,null,0,0,0,10000,{"$f":"IF(OR(MAX($P$2:P2271)-P2271=0,C2271=0),\"\",MAX($P$2:P2271)-P2271)","v":""}]
[2271,null,null,null,null,null,null,null,null,null,null,null,null,0,0,0,10000,{"$f":"IF(OR(MAX($P$2:P2272)-P2272=0,C2272=0),\"\",MAX($P$2:P2272)-P2272)","v":""}]
[2272,null,null,null,null,null,null,null,null,null,null,null,null,0,0,0,10000,{"$f":"IF(OR(MAX($P$2:P2273)-P2273=0,C2273=0),\"\",MAX($P$2:P2273)-P2273)","v":""}]
[2273,null,null,null,null,null,null,null,null,null,null,null,null,0,0,0,10000,{"$f":"IF(OR(MAX($P$2:P2274)-P2274=0,C2274=0),\"\",MAX($P$2:P2274)-P2274)","v":""}]
[2274,null,null,null,null,null,null,null,null,null,null,null,null,0,0,0,10000,{"$f":"IF(OR(MAX($P$2:P2275)-P2275=0,C2275=0),\"\",MAX($P$2:P2275)-P2275)","v":""}]
[2275,null,null,null,null,null,null,null,null,null,null,null,null,0,0,0,10000,{"$f":"IF(OR(MAX($P$2:P2276)-P2276=0,C2276=0),\"\",MAX($P$2:P2276)-P2276)","v":""}]
[2276,null,null,null,null,null,null,null,null,null,null,null,null,0,0,0,10000,{"$f":"IF(OR(MAX($P$2:P2277)-P2277=0,C2277=0),\"\",MAX($P$2:P2277)-P2277)","v":""}]
[2277,null,null,null,null,null,null,null,null,null,null,null,null,0,0,0,10000,{"$f":"IF(OR(MAX($P$2:P2278)-P2278=0,C2278=0),\"\",MAX($P$2:P2278)-P2278)","v":""}]
[2278,null,null,null,null,null,null,null,null,null,null,null,null,0,0,0,10000,{"$f":"IF(OR(MAX($P$2:P2279)-P2279=0,C2279=0),\"\",MAX($P$2:P2279)-P2279)","v":""}]
[2279,null,null,null,null,null,null,null,null,null,null,null,null,0,0,0,10000,{"$f":"IF(OR(MAX($P$2:P2280)-P2280=0,C2280=0),\"\",MAX($P$2:P2280)-P2280)","v":""}]
[2280,null,null,null,null,null,null,null,null,null,null,null,null,0,0,0,10000,{"$f":"IF(OR(MAX($P$2:P2281)-P2281=0,C2281=0),\"\",MAX($P$2:P2281)-P2281)","v":""}]
[2281,null,null,null,null,null,null,null,null,null,null,null,null,0,0,0,10000,{"$f":"IF(OR(MAX($P$2:P2282)-P2282=0,C2282=0),\"\",MAX($P$2:P2282)-P2282)","v":""}]
[2282,null,null,null,null,null,null,null,null,null,null,null,null,0,0,0,10000,{"$f":"IF(OR(MAX($P$2:P2283)-P2283=0,C2283=0),\"\",MAX($P$2:P2283)-P2283)","v":""}]
[2283,null,null,null,null,null,null,null,null,null,null,null,null,0,0,0,10000,{"$f":"IF(OR(MAX($P$2:P2284)-P2284=0,C2284=0),\"\",MAX($P$2:P2284)-P2284)","v":""}]
[2284,null,null,null,null,null,null,null,null,null,null,null,null,0,0,0,10000,{"$f":"IF(OR(MAX($P$2:P2285)-P2285=0,C2285=0),\"\",MAX($P$2:P2285)-P2285)","v":""}]
[2285,null,null,null,null,null,null,null,null,null,null,null,null,0,0,0,10000,{"$f":"IF(OR(MAX($P$2:P2286)-P2286=0,C2286=0),\"\",MAX($P$2:P2286)-P2286)","v":""}]
[2286,null,null,null,null,null,null,null,null,null,null,null,null,0,0,0,10000,{"$f":"IF(OR(MAX($P$2:P2287)-P2287=0,C2287=0),\"\",MAX($P$2:P2287)-P2287)","v":""}]
[2287,null,null,null,null,null,null,null,null,null,null,null,null,0,0,0,10000,{"$f":"IF(OR(MAX($P$2:P2288)-P2288=0,C2288=0),\"\",MAX($P$2:P2288)-P2288)","v":""}]
[2288,null,null,null,null,null,null,null,null,null,null,null,null,0,0,0,10000,{"$f":"IF(OR(MAX($P$2:P2289)-P2289=0,C2289=0),\"\",MAX($P$2:P2289)-P2289)","v":""}]
[2289,null,null,null,null,null,null,null,null,null,null,null,null,0,0,0,10000,{"$f":"IF(OR(MAX($P$2:P2290)-P2290=0,C2290=0),\"\",MAX($P$2:P2290)-P2290)","v":""}]
[2290,null,null,null,null,null,null,null,null,null,null,null,null,0,0,0,10000,{"$f":"IF(OR(MAX($P$2:P2291)-P2291=0,C2291=0),\"\",MAX($P$2:P2291)-P2291)","v":""}]
[2291,null,null,null,null,null,null,null,null,null,null,null,null,0,0,0,10000,{"$f":"IF(OR(MAX($P$2:P2292)-P2292=0,C2292=0),\"\",MAX($P$2:P2292)-P2292)","v":""}]
[2292,null,null,null,null,null,null,null,null,null,null,null,null,0,0,0,10000,{"$f":"IF(OR(MAX($P$2:P2293)-P2293=0,C2293=0),\"\",MAX($P$2:P2293)-P2293)","v":""}]
[2293,null,null,null,null,null,null,null,null,null,null,null,null,0,0,0,10000,{"$f":"IF(OR(MAX($P$2:P2294)-P2294=0,C2294=0),\"\",MAX($P$2:P2294)-P2294)","v":""}]
[2294,null,null,null,null,null,null,null,null,null,null,null,null,0,0,0,10000,{"$f":"IF(OR(MAX($P$2:P2295)-P2295=0,C2295=0),\"\",MAX($P$2:P2295)-P2295)","v":""}]
[2295,null,null,null,null,null,null,null,null,null,null,null,null,0,0,0,10000,{"$f":"IF(OR(MAX($P$2:P2296)-P2296=0,C2296=0),\"\",MAX($P$2:P2296)-P2296)","v":""}]
[2296,null,null,null,null,null,null,null,null,null,null,null,null,0,0,0,10000,{"$f":"IF(OR(MAX($P$2:P2297)-P2297=0,C2297=0),\"\",MAX($P$2:P2297)-P2297)","v":""}]
[2297,null,null,null,null,null,null,null,null,null,null,null,null,0,0,0,10000,{"$f":"IF(OR(MAX($P$2:P2298)-P2298=0,C2298=0),\"\",MAX($P$2:P2298)-P2298)","v":""}]
[2298,null,null,null,null,null,null,null,null,null,null,null,null,0,0,0,10000,{"$f":"IF(OR(MAX($P$2:P2299)-P2299=0,C2299=0),\"\",MAX($P$2:P2299)-P2299)","v":""}]
[2299,null,null,null,null,null,null,null,null,null,null,null,null,0,0,0,10000,{"$f":"IF(OR(MAX($P$2:P2300)-P2300=0,C2300=0),\"\",MAX($P$2:P2300)-P2300)","v":""}]
[2300,null,null,null,null,null,null,null,null,null,null,null,null,0,0,0,10000,{"$f":"IF(OR(MAX($P$2:P2301)-P2301=0,C2301=0),\"\",MAX($P$2:P2301)-P2301)","v":""}]
[2301,null,null,null,null,null,null,null,null,null,null,null,null,0,0,0,10000,{"$f":"IF(OR(MAX($P$2:P2302)-P2302=0,C2302=0),\"\",MAX($P$2:P2302)-P2302)","v":""}]
[2302,null,null,null,null,null,null,null,null,null,null,null,null,0,0,0,10000,{"$f":"IF(OR(MAX($P$2:P2303)-P2303=0,C2303=0),\"\",MAX($P$2:P2303)-P2303)","v":""}]
[2303,null,null,null,null,null,null,null,null,null,null,null,null,0,0,0,10000,{"$f":"IF(OR(MAX($P$2:P2304)-P2304=0,C2304=0),\"\",MAX($P$2:P2304)-P2304)","v":""}]
[2304,null,null,null,null,null,null,null,null,null,null,null,null,0,0,0,10000,{"$f":"IF(OR(MAX($P$2:P2305)-P2305=0,C2305=0),\"\",MAX($P$2:P2305)-P2305)","v":""}]
[2305,null,null,null,null,null,null,null,null,null,null,null,null,0,0,0,10000,{"$f":"IF(OR(MAX($P$2:P2306)-P2306=0,C2306=0),\"\",MAX($P$2:P2306)-P2306)","v":""}]
[2306,null,null,null,null,null,null,null,null,null,null,null,null,0,0,0,10000,{"$f":"IF(OR(MAX($P$2:P2307)-P2307=0,C2307=0),\"\",MAX($P$2:P2307)-P2307)","v":""}]
[2307,null,null,null,null,null,null,null,null,null,null,null,null,0,0,{"$f":"P2307+N2308-O2308","v":0},{"$f":"Q2307+N2308-O2308","v":10000},{"$f":"IF(OR(MAX($P$2:P2308)-P2308=0,C2308=0),\"\",MAX($P$2:P2308)-P2308)","v":""}]
[2308,null,null,null,null,null,null,null,null,null,null,null,null,0,0,0,10000,{"$f":"IF(OR(MAX($P$2:P2309)-P2309=0,C2309=0),\"\",MAX($P$2:P2309)-P2309)","v":""}]
[2309,null,null,null,null,null,null,null,null,null,null,null,null,{"$f":"IF(B2310=1,I2310+J2310+K2310+L2310-M2310,0)","v":0},0,0,10000,{"$f":"IF(OR(MAX($P$2:P2310)-P2310=0,C2310=0),\"\",MAX($P$2:P2310)-P2310)","v":""}]
[2310,null,null,null,null,null,null,null,null,null,null,null,null,0,0,0,10000,{"$f":"IF(OR(MAX($P$2:P2311)-P2311=0,C2311=0),\"\",MAX($P$2:P2311)-P2311)","v":""}]
[2311,null,null,null,null,null,null,null,null,null,null,null,null,0,0,0,10000,{"$f":"IF(OR(MAX($P$2:P2312)-P2312=0,C2312=0),\"\",MAX($P$2:P2312)-P2312)","v":""}]
[2312,null,null,null,null,null,null,null,null,null,null,null,null,0,0,0,10000,{"$f":"IF(OR(MAX($P$2:P2313)-P2313=0,C2313=0),\"\",MAX($P$2:P2313)-P2313)","v":""}]
[2313,null,null,null,null,null,null,null,null,null,null,null,null,0,0,0,10000,{"$f":"IF(OR(MAX($P$2:P2314)-P2314=0,C2314=0),\"\",MAX($P$2:P2314)-P2314)","v":""}]
[2314,null,null,null,null,null,null,null,null,null,null,null,null,0,0,0,10000,{"$f":"IF(OR(MAX($P$2:P2315)-P2315=0,C2315=0),\"\",MAX($P$2:P2315)-P2315)","v":""}]
[2315,null,null,null,null,null,null,null,null,null,null,null,null,0,0,0,10000,{"$f":"IF(OR(MAX($P$2:P2316)-P2316=0,C2316=0),\"\",MAX($P$2:P2316)-P2316)","v":""}]
[2316,null,null,null,null,null,null,null,null,null,null,null,null,0,0,0,10000,{"$f":"IF(OR(MAX($P$2:P2317)-P2317=0,C2317=0),\"\",MAX($P$2:P2317)-P2317)","v":""}]
[2317,null,null,null,null,null,null,null,null,null,null,null,null,0,0,0,10000,{"$f":"IF(OR(MAX($P$2:P2318)-P2318=0,C2318=0),\"\",MAX($P$2:P2318)-P2318)","v":""}]
[2318,null,null,null,null,null,null,null,null,null,null,null,null,0,0,0,10000,{"$f":"IF(OR(MAX($P$2:P2319)-P2319=0,C2319=0),\"\",MAX($P$2:P2319)-P2319)","v":""}]
[2319,null,null,null,null,null,null,null,null,null,null,null,null,0,0,0,10000,{"$f":"IF(OR(MAX($P$2:P2320)-P2320=0,C2320=0),\"\",MAX($P$2:P2320)-P2320)","v":""}]
[2320,null,null,null,null,null,null,null,null,null,null,null,null,0,0,0,10000,{"$f":"IF(OR(MAX($P$2:P2321)-P2321=0,C2321=0),\"\",MAX($P$2:P2321)-P2321)","v":""}]
[2321,null,null,null,null,null,null,null,null,null,null,null,null,0,0,0,10000,{"$f":"IF(OR(MAX($P$2:P2322)-P2322=0,C2322=0),\"\",MAX($P$2:P2322)-P2322)","v":""}]
[2322,null,null,null,null,null,null,null,null,null,null,null,null,0,0,0,10000,{"$f":"IF(OR(MAX($P$2:P2323)-P2323=0,C2323=0),\"\",MAX($P$2:P2323)-P2323)","v":""}]
[2323,null,null,null,null,null,null,null,null,null,null,null,null,0,0,0,10000,{"$f":"IF(OR(MAX($P$2:P2324)-P2324=0,C2324=0),\"\",MAX($P$2:P2324)-P2324)","v":""}]
[2324,null,null,null,null,null,null,null,null,null,null,null,null,0,0,0,10000,{"$f":"IF(OR(MAX($P$2:P2325)-P2325=0,C2325=0),\"\",MAX($P$2:P2325)-P2325)","v":""}]
[2325,null,null,null,null,null,null,null,null,null,null,null,null,0,0,0,10000,{"$f":"IF(OR(MAX($P$2:P2326)-P2326=0,C2326=0),\"\",MAX($P$2:P2326)-P2326)","v":""}]
[2326,null,null,null,null,null,null,null,null,null,null,null,null,0,0,0,10000,{"$f":"IF(OR(MAX($P$2:P2327)-P2327=0,C2327=0),\"\",MAX($P$2:P2327)-P2327)","v":""}]
[2327,null,null,null,null,null,null,null,null,null,null,null,null,0,0,0,10000,{"$f":"IF(OR(MAX($P$2:P2328)-P2328=0,C2328=0),\"\",MAX($P$2:P2328)-P2328)","v":""}]
[2328,null,null,null,null,null,null,null,null,null,null,null,null,0,0,0,10000,{"$f":"IF(OR(MAX($P$2:P2329)-P2329=0,C2329=0),\"\",MAX($P$2:P2329)-P2329)","v":""}]
[2329,null,null,null,null,null,null,null,null,null,null,null,null,0,0,0,10000,{"$f":"IF(OR(MAX($P$2:P2330)-P2330=0,C2330=0),\"\",MAX($P$2:P2330)-P2330)","v":""}]
[2330,null,null,null,null,null,null,null,null,null,null,null,null,0,0,0,10000,{"$f":"IF(OR(MAX($P$2:P2331)-P2331=0,C2331=0),\"\",MAX($P$2:P2331)-P2331)","v":""}]
[2331,null,null,null,null,null,null,null,null,null,null,null,null,0,0,0,10000,{"$f":"IF(OR(MAX($P$2:P2332)-P2332=0,C2332=0),\"\",MAX($P$2:P2332)-P2332)","v":""}]
[2332,null,null,null,null,null,null,null,null,null,null,null,null,0,0,0,10000,{"$f":"IF(OR(MAX($P$2:P2333)-P2333=0,C2333=0),\"\",MAX($P$2:P2333)-P2333)","v":""}]
[2333,null,null,null,null,null,null,null,null,null,null,null,null,0,0,0,10000,{"$f":"IF(OR(MAX($P$2:P2334)-P2334=0,C2334=0),\"\",MAX($P$2:P2334)-P2334)","v":""}]
[2334,null,null,null,null,null,null,null,null,null,null,null,null,0,0,0,10000,{"$f":"IF(OR(MAX($P$2:P2335)-P2335=0,C2335=0),\"\",MAX($P$2:P2335)-P2335)","v":""}]
[2335,null,null,null,null,null,null,null,null,null,null,null,null,0,0,0,10000,{"$f":"IF(OR(MAX($P$2:P2336)-P2336=0,C2336=0),\"\",MAX($P$2:P2336)-P2336)","v":""}]
[2336,null,null,null,null,null,null,null,null,null,null,null,null,0,0,0,10000,{"$f":"IF(OR(MAX($P$2:P2337)-P2337=0,C2337=0),\"\",MAX($P$2:P2337)-P2337)","v":""}]
[2337,null,null,null,null,null,null,null,null,null,null,null,null,0,0,0,10000,{"$f":"IF(OR(MAX($P$2:P2338)-P2338=0,C2338=0),\"\",MAX($P$2:P2338)-P2338)","v":""}]
[2338,null,null,null,null,null,null,null,null,null,null,null,null,0,0,0,10000,{"$f":"IF(OR(MAX($P$2:P2339)-P2339=0,C2339=0),\"\",MAX($P$2:P2339)-P2339)","v":""}]
[2339,null,null,null,null,null,null,null,null,null,null,null,null,0,0,0,10000,{"$f":"IF(OR(MAX($P$2:P2340)-P2340=0,C2340=0),\"\",MAX($P$2:P2340)-P2340)","v":""}]
[2340,null,null,null,null,null,null,null,null,null,null,null,null,0,0,0,10000,{"$f":"IF(OR(MAX($P$2:P2341)-P2341=0,C2341=0),\"\",MAX($P$2:P2341)-P2341)","v":""}]
[2341,null,null,null,null,null,null,null,null,null,null,null,null,0,0,0,10000,{"$f":"IF(OR(MAX($P$2:P2342)-P2342=0,C2342=0),\"\",MAX($P$2:P2342)-P2342)","v":""}]
[2342,null,null,null,null,null,null,null,null,null,null,null,null,0,0,0,10000,{"$f":"IF(OR(MAX($P$2:P2343)-P2343=0,C2343=0),\"\",MAX($P$2:P2343)-P2343)","v":""}]
[2343,null,null,null,null,null,null,null,null,null,null,null,null,0,0,0,10000,{"$f":"IF(OR(MAX($P$2:P2344)-P2344=0,C2344=0),\"\",MAX($P$2:P2344)-P2344)","v":""}]
[2344,null,null,null,null,null,null,null,null,null,null,null,null,0,0,0,10000,{"$f":"IF(OR(MAX($P$2:P2345)-P2345=0,C2345=0),\"\",MAX($P$2:P2345)-P2345)","v":""}]
[2345,null,null,null,null,null,null,null,null,null,null,null,null,0,0,0,10000,{"$f":"IF(OR(MAX($P$2:P2346)-P2346=0,C2346=0),\"\",MAX($P$2:P2346)-P2346)","v":""}]
[2346,null,null,null,null,null,null,null,null,null,null,null,null,0,0,0,10000,{"$f":"IF(OR(MAX($P$2:P2347)-P2347=0,C2347=0),\"\",MAX($P$2:P2347)-P2347)","v":""}]
[2347,null,null,null,null,null,null,null,null,null,null,null,null,0,0,0,10000,{"$f":"IF(OR(MAX($P$2:P2348)-P2348=0,C2348=0),\"\",MAX($P$2:P2348)-P2348)","v":""}]
[2348,null,null,null,null,null,null,null,null,null,null,null,null,0,0,0,10000,{"$f":"IF(OR(MAX($P$2:P2349)-P2349=0,C2349=0),\"\",MAX($P$2:P2349)-P2349)","v":""}]
[2349,null,null,null,null,null,null,null,null,null,null,null,null,0,0,0,10000,{"$f":"IF(OR(MAX($P$2:P2350)-P2350=0,C2350=0),\"\",MAX($P$2:P2350)-P2350)","v":""}]
[2350,null,null,null,null,null,null,null,null,null,null,null,null,0,0,0,10000,{"$f":"IF(OR(MAX($P$2:P2351)-P2351=0,C2351=0),\"\",MAX($P$2:P2351)-P2351)","v":""}]
[2351,null,null,null,null,null,null,null,null,null,null,null,null,0,0,0,10000,{"$f":"IF(OR(MAX($P$2:P2352)-P2352=0,C2352=0),\"\",MAX($P$2:P2352)-P2352)","v":""}]
[2352,null,null,null,null,null,null,null,null,null,null,null,null,0,0,0,10000,{"$f":"IF(OR(MAX($P$2:P2353)-P2353=0,C2353=0),\"\",MAX($P$2:P2353)-P2353)","v":""}]
[2353,null,null,null,null,null,null,null,null,null,null,null,null,0,0,0,10000,{"$f":"IF(OR(MAX($P$2:P2354)-P2354=0,C2354=0),\"\",MAX($P$2:P2354)-P2354)","v":""}]
[2354,null,null,null,null,null,null,null,null,null,null,null,null,0,0,0,10000,{"$f":"IF(OR(MAX($P$2:P2355)-P2355=0,C2355=0),\"\",MAX($P$2:P2355)-P2355)","v":""}]
[2355,null,null,null,null,null,null,null,null,null,null,null,null,0,0,0,10000,{"$f":"IF(OR(MAX($P$2:P2356)-P2356=0,C2356=0),\"\",MAX($P$2:P2356)-P2356)","v":""}]
[2356,null,null,null,null,null,null,null,null,null,null,null,null,0,0,0,10000,{"$f":"IF(OR(MAX($P$2:P2357)-P2357=0,C2357=0),\"\",MAX($P$2:P2357)-P2357)","v":""}]
[2357,null,null,null,null,null,null,null,null,null,null,null,null,0,0,0,10000,{"$f":"IF(OR(MAX($P$2:P2358)-P2358=0,C2358=0),\"\",MAX($P$2:P2358)-P2358)","v":""}]
[2358,null,null,null,null,null,null,null,null,null,null,null,null,0,0,0,10000,{"$f":"IF(OR(MAX($P$2:P2359)-P2359=0,C2359=0),\"\",MAX($P$2:P2359)-P2359)","v":""}]
[2359,null,null,null,null,null,null,null,null,null,null,null,null,0,0,0,10000,{"$f":"IF(OR(MAX($P$2:P2360)-P2360=0,C2360=0),\"\",MAX($P$2:P2360)-P2360)","v":""}]
[2360,null,null,null,null,null,null,null,null,null,null,null,null,0,0,0,10000,{"$f":"IF(OR(MAX($P$2:P2361)-P2361=0,C2361=0),\"\",MAX($P$2:P2361)-P2361)","v":""}]
[2361,null,null,null,null,null,null,null,null,null,null,null,null,0,0,0,10000,{"$f":"IF(OR(MAX($P$2:P2362)-P2362=0,C2362=0),\"\",MAX($P$2:P2362)-P2362)","v":""}]
[2362,null,null,null,null,null,null,null,null,null,null,null,null,0,0,0,10000,{"$f":"IF(OR(MAX($P$2:P2363)-P2363=0,C2363=0),\"\",MAX($P$2:P2363)-P2363)","v":""}]
[2363,null,null,null,null,null,null,null,null,null,null,null,null,0,0,0,10000,{"$f":"IF(OR(MAX($P$2:P2364)-P2364=0,C2364=0),\"\",MAX($P$2:P2364)-P2364)","v":""}]
[2364,null,null,null,null,null,null,null,null,null,null,null,null,0,0,0,10000,{"$f":"IF(OR(MAX($P$2:P2365)-P2365=0,C2365=0),\"\",MAX($P$2:P2365)-P2365)","v":""}]
[2365,null,null,null,null,null,null,null,null,null,null,null,null,0,0,0,10000,{"$f":"IF(OR(MAX($P$2:P2366)-P2366=0,C2366=0),\"\",MAX($P$2:P2366)-P2366)","v":""}]
[2366,null,null,null,null,null,null,null,null,null,null,null,null,0,0,0,10000,{"$f":"IF(OR(MAX($P$2:P2367)-P2367=0,C2367=0),\"\",MAX($P$2:P2367)-P2367)","v":""}]
[2367,null,null,null,null,null,null,null,null,null,null,null,null,0,0,0,10000,{"$f":"IF(OR(MAX($P$2:P2368)-P2368=0,C2368=0),\"\",MAX($P$2:P2368)-P2368)","v":""}]
[2368,null,null,null,null,null,null,null,null,null,null,null,null,0,0,0,10000,{"$f":"IF(OR(MAX($P$2:P2369)-P2369=0,C2369=0),\"\",MAX($P$2:P2369)-P2369)","v":""}]
[2369,null,null,null,null,null,null,null,null,null,null,null,null,0,0,0,10000,{"$f":"IF(OR(MAX($P$2:P2370)-P2370=0,C2370=0),\"\",MAX($P$2:P2370)-P2370)","v":""}]
[2370,null,null,null,null,null,null,null,null,null,null,null,null,0,0,0,10000,{"$f":"IF(OR(MAX($P$2:P2371)-P2371=0,C2371=0),\"\",MAX($P$2:P2371)-P2371)","v":""}]
[2371,null,null,null,null,null,null,null,null,null,null,null,null,0,0,{"$f":"P2371+N2372-O2372","v":0},{"$f":"Q2371+N2372-O2372","v":10000},{"$f":"IF(OR(MAX($P$2:P2372)-P2372=0,C2372=0),\"\",MAX($P$2:P2372)-P2372)","v":""}]
[2372,null,null,null,null,null,null,null,null,null,null,null,null,0,0,0,10000,{"$f":"IF(OR(MAX($P$2:P2373)-P2373=0,C2373=0),\"\",MAX($P$2:P2373)-P2373)","v":""}]
[2373,null,null,null,null,null,null,null,null,null,null,null,null,{"$f":"IF(B2374=1,I2374+J2374+K2374+L2374-M2374,0)","v":0},0,0,10000,{"$f":"IF(OR(MAX($P$2:P2374)-P2374=0,C2374=0),\"\",MAX($P$2:P2374)-P2374)","v":""}]
[2374,null,null,null,null,null,null,null,null,null,null,null,null,0,0,0,10000,{"$f":"IF(OR(MAX($P$2:P2375)-P2375=0,C2375=0),\"\",MAX($P$2:P2375)-P2375)","v":""}]
[2375,null,null,null,null,null,null,null,null,null,null,null,null,0,0,0,10000,{"$f":"IF(OR(MAX($P$2:P2376)-P2376=0,C2376=0),\"\",MAX($P$2:P2376)-P2376)","v":""}]
[2376,null,null,null,null,null,null,null,null,null,null,null,null,0,0,0,10000,{"$f":"IF(OR(MAX($P$2:P2377)-P2377=0,C2377=0),\"\",MAX($P$2:P2377)-P2377)","v":""}]
[2377,null,null,null,null,null,null,null,null,null,null,null,null,0,0,0,10000,{"$f":"IF(OR(MAX($P$2:P2378)-P2378=0,C2378=0),\"\",MAX($P$2:P2378)-P2378)","v":""}]
[2378,null,null,null,null,null,null,null,null,null,null,null,null,0,0,0,10000,{"$f":"IF(OR(MAX($P$2:P2379)-P2379=0,C2379=0),\"\",MAX($P$2:P2379)-P2379)","v":""}]
[2379,null,null,null,null,null,null,null,null,null,null,null,null,0,0,0,10000,{"$f":"IF(OR(MAX($P$2:P2380)-P2380=0,C2380=0),\"\",MAX($P$2:P2380)-P2380)","v":""}]
[2380,null,null,null,null,null,null,null,null,null,null,null,null,0,0,0,10000,{"$f":"IF(OR(MAX($P$2:P2381)-P2381=0,C2381=0),\"\",MAX($P$2:P2381)-P2381)","v":""}]
[2381,null,null,null,null,null,null,null,null,null,null,null,null,0,0,0,10000,{"$f":"IF(OR(MAX($P$2:P2382)-P2382=0,C2382=0),\"\",MAX($P$2:P2382)-P2382)","v":""}]
[2382,null,null,null,null,null,null,null,null,null,null,null,null,0,0,0,10000,{"$f":"IF(OR(MAX($P$2:P2383)-P2383=0,C2383=0),\"\",MAX($P$2:P2383)-P2383)","v":""}]
[2383,null,null,null,null,null,null,null,null,null,null,null,null,0,0,0,10000,{"$f":"IF(OR(MAX($P$2:P2384)-P2384=0,C2384=0),\"\",MAX($P$2:P2384)-P2384)","v":""}]
[2384,null,null,null,null,null,null,null,null,null,null,null,null,0,0,0,10000,{"$f":"IF(OR(MAX($P$2:P2385)-P2385=0,C2385=0),\"\",MAX($P$2:P2385)-P2385)","v":""}]
[2385,null,null,null,null,null,null,null,null,null,null,null,null,0,0,0,10000,{"$f":"IF(OR(MAX($P$2:P2386)-P2386=0,C2386=0),\"\",MAX($P$2:P2386)-P2386)","v":""}]
[2386,null,null,null,null,null,null,null,null,null,null,null,null,0,0,0,10000,{"$f":"IF(OR(MAX($P$2:P2387)-P2387=0,C2387=0),\"\",MAX($P$2:P2387)-P2387)","v":""}]
[2387,null,null,null,null,null,null,null,null,null,null,null,null,0,0,0,10000,{"$f":"IF(OR(MAX($P$2:P2388)-P2388=0,C2388=0),\"\",MAX($P$2:P2388)-P2388)","v":""}]
[2388,null,null,null,null,null,null,null,null,null,null,null,null,0,0,0,10000,{"$f":"IF(OR(MAX($P$2:P2389)-P2389=0,C2389=0),\"\",MAX($P$2:P2389)-P2389)","v":""}]
[2389,null,null,null,null,null,null,null,null,null,null,null,null,0,0,0,10000,{"$f":"IF(OR(MAX($P$2:P2390)-P2390=0,C2390=0),\"\",MAX($P$2:P2390)-P2390)","v":""}]
[2390,null,null,null,null,null,null,null,null,null,null,null,null,0,0,0,10000,{"$f":"IF(OR(MAX($P$2:P2391)-P2391=0,C2391=0),\"\",MAX($P$2:P2391)-P2391)","v":""}]
[2391,null,null,null,null,null,null,null,null,null,null,null,null,0,0,0,10000,{"$f":"IF(OR(MAX($P$2:P2392)-P2392=0,C2392=0),\"\",MAX($P$2:P2392)-P2392)","v":""}]
[2392,null,null,null,null,null,null,null,null,null,null,null,null,0,0,0,10000,{"$f":"IF(OR(MAX($P$2:P2393)-P2393=0,C2393=0),\"\",MAX($P$2:P2393)-P2393)","v":""}]
[2393,null,null,null,null,null,null,null,null,null,null,null,null,0,0,0,10000,{"$f":"IF(OR(MAX($P$2:P2394)-P2394=0,C2394=0),\"\",MAX($P$2:P2394)-P2394)","v":""}]
[2394,null,null,null,null,null,null,null,null,null,null,null,null,0,0,0,10000,{"$f":"IF(OR(MAX($P$2:P2395)-P2395=0,C2395=0),\"\",MAX($P$2:P2395)-P2395)","v":""}]
[2395,null,null,null,null,null,null,null,null,null,null,null,null,0,0,0,10000,{"$f":"IF(OR(MAX($P$2:P2396)-P2396=0,C2396=0),\"\",MAX($P$2:P2396)-P2396)","v":""}]
[2396,null,null,null,null,null,null,null,null,null,null,null,null,0,0,0,10000,{"$f":"IF(OR(MAX($P$2:P2397)-P2397=0,C2397=0),\"\",MAX($P$2:P2397)-P2397)","v":""}]
[2397,null,null,null,null,null,null,null,null,null,null,null,null,0,0,0,10000,{"$f":"IF(OR(MAX($P$2:P2398)-P2398=0,C2398=0),\"\",MAX($P$2:P2398)-P2398)","v":""}]
[2398,null,null,null,null,null,null,null,null,null,null,null,null,0,0,0,10000,{"$f":"IF(OR(MAX($P$2:P2399)-P2399=0,C2399=0),\"\",MAX($P$2:P2399)-P2399)","v":""}]
[2399,null,null,null,null,null,null,null,null,null,null,null,null,0,0,0,10000,{"$f":"IF(OR(MAX($P$2:P2400)-P2400=0,C2400=0),\"\",MAX($P$2:P2400)-P2400)","v":""}]
[2400,null,null,null,null,null,null,null,null,null,null,null,null,0,0,0,10000,{"$f":"IF(OR(MAX($P$2:P2401)-P2401=0,C2401=0),\"\",MAX($P$2:P2401)-P2401)","v":""}]
[2401,null,null,null,null,null,null,null,null,null,null,null,null,0,0,0,10000,{"$f":"IF(OR(MAX($P$2:P2402)-P2402=0,C2402=0),\"\",MAX($P$2:P2402)-P2402)","v":""}]
[2402,null,null,null,null,null,null,null,null,null,null,null,null,0,0,0,10000,{"$f":"IF(OR(MAX($P$2:P2403)-P2403=0,C2403=0),\"\",MAX($P$2:P2403)-P2403)","v":""}]
[2403,null,null,null,null,null,null,null,null,null,null,null,null,0,0,0,10000,{"$f":"IF(OR(MAX($P$2:P2404)-P2404=0,C2404=0),\"\",MAX($P$2:P2404)-P2404)","v":""}]
[2404,null,null,null,null,null,null,null,null,null,null,null,null,0,0,0,10000,{"$f":"IF(OR(MAX($P$2:P2405)-P2405=0,C2405=0),\"\",MAX($P$2:P2405)-P2405)","v":""}]
[2405,null,null,null,null,null,null,null,null,null,null,null,null,0,0,0,10000,{"$f":"IF(OR(MAX($P$2:P2406)-P2406=0,C2406=0),\"\",MAX($P$2:P2406)-P2406)","v":""}]
[2406,null,null,null,null,null,null,null,null,null,null,null,null,0,0,0,10000,{"$f":"IF(OR(MAX($P$2:P2407)-P2407=0,C2407=0),\"\",MAX($P$2:P2407)-P2407)","v":""}]
[2407,null,null,null,null,null,null,null,null,null,null,null,null,0,0,0,10000,{"$f":"IF(OR(MAX($P$2:P2408)-P2408=0,C2408=0),\"\",MAX($P$2:P2408)-P2408)","v":""}]
[2408,null,null,null,null,null,null,null,null,null,null,null,null,0,0,0,10000,{"$f":"IF(OR(MAX($P$2:P2409)-P2409=0,C2409=0),\"\",MAX($P$2:P2409)-P2409)","v":""}]
[2409,null,null,null,null,null,null,null,null,null,null,null,null,0,0,0,10000,{"$f":"IF(OR(MAX($P$2:P2410)-P2410=0,C2410=0),\"\",MAX($P$2:P2410)-P2410)","v":""}]
[2410,null,null,null,null,null,null,null,null,null,null,null,null,0,0,0,10000,{"$f":"IF(OR(MAX($P$2:P2411)-P2411=0,C2411=0),\"\",MAX($P$2:P2411)-P2411)","v":""}]
[2411,null,null,null,null,null,null,null,null,null,null,null,null,0,0,0,10000,{"$f":"IF(OR(MAX($P$2:P2412)-P2412=0,C2412=0),\"\",MAX($P$2:P2412)-P2412)","v":""}]
[2412,null,null,null,null,null,null,null,null,null,null,null,null,0,0,0,10000,{"$f":"IF(OR(MAX($P$2:P2413)-P2413=0,C2413=0),\"\",MAX($P$2:P2413)-P2413)","v":""}]
[2413,null,null,null,null,null,null,null,null,null,null,null,null,0,0,0,10000,{"$f":"IF(OR(MAX($P$2:P2414)-P2414=0,C2414=0),\"\",MAX($P$2:P2414)-P2414)","v":""}]
[2414,null,null,null,null,null,null,null,null,null,null,null,null,0,0,0,10000,{"$f":"IF(OR(MAX($P$2:P2415)-P2415=0,C2415=0),\"\",MAX($P$2:P2415)-P2415)","v":""}]
[2415,null,null,null,null,null,null,null,null,null,null,null,null,0,0,0,10000,{"$f":"IF(OR(MAX($P$2:P2416)-P2416=0,C2416=0),\"\",MAX($P$2:P2416)-P2416)","v":""}]
[2416,null,null,null,null,null,null,null,null,null,null,null,null,0,0,0,10000,{"$f":"IF(OR(MAX($P$2:P2417)-P2417=0,C2417=0),\"\",MAX($P$2:P2417)-P2417)","v":""}]
[2417,null,null,null,null,null,null,null,null,null,null,null,null,0,0,0,10000,{"$f":"IF(OR(MAX($P$2:P2418)-P2418=0,C2418=0),\"\",MAX($P$2:P2418)-P2418)","v":""}]
[2418,null,null,null,null,null,null,null,null,null,null,null,null,0,0,0,10000,{"$f":"IF(OR(MAX($P$2:P2419)-P2419=0,C2419=0),\"\",MAX($P$2:P2419)-P2419)","v":""}]
[2419,null,null,null,null,null,null,null,null,null,null,null,null,0,0,0,10000,{"$f":"IF(OR(MAX($P$2:P2420)-P2420=0,C2420=0),\"\",MAX($P$2:P2420)-P2420)","v":""}]
[2420,null,null,null,null,null,null,null,null,null,null,null,null,0,0,0,10000,{"$f":"IF(OR(MAX($P$2:P2421)-P2421=0,C2421=0),\"\",MAX($P$2:P2421)-P2421)","v":""}]
[2421,null,null,null,null,null,null,null,null,null,null,null,null,0,0,0,10000,{"$f":"IF(OR(MAX($P$2:P2422)-P2422=0,C2422=0),\"\",MAX($P$2:P2422)-P2422)","v":""}]
[2422,null,null,null,null,null,null,null,null,null,null,null,null,0,0,0,10000,{"$f":"IF(OR(MAX($P$2:P2423)-P2423=0,C2423=0),\"\",MAX($P$2:P2423)-P2423)","v":""}]
[2423,null,null,null,null,null,null,null,null,null,null,null,null,0,0,0,10000,{"$f":"IF(OR(MAX($P$2:P2424)-P2424=0,C2424=0),\"\",MAX($P$2:P2424)-P2424)","v":""}]
[2424,null,null,null,null,null,null,null,null,null,null,null,null,0,0,0,10000,{"$f":"IF(OR(MAX($P$2:P2425)-P2425=0,C2425=0),\"\",MAX($P$2:P2425)-P2425)","v":""}]
[2425,null,null,null,null,null,null,null,null,null,null,null,null,0,0,0,10000,{"$f":"IF(OR(MAX($P$2:P2426)-P2426=0,C2426=0),\"\",MAX($P$2:P2426)-P2426)","v":""}]
[2426,null,null,null,null,null,null,null,null,null,null,null,null,0,0,0,10000,{"$f":"IF(OR(MAX($P$2:P2427)-P2427=0,C2427=0),\"\",MAX($P$2:P2427)-P2427)","v":""}]
[2427,null,null,null,null,null,null,null,null,null,null,null,null,0,0,0,10000,{"$f":"IF(OR(MAX($P$2:P2428)-P2428=0,C2428=0),\"\",MAX($P$2:P2428)-P2428)","v":""}]
[2428,null,null,null,null,null,null,null,null,null,null,null,null,0,0,0,10000,{"$f":"IF(OR(MAX($P$2:P2429)-P2429=0,C2429=0),\"\",MAX($P$2:P2429)-P2429)","v":""}]
[2429,null,null,null,null,null,null,null,null,null,null,null,null,0,0,0,10000,{"$f":"IF(OR(MAX($P$2:P2430)-P2430=0,C2430=0),\"\",MAX($P$2:P2430)-P2430)","v":""}]
[2430,null,null,null,null,null,null,null,null,null,null,null,null,0,0,0,10000,{"$f":"IF(OR(MAX($P$2:P2431)-P2431=0,C2431=0),\"\",MAX($P$2:P2431)-P2431)","v":""}]
[2431,null,null,null,null,null,null,null,null,null,null,null,null,0,0,0,10000,{"$f":"IF(OR(MAX($P$2:P2432)-P2432=0,C2432=0),\"\",MAX($P$2:P2432)-P2432)","v":""}]
[2432,null,null,null,null,null,null,null,null,null,null,null,null,0,0,0,10000,{"$f":"IF(OR(MAX($P$2:P2433)-P2433=0,C2433=0),\"\",MAX($P$2:P2433)-P2433)","v":""}]
[2433,null,null,null,null,null,null,null,null,null,null,null,null,0,0,0,10000,{"$f":"IF(OR(MAX($P$2:P2434)-P2434=0,C2434=0),\"\",MAX($P$2:P2434)-P2434)","v":""}]
[2434,null,null,null,null,null,null,null,null,null,null,null,null,0,0,0,10000,{"$f":"IF(OR(MAX($P$2:P2435)-P2435=0,C2435=0),\"\",MAX($P$2:P2435)-P2435)","v":""}]
[2435,null,null,null,null,null,null,null,null,null,null,null,null,0,0,{"$f":"P2435+N2436-O2436","v":0},{"$f":"Q2435+N2436-O2436","v":10000},{"$f":"IF(OR(MAX($P$2:P2436)-P2436=0,C2436=0),\"\",MAX($P$2:P2436)-P2436)","v":""}]
[2436,null,null,null,null,null,null,null,null,null,null,null,null,0,0,0,10000,{"$f":"IF(OR(MAX($P$2:P2437)-P2437=0,C2437=0),\"\",MAX($P$2:P2437)-P2437)","v":""}]
[2437,null,null,null,null,null,null,null,null,null,null,null,null,{"$f":"IF(B2438=1,I2438+J2438+K2438+L2438-M2438,0)","v":0},0,0,10000,{"$f":"IF(OR(MAX($P$2:P2438)-P2438=0,C2438=0),\"\",MAX($P$2:P2438)-P2438)","v":""}]
[2438,null,null,null,null,null,null,null,null,null,null,null,null,0,0,0,10000,{"$f":"IF(OR(MAX($P$2:P2439)-P2439=0,C2439=0),\"\",MAX($P$2:P2439)-P2439)","v":""}]
[2439,null,null,null,null,null,null,null,null,null,null,null,null,0,0,0,10000,{"$f":"IF(OR(MAX($P$2:P2440)-P2440=0,C2440=0),\"\",MAX($P$2:P2440)-P2440)","v":""}]
[2440,null,null,null,null,null,null,null,null,null,null,null,null,0,0,0,10000,{"$f":"IF(OR(MAX($P$2:P2441)-P2441=0,C2441=0),\"\",MAX($P$2:P2441)-P2441)","v":""}]
[2441,null,null,null,null,null,null,null,null,null,null,null,null,0,0,0,10000,{"$f":"IF(OR(MAX($P$2:P2442)-P2442=0,C2442=0),\"\",MAX($P$2:P2442)-P2442)","v":""}]
[2442,null,null,null,null,null,null,null,null,null,null,null,null,0,0,0,10000,{"$f":"IF(OR(MAX($P$2:P2443)-P2443=0,C2443=0),\"\",MAX($P$2:P2443)-P2443)","v":""}]
[2443,null,null,null,null,null,null,null,null,null,null,null,null,0,0,0,10000,{"$f":"IF(OR(MAX($P$2:P2444)-P2444=0,C2444=0),\"\",MAX($P$2:P2444)-P2444)","v":""}]
[2444,null,null,null,null,null,null,null,null,null,null,null,null,0,0,0,10000,{"$f":"IF(OR(MAX($P$2:P2445)-P2445=0,C2445=0),\"\",MAX($P$2:P2445)-P2445)","v":""}]
[2445,null,null,null,null,null,null,null,null,null,null,null,null,0,0,0,10000,{"$f":"IF(OR(MAX($P$2:P2446)-P2446=0,C2446=0),\"\",MAX($P$2:P2446)-P2446)","v":""}]
[2446,null,null,null,null,null,null,null,null,null,null,null,null,0,0,0,10000,{"$f":"IF(OR(MAX($P$2:P2447)-P2447=0,C2447=0),\"\",MAX($P$2:P2447)-P2447)","v":""}]
[2447,null,null,null,null,null,null,null,null,null,null,null,null,0,0,0,10000,{"$f":"IF(OR(MAX($P$2:P2448)-P2448=0,C2448=0),\"\",MAX($P$2:P2448)-P2448)","v":""}]
[2448,null,null,null,null,null,null,null,null,null,null,null,null,0,0,0,10000,{"$f":"IF(OR(MAX($P$2:P2449)-P2449=0,C2449=0),\"\",MAX($P$2:P2449)-P2449)","v":""}]
[2449,null,null,null,null,null,null,null,null,null,null,null,null,0,0,0,10000,{"$f":"IF(OR(MAX($P$2:P2450)-P2450=0,C2450=0),\"\",MAX($P$2:P2450)-P2450)","v":""}]
[2450,null,null,null,null,null,null,null,null,null,null,null,null,0,0,0,10000,{"$f":"IF(OR(MAX($P$2:P2451)-P2451=0,C2451=0),\"\",MAX($P$2:P2451)-P2451)","v":""}]
[2451,null,null,null,null,null,null,null,null,null,null,null,null,0,0,0,10000,{"$f":"IF(OR(MAX($P$2:P2452)-P2452=0,C2452=0),\"\",MAX($P$2:P2452)-P2452)","v":""}]
[2452,null,null,null,null,null,null,null,null,null,null,null,null,0,0,0,10000,{"$f":"IF(OR(MAX($P$2:P2453)-P2453=0,C2453=0),\"\",MAX($P$2:P2453)-P2453)","v":""}]
[2453,null,null,null,null,null,null,null,null,null,null,null,null,0,0,0,10000,{"$f":"IF(OR(MAX($P$2:P2454)-P2454=0,C2454=0),\"\",MAX($P$2:P2454)-P2454)","v":""}]
[2454,null,null,null,null,null,null,null,null,null,null,null,null,0,0,0,10000,{"$f":"IF(OR(MAX($P$2:P2455)-P2455=0,C2455=0),\"\",MAX($P$2:P2455)-P2455)","v":""}]
[2455,null,null,null,null,null,null,null,null,null,null,null,null,0,0,0,10000,{"$f":"IF(OR(MAX($P$2:P2456)-P2456=0,C2456=0),\"\",MAX($P$2:P2456)-P2456)","v":""}]
[2456,null,null,null,null,null,null,null,null,null,null,null,null,0,0,0,10000,{"$f":"IF(OR(MAX($P$2:P2457)-P2457=0,C2457=0),\"\",MAX($P$2:P2457)-P2457)","v":""}]
[2457,null,null,null,null,null,null,null,null,null,null,null,null,0,0,0,10000,{"$f":"IF(OR(MAX($P$2:P2458)-P2458=0,C2458=0),\"\",MAX($P$2:P2458)-P2458)","v":""}]
[2458,null,null,null,null,null,null,null,null,null,null,null,null,0,0,0,10000,{"$f":"IF(OR(MAX($P$2:P2459)-P2459=0,C2459=0),\"\",MAX($P$2:P2459)-P2459)","v":""}]
[2459,null,null,null,null,null,null,null,null,null,null,null,null,0,0,0,10000,{"$f":"IF(OR(MAX($P$2:P2460)-P2460=0,C2460=0),\"\",MAX($P$2:P2460)-P2460)","v":""}]
[2460,null,null,null,null,null,null,null,null,null,null,null,null,0,0,0,10000,{"$f":"IF(OR(MAX($P$2:P2461)-P2461=0,C2461=0),\"\",MAX($P$2:P2461)-P2461)","v":""}]
[2461,null,null,null,null,null,null,null,null,null,null,null,null,0,0,0,10000,{"$f":"IF(OR(MAX($P$2:P2462)-P2462=0,C2462=0),\"\",MAX($P$2:P2462)-P2462)","v":""}]
[2462,null,null,null,null,null,null,null,null,null,null,null,null,0,0,0,10000,{"$f":"IF(OR(MAX($P$2:P2463)-P2463=0,C2463=0),\"\",MAX($P$2:P2463)-P2463)","v":""}]
[2463,null,null,null,null,null,null,null,null,null,null,null,null,0,0,0,10000,{"$f":"IF(OR(MAX($P$2:P2464)-P2464=0,C2464=0),\"\",MAX($P$2:P2464)-P2464)","v":""}]
[2464,null,null,null,null,null,null,null,null,null,null,null,null,0,0,0,10000,{"$f":"IF(OR(MAX($P$2:P2465)-P2465=0,C2465=0),\"\",MAX($P$2:P2465)-P2465)","v":""}]
[2465,null,null,null,null,null,null,null,null,null,null,null,null,0,0,0,10000,{"$f":"IF(OR(MAX($P$2:P2466)-P2466=0,C2466=0),\"\",MAX($P$2:P2466)-P2466)","v":""}]
[2466,null,null,null,null,null,null,null,null,null,null,null,null,0,0,0,10000,{"$f":"IF(OR(MAX($P$2:P2467)-P2467=0,C2467=0),\"\",MAX($P$2:P2467)-P2467)","v":""}]
[2467,null,null,null,null,null,null,null,null,null,null,null,null,0,0,0,10000,{"$f":"IF(OR(MAX($P$2:P2468)-P2468=0,C2468=0),\"\",MAX($P$2:P2468)-P2468)","v":""}]
[2468,null,null,null,null,null,null,null,null,null,null,null,null,0,0,0,10000,{"$f":"IF(OR(MAX($P$2:P2469)-P2469=0,C2469=0),\"\",MAX($P$2:P2469)-P2469)","v":""}]
[2469,null,null,null,null,null,null,null,null,null,null,null,null,0,0,0,10000,{"$f":"IF(OR(MAX($P$2:P2470)-P2470=0,C2470=0),\"\",MAX($P$2:P2470)-P2470)","v":""}]
[2470,null,null,null,null,null,null,null,null,null,null,null,null,0,0,0,10000,{"$f":"IF(OR(MAX($P$2:P2471)-P2471=0,C2471=0),\"\",MAX($P$2:P2471)-P2471)","v":""}]
[2471,null,null,null,null,null,null,null,null,null,null,null,null,0,0,0,10000,{"$f":"IF(OR(MAX($P$2:P2472)-P2472=0,C2472=0),\"\",MAX($P$2:P2472)-P2472)","v":""}]
[2472,null,null,null,null,null,null,null,null,null,null,null,null,0,0,0,10000,{"$f":"IF(OR(MAX($P$2:P2473)-P2473=0,C2473=0),\"\",MAX($P$2:P2473)-P2473)","v":""}]
[2473,null,null,null,null,null,null,null,null,null,null,null,null,0,0,0,10000,{"$f":"IF(OR(MAX($P$2:P2474)-P2474=0,C2474=0),\"\",MAX($P$2:P2474)-P2474)","v":""}]
[2474,null,null,null,null,null,null,null,null,null,null,null,null,0,0,0,10000,{"$f":"IF(OR(MAX($P$2:P2475)-P2475=0,C2475=0),\"\",MAX($P$2:P2475)-P2475)","v":""}]
[2475,null,null,null,null,null,null,null,null,null,null,null,null,0,0,0,10000,{"$f":"IF(OR(MAX($P$2:P2476)-P2476=0,C2476=0),\"\",MAX($P$2:P2476)-P2476)","v":""}]
[2476,null,null,null,null,null,null,null,null,null,null,null,null,0,0,0,10000,{"$f":"IF(OR(MAX($P$2:P2477)-P2477=0,C2477=0),\"\",MAX($P$2:P2477)-P2477)","v":""}]
[2477,null,null,null,null,null,null,null,null,null,null,null,null,0,0,0,10000,{"$f":"IF(OR(MAX($P$2:P2478)-P2478=0,C2478=0),\"\",MAX($P$2:P2478)-P2478)","v":""}]
[2478,null,null,null,null,null,null,null,null,null,null,null,null,0,0,0,10000,{"$f":"IF(OR(MAX($P$2:P2479)-P2479=0,C2479=0),\"\",MAX($P$2:P2479)-P2479)","v":""}]
[2479,null,null,null,null,null,null,null,null,null,null,null,null,0,0,0,10000,{"$f":"IF(OR(MAX($P$2:P2480)-P2480=0,C2480=0),\"\",MAX($P$2:P2480)-P2480)","v":""}]
[2480,null,null,null,null,null,null,null,null,null,null,null,null,0,0,0,10000,{"$f":"IF(OR(MAX($P$2:P2481)-P2481=0,C2481=0),\"\",MAX($P$2:P2481)-P2481)","v":""}]
[2481,null,null,null,null,null,null,null,null,null,null,null,null,0,0,0,10000,{"$f":"IF(OR(MAX($P$2:P2482)-P2482=0,C2482=0),\"\",MAX($P$2:P2482)-P2482)","v":""}]
[2482,null,null,null,null,null,null,null,null,null,null,null,null,0,0,0,10000,{"$f":"IF(OR(MAX($P$2:P2483)-P2483=0,C2483=0),\"\",MAX($P$2:P2483)-P2483)","v":""}]
[2483,null,null,null,null,null,null,null,null,null,null,null,null,0,0,0,10000,{"$f":"IF(OR(MAX($P$2:P2484)-P2484=0,C2484=0),\"\",MAX($P$2:P2484)-P2484)","v":""}]
[2484,null,null,null,null,null,null,null,null,null,null,null,null,0,0,0,10000,{"$f":"IF(OR(MAX($P$2:P2485)-P2485=0,C2485=0),\"\",MAX($P$2:P2485)-P2485)","v":""}]
[2485,null,null,null,null,null,null,null,null,null,null,null,null,0,0,0,10000,{"$f":"IF(OR(MAX($P$2:P2486)-P2486=0,C2486=0),\"\",MAX($P$2:P2486)-P2486)","v":""}]
[2486,null,null,null,null,null,null,null,null,null,null,null,null,0,0,0,10000,{"$f":"IF(OR(MAX($P$2:P2487)-P2487=0,C2487=0),\"\",MAX($P$2:P2487)-P2487)","v":""}]
[2487,null,null,null,null,null,null,null,null,null,null,null,null,0,0,0,10000,{"$f":"IF(OR(MAX($P$2:P2488)-P2488=0,C2488=0),\"\",MAX($P$2:P2488)-P2488)","v":""}]
[2488,null,null,null,null,null,null,null,null,null,null,null,null,0,0,0,10000,{"$f":"IF(OR(MAX($P$2:P2489)-P2489=0,C2489=0),\"\",MAX($P$2:P2489)-P2489)","v":""}]
[2489,null,null,null,null,null,null,null,null,null,null,null,null,0,0,0,10000,{"$f":"IF(OR(MAX($P$2:P2490)-P2490=0,C2490=0),\"\",MAX($P$2:P2490)-P2490)","v":""}]
[2490,null,null,null,null,null,null,null,null,null,null,null,null,0,0,0,10000,{"$f":"IF(OR(MAX($P$2:P2491)-P2491=0,C2491=0),\"\",MAX($P$2:P2491)-P2491)","v":""}]
[2491,null,null,null,null,null,null,null,null,null,null,null,null,0,0,0,10000,{"$f":"IF(OR(MAX($P$2:P2492)-P2492=0,C2492=0),\"\",MAX($P$2:P2492)-P2492)","v":""}]
[2492,null,null,null,null,null,null,null,null,null,null,null,null,0,0,0,10000,{"$f":"IF(OR(MAX($P$2:P2493)-P2493=0,C2493=0),\"\",MAX($P$2:P2493)-P2493)","v":""}]
[2493,null,null,null,null,null,null,null,null,null,null,null,null,0,0,0,10000,{"$f":"IF(OR(MAX($P$2:P2494)-P2494=0,C2494=0),\"\",MAX($P$2:P2494)-P2494)","v":""}]
[2494,null,null,null,null,null,null,null,null,null,null,null,null,0,0,0,10000,{"$f":"IF(OR(MAX($P$2:P2495)-P2495=0,C2495=0),\"\",MAX($P$2:P2495)-P2495)","v":""}]
[2495,null,null,null,null,null,null,null,null,null,null,null,null,0,0,0,10000,{"$f":"IF(OR(MAX($P$2:P2496)-P2496=0,C2496=0),\"\",MAX($P$2:P2496)-P2496)","v":""}]
[2496,null,null,null,null,null,null,null,null,null,null,null,null,0,0,0,10000,{"$f":"IF(OR(MAX($P$2:P2497)-P2497=0,C2497=0),\"\",MAX($P$2:P2497)-P2497)","v":""}]
[2497,null,null,null,null,null,null,null,null,null,null,null,null,0,0,0,10000,{"$f":"IF(OR(MAX($P$2:P2498)-P2498=0,C2498=0),\"\",MAX($P$2:P2498)-P2498)","v":""}]
[null,null,null,null,null,null,null,null,null,null,null,null,null,null,0]
[null,null,null,null,null,null,null,null,null,null,null,null,null,null,0]

{"sheet":"Výsledky","index":1,"n_rows":168,"n_cols":18,"rows_kept":168,"cut":false,"hidden":false,"merged":[[167,0,167,2],[167,12,167,14],[165,0,165,2],[165,5,165,7],[165,12,165,14],[166,0,166,2],[166,12,166,14],[163,0,163,2],[163,5,163,7],[163,12,163,14],[164,0,164,2],[164,5,164,7],[164,12,164,14],[161,0,161,2],[161,5,161,7],[161,12,161,14],[162,0,162,2],[162,5,162,7],[159,0,159,3],[159,5,159,7],[159,12,159,14],[160,0,160,2],[160,5,160,7],[160,12,160,14],[154,0,154,2],[154,12,154,14],[157,0,157,10],[157,12,157,14],[158,12,158,14],[152,0,152,2],[152,5,152,7],[152,12,152,14],[153,0,153,2],[153,12,153,14],[150,0,150,2],[150,5,150,7],[150,12,150,14],[151,0,151,2],[151,5,151,7],[151,12,151,14],[148,0,148,2],[148,5,148,7],[148,12,148,14],[149,0,149,2],[149,5,149,7],[146,0,146,3],[146,5,146,7],[146,12,146,14],[147,0,147,2],[147,5,147,7],[147,12,147,14],[141,0,141,2],[141,12,141,14],[144,0,144,10],[144,12,144,14],[145,12,145,14],[139,0,139,2],[139,5,139,7],[139,12,139,14],[140,0,140,2],[140,12,140,14],[137,0,137,2],[137,5,137,7],[137,12,137,14],[138,0,138,2],[138,5,138,7],[138,12,138,14],[135,0,135,2],[135,5,135,7],[135,12,135,14],[136,0,136,2],[136,5,136,7],[133,0,133,3],[133,5,133,7],[133,12,133,14],[134,0,134,2],[134,5,134,7],[134,12,134,14],[128,0,128,2],[128,12,128,14],[131,0,131,10],[131,12,131,14],[132,12,132,14],[126,0,126,2],[126,5,126,7],[126,12,126,14],[127,0,127,2],[127,12,127,14],[124,0,124,2],[124,5,124,7],[124,12,124,14],[125,0,125,2],[125,5,125,7],[125,12,125,14],[122,0,122,2],[122,5,122,7],[122,12,122,14],[123,0,123,2],[123,5,123,7],[120,0,120,3],[120,5,120,7],[120,12,120,14],[121,0,121,2],[121,5,121,7],[121,12,121,14],[115,0,115,2],[115,12,115,14],[118,0,118,10],[118,12,118,14],[119,12,119,14],[113,0,113,2],[113,5,113,7],[113,12,113,14],[114,0,114,2],[114,12,114,14],[111,0,111,2],[111,5,111,7],[111,12,111,14],[112,0,112,2],[112,5,112,7],[112,12,112,14],[109,0,109,2],[109,5,109,7],[109,12,109,14],[110,0,110,2],[110,5,110,7],[107,0,107,3],[107,5,107,7],[107,12,107,14],[108,0,108,2],[108,5,108,7],[108,12,108,14],[102,0,102,2],[102,12,102,14],[105,0,105,10],[105,12,105,14],[106,12,106,14],[100,0,100,2],[100,5,100,7],[100,12,100,14],[101,0,101,2],[101,12,101,14],[98,0,98,2],[98,5,98,7],[98,12,98,14],[99,0,99,2],[99,5,99,7],[99,12,99,14],[96,0,96,2],[96,5,96,7],[96,12,96,14],[97,0,97,2],[97,5,97,7],[94,0,94,3],[94,5,94,7],[94,12,94,14],[95,0,95,2],[95,5,95,7],[95,12,95,14],[89,0,89,2],[89,12,89,14],[92,0,92,10],[92,12,92,14],[93,12,93,14],[87,0,87,2],[87,5,87,7],[87,12,87,14],[88,0,88,2],[88,12,88,14],[85,0,85,2],[85,5,85,7],[85,12,85,14],[86,0,86,2],[86,5,86,7],[86,12,86,14],[83,0,83,2],[83,5,83,7],[83,12,83,14],[84,0,84,2],[84,5,84,7],[81,0,81,3],[81,5,81,7],[81,12,81,14],[82,0,82,2],[82,5,82,7],[82,12,82,14],[76,0,76,2],[76,12,76,14],[79,0,79,10],[79,12,79,14],[80,12,80,14],[74,0,74,2],[74,5,74,7],[74,12,74,14],[75,0,75,2],[75,12,75,14],[72,0,72,2],[72,5,72,7],[72,12,72,14],[73,0,73,2],[73,5,73,7],[73,12,73,14],[70,0,70,2],[70,5,70,7],[70,12,70,14],[71,0,71,2],[71,5,71,7],[68,0,68,3],[68,5,68,7],[68,12,68,14],[69,0,69,2],[69,5,69,7],[69,12,69,14],[63,0,63,2],[63,12,63,14],[66,0,66,10],[66,12,66,14],[67,12,67,14],[61,0,61,2],[61,5,61,7],[61,12,61,14],[62,0,62,2],[62,12,62,14],[59,0,59,2],[59,5,59,7],[59,12,59,14],[60,0,60,2],[60,5,60,7],[60,12,60,14],[57,0,57,2],[57,5,57,7],[57,12,57,14],[58,0,58,2],[58,5,58,7],[54,12,54,14],[55,0,55,3],[55,5,55,7],[55,12,55,14],[56,0,56,2],[56,5,56,7],[56,12,56,14],[49,0,49,2],[49,12,49,14],[50,0,50,2],[50,12,50,14],[53,0,53,10],[53,12,53,14],[47,0,47,2],[47,5,47,7],[47,12,47,14],[48,0,48,2],[48,5,48,7],[48,12,48,14],[45,0,45,2],[45,5,45,7],[46,0,46,2],[46,5,46,7],[46,12,46,14],[43,0,43,2],[43,5,43,7],[43,12,43,14],[44,0,44,2],[44,5,44,7],[44,12,44,14],[40,0,40,10],[40,12,40,14],[41,12,41,14],[42,0,42,3],[42,5,42,7],[42,12,42,14],[33,0,33,2],[33,5,33,7],[33,12,33,14],[37,0,37,2],[37,12,37,14],[34,0,34,2],[34,12,34,14],[35,0,35,2],[34,5,34,7],[35,12,35,14],[36,0,36,2],[35,5,35,7],[36,12,36,14],[23,12,23,14],[19,0,19,2],[19,5,19,7],[20,12,20,14],[24,0,24,2],[24,12,24,14],[32,0,32,2],[32,5,32,7],[28,12,28,14],[29,0,29,3],[29,5,29,7],[29,12,29,14],[30,0,30,2],[30,5,30,7],[30,12,30,14],[31,0,31,2],[31,5,31,7],[31,12,31,14],[21,12,21,14],[27,0,27,10],[5,5,5,7],[6,5,6,7],[7,5,7,7],[20,0,20,2],[20,5,20,7],[21,0,21,2],[27,12,27,14],[14,0,14,10],[22,0,22,2],[21,5,21,7],[22,12,22,14],[17,0,17,2],[17,5,17,7],[17,12,17,14],[18,0,18,2],[18,5,18,7],[18,12,18,14],[14,12,14,14],[15,12,15,14],[16,0,16,3],[16,5,16,7],[16,12,16,14],[23,0,23,2],[22,5,22,7],[1,0,1,10],[10,12,10,14],[11,12,11,14],[7,12,7,14],[8,12,8,14],[9,12,9,14],[4,12,4,14],[5,12,5,14],[1,12,1,14],[2,12,2,14],[3,12,3,14],[11,0,11,2],[3,5,3,7],[4,5,4,7],[8,0,8,2],[9,0,9,2],[10,0,10,2],[5,0,5,2],[6,0,6,2],[7,0,7,2],[3,0,3,3],[4,0,4,2],[8,5,8,7],[9,5,9,7]]}
[]
["Celý rok",null,null,null,null,null,null,null,null,null,null,null,"Obchody ziskové",null,null,"Vše","Long","Short"]
[null,null,null,null,null,null,null,null,null,null,null,null,"Počet ziskových obchodů:",null,null,{"$f":"COUNTIF(Deník_2!E3:E2501,\">0\")","v":0},{"$f":"COUNT(IF( (Deník_2!D3:D2501=1)*(Deník_2!E3:E2501>0),Deník_2!B5:B2501))","v":0},{"$f":"COUNT(IF((Deník_2!D3:D2501=-1)*(Deník_2!E3:E2501>0),Deník_2!B3:B2501))","v":0}]
["Účet",null,null,null,null,"Obchody",null,null,"Vše","Long","Short",null,"Celkový zisk:",null,null,{"$f":"SUMIF(Deník_2!E3:E2501,\">0\")","v":0},{"$f":"SUM(IF( (Deník_2!D3:D2501=1)*(Deník_2!E3:E2501>0),Deník_2!E3:E2501))","v":0},{"$f":"SUM(IF( (Deník_2!D3:D2501=-1)*(Deník_2!E3:E2501>0),Deník_2!E3:E2501))","v":0}]
["Počáteční stav účtu:",null,null,{"$f":"Účet!$E$2","v":10000},null,"Celkový počet obchodů:",null,null,{"$f":"COUNTIF(Deník_2!B3:B2501,\">0\")","v":0},{"$f":"COUNT(IF(Deník_2!D3:D2501>0,Deník_2!B3:B2501))","v":0},{"$f":"COUNT(IF((Deník_2!D3:D2501<0),Deník_2!B3:B2501))","v":0},null,"Průměrný ziskový obchod:",null,null,{"$f":"P4/P3","v":{"$error":"#DIV/0!"}},{"$f":"Q4/Q3","v":{"$error":"#DIV/0!"}},{"$error":"#DIV/0!"}]
["Minimální stav účtu:",null,null,{"$f":"MIN(Deník_2!I3:I2501)","v":10000},null,"Celkový zisk:",null,null,{"$f":"D9","v":0},{"$f":"Q4+Q10","v":0},{"$f":"R4+R10","v":0},null,"Největší ziskový obchod:",null,null,{"$f":"MAX(Deník_2!E3:E2501)","v":0}]
["Maximální stav účtu:",null,null,{"$f":"MAX(Deník_2!I3:I2501)","v":10000},null,"Procento ziskovosti:",null,null,{"$f":"P3/I5","v":{"$error":"#DIV/0!"}},{"$f":"Q3/J5","v":{"$error":"#DIV/0!"}},{"$f":"R3/K5","v":{"$error":"#DIV/0!"}}]
["Zůstatek na účtu:",null,null,{"$f":"Deník_2!I2501","v":10000},null,"Průměrný obchod:",null,null,{"$f":"I6/I5","v":{"$error":"#DIV/0!"}},{"$f":"J6/J5","v":{"$error":"#DIV/0!"}},{"$error":"#DIV/0!"},null,"Obchody ztrátové",null,null,"Vše","Long","Short"]
["Čistý zisk:",null,null,{"$f":"D8-D5","v":0},null,"Profit faktor:",null,null,{"$f":"P4/(P10*-1)","v":{"$error":"#DIV/0!"}},{"$error":"#DIV/0!"},{"$error":"#DIV/0!"},null,"Počet ztrátových obchodů:",null,null,{"$f":"COUNTIF(Deník_2!E3:E2501,\"<0\")","v":0},{"$f":"COUNT(IF( (Deník_2!D3:D2501=1)*(Deník_2!E3:E2501<0),Deník_2!B3:B2501))","v":0},{"$f":"COUNT(IF( (Deník_2!D3:D2501=-1)*(Deník_2!E3:E2501<0),Deník_2!B3:B2501))","v":0}]
["Zhodnocení účtu %:",null,null,{"$f":"D9/D5","v":0},null,"Poměr průměrný zisk/ztráta:",null,null,{"$error":"#DIV/0!"},{"$error":"#DIV/0!"},{"$error":"#DIV/0!"},null,"Celková ztráta:",null,null,{"$f":"SUMIF(Deník_2!E3:E2501,\"<0\")","v":0},{"$f":"SUM(IF( (Deník_2!D3:D2501=1)*(Deník_2!E3:E2501<0),Deník_2!E3:E2501))","v":0},{"$f":"SUM(IF( (Deník_2!D3:D2501=-1)*(Deník_2!E3:E2501<0),Deník_2!E3:E2501))","v":0}]
["Maximální pokles účtu:",null,null,{"$f":"MAX(Deník_2!F3:F2501)","v":0},null,null,null,null,null,null,null,null,"Průměrný ztrátový obchod:",null,null,{"$f":"P10/P9","v":{"$error":"#DIV/0!"}},{"$f":"Q10/Q9","v":{"$error":"#DIV/0!"}},{"$error":"#DIV/0!"}]
["Maximální pokles účtu %:",null,null,{"$f":"MAX(Deník_2!G3:G2501)","v":0},null,null,null,null,null,null,null,null,"Největší ztrátový obchod:",null,null,{"$f":"MIN(Deník_2!E3:E2501)","v":0}]
[]
[]
["Leden",null,null,null,null,null,null,null,null,null,null,null,"Obchody ziskové",null,null,"Vše","Long","Short"]
[1,null,null,null,null,null,null,null,null,null,null,null,"Počet ziskových obchodů:",null,null,{"$f":"Q16+R16","v":0},{"$f":"COUNT(IF( (Deník_2!$D$3:$D$2501=1)*(Deník_2!$E$3:$E$2501>0)*(Deník_2!$J$3:$J$2501=A16),Deník_2!$B$3:$B$2501))","v":0},{"$f":"COUNT(IF( (Deník_2!$D$3:$D$2501=-1)*(Deník_2!$E$3:$E$2501>0)*(Deník_2!$J$3:$J$2501=A16),Deník_2!$B$3:$B$2501))","v":0}]
["Účet",null,null,null,null,"Obchody",null,null,"Vše","Long","Short",null,"Celkový zisk:",null,null,{"$f":"Q17+R17","v":0},{"$f":"SUM(IF( (Deník_2!$D$3:$D$2501=1)*(Deník_2!$E$3:$E$2501>0)*(Deník_2!$J$3:$J$2501=A16),Deník_2!$E$3:$E$2501))","v":0},{"$f":"SUM(IF( (Deník_2!$D$3:$D$2501=-1)*(Deník_2!$E$3:$E$2501>0)*(Deník_2!$J$3:$J$2501=A16),Deník_2!$E$3:$E$2501))","v":0}]
["Počáteční stav účtu:",null,null,{"$f":"D21-D22","v":0},null,"Celkový počet obchodů:",null,null,{"$f":"P16+P22","v":0},{"$f":"Q16+Q22","v":0},{"$f":"R16+R22","v":0},null,"Průměrný ziskový obchod:",null,null,{"$f":"P17/P16","v":{"$error":"#DIV/0!"}},{"$f":"Q17/Q16","v":{"$error":"#DIV/0!"}},{"$error":"#DIV/0!"}]
["Minimální stav účtu:",null,null,{"$f":"MIN(IF(Deník_2!$J$3:$J$2501=A16,Deník_2!$I$3:$I$2501))","v":0},null,"Celkový zisk:",null,null,{"$f":"D22","v":0},{"$f":"Q17+Q23","v":0},{"$f":"R17+R23","v":0},null,"Největší ziskový obchod:",null,null,{"$f":"MAX(IF(Deník_2!$J$3:$J$2501=A16,Deník_2!$E$3:$E$2501))","v":0}]
["Maximální stav účtu:",null,null,{"$f":"MAX(IF(Deník_2!$J$3:$J$2501=A16,Deník_2!$I$3:$I$2501))","v":0},null,"Procento ziskovosti:",null,null,{"$f":"P16/I18","v":{"$error":"#DIV/0!"}},{"$f":"Q16/J18","v":{"$error":"#DIV/0!"}},{"$f":"R16/K18","v":{"$error":"#DIV/0!"}}]
["Zůstatek na účtu:",null,null,{"$f":"MAX(IF(Řady!$Q$4:$Q$21=A16,Řady!$W$4:$W$21))","v":0},null,"Průměrný obchod:",null,null,{"$f":"I19/I18","v":{"$error":"#DIV/0!"}},{"$f":"J19/J18","v":{"$error":"#DIV/0!"}},{"$error":"#DIV/0!"},null,"Obchody ztrátové",null,null,"Vše","Long","Short"]
["Čistý zisk:",null,null,{"$f":"MAX(IF(Řady!$Q$4:$Q$21=A16,Řady!$S$4:$S$21))","v":0},null,"Profit faktor:",null,null,{"$f":"P17/(P23*-1)","v":{"$error":"#DIV/0!"}},{"$f":"Q17/(Q23*-1)","v":{"$error":"#DIV/0!"}},{"$f":"R17/(R23*-1)","v":{"$error":"#DIV/0!"}},null,"Počet ztrátových obchodů:",null,null,{"$f":"Q22+R22","v":0},{"$f":"COUNT(IF( (Deník_2!$D$3:$D$2501=1)*(Deník_2!$E$3:$E$2501<0)*(Deník_2!$J$3:$J$2501=A16),Deník_2!$B$3:$B$2501))","v":0},{"$f":"COUNT(IF( (Deník_2!$D$3:$D$2501=-1)*(Deník_2!$E$3:$E$2501<0)*(Deník_2!$J$3:$J$2501=A16),Deník_2!$B$3:$B$2501))","v":0}]
["Zhodnocení účtu %:",null,null,{"$f":"D22/D18","v":{"$error":"#DIV/0!"}},null,"Poměr průměrný zisk/ztráta:",null,null,{"$error":"#DIV/0!"},{"$error":"#DIV/0!"},{"$error":"#DIV/0!"},null,"Celková ztráta:",null,null,{"$f":"Q23+R23","v":0},{"$f":"SUM(IF( (Deník_2!$D$3:$D$2501=1)*(Deník_2!$E$3:$E$2501<0)*(Deník_2!$J$3:$J$2501=A16),Deník_2!$E$3:$E$2501))","v":0},{"$f":"SUM(IF( (Deník_2!$D$3:$D$2501=-1)*(Deník_2!$E$3:$E$2501<0)*(Deník_2!$J$3:$J$2501=A16),Deník_2!$E$3:$E$2501))","v":0}]
["Maximální pokles účtu:",null,null,{"$f":"MAX(IF(Deník_2!$J$3:$J$2501=A16,Deník_2!$F$3:$F$2501))","v":0},null,null,null,null,null,null,null,null,"Průměrný ztrátový obchod:",null,null,{"$f":"P23/P22","v":{"$error":"#DIV/0!"}},{"$f":"Q23/Q22","v":{"$error":"#DIV/0!"}},{"$error":"#DIV/0!"}]
["Maximální pokles účtu %:",null,null,{"$f":"MAX(IF(Deník_2!$J$3:$J$2501=A16,Deník_2!$G$3:$G$2501))","v":0},null,null,null,null,null,null,null,null,"Největší ztrátový obchod:",null,null,{"$f":"MIN(IF(Deník_2!$J$3:$J$2501=A16,Deník_2!$E$3:$E$2501))","v":0}]
[]
[]
["Únor",null,null,null,null,null,null,null,null,null,null,null,"Obchody ziskové",null,null,"Vše","Long","Short"]
[2,null,null,null,null,null,null,null,null,null,null,null,"Počet ziskových obchodů:",null,null,{"$f":"Q29+R29","v":0},{"$f":"COUNT(IF( (Deník_2!$D$3:$D$2501=1)*(Deník_2!$E$3:$E$2501>0)*(Deník_2!$J$3:$J$2501=A29),Deník_2!$B$3:$B$2501))","v":0},{"$f":"COUNT(IF( (Deník_2!$D$3:$D$2501=-1)*(Deník_2!$E$3:$E$2501>0)*(Deník_2!$J$3:$J$2501=A29),Deník_2!$B$3:$B$2501))","v":0}]
["Účet",null,null,null,null,"Obchody",null,null,"Vše","Long","Short",null,"Celkový zisk:",null,null,{"$f":"Q30+R30","v":0},{"$f":"SUM(IF( (Deník_2!$D$3:$D$2501=1)*(Deník_2!$E$3:$E$2501>0)*(Deník_2!$J$3:$J$2501=A29),Deník_2!$E$3:$E$2501))","v":0},{"$f":"SUM(IF( (Deník_2!$D$3:$D$2501=-1)*(Deník_2!$E$3:$E$2501>0)*(Deník_2!$J$3:$J$2501=A29),Deník_2!$E$3:$E$2501))","v":0}]
["Počáteční stav účtu:",null,null,{"$f":"D34-D35","v":0},null,"Celkový počet obchodů:",null,null,{"$f":"P29+P35","v":0},{"$f":"Q29+Q35","v":0},{"$f":"R29+R35","v":0},null,"Průměrný ziskový obchod:",null,null,{"$f":"P30/P29","v":{"$error":"#DIV/0!"}},{"$f":"Q30/Q29","v":{"$error":"#DIV/0!"}},{"$error":"#DIV/0!"}]
["Minimální stav účtu:",null,null,{"$f":"MIN(IF(Deník_2!$J$3:$J$2501=A29,Deník_2!$I$3:$I$2501))","v":0},null,"Celkový zisk:",null,null,{"$f":"D35","v":0},{"$f":"Q30+Q36","v":0},{"$f":"R30+R36","v":0},null,"Největší ziskový obchod:",null,null,{"$f":"MAX(IF(Deník_2!$J$3:$J$2501=A29,Deník_2!$E$3:$E$2501))","v":0}]
["Maximální stav účtu:",null,null,{"$f":"MAX(IF(Deník_2!$J$3:$J$2501=A29,Deník_2!$I$3:$I$2501))","v":0},null,"Procento ziskovosti:",null,null,{"$f":"P29/I31","v":{"$error":"#DIV/0!"}},{"$f":"Q29/J31","v":{"$error":"#DIV/0!"}},{"$f":"R29/K31","v":{"$error":"#DIV/0!"}}]
["Zůstatek na účtu:",null,null,{"$f":"MAX(IF(Řady!$Q$4:$Q$21=A29,Řady!$W$4:$W$21))","v":0},null,"Průměrný obchod:",null,null,{"$f":"I32/I31","v":{"$error":"#DIV/0!"}},{"$f":"J32/J31","v":{"$error":"#DIV/0!"}},{"$error":"#DIV/0!"},null,"Obchody ztrátové",null,null,"Vše","Long","Short"]
["Čistý zisk:",null,null,{"$f":"MAX(IF(Řady!$Q$4:$Q$21=A29,Řady!$S$4:$S$21))","v":0},null,"Profit faktor:",null,null,{"$f":"P30/(P36*-1)","v":{"$error":"#DIV/0!"}},{"$f":"Q30/(Q36*-1)","v":{"$error":"#DIV/0!"}},{"$f":"R30/(R36*-1)","v":{"$error":"#DIV/0!"}},null,"Počet ztrátových obchodů:",null,null,{"$f":"Q35+R35","v":0},{"$f":"COUNT(IF( (Deník_2!$D$3:$D$2501=1)*(Deník_2!$E$3:$E$2501<0)*(Deník_2!$J$3:$J$2501=A29),Deník_2!$B$3:$B$2501))","v":0},{"$f":"COUNT(IF( (Deník_2!$D$3:$D$2501=-1)*(Deník_2!$E$3:$E$2501<0)*(Deník_2!$J$3:$J$2501=A29),Deník_2!$B$3:$B$2501))","v":0}]
["Zhodnocení účtu %:",null,null,{"$f":"D35/D31","v":{"$error":"#DIV/0!"}},null,"Poměr průměrný zisk/ztráta:",null,null,{"$error":"#DIV/0!"},{"$error":"#DIV/0!"},{"$error":"#DIV/0!"},null,"Celková ztráta:",null,null,{"$f":"Q36+R36","v":0},{"$f":"SUM(IF( (Deník_2!$D$3:$D$2501=1)*(Deník_2!$E$3:$E$2501<0)*(Deník_2!$J$3:$J$2501=A29),Deník_2!$E$3:$E$2501))","v":0},{"$f":"SUM(IF( (Deník_2!$D$3:$D$2501=-1)*(Deník_2!$E$3:$E$2501<0)*(Deník_2!$J$3:$J$2501=A29),Deník_2!$E$3:$E$2501))","v":0}]
["Maximální pokles účtu:",null,null,{"$f":"MAX(IF(Deník_2!$J$3:$J$2501=A29,Deník_2!$F$3:$F$2501))","v":0},null,null,null,null,null,null,null,null,"Průměrný ztrátový obchod:",null,null,{"$f":"P36/P35","v":{"$error":"#DIV/0!"}},{"$f":"Q36/Q35","v":{"$error":"#DIV/0!"}},{"$error":"#DIV/0!"}]
["Maximální pokles účtu %:",null,null,{"$f":"MAX(IF(Deník_2!$J$3:$J$2501=A29,Deník_2!$G$3:$G$2501))","v":0},null,null,null,null,null,null,null,null,"Největší ztrátový obchod:",null,null,{"$f":"MIN(IF(Deník_2!$J$3:$J$2501=A29,Deník_2!$E$3:$E$2501))","v":0}]
[]
[]
["Březen",null,null,null,null,null,null,null,null,null,null,null,"Obchody ziskové",null,null,"Vše","Long","Short"]
[3,null,null,null,null,null,null,null,null,null,null,null,"Počet ziskových obchodů:",null,null,{"$f":"Q42+R42","v":0},{"$f":"COUNT(IF( (Deník_2!$D$3:$D$2501=1)*(Deník_2!$E$3:$E$2501>0)*(Deník_2!$J$3:$J$2501=A42),Deník_2!$B$3:$B$2501))","v":0},{"$f":"COUNT(IF( (Deník_2!$D$3:$D$2501=-1)*(Deník_2!$E$3:$E$2501>0)*(Deník_2!$J$3:$J$2501=A42),Deník_2!$B$3:$B$2501))","v":0}]
["Účet",null,null,null,null,"Obchody",null,null,"Vše","Long","Short",null,"Celkový zisk:",null,null,{"$f":"Q43+R43","v":0},{"$f":"SUM(IF( (Deník_2!$D$3:$D$2501=1)*(Deník_2!$E$3:$E$2501>0)*(Deník_2!$J$3:$J$2501=A42),Deník_2!$E$3:$E$2501))","v":0},{"$f":"SUM(IF( (Deník_2!$D$3:$D$2501=-1)*(Deník_2!$E$3:$E$2501>0)*(Deník_2!$J$3:$J$2501=A42),Deník_2!$E$3:$E$2501))","v":0}]
["Počáteční stav účtu:",null,null,{"$f":"D47-D48","v":0},null,"Celkový počet obchodů:",null,null,{"$f":"P42+P48","v":0},{"$f":"Q42+Q48","v":0},{"$f":"R42+R48","v":0},null,"Průměrný ziskový obchod:",null,null,{"$f":"P43/P42","v":{"$error":"#DIV/0!"}},{"$f":"Q43/Q42","v":{"$error":"#DIV/0!"}},{"$error":"#DIV/0!"}]
["Minimální stav účtu:",null,null,{"$f":"MIN(IF(Deník_2!$J$3:$J$2501=A42,Deník_2!$I$3:$I$2501))","v":0},null,"Celkový zisk:",null,null,{"$f":"D48","v":0},{"$f":"Q43+Q49","v":0},{"$f":"R43+R49","v":0},null,"Největší ziskový obchod:",null,null,{"$f":"MAX(IF(Deník_2!$J$3:$J$2501=A42,Deník_2!$E$3:$E$2501))","v":0}]
["Maximální stav účtu:",null,null,{"$f":"MAX(IF(Deník_2!$J$3:$J$2501=A42,Deník_2!$I$3:$I$2501))","v":0},null,"Procento ziskovosti:",null,null,{"$f":"P42/I44","v":{"$error":"#DIV/0!"}},{"$f":"Q42/J44","v":{"$error":"#DIV/0!"}},{"$f":"R42/K44","v":{"$error":"#DIV/0!"}}]
["Zůstatek na účtu:",null,null,{"$f":"MAX(IF(Řady!$Q$4:$Q$21=A42,Řady!$W$4:$W$21))","v":0},null,"Průměrný obchod:",null,null,{"$f":"I45/I44","v":{"$error":"#DIV/0!"}},{"$f":"J45/J44","v":{"$error":"#DIV/0!"}},{"$error":"#DIV/0!"},null,"Obchody ztrátové",null,null,"Vše","Long","Short"]
["Čistý zisk:",null,null,{"$f":"MAX(IF(Řady!$Q$4:$Q$21=A42,Řady!$S$4:$S$21))","v":0},null,"Profit faktor:",null,null,{"$f":"P43/(P49*-1)","v":{"$error":"#DIV/0!"}},{"$f":"Q43/(Q49*-1)","v":{"$error":"#DIV/0!"}},{"$f":"R43/(R49*-1)","v":{"$error":"#DIV/0!"}},null,"Počet ztrátových obchodů:",null,null,{"$f":"Q48+R48","v":0},{"$f":"COUNT(IF( (Deník_2!$D$3:$D$2501=1)*(Deník_2!$E$3:$E$2501<0)*(Deník_2!$J$3:$J$2501=A42),Deník_2!$B$3:$B$2501))","v":0},{"$f":"COUNT(IF( (Deník_2!$D$3:$D$2501=-1)*(Deník_2!$E$3:$E$2501<0)*(Deník_2!$J$3:$J$2501=A42),Deník_2!$B$3:$B$2501))","v":0}]
["Zhodnocení účtu %:",null,null,{"$f":"D48/D44","v":{"$error":"#DIV/0!"}},null,"Poměr průměrný zisk/ztráta:",null,null,{"$error":"#DIV/0!"},{"$error":"#DIV/0!"},{"$error":"#DIV/0!"},null,"Celková ztráta:",null,null,{"$f":"Q49+R49","v":0},{"$f":"SUM(IF( (Deník_2!$D$3:$D$2501=1)*(Deník_2!$E$3:$E$2501<0)*(Deník_2!$J$3:$J$2501=A42),Deník_2!$E$3:$E$2501))","v":0},{"$f":"SUM(IF( (Deník_2!$D$3:$D$2501=-1)*(Deník_2!$E$3:$E$2501<0)*(Deník_2!$J$3:$J$2501=A42),Deník_2!$E$3:$E$2501))","v":0}]
["Maximální pokles účtu:",null,null,{"$f":"MAX(IF(Deník_2!$J$3:$J$2501=A42,Deník_2!$F$3:$F$2501))","v":0},null,null,null,null,null,null,null,null,"Průměrný ztrátový obchod:",null,null,{"$f":"P49/P48","v":{"$error":"#DIV/0!"}},{"$f":"Q49/Q48","v":{"$error":"#DIV/0!"}},{"$error":"#DIV/0!"}]
["Maximální pokles účtu %:",null,null,{"$f":"MAX(IF(Deník_2!$J$3:$J$2501=A42,Deník_2!$G$3:$G$2501))","v":0},null,null,null,null,null,null,null,null,"Největší ztrátový obchod:",null,null,{"$f":"MIN(IF(Deník_2!$J$3:$J$2501=A42,Deník_2!$E$3:$E$2501))","v":0}]
[]
[]
["Duben",null,null,null,null,null,null,null,null,null,null,null,"Obchody ziskové",null,null,"Vše","Long","Short"]
[4,null,null,null,null,null,null,null,null,null,null,null,"Počet ziskových obchodů:",null,null,{"$f":"Q55+R55","v":0},{"$f":"COUNT(IF( (Deník_2!$D$3:$D$2501=1)*(Deník_2!$E$3:$E$2501>0)*(Deník_2!$J$3:$J$2501=A55),Deník_2!$B$3:$B$2501))","v":0},{"$f":"COUNT(IF( (Deník_2!$D$3:$D$2501=-1)*(Deník_2!$E$3:$E$2501>0)*(Deník_2!$J$3:$J$2501=A55),Deník_2!$B$3:$B$2501))","v":0}]
["Účet",null,null,null,null,"Obchody",null,null,"Vše","Long","Short",null,"Celkový zisk:",null,null,{"$f":"Q56+R56","v":0},{"$f":"SUM(IF( (Deník_2!$D$3:$D$2501=1)*(Deník_2!$E$3:$E$2501>0)*(Deník_2!$J$3:$J$2501=A55),Deník_2!$E$3:$E$2501))","v":0},{"$f":"SUM(IF( (Deník_2!$D$3:$D$2501=-1)*(Deník_2!$E$3:$E$2501>0)*(Deník_2!$J$3:$J$2501=A55),Deník_2!$E$3:$E$2501))","v":0}]
["Počáteční stav účtu:",null,null,{"$f":"D60-D61","v":0},null,"Celkový počet obchodů:",null,null,{"$f":"P55+P61","v":0},{"$f":"Q55+Q61","v":0},{"$f":"R55+R61","v":0},null,"Průměrný ziskový obchod:",null,null,{"$f":"P56/P55","v":{"$error":"#DIV/0!"}},{"$f":"Q56/Q55","v":{"$error":"#DIV/0!"}},{"$error":"#DIV/0!"}]
["Minimální stav účtu:",null,null,{"$f":"MIN(IF(Deník_2!$J$3:$J$2501=A55,Deník_2!$I$3:$I$2501))","v":0},null,"Celkový zisk:",null,null,{"$f":"D61","v":0},{"$f":"Q56+Q62","v":0},{"$f":"R56+R62","v":0},null,"Největší ziskový obchod:",null,null,{"$f":"MAX(IF(Deník_2!$J$3:$J$2501=A55,Deník_2!$E$3:$E$2501))","v":0}]
["Maximální stav účtu:",null,null,{"$f":"MAX(IF(Deník_2!$J$3:$J$2501=A55,Deník_2!$I$3:$I$2501))","v":0},null,"Procento ziskovosti:",null,null,{"$f":"P55/I57","v":{"$error":"#DIV/0!"}},{"$f":"Q55/J57","v":{"$error":"#DIV/0!"}},{"$f":"R55/K57","v":{"$error":"#DIV/0!"}}]
["Zůstatek na účtu:",null,null,{"$f":"MAX(IF(Řady!$Q$4:$Q$21=A55,Řady!$W$4:$W$21))","v":0},null,"Průměrný obchod:",null,null,{"$f":"I58/I57","v":{"$error":"#DIV/0!"}},{"$f":"J58/J57","v":{"$error":"#DIV/0!"}},{"$error":"#DIV/0!"},null,"Obchody ztrátové",null,null,"Vše","Long","Short"]
["Čistý zisk:",null,null,{"$f":"MAX(IF(Řady!$Q$4:$Q$21=A55,Řady!$S$4:$S$21))","v":0},null,"Profit faktor:",null,null,{"$f":"P56/(P62*-1)","v":{"$error":"#DIV/0!"}},{"$f":"Q56/(Q62*-1)","v":{"$error":"#DIV/0!"}},{"$f":"R56/(R62*-1)","v":{"$error":"#DIV/0!"}},null,"Počet ztrátových obchodů:",null,null,{"$f":"Q61+R61","v":0},{"$f":"COUNT(IF( (Deník_2!$D$3:$D$2501=1)*(Deník_2!$E$3:$E$2501<0)*(Deník_2!$J$3:$J$2501=A55),Deník_2!$B$3:$B$2501))","v":0},{"$f":"COUNT(IF( (Deník_2!$D$3:$D$2501=-1)*(Deník_2!$E$3:$E$2501<0)*(Deník_2!$J$3:$J$2501=A55),Deník_2!$B$3:$B$2501))","v":0}]
["Zhodnocení účtu %:",null,null,{"$f":"D61/D57","v":{"$error":"#DIV/0!"}},null,"Poměr průměrný zisk/ztráta:",null,null,{"$error":"#DIV/0!"},{"$error":"#DIV/0!"},{"$error":"#DIV/0!"},null,"Celková ztráta:",null,null,{"$f":"Q62+R62","v":0},{"$f":"SUM(IF( (Deník_2!$D$3:$D$2501=1)*(Deník_2!$E$3:$E$2501<0)*(Deník_2!$J$3:$J$2501=A55),Deník_2!$E$3:$E$2501))","v":0},{"$f":"SUM(IF( (Deník_2!$D$3:$D$2501=-1)*(Deník_2!$E$3:$E$2501<0)*(Deník_2!$J$3:$J$2501=A55),Deník_2!$E$3:$E$2501))","v":0}]
["Maximální pokles účtu:",null,null,{"$f":"MAX(IF(Deník_2!$J$3:$J$2501=A55,Deník_2!$F$3:$F$2501))","v":0},null,null,null,null,null,null,null,null,"Průměrný ztrátový obchod:",null,null,{"$f":"P62/P61","v":{"$error":"#DIV/0!"}},{"$f":"Q62/Q61","v":{"$error":"#DIV/0!"}},{"$error":"#DIV/0!"}]
["Maximální pokles účtu %:",null,null,{"$f":"MAX(IF(Deník_2!$J$3:$J$2501=A55,Deník_2!$G$3:$G$2501))","v":0},null,null,null,null,null,null,null,null,"Největší ztrátový obchod:",null,null,{"$f":"MIN(IF(Deník_2!$J$3:$J$2501=A55,Deník_2!$E$3:$E$2501))","v":0}]
[]
[]
["Květen",null,null,null,null,null,null,null,null,null,null,null,"Obchody ziskové",null,null,"Vše","Long","Short"]
[5,null,null,null,null,null,null,null,null,null,null,null,"Počet ziskových obchodů:",null,null,{"$f":"Q68+R68","v":0},{"$f":"COUNT(IF( (Deník_2!$D$3:$D$2501=1)*(Deník_2!$E$3:$E$2501>0)*(Deník_2!$J$3:$J$2501=A68),Deník_2!$B$3:$B$2501))","v":0},{"$f":"COUNT(IF( (Deník_2!$D$3:$D$2501=-1)*(Deník_2!$E$3:$E$2501>0)*(Deník_2!$J$3:$J$2501=A68),Deník_2!$B$3:$B$2501))","v":0}]
["Účet",null,null,null,null,"Obchody",null,null,"Vše","Long","Short",null,"Celkový zisk:",null,null,{"$f":"Q69+R69","v":0},{"$f":"SUM(IF( (Deník_2!$D$3:$D$2501=1)*(Deník_2!$E$3:$E$2501>0)*(Deník_2!$J$3:$J$2501=A68),Deník_2!$E$3:$E$2501))","v":0},{"$f":"SUM(IF( (Deník_2!$D$3:$D$2501=-1)*(Deník_2!$E$3:$E$2501>0)*(Deník_2!$J$3:$J$2501=A68),Deník_2!$E$3:$E$2501))","v":0}]
["Počáteční stav účtu:",null,null,{"$f":"D73-D74","v":0},null,"Celkový počet obchodů:",null,null,{"$f":"P68+P74","v":0},{"$f":"Q68+Q74","v":0},{"$f":"R68+R74","v":0},null,"Průměrný ziskový obchod:",null,null,{"$f":"P69/P68","v":{"$error":"#DIV/0!"}},{"$f":"Q69/Q68","v":{"$error":"#DIV/0!"}},{"$error":"#DIV/0!"}]
["Minimální stav účtu:",null,null,{"$f":"MIN(IF(Deník_2!$J$3:$J$2501=A68,Deník_2!$I$3:$I$2501))","v":0},null,"Celkový zisk:",null,null,{"$f":"D74","v":0},{"$f":"Q69+Q75","v":0},{"$f":"R69+R75","v":0},null,"Největší ziskový obchod:",null,null,{"$f":"MAX(IF(Deník_2!$J$3:$J$2501=A68,Deník_2!$E$3:$E$2501))","v":0}]
["Maximální stav účtu:",null,null,{"$f":"MAX(IF(Deník_2!$J$3:$J$2501=A68,Deník_2!$I$3:$I$2501))","v":0},null,"Procento ziskovosti:",null,null,{"$f":"P68/I70","v":{"$error":"#DIV/0!"}},{"$f":"Q68/J70","v":{"$error":"#DIV/0!"}},{"$f":"R68/K70","v":{"$error":"#DIV/0!"}}]
["Zůstatek na účtu:",null,null,{"$f":"MAX(IF(Řady!$Q$4:$Q$21=A68,Řady!$W$4:$W$21))","v":0},null,"Průměrný obchod:",null,null,{"$f":"I71/I70","v":{"$error":"#DIV/0!"}},{"$f":"J71/J70","v":{"$error":"#DIV/0!"}},{"$error":"#DIV/0!"},null,"Obchody ztrátové",null,null,"Vše","Long","Short"]
["Čistý zisk:",null,null,{"$f":"MAX(IF(Řady!$Q$4:$Q$21=A68,Řady!$S$4:$S$21))","v":0},null,"Profit faktor:",null,null,{"$f":"P69/(P75*-1)","v":{"$error":"#DIV/0!"}},{"$f":"Q69/(Q75*-1)","v":{"$error":"#DIV/0!"}},{"$f":"R69/(R75*-1)","v":{"$error":"#DIV/0!"}},null,"Počet ztrátových obchodů:",null,null,{"$f":"Q74+R74","v":0},{"$f":"COUNT(IF( (Deník_2!$D$3:$D$2501=1)*(Deník_2!$E$3:$E$2501<0)*(Deník_2!$J$3:$J$2501=A68),Deník_2!$B$3:$B$2501))","v":0},{"$f":"COUNT(IF( (Deník_2!$D$3:$D$2501=-1)*(Deník_2!$E$3:$E$2501<0)*(Deník_2!$J$3:$J$2501=A68),Deník_2!$B$3:$B$2501))","v":0}]
["Zhodnocení účtu %:",null,null,{"$f":"D74/D70","v":{"$error":"#DIV/0!"}},null,"Poměr průměrný zisk/ztráta:",null,null,{"$error":"#DIV/0!"},{"$error":"#DIV/0!"},{"$error":"#DIV/0!"},null,"Celková ztráta:",null,null,{"$f":"Q75+R75","v":0},{"$f":"SUM(IF( (Deník_2!$D$3:$D$2501=1)*(Deník_2!$E$3:$E$2501<0)*(Deník_2!$J$3:$J$2501=A68),Deník_2!$E$3:$E$2501))","v":0},{"$f":"SUM(IF( (Deník_2!$D$3:$D$2501=-1)*(Deník_2!$E$3:$E$2501<0)*(Deník_2!$J$3:$J$2501=A68),Deník_2!$E$3:$E$2501))","v":0}]
["Maximální pokles účtu:",null,null,{"$f":"MAX(IF(Deník_2!$J$3:$J$2501=A68,Deník_2!$F$3:$F$2501))","v":0},null,null,null,null,null,null,null,null,"Průměrný ztrátový obchod:",null,null,{"$f":"P75/P74","v":{"$error":"#DIV/0!"}},{"$f":"Q75/Q74","v":{"$error":"#DIV/0!"}},{"$error":"#DIV/0!"}]
["Maximální pokles účtu %:",null,null,{"$f":"MAX(IF(Deník_2!$J$3:$J$2501=A68,Deník_2!$G$3:$G$2501))","v":0},null,null,null,null,null,null,null,null,"Největší ztrátový obchod:",null,null,{"$f":"MIN(IF(Deník_2!$J$3:$J$2501=A68,Deník_2!$E$3:$E$2501))","v":0}]
[]
[]
["Červen",null,null,null,null,null,null,null,null,null,null,null,"Obchody ziskové",null,null,"Vše","Long","Short"]
[6,null,null,null,null,null,null,null,null,null,null,null,"Počet ziskových obchodů:",null,null,{"$f":"Q81+R81","v":0},{"$f":"COUNT(IF( (Deník_2!$D$3:$D$2501=1)*(Deník_2!$E$3:$E$2501>0)*(Deník_2!$J$3:$J$2501=A81),Deník_2!$B$3:$B$2501))","v":0},{"$f":"COUNT(IF( (Deník_2!$D$3:$D$2501=-1)*(Deník_2!$E$3:$E$2501>0)*(Deník_2!$J$3:$J$2501=A81),Deník_2!$B$3:$B$2501))","v":0}]
["Účet",null,null,null,null,"Obchody",null,null,"Vše","Long","Short",null,"Celkový zisk:",null,null,{"$f":"Q82+R82","v":0},{"$f":"SUM(IF( (Deník_2!$D$3:$D$2501=1)*(Deník_2!$E$3:$E$2501>0)*(Deník_2!$J$3:$J$2501=A81),Deník_2!$E$3:$E$2501))","v":0},{"$f":"SUM(IF( (Deník_2!$D$3:$D$2501=-1)*(Deník_2!$E$3:$E$2501>0)*(Deník_2!$J$3:$J$2501=A81),Deník_2!$E$3:$E$2501))","v":0}]
["Počáteční stav účtu:",null,null,{"$f":"D86-D87","v":0},null,"Celkový počet obchodů:",null,null,{"$f":"P81+P87","v":0},{"$f":"Q81+Q87","v":0},{"$f":"R81+R87","v":0},null,"Průměrný ziskový obchod:",null,null,{"$f":"P82/P81","v":{"$error":"#DIV/0!"}},{"$f":"Q82/Q81","v":{"$error":"#DIV/0!"}},{"$error":"#DIV/0!"}]
["Minimální stav účtu:",null,null,{"$f":"MIN(IF(Deník_2!$J$3:$J$2501=A81,Deník_2!$I$3:$I$2501))","v":0},null,"Celkový zisk:",null,null,{"$f":"D87","v":0},{"$f":"Q82+Q88","v":0},{"$f":"R82+R88","v":0},null,"Největší ziskový obchod:",null,null,{"$f":"MAX(IF(Deník_2!$J$3:$J$2501=A81,Deník_2!$E$3:$E$2501))","v":0}]
["Maximální stav účtu:",null,null,{"$f":"MAX(IF(Deník_2!$J$3:$J$2501=A81,Deník_2!$I$3:$I$2501))","v":0},null,"Procento ziskovosti:",null,null,{"$f":"P81/I83","v":{"$error":"#DIV/0!"}},{"$f":"Q81/J83","v":{"$error":"#DIV/0!"}},{"$f":"R81/K83","v":{"$error":"#DIV/0!"}}]
["Zůstatek na účtu:",null,null,{"$f":"MAX(IF(Řady!$Q$4:$Q$21=A81,Řady!$W$4:$W$21))","v":0},null,"Průměrný obchod:",null,null,{"$f":"I84/I83","v":{"$error":"#DIV/0!"}},{"$f":"J84/J83","v":{"$error":"#DIV/0!"}},{"$error":"#DIV/0!"},null,"Obchody ztrátové",null,null,"Vše","Long","Short"]
["Čistý zisk:",null,null,{"$f":"MAX(IF(Řady!$Q$4:$Q$21=A81,Řady!$S$4:$S$21))","v":0},null,"Profit faktor:",null,null,{"$f":"P82/(P88*-1)","v":{"$error":"#DIV/0!"}},{"$f":"Q82/(Q88*-1)","v":{"$error":"#DIV/0!"}},{"$f":"R82/(R88*-1)","v":{"$error":"#DIV/0!"}},null,"Počet ztrátových obchodů:",null,null,{"$f":"Q87+R87","v":0},{"$f":"COUNT(IF( (Deník_2!$D$3:$D$2501=1)*(Deník_2!$E$3:$E$2501<0)*(Deník_2!$J$3:$J$2501=A81),Deník_2!$B$3:$B$2501))","v":0},{"$f":"COUNT(IF( (Deník_2!$D$3:$D$2501=-1)*(Deník_2!$E$3:$E$2501<0)*(Deník_2!$J$3:$J$2501=A81),Deník_2!$B$3:$B$2501))","v":0}]
["Zhodnocení účtu %:",null,null,{"$f":"D87/D83","v":{"$error":"#DIV/0!"}},null,"Poměr průměrný zisk/ztráta:",null,null,{"$error":"#DIV/0!"},{"$error":"#DIV/0!"},{"$error":"#DIV/0!"},null,"Celková ztráta:",null,null,{"$f":"Q88+R88","v":0},{"$f":"SUM(IF( (Deník_2!$D$3:$D$2501=1)*(Deník_2!$E$3:$E$2501<0)*(Deník_2!$J$3:$J$2501=A81),Deník_2!$E$3:$E$2501))","v":0},{"$f":"SUM(IF( (Deník_2!$D$3:$D$2501=-1)*(Deník_2!$E$3:$E$2501<0)*(Deník_2!$J$3:$J$2501=A81),Deník_2!$E$3:$E$2501))","v":0}]
["Maximální pokles účtu:",null,null,{"$f":"MAX(IF(Deník_2!$J$3:$J$2501=A81,Deník_2!$F$3:$F$2501))","v":0},null,null,null,null,null,null,null,null,"Průměrný ztrátový obchod:",null,null,{"$f":"P88/P87","v":{"$error":"#DIV/0!"}},{"$f":"Q88/Q87","v":{"$error":"#DIV/0!"}},{"$error":"#DIV/0!"}]
["Maximální pokles účtu %:",null,null,{"$f":"MAX(IF(Deník_2!$J$3:$J$2501=A81,Deník_2!$G$3:$G$2501))","v":0},null,null,null,null,null,null,null,null,"Největší ztrátový obchod:",null,null,{"$f":"MIN(IF(Deník_2!$J$3:$J$2501=A81,Deník_2!$E$3:$E$2501))","v":0}]
[]
[]
["Červenec",null,null,null,null,null,null,null,null,null,null,null,"Obchody ziskové",null,null,"Vše","Long","Short"]
[7,null,null,null,null,null,null,null,null,null,null,null,"Počet ziskových obchodů:",null,null,{"$f":"Q94+R94","v":0},{"$f":"COUNT(IF( (Deník_2!$D$3:$D$2501=1)*(Deník_2!$E$3:$E$2501>0)*(Deník_2!$J$3:$J$2501=A94),Deník_2!$B$3:$B$2501))","v":0},{"$f":"COUNT(IF( (Deník_2!$D$3:$D$2501=-1)*(Deník_2!$E$3:$E$2501>0)*(Deník_2!$J$3:$J$2501=A94),Deník_2!$B$3:$B$2501))","v":0}]
["Účet",null,null,null,null,"Obchody",null,null,"Vše","Long","Short",null,"Celkový zisk:",null,null,{"$f":"Q95+R95","v":0},{"$f":"SUM(IF( (Deník_2!$D$3:$D$2501=1)*(Deník_2!$E$3:$E$2501>0)*(Deník_2!$J$3:$J$2501=A94),Deník_2!$E$3:$E$2501))","v":0},{"$f":"SUM(IF( (Deník_2!$D$3:$D$2501=-1)*(Deník_2!$E$3:$E$2501>0)*(Deník_2!$J$3:$J$2501=A94),Deník_2!$E$3:$E$2501))","v":0}]
["Počáteční stav účtu:",null,null,{"$f":"D99-D100","v":0},null,"Celkový počet obchodů:",null,null,{"$f":"P94+P100","v":0},{"$f":"Q94+Q100","v":0},{"$f":"R94+R100","v":0},null,"Průměrný ziskový obchod:",null,null,{"$f":"P95/P94","v":{"$error":"#DIV/0!"}},{"$f":"Q95/Q94","v":{"$error":"#DIV/0!"}},{"$error":"#DIV/0!"}]
["Minimální stav účtu:",null,null,{"$f":"MIN(IF(Deník_2!$J$3:$J$2501=A94,Deník_2!$I$3:$I$2501))","v":0},null,"Celkový zisk:",null,null,{"$f":"D100","v":0},{"$f":"Q95+Q101","v":0},{"$f":"R95+R101","v":0},null,"Největší ziskový obchod:",null,null,{"$f":"MAX(IF(Deník_2!$J$3:$J$2501=A94,Deník_2!$E$3:$E$2501))","v":0}]
["Maximální stav účtu:",null,null,{"$f":"MAX(IF(Deník_2!$J$3:$J$2501=A94,Deník_2!$I$3:$I$2501))","v":0},null,"Procento ziskovosti:",null,null,{"$f":"P94/I96","v":{"$error":"#DIV/0!"}},{"$f":"Q94/J96","v":{"$error":"#DIV/0!"}},{"$f":"R94/K96","v":{"$error":"#DIV/0!"}}]
["Zůstatek na účtu:",null,null,{"$f":"MAX(IF(Řady!$Q$4:$Q$21=A94,Řady!$W$4:$W$21))","v":0},null,"Průměrný obchod:",null,null,{"$f":"I97/I96","v":{"$error":"#DIV/0!"}},{"$f":"J97/J96","v":{"$error":"#DIV/0!"}},{"$error":"#DIV/0!"},null,"Obchody ztrátové",null,null,"Vše","Long","Short"]
["Čistý zisk:",null,null,{"$f":"MAX(IF(Řady!$Q$4:$Q$21=A94,Řady!$S$4:$S$21))","v":0},null,"Profit faktor:",null,null,{"$f":"P95/(P101*-1)","v":{"$error":"#DIV/0!"}},{"$f":"Q95/(Q101*-1)","v":{"$error":"#DIV/0!"}},{"$f":"R95/(R101*-1)","v":{"$error":"#DIV/0!"}},null,"Počet ztrátových obchodů:",null,null,{"$f":"Q100+R100","v":0},{"$f":"COUNT(IF( (Deník_2!$D$3:$D$2501=1)*(Deník_2!$E$3:$E$2501<0)*(Deník_2!$J$3:$J$2501=A94),Deník_2!$B$3:$B$2501))","v":0},{"$f":"COUNT(IF( (Deník_2!$D$3:$D$2501=-1)*(Deník_2!$E$3:$E$2501<0)*(Deník_2!$J$3:$J$2501=A94),Deník_2!$B$3:$B$2501))","v":0}]
["Zhodnocení účtu %:",null,null,{"$f":"D100/D96","v":{"$error":"#DIV/0!"}},null,"Poměr průměrný zisk/ztráta:",null,null,{"$error":"#DIV/0!"},{"$error":"#DIV/0!"},{"$error":"#DIV/0!"},null,"Celková ztráta:",null,null,{"$f":"Q101+R101","v":0},{"$f":"SUM(IF( (Deník_2!$D$3:$D$2501=1)*(Deník_2!$E$3:$E$2501<0)*(Deník_2!$J$3:$J$2501=A94),Deník_2!$E$3:$E$2501))","v":0},{"$f":"SUM(IF( (Deník_2!$D$3:$D$2501=-1)*(Deník_2!$E$3:$E$2501<0)*(Deník_2!$J$3:$J$2501=A94),Deník_2!$E$3:$E$2501))","v":0}]
["Maximální pokles účtu:",null,null,{"$f":"MAX(IF(Deník_2!$J$3:$J$2501=A94,Deník_2!$F$3:$F$2501))","v":0},null,null,null,null,null,null,null,null,"Průměrný ztrátový obchod:",null,null,{"$f":"P101/P100","v":{"$error":"#DIV/0!"}},{"$f":"Q101/Q100","v":{"$error":"#DIV/0!"}},{"$error":"#DIV/0!"}]
["Maximální pokles účtu %:",null,null,{"$f":"MAX(IF(Deník_2!$J$3:$J$2501=A94,Deník_2!$G$3:$G$2501))","v":0},null,null,null,null,null,null,null,null,"Největší ztrátový obchod:",null,null,{"$f":"MIN(IF(Deník_2!$J$3:$J$2501=A94,Deník_2!$E$3:$E$2501))","v":0}]
[]
[]
["Srpen",null,null,null,null,null,null,null,null,null,null,null,"Obchody ziskové",null,null,"Vše","Long","Short"]
[8,null,null,null,null,null,null,null,null,null,null,null,"Počet ziskových obchodů:",null,null,{"$f":"Q107+R107","v":0},{"$f":"COUNT(IF( (Deník_2!$D$3:$D$2501=1)*(Deník_2!$E$3:$E$2501>0)*(Deník_2!$J$3:$J$2501=A107),Deník_2!$B$3:$B$2501))","v":0},{"$f":"COUNT(IF( (Deník_2!$D$3:$D$2501=-1)*(Deník_2!$E$3:$E$2501>0)*(Deník_2!$J$3:$J$2501=A107),Deník_2!$B$3:$B$2501))","v":0}]
["Účet",null,null,null,null,"Obchody",null,null,"Vše","Long","Short",null,"Celkový zisk:",null,null,{"$f":"Q108+R108","v":0},{"$f":"SUM(IF( (Deník_2!$D$3:$D$2501=1)*(Deník_2!$E$3:$E$2501>0)*(Deník_2!$J$3:$J$2501=A107),Deník_2!$E$3:$E$2501))","v":0},{"$f":"SUM(IF( (Deník_2!$D$3:$D$2501=-1)*(Deník_2!$E$3:$E$2501>0)*(Deník_2!$J$3:$J$2501=A107),Deník_2!$E$3:$E$2501))","v":0}]
["Počáteční stav účtu:",null,null,{"$f":"D112-D113","v":0},null,"Celkový počet obchodů:",null,null,{"$f":"P107+P113","v":0},{"$f":"Q107+Q113","v":0},{"$f":"R107+R113","v":0},null,"Průměrný ziskový obchod:",null,null,{"$f":"P108/P107","v":{"$error":"#DIV/0!"}},{"$f":"Q108/Q107","v":{"$error":"#DIV/0!"}},{"$error":"#DIV/0!"}]
["Minimální stav účtu:",null,null,{"$f":"MIN(IF(Deník_2!$J$3:$J$2501=A107,Deník_2!$I$3:$I$2501))","v":0},null,"Celkový zisk:",null,null,{"$f":"D113","v":0},{"$f":"Q108+Q114","v":0},{"$f":"R108+R114","v":0},null,"Největší ziskový obchod:",null,null,{"$f":"MAX(IF(Deník_2!$J$3:$J$2501=A107,Deník_2!$E$3:$E$2501))","v":0}]
["Maximální stav účtu:",null,null,{"$f":"MAX(IF(Deník_2!$J$3:$J$2501=A107,Deník_2!$I$3:$I$2501))","v":0},null,"Procento ziskovosti:",null,null,{"$f":"P107/I109","v":{"$error":"#DIV/0!"}},{"$f":"Q107/J109","v":{"$error":"#DIV/0!"}},{"$f":"R107/K109","v":{"$error":"#DIV/0!"}}]
["Zůstatek na účtu:",null,null,{"$f":"MAX(IF(Řady!$Q$4:$Q$21=A107,Řady!$W$4:$W$21))","v":0},null,"Průměrný obchod:",null,null,{"$f":"I110/I109","v":{"$error":"#DIV/0!"}},{"$f":"J110/J109","v":{"$error":"#DIV/0!"}},{"$error":"#DIV/0!"},null,"Obchody ztrátové",null,null,"Vše","Long","Short"]
["Čistý zisk:",null,null,{"$f":"MAX(IF(Řady!$Q$4:$Q$21=A107,Řady!$S$4:$S$21))","v":0},null,"Profit faktor:",null,null,{"$f":"P108/(P114*-1)","v":{"$error":"#DIV/0!"}},{"$f":"Q108/(Q114*-1)","v":{"$error":"#DIV/0!"}},{"$f":"R108/(R114*-1)","v":{"$error":"#DIV/0!"}},null,"Počet ztrátových obchodů:",null,null,{"$f":"Q113+R113","v":0},{"$f":"COUNT(IF( (Deník_2!$D$3:$D$2501=1)*(Deník_2!$E$3:$E$2501<0)*(Deník_2!$J$3:$J$2501=A107),Deník_2!$B$3:$B$2501))","v":0},{"$f":"COUNT(IF( (Deník_2!$D$3:$D$2501=-1)*(Deník_2!$E$3:$E$2501<0)*(Deník_2!$J$3:$J$2501=A107),Deník_2!$B$3:$B$2501))","v":0}]
["Zhodnocení účtu %:",null,null,{"$f":"D113/D109","v":{"$error":"#DIV/0!"}},null,"Poměr průměrný zisk/ztráta:",null,null,{"$error":"#DIV/0!"},{"$error":"#DIV/0!"},{"$error":"#DIV/0!"},null,"Celková ztráta:",null,null,{"$f":"Q114+R114","v":0},{"$f":"SUM(IF( (Deník_2!$D$3:$D$2501=1)*(Deník_2!$E$3:$E$2501<0)*(Deník_2!$J$3:$J$2501=A107),Deník_2!$E$3:$E$2501))","v":0},{"$f":"SUM(IF( (Deník_2!$D$3:$D$2501=-1)*(Deník_2!$E$3:$E$2501<0)*(Deník_2!$J$3:$J$2501=A107),Deník_2!$E$3:$E$2501))","v":0}]
["Maximální pokles účtu:",null,null,{"$f":"MAX(IF(Deník_2!$J$3:$J$2501=A107,Deník_2!$F$3:$F$2501))","v":0},null,null,null,null,null,null,null,null,"Průměrný ztrátový obchod:",null,null,{"$f":"P114/P113","v":{"$error":"#DIV/0!"}},{"$f":"Q114/Q113","v":{"$error":"#DIV/0!"}},{"$error":"#DIV/0!"}]
["Maximální pokles účtu %:",null,null,{"$f":"MAX(IF(Deník_2!$J$3:$J$2501=A107,Deník_2!$G$3:$G$2501))","v":0},null,null,null,null,null,null,null,null,"Největší ztrátový obchod:",null,null,{"$f":"MIN(IF(Deník_2!$J$3:$J$2501=A107,Deník_2!$E$3:$E$2501))","v":0}]
[]
[]
["Září",null,null,null,null,null,null,null,null,null,null,null,"Obchody ziskové",null,null,"Vše","Long","Short"]
[9,null,null,null,null,null,null,null,null,null,null,null,"Počet ziskových obchodů:",null,null,{"$f":"Q120+R120","v":0},{"$f":"COUNT(IF( (Deník_2!$D$3:$D$2501=1)*(Deník_2!$E$3:$E$2501>0)*(Deník_2!$J$3:$J$2501=A120),Deník_2!$B$3:$B$2501))","v":0},{"$f":"COUNT(IF( (Deník_2!$D$3:$D$2501=-1)*(Deník_2!$E$3:$E$2501>0)*(Deník_2!$J$3:$J$2501=A120),Deník_2!$B$3:$B$2501))","v":0}]
["Účet",null,null,null,null,"Obchody",null,null,"Vše","Long","Short",null,"Celkový zisk:",null,null,{"$f":"Q121+R121","v":0},{"$f":"SUM(IF( (Deník_2!$D$3:$D$2501=1)*(Deník_2!$E$3:$E$2501>0)*(Deník_2!$J$3:$J$2501=A120),Deník_2!$E$3:$E$2501))","v":0},{"$f":"SUM(IF( (Deník_2!$D$3:$D$2501=-1)*(Deník_2!$E$3:$E$2501>0)*(Deník_2!$J$3:$J$2501=A120),Deník_2!$E$3:$E$2501))","v":0}]
["Počáteční stav účtu:",null,null,{"$f":"D125-D126","v":0},null,"Celkový počet obchodů:",null,null,{"$f":"P120+P126","v":0},{"$f":"Q120+Q126","v":0},{"$f":"R120+R126","v":0},null,"Průměrný ziskový obchod:",null,null,{"$f":"P121/P120","v":{"$error":"#DIV/0!"}},{"$f":"Q121/Q120","v":{"$error":"#DIV/0!"}},{"$error":"#DIV/0!"}]
["Minimální stav účtu:",null,null,{"$f":"MIN(IF(Deník_2!$J$3:$J$2501=A120,Deník_2!$I$3:$I$2501))","v":0},null,"Celkový zisk:",null,null,{"$f":"D126","v":0},{"$f":"Q121+Q127","v":0},{"$f":"R121+R127","v":0},null,"Největší ziskový obchod:",null,null,{"$f":"MAX(IF(Deník_2!$J$3:$J$2501=A120,Deník_2!$E$3:$E$2501))","v":0}]
["Maximální stav účtu:",null,null,{"$f":"MAX(IF(Deník_2!$J$3:$J$2501=A120,Deník_2!$I$3:$I$2501))","v":0},null,"Procento ziskovosti:",null,null,{"$f":"P120/I122","v":{"$error":"#DIV/0!"}},{"$f":"Q120/J122","v":{"$error":"#DIV/0!"}},{"$f":"R120/K122","v":{"$error":"#DIV/0!"}}]
["Zůstatek na účtu:",null,null,{"$f":"MAX(IF(Řady!$Q$4:$Q$21=A120,Řady!$W$4:$W$21))","v":0},null,"Průměrný obchod:",null,null,{"$f":"I123/I122","v":{"$error":"#DIV/0!"}},{"$f":"J123/J122","v":{"$error":"#DIV/0!"}},{"$error":"#DIV/0!"},null,"Obchody ztrátové",null,null,"Vše","Long","Short"]
["Čistý zisk:",null,null,{"$f":"MAX(IF(Řady!$Q$4:$Q$21=A120,Řady!$S$4:$S$21))","v":0},null,"Profit faktor:",null,null,{"$f":"P121/(P127*-1)","v":{"$error":"#DIV/0!"}},{"$f":"Q121/(Q127*-1)","v":{"$error":"#DIV/0!"}},{"$f":"R121/(R127*-1)","v":{"$error":"#DIV/0!"}},null,"Počet ztrátových obchodů:",null,null,{"$f":"Q126+R126","v":0},{"$f":"COUNT(IF( (Deník_2!$D$3:$D$2501=1)*(Deník_2!$E$3:$E$2501<0)*(Deník_2!$J$3:$J$2501=A120),Deník_2!$B$3:$B$2501))","v":0},{"$f":"COUNT(IF( (Deník_2!$D$3:$D$2501=-1)*(Deník_2!$E$3:$E$2501<0)*(Deník_2!$J$3:$J$2501=A120),Deník_2!$B$3:$B$2501))","v":0}]
["Zhodnocení účtu %:",null,null,{"$f":"D126/D122","v":{"$error":"#DIV/0!"}},null,"Poměr průměrný zisk/ztráta:",null,null,{"$error":"#DIV/0!"},{"$error":"#DIV/0!"},{"$error":"#DIV/0!"},null,"Celková ztráta:",null,null,{"$f":"Q127+R127","v":0},{"$f":"SUM(IF( (Deník_2!$D$3:$D$2501=1)*(Deník_2!$E$3:$E$2501<0)*(Deník_2!$J$3:$J$2501=A120),Deník_2!$E$3:$E$2501))","v":0},{"$f":"SUM(IF( (Deník_2!$D$3:$D$2501=-1)*(Deník_2!$E$3:$E$2501<0)*(Deník_2!$J$3:$J$2501=A120),Deník_2!$E$3:$E$2501))","v":0}]
["Maximální pokles účtu:",null,null,{"$f":"MAX(IF(Deník_2!$J$3:$J$2501=A120,Deník_2!$F$3:$F$2501))","v":0},null,null,null,null,null,null,null,null,"Průměrný ztrátový obchod:",null,null,{"$f":"P127/P126","v":{"$error":"#DIV/0!"}},{"$f":"Q127/Q126","v":{"$error":"#DIV/0!"}},{"$error":"#DIV/0!"}]
["Maximální pokles účtu %:",null,null,{"$f":"MAX(IF(Deník_2!$J$3:$J$2501=A120,Deník_2!$G$3:$G$2501))","v":0},null,null,null,null,null,null,null,null,"Největší ztrátový obchod:",null,null,{"$f":"MIN(IF(Deník_2!$J$3:$J$2501=A120,Deník_2!$E$3:$E$2501))","v":0}]
[]
[]
["Říjen",null,null,null,null,null,null,null,null,null,null,null,"Obchody ziskové",null,null,"Vše","Long","Short"]
[10,null,null,null,null,null,null,null,null,null,null,null,"Počet ziskových obchodů:",null,null,{"$f":"Q133+R133","v":0},{"$f":"COUNT(IF( (Deník_2!$D$3:$D$2501=1)*(Deník_2!$E$3:$E$2501>0)*(Deník_2!$J$3:$J$2501=A133),Deník_2!$B$3:$B$2501))","v":0},{"$f":"COUNT(IF( (Deník_2!$D$3:$D$2501=-1)*(Deník_2!$E$3:$E$2501>0)*(Deník_2!$J$3:$J$2501=A133),Deník_2!$B$3:$B$2501))","v":0}]
["Účet",null,null,null,null,"Obchody",null,null,"Vše","Long","Short",null,"Celkový zisk:",null,null,{"$f":"Q134+R134","v":0},{"$f":"SUM(IF( (Deník_2!$D$3:$D$2501=1)*(Deník_2!$E$3:$E$2501>0)*(Deník_2!$J$3:$J$2501=A133),Deník_2!$E$3:$E$2501))","v":0},{"$f":"SUM(IF( (Deník_2!$D$3:$D$2501=-1)*(Deník_2!$E$3:$E$2501>0)*(Deník_2!$J$3:$J$2501=A133),Deník_2!$E$3:$E$2501))","v":0}]
["Počáteční stav účtu:",null,null,{"$f":"D138-D139","v":0},null,"Celkový počet obchodů:",null,null,{"$f":"P133+P139","v":0},{"$f":"Q133+Q139","v":0},{"$f":"R133+R139","v":0},null,"Průměrný ziskový obchod:",null,null,{"$f":"P134/P133","v":{"$error":"#DIV/0!"}},{"$f":"Q134/Q133","v":{"$error":"#DIV/0!"}},{"$error":"#DIV/0!"}]
["Minimální stav účtu:",null,null,{"$f":"MIN(IF(Deník_2!$J$3:$J$2501=A133,Deník_2!$I$3:$I$2501))","v":0},null,"Celkový zisk:",null,null,{"$f":"D139","v":0},{"$f":"Q134+Q140","v":0},{"$f":"R134+R140","v":0},null,"Největší ziskový obchod:",null,null,{"$f":"MAX(IF(Deník_2!$J$3:$J$2501=A133,Deník_2!$E$3:$E$2501))","v":0}]
["Maximální stav účtu:",null,null,{"$f":"MAX(IF(Deník_2!$J$3:$J$2501=A133,Deník_2!$I$3:$I$2501))","v":0},null,"Procento ziskovosti:",null,null,{"$f":"P133/I135","v":{"$error":"#DIV/0!"}},{"$f":"Q133/J135","v":{"$error":"#DIV/0!"}},{"$f":"R133/K135","v":{"$error":"#DIV/0!"}}]
["Zůstatek na účtu:",null,null,{"$f":"MAX(IF(Řady!$Q$4:$Q$21=A133,Řady!$W$4:$W$21))","v":0},null,"Průměrný obchod:",null,null,{"$f":"I136/I135","v":{"$error":"#DIV/0!"}},{"$f":"J136/J135","v":{"$error":"#DIV/0!"}},{"$error":"#DIV/0!"},null,"Obchody ztrátové",null,null,"Vše","Long","Short"]
["Čistý zisk:",null,null,{"$f":"MAX(IF(Řady!$Q$4:$Q$21=A133,Řady!$S$4:$S$21))","v":0},null,"Profit faktor:",null,null,{"$f":"P134/(P140*-1)","v":{"$error":"#DIV/0!"}},{"$f":"Q134/(Q140*-1)","v":{"$error":"#DIV/0!"}},{"$f":"R134/(R140*-1)","v":{"$error":"#DIV/0!"}},null,"Počet ztrátových obchodů:",null,null,{"$f":"Q139+R139","v":0},{"$f":"COUNT(IF( (Deník_2!$D$3:$D$2501=1)*(Deník_2!$E$3:$E$2501<0)*(Deník_2!$J$3:$J$2501=A133),Deník_2!$B$3:$B$2501))","v":0},{"$f":"COUNT(IF( (Deník_2!$D$3:$D$2501=-1)*(Deník_2!$E$3:$E$2501<0)*(Deník_2!$J$3:$J$2501=A133),Deník_2!$B$3:$B$2501))","v":0}]
["Zhodnocení účtu %:",null,null,{"$f":"D139/D135","v":{"$error":"#DIV/0!"}},null,"Poměr průměrný zisk/ztráta:",null,null,{"$error":"#DIV/0!"},{"$error":"#DIV/0!"},{"$error":"#DIV/0!"},null,"Celková ztráta:",null,null,{"$f":"Q140+R140","v":0},{"$f":"SUM(IF( (Deník_2!$D$3:$D$2501=1)*(Deník_2!$E$3:$E$2501<0)*(Deník_2!$J$3:$J$2501=A133),Deník_2!$E$3:$E$2501))","v":0},{"$f":"SUM(IF( (Deník_2!$D$3:$D$2501=-1)*(Deník_2!$E$3:$E$2501<0)*(Deník_2!$J$3:$J$2501=A133),Deník_2!$E$3:$E$2501))","v":0}]
["Maximální pokles účtu:",null,null,{"$f":"MAX(IF(Deník_2!$J$3:$J$2501=A133,Deník_2!$F$3:$F$2501))","v":0},null,null,null,null,null,null,null,null,"Průměrný ztrátový obchod:",null,null,{"$f":"P140/P139","v":{"$error":"#DIV/0!"}},{"$f":"Q140/Q139","v":{"$error":"#DIV/0!"}},{"$error":"#DIV/0!"}]
["Maximální pokles účtu %:",null,null,{"$f":"MAX(IF(Deník_2!$J$3:$J$2501=A133,Deník_2!$G$3:$G$2501))","v":0},null,null,null,null,null,null,null,null,"Největší ztrátový obchod:",null,null,{"$f":"MIN(IF(Deník_2!$J$3:$J$2501=A133,Deník_2!$E$3:$E$2501))","v":0}]
[]
[]
["Listopad",null,null,null,null,null,null,null,null,null,null,null,"Obchody ziskové",null,null,"Vše","Long","Short"]
[11,null,null,null,null,null,null,null,null,null,null,null,"Počet ziskových obchodů:",null,null,{"$f":"Q146+R146","v":0},{"$f":"COUNT(IF( (Deník_2!$D$3:$D$2501=1)*(Deník_2!$E$3:$E$2501>0)*(Deník_2!$J$3:$J$2501=A146),Deník_2!$B$3:$B$2501))","v":0},{"$f":"COUNT(IF( (Deník_2!$D$3:$D$2501=-1)*(Deník_2!$E$3:$E$2501>0)*(Deník_2!$J$3:$J$2501=A146),Deník_2!$B$3:$B$2501))","v":0}]
["Účet",null,null,null,null,"Obchody",null,null,"Vše","Long","Short",null,"Celkový zisk:",null,null,{"$f":"Q147+R147","v":0},{"$f":"SUM(IF( (Deník_2!$D$3:$D$2501=1)*(Deník_2!$E$3:$E$2501>0)*(Deník_2!$J$3:$J$2501=A146),Deník_2!$E$3:$E$2501))","v":0},{"$f":"SUM(IF( (Deník_2!$D$3:$D$2501=-1)*(Deník_2!$E$3:$E$2501>0)*(Deník_2!$J$3:$J$2501=A146),Deník_2!$E$3:$E$2501))","v":0}]
["Počáteční stav účtu:",null,null,{"$f":"D151-D152","v":0},null,"Celkový počet obchodů:",null,null,{"$f":"P146+P152","v":0},{"$f":"Q146+Q152","v":0},{"$f":"R146+R152","v":0},null,"Průměrný ziskový obchod:",null,null,{"$f":"P147/P146","v":{"$error":"#DIV/0!"}},{"$f":"Q147/Q146","v":{"$error":"#DIV/0!"}},{"$error":"#DIV/0!"}]
["Minimální stav účtu:",null,null,{"$f":"MIN(IF(Deník_2!$J$3:$J$2501=A146,Deník_2!$I$3:$I$2501))","v":0},null,"Celkový zisk:",null,null,{"$f":"D152","v":0},{"$f":"Q147+Q153","v":0},{"$f":"R147+R153","v":0},null,"Největší ziskový obchod:",null,null,{"$f":"MAX(IF(Deník_2!$J$3:$J$2501=A146,Deník_2!$E$3:$E$2501))","v":0}]
["Maximální stav účtu:",null,null,{"$f":"MAX(IF(Deník_2!$J$3:$J$2501=A146,Deník_2!$I$3:$I$2501))","v":0},null,"Procento ziskovosti:",null,null,{"$f":"P146/I148","v":{"$error":"#DIV/0!"}},{"$f":"Q146/J148","v":{"$error":"#DIV/0!"}},{"$f":"R146/K148","v":{"$error":"#DIV/0!"}}]
["Zůstatek na účtu:",null,null,{"$f":"MAX(IF(Řady!$Q$4:$Q$21=A146,Řady!$W$4:$W$21))","v":0},null,"Průměrný obchod:",null,null,{"$f":"I149/I148","v":{"$error":"#DIV/0!"}},{"$f":"J149/J148","v":{"$error":"#DIV/0!"}},{"$error":"#DIV/0!"},null,"Obchody ztrátové",null,null,"Vše","Long","Short"]
["Čistý zisk:",null,null,{"$f":"MAX(IF(Řady!$Q$4:$Q$21=A146,Řady!$S$4:$S$21))","v":0},null,"Profit faktor:",null,null,{"$f":"P147/(P153*-1)","v":{"$error":"#DIV/0!"}},{"$f":"Q147/(Q153*-1)","v":{"$error":"#DIV/0!"}},{"$f":"R147/(R153*-1)","v":{"$error":"#DIV/0!"}},null,"Počet ztrátových obchodů:",null,null,{"$f":"Q152+R152","v":0},{"$f":"COUNT(IF( (Deník_2!$D$3:$D$2501=1)*(Deník_2!$E$3:$E$2501<0)*(Deník_2!$J$3:$J$2501=A146),Deník_2!$B$3:$B$2501))","v":0},{"$f":"COUNT(IF( (Deník_2!$D$3:$D$2501=-1)*(Deník_2!$E$3:$E$2501<0)*(Deník_2!$J$3:$J$2501=A146),Deník_2!$B$3:$B$2501))","v":0}]
["Zhodnocení účtu %:",null,null,{"$f":"D152/D148","v":{"$error":"#DIV/0!"}},null,"Poměr průměrný zisk/ztráta:",null,null,{"$error":"#DIV/0!"},{"$error":"#DIV/0!"},{"$error":"#DIV/0!"},null,"Celková ztráta:",null,null,{"$f":"Q153+R153","v":0},{"$f":"SUM(IF( (Deník_2!$D$3:$D$2501=1)*(Deník_2!$E$3:$E$2501<0)*(Deník_2!$J$3:$J$2501=A146),Deník_2!$E$3:$E$2501))","v":0},{"$f":"SUM(IF( (Deník_2!$D$3:$D$2501=-1)*(Deník_2!$E$3:$E$2501<0)*(Deník_2!$J$3:$J$2501=A146),Deník_2!$E$3:$E$2501))","v":0}]
["Maximální pokles účtu:",null,null,{"$f":"MAX(IF(Deník_2!$J$3:$J$2501=A146,Deník_2!$F$3:$F$2501))","v":0},null,null,null,null,null,null,null,null,"Průměrný ztrátový obchod:",null,null,{"$f":"P153/P152","v":{"$error":"#DIV/0!"}},{"$f":"Q153/Q152","v":{"$error":"#DIV/0!"}},{"$error":"#DIV/0!"}]
["Maximální pokles účtu %:",null,null,{"$f":"MAX(IF(Deník_2!$J$3:$J$2501=A146,Deník_2!$G$3:$G$2501))","v":0},null,null,null,null,null,null,null,null,"Největší ztrátový obchod:",null,null,{"$f":"MIN(IF(Deník_2!$J$3:$J$2501=A146,Deník_2!$E$3:$E$2501))","v":0}]
[]
[]
["Prosinec",null,null,null,null,null,null,null,null,null,null,null,"Obchody ziskové",null,null,"Vše","Long","Short"]
[12,null,null,null,null,null,null,null,null,null,null,null,"Počet ziskových obchodů:",null,null,{"$f":"Q159+R159","v":0},{"$f":"COUNT(IF( (Deník_2!$D$3:$D$2501=1)*(Deník_2!$E$3:$E$2501>0)*(Deník_2!$J$3:$J$2501=A159),Deník_2!$B$3:$B$2501))","v":0},{"$f":"COUNT(IF( (Deník_2!$D$3:$D$2501=-1)*(Deník_2!$E$3:$E$2501>0)*(Deník_2!$J$3:$J$2501=A159),Deník_2!$B$3:$B$2501))","v":0}]
["Účet",null,null,null,null,"Obchody",null,null,"Vše","Long","Short",null,"Celkový zisk:",null,null,{"$f":"Q160+R160","v":0},{"$f":"SUM(IF( (Deník_2!$D$3:$D$2501=1)*(Deník_2!$E$3:$E$2501>0)*(Deník_2!$J$3:$J$2501=A159),Deník_2!$E$3:$E$2501))","v":0},{"$f":"SUM(IF( (Deník_2!$D$3:$D$2501=-1)*(Deník_2!$E$3:$E$2501>0)*(Deník_2!$J$3:$J$2501=A159),Deník_2!$E$3:$E$2501))","v":0}]
["Počáteční stav účtu:",null,null,{"$f":"D164-D165","v":0},null,"Celkový počet obchodů:",null,null,{"$f":"P159+P165","v":0},{"$f":"Q159+Q165","v":0},{"$f":"R159+R165","v":0},null,"Průměrný ziskový obchod:",null,null,{"$f":"P160/P159","v":{"$error":"#DIV/0!"}},{"$f":"Q160/Q159","v":{"$error":"#DIV/0!"}},{"$error":"#DIV/0!"}]
["Minimální stav účtu:",null,null,{"$f":"MIN(IF(Deník_2!$J$3:$J$2501=A159,Deník_2!$I$3:$I$2501))","v":0},null,"Celkový zisk:",null,null,{"$f":"D165","v":0},{"$f":"Q160+Q166","v":0},{"$f":"R160+R166","v":0},null,"Největší ziskový obchod:",null,null,{"$f":"MAX(IF(Deník_2!$J$3:$J$2501=A159,Deník_2!$E$3:$E$2501))","v":0}]
["Maximální stav účtu:",null,null,{"$f":"MAX(IF(Deník_2!$J$3:$J$2501=A159,Deník_2!$I$3:$I$2501))","v":0},null,"Procento ziskovosti:",null,null,{"$f":"P159/I161","v":{"$error":"#DIV/0!"}},{"$f":"Q159/J161","v":{"$error":"#DIV/0!"}},{"$f":"R159/K161","v":{"$error":"#DIV/0!"}}]
["Zůstatek na účtu:",null,null,{"$f":"MAX(IF(Řady!$Q$4:$Q$21=A159,Řady!$W$4:$W$21))","v":0},null,"Průměrný obchod:",null,null,{"$f":"I162/I161","v":{"$error":"#DIV/0!"}},{"$f":"J162/J161","v":{"$error":"#DIV/0!"}},{"$error":"#DIV/0!"},null,"Obchody ztrátové",null,null,"Vše","Long","Short"]
["Čistý zisk:",null,null,{"$f":"MAX(IF(Řady!$Q$4:$Q$21=A159,Řady!$S$4:$S$21))","v":0},null,"Profit faktor:",null,null,{"$f":"P160/(P166*-1)","v":{"$error":"#DIV/0!"}},{"$f":"Q160/(Q166*-1)","v":{"$error":"#DIV/0!"}},{"$f":"R160/(R166*-1)","v":{"$error":"#DIV/0!"}},null,"Počet ztrátových obchodů:",null,null,{"$f":"Q165+R165","v":0},{"$f":"COUNT(IF( (Deník_2!$D$3:$D$2501=1)*(Deník_2!$E$3:$E$2501<0)*(Deník_2!$J$3:$J$2501=A159),Deník_2!$B$3:$B$2501))","v":0},{"$f":"COUNT(IF( (Deník_2!$D$3:$D$2501=-1)*(Deník_2!$E$3:$E$2501<0)*(Deník_2!$J$3:$J$2501=A159),Deník_2!$B$3:$B$2501))","v":0}]
["Zhodnocení účtu %:",null,null,{"$f":"D165/D161","v":{"$error":"#DIV/0!"}},null,"Poměr průměrný zisk/ztráta:",null,null,{"$error":"#DIV/0!"},{"$error":"#DIV/0!"},{"$error":"#DIV/0!"},null,"Celková ztráta:",null,null,{"$f":"Q166+R166","v":0},{"$f":"SUM(IF( (Deník_2!$D$3:$D$2501=1)*(Deník_2!$E$3:$E$2501<0)*(Deník_2!$J$3:$J$2501=A159),Deník_2!$E$3:$E$2501))","v":0},{"$f":"SUM(IF( (Deník_2!$D$3:$D$2501=-1)*(Deník_2!$E$3:$E$2501<0)*(Deník_2!$J$3:$J$2501=A159),Deník_2!$E$3:$E$2501))","v":0}]
["Maximální pokles účtu:",null,null,{"$f":"MAX(IF(Deník_2!$J$3:$J$2501=A159,Deník_2!$F$3:$F$2501))","v":0},null,null,null,null,null,null,null,null,"Průměrný ztrátový obchod:",null,null,{"$f":"P166/P165","v":{"$error":"#DIV/0!"}},{"$f":"Q166/Q165","v":{"$error":"#DIV/0!"}},{"$error":"#DIV/0!"}]
["Maximální pokles účtu %:",null,null,{"$f":"MAX(IF(Deník_2!$J$3:$J$2501=A159,Deník_2!$G$3:$G$2501))","v":0},null,null,null,null,null,null,null,null,"Největší ztrátový obchod:",null,null,{"$f":"MIN(IF(Deník_2!$J$3:$J$2501=A159,Deník_2!$E$3:$E$2501))","v":0}]

{"sheet":"Deník_2","index":2,"n_rows":2501,"n_cols":11,"rows_kept":2501,"cut":false,"hidden":false,"merged":[]}
["Číslo","Datum","Čas","S/L","Profit","DD","DD %","SUM","Účet USD","Měsíc","Týden"]
[null,null,null,null,null,null,null,0,{"$f":"Účet!E2","v":10000}]
[1,null,null,null,null,null,{"$f":"IF(F3=\"\",\"\",F3/(H3+I2))","v":""},{"$f":"E3","v":0},{"$f":"Účet!E2+E3","v":10000},{"$f":"INT(B3/100)","v":0},{"$f":"IF(B3>0,WEEKNUM(TEXT(Definice!$F$3,\"0000\")&\".\"&TEXT(J3,\"00\")&\".\"&RIGHT(TEXT(B3,\"0000\"),2)),0)","v":0}]
[2,null,null,null,null,null,{"$f":"IF(F4=\"\",\"\",F4/(H4+I3))","v":""},{"$f":"H3+E4","v":0},{"$f":"I3+E4","v":10000},{"$f":"INT(B4/100)","v":0},{"$f":"IF(B4>0,WEEKNUM(TEXT(Definice!$F$3,\"0000\")&\".\"&TEXT(J4,\"00\")&\".\"&RIGHT(TEXT(B4,\"0000\"),2)),0)","v":0}]
[3,null,null,null,null,null,{"$f":"IF(F5=\"\",\"\",F5/(H5+I4))","v":""},{"$f":"H4+E5","v":0},{"$f":"I4+E5","v":10000},0,{"$f":"IF(B5>0,WEEKNUM(TEXT(Definice!$F$3,\"0000\")&\".\"&TEXT(J5,\"00\")&\".\"&RIGHT(TEXT(B5,\"0000\"),2)),0)","v":0}]
[4,null,null,null,null,null,"",0,10000,0,{"$f":"IF(B6>0,WEEKNUM(TEXT(Definice!$F$3,\"0000\")&\".\"&TEXT(J6,\"00\")&\".\"&RIGHT(TEXT(B6,\"0000\"),2)),0)","v":0}]
[5,null,null,null,null,{"$f":"IF(OR(MAX($I$2:I7)-I7=0,D7=0),\"\",MAX($I$2:I7)-I7)","v":""},"",0,10000,0,{"$f":"IF(B7>0,WEEKNUM(TEXT(Definice!$F$3,\"0000\")&\".\"&TEXT(J7,\"00\")&\".\"&RIGHT(TEXT(B7,\"0000\"),2)),0)","v":0}]
[6,null,null,null,null,{"$f":"IF(OR(MAX($I$2:I8)-I8=0,D8=0),\"\",MAX($I$2:I8)-I8)","v":""},"",0,10000,0,{"$f":"IF(B8>0,WEEKNUM(TEXT(Definice!$F$3,\"0000\")&\".\"&TEXT(J8,\"00\")&\".\"&RIGHT(TEXT(B8,\"0000\"),2)),0)","v":0}]
[7,null,null,null,null,{"$f":"IF(OR(MAX($I$2:I9)-I9=0,D9=0),\"\",MAX($I$2:I9)-I9)","v":""},"",0,10000,0,{"$f":"IF(B9>0,WEEKNUM(TEXT(Definice!$F$3,\"0000\")&\".\"&TEXT(J9,\"00\")&\".\"&RIGHT(TEXT(B9,\"0000\"),2)),0)","v":0}]
[8,null,null,null,null,{"$f":"IF(OR(MAX($I$2:I10)-I10=0,D10=0),\"\",MAX($I$2:I10)-I10)","v":""},"",0,10000,0,{"$f":"IF(B10>0,WEEKNUM(TEXT(Definice!$F$3,\"0000\")&\".\"&TEXT(J10,\"00\")&\".\"&RIGHT(TEXT(B10,\"0000\"),2)),0)","v":0}]
[9,null,null,null,null,{"$f":"IF(OR(MAX($I$2:I11)-I11=0,D11=0),\"\",MAX($I$2:I11)-I11)","v":""},"",0,10000,0,{"$f":"IF(B11>0,WEEKNUM(TEXT(Definice!$F$3,\"0000\")&\".\"&TEXT(J11,\"00\")&\".\"&RIGHT(TEXT(B11,\"0000\"),2)),0)","v":0}]
[10,null,null,null,null,{"$f":"IF(OR(MAX($I$2:I12)-I12=0,D12=0),\"\",MAX($I$2:I12)-I12)","v":""},"",0,10000,0,{"$f":"IF(B12>0,WEEKNUM(TEXT(Definice!$F$3,\"0000\")&\".\"&TEXT(J12,\"00\")&\".\"&RIGHT(TEXT(B12,\"0000\"),2)),0)","v":0}]
[11,null,null,null,null,{"$f":"IF(OR(MAX($I$2:I13)-I13=0,D13=0),\"\",MAX($I$2:I13)-I13)","v":""},"",0,10000,0,{"$f":"IF(B13>0,WEEKNUM(TEXT(Definice!$F$3,\"0000\")&\".\"&TEXT(J13,\"00\")&\".\"&RIGHT(TEXT(B13,\"0000\"),2)),0)","v":0}]
[12,null,null,null,null,{"$f":"IF(OR(MAX($I$2:I14)-I14=0,D14=0),\"\",MAX($I$2:I14)-I14)","v":""},"",0,10000,0,{"$f":"IF(B14>0,WEEKNUM(TEXT(Definice!$F$3,\"0000\")&\".\"&TEXT(J14,\"00\")&\".\"&RIGHT(TEXT(B14,\"0000\"),2)),0)","v":0}]
[13,null,null,null,null,{"$f":"IF(OR(MAX($I$2:I15)-I15=0,D15=0),\"\",MAX($I$2:I15)-I15)","v":""},"",0,10000,0,{"$f":"IF(B15>0,WEEKNUM(TEXT(Definice!$F$3,\"0000\")&\".\"&TEXT(J15,\"00\")&\".\"&RIGHT(TEXT(B15,\"0000\"),2)),0)","v":0}]
[14,null,null,null,null,{"$f":"IF(OR(MAX($I$2:I16)-I16=0,D16=0),\"\",MAX($I$2:I16)-I16)","v":""},"",0,10000,0,{"$f":"IF(B16>0,WEEKNUM(TEXT(Definice!$F$3,\"0000\")&\".\"&TEXT(J16,\"00\")&\".\"&RIGHT(TEXT(B16,\"0000\"),2)),0)","v":0}]
[15,null,null,null,null,{"$f":"IF(OR(MAX($I$2:I17)-I17=0,D17=0),\"\",MAX($I$2:I17)-I17)","v":""},"",0,10000,0,{"$f":"IF(B17>0,WEEKNUM(TEXT(Definice!$F$3,\"0000\")&\".\"&TEXT(J17,\"00\")&\".\"&RIGHT(TEXT(B17,\"0000\"),2)),0)","v":0}]
[16,null,null,null,null,{"$f":"IF(OR(MAX($I$2:I18)-I18=0,D18=0),\"\",MAX($I$2:I18)-I18)","v":""},"",0,10000,0,{"$f":"IF(B18>0,WEEKNUM(TEXT(Definice!$F$3,\"0000\")&\".\"&TEXT(J18,\"00\")&\".\"&RIGHT(TEXT(B18,\"0000\"),2)),0)","v":0}]
[17,null,null,null,null,{"$f":"IF(OR(MAX($I$2:I19)-I19=0,D19=0),\"\",MAX($I$2:I19)-I19)","v":""},"",0,10000,0,{"$f":"IF(B19>0,WEEKNUM(TEXT(Definice!$F$3,\"0000\")&\".\"&TEXT(J19,\"00\")&\".\"&RIGHT(TEXT(B19,\"0000\"),2)),0)","v":0}]
[18,null,null,null,null,{"$f":"IF(OR(MAX($I$2:I20)-I20=0,D20=0),\"\",MAX($I$2:I20)-I20)","v":""},"",0,10000,0,{"$f":"IF(B20>0,WEEKNUM(TEXT(Definice!$F$3,\"0000\")&\".\"&TEXT(J20,\"00\")&\".\"&RIGHT(TEXT(B20,\"0000\"),2)),0)","v":0}]
[19,null,null,null,null,{"$f":"IF(OR(MAX($I$2:I21)-I21=0,D21=0),\"\",MAX($I$2:I21)-I21)","v":""},"",0,10000,0,{"$f":"IF(B21>0,WEEKNUM(TEXT(Definice!$F$3,\"0000\")&\".\"&TEXT(J21,\"00\")&\".\"&RIGHT(TEXT(B21,\"0000\"),2)),0)","v":0}]
[20,null,null,null,null,{"$f":"IF(OR(MAX($I$2:I22)-I22=0,D22=0),\"\",MAX($I$2:I22)-I22)","v":""},"",0,10000,0,{"$f":"IF(B22>0,WEEKNUM(TEXT(Definice!$F$3,\"0000\")&\".\"&TEXT(J22,\"00\")&\".\"&RIGHT(TEXT(B22,\"0000\"),2)),0)","v":0}]
[21,null,null,null,null,{"$f":"IF(OR(MAX($I$2:I23)-I23=0,D23=0),\"\",MAX($I$2:I23)-I23)","v":""},"",0,10000,0,{"$f":"IF(B23>0,WEEKNUM(TEXT(Definice!$F$3,\"0000\")&\".\"&TEXT(J23,\"00\")&\".\"&RIGHT(TEXT(B23,\"0000\"),2)),0)","v":0}]
[22,null,null,null,null,{"$f":"IF(OR(MAX($I$2:I24)-I24=0,D24=0),\"\",MAX($I$2:I24)-I24)","v":""},"",0,10000,0,{"$f":"IF(B24>0,WEEKNUM(TEXT(Definice!$F$3,\"0000\")&\".\"&TEXT(J24,\"00\")&\".\"&RIGHT(TEXT(B24,\"0000\"),2)),0)","v":0}]
[23,null,null,null,null,{"$f":"IF(OR(MAX($I$2:I25)-I25=0,D25=0),\"\",MAX($I$2:I25)-I25)","v":""},"",0,10000,0,{"$f":"IF(B25>0,WEEKNUM(TEXT(Definice!$F$3,\"0000\")&\".\"&TEXT(J25,\"00\")&\".\"&RIGHT(TEXT(B25,\"0000\"),2)),0)","v":0}]
[24,null,null,null,null,{"$f":"IF(OR(MAX($I$2:I26)-I26=0,D26=0),\"\",MAX($I$2:I26)-I26)","v":""},"",0,10000,0,{"$f":"IF(B26>0,WEEKNUM(TEXT(Definice!$F$3,\"0000\")&\".\"&TEXT(J26,\"00\")&\".\"&RIGHT(TEXT(B26,\"0000\"),2)),0)","v":0}]
[25,null,null,null,null,{"$f":"IF(OR(MAX($I$2:I27)-I27=0,D27=0),\"\",MAX($I$2:I27)-I27)","v":""},"",0,10000,0,{"$f":"IF(B27>0,WEEKNUM(TEXT(Definice!$F$3,\"0000\")&\".\"&TEXT(J27,\"00\")&\".\"&RIGHT(TEXT(B27,\"0000\"),2)),0)","v":0}]
[26,null,null,null,null,{"$f":"IF(OR(MAX($I$2:I28)-I28=0,D28=0),\"\",MAX($I$2:I28)-I28)","v":""},"",0,10000,0,{"$f":"IF(B28>0,WEEKNUM(TEXT(Definice!$F$3,\"0000\")&\".\"&TEXT(J28,\"00\")&\".\"&RIGHT(TEXT(B28,\"0000\"),2)),0)","v":0}]
[27,null,null,null,null,{"$f":"IF(OR(MAX($I$2:I29)-I29=0,D29=0),\"\",MAX($I$2:I29)-I29)","v":""},"",0,10000,0,{"$f":"IF(B29>0,WEEKNUM(TEXT(Definice!$F$3,\"0000\")&\".\"&TEXT(J29,\"00\")&\".\"&RIGHT(TEXT(B29,\"0000\"),2)),0)","v":0}]
[28,null,null,null,null,{"$f":"IF(OR(MAX($I$2:I30)-I30=0,D30=0),\"\",MAX($I$2:I30)-I30)","v":""},"",0,10000,0,{"$f":"IF(B30>0,WEEKNUM(TEXT(Definice!$F$3,\"0000\")&\".\"&TEXT(J30,\"00\")&\".\"&RIGHT(TEXT(B30,\"0000\"),2)),0)","v":0}]
[29,null,null,null,null,{"$f":"IF(OR(MAX($I$2:I31)-I31=0,D31=0),\"\",MAX($I$2:I31)-I31)","v":""},"",0,10000,0,{"$f":"IF(B31>0,WEEKNUM(TEXT(Definice!$F$3,\"0000\")&\".\"&TEXT(J31,\"00\")&\".\"&RIGHT(TEXT(B31,\"0000\"),2)),0)","v":0}]
[30,null,null,null,null,{"$f":"IF(OR(MAX($I$2:I32)-I32=0,D32=0),\"\",MAX($I$2:I32)-I32)","v":""},"",0,10000,0,{"$f":"IF(B32>0,WEEKNUM(TEXT(Definice!$F$3,\"0000\")&\".\"&TEXT(J32,\"00\")&\".\"&RIGHT(TEXT(B32,\"0000\"),2)),0)","v":0}]
[31,null,null,null,null,{"$f":"IF(OR(MAX($I$2:I33)-I33=0,D33=0),\"\",MAX($I$2:I33)-I33)","v":""},"",0,10000,0,{"$f":"IF(B33>0,WEEKNUM(TEXT(Definice!$F$3,\"0000\")&\".\"&TEXT(J33,\"00\")&\".\"&RIGHT(TEXT(B33,\"0000\"),2)),0)","v":0}]
[32,null,null,null,null,{"$f":"IF(OR(MAX($I$2:I34)-I34=0,D34=0),\"\",MAX($I$2:I34)-I34)","v":""},"",0,10000,0,{"$f":"IF(B34>0,WEEKNUM(TEXT(Definice!$F$3,\"0000\")&\".\"&TEXT(J34,\"00\")&\".\"&RIGHT(TEXT(B34,\"0000\"),2)),0)","v":0}]
[33,null,null,null,null,{"$f":"IF(OR(MAX($I$2:I35)-I35=0,D35=0),\"\",MAX($I$2:I35)-I35)","v":""},"",0,10000,0,{"$f":"IF(B35>0,WEEKNUM(TEXT(Definice!$F$3,\"0000\")&\".\"&TEXT(J35,\"00\")&\".\"&RIGHT(TEXT(B35,\"0000\"),2)),0)","v":0}]
[34,null,null,null,null,{"$f":"IF(OR(MAX($I$2:I36)-I36=0,D36=0),\"\",MAX($I$2:I36)-I36)","v":""},"",0,10000,0,{"$f":"IF(B36>0,WEEKNUM(TEXT(Definice!$F$3,\"0000\")&\".\"&TEXT(J36,\"00\")&\".\"&RIGHT(TEXT(B36,\"0000\"),2)),0)","v":0}]
[35,null,null,null,null,{"$f":"IF(OR(MAX($I$2:I37)-I37=0,D37=0),\"\",MAX($I$2:I37)-I37)","v":""},"",0,10000,0,{"$f":"IF(B37>0,WEEKNUM(TEXT(Definice!$F$3,\"0000\")&\".\"&TEXT(J37,\"00\")&\".\"&RIGHT(TEXT(B37,\"0000\"),2)),0)","v":0}]
[36,null,null,null,null,{"$f":"IF(OR(MAX($I$2:I38)-I38=0,D38=0),\"\",MAX($I$2:I38)-I38)","v":""},"",0,10000,0,{"$f":"IF(B38>0,WEEKNUM(TEXT(Definice!$F$3,\"0000\")&\".\"&TEXT(J38,\"00\")&\".\"&RIGHT(TEXT(B38,\"0000\"),2)),0)","v":0}]
[37,null,null,null,null,{"$f":"IF(OR(MAX($I$2:I39)-I39=0,D39=0),\"\",MAX($I$2:I39)-I39)","v":""},"",0,10000,0,{"$f":"IF(B39>0,WEEKNUM(TEXT(Definice!$F$3,\"0000\")&\".\"&TEXT(J39,\"00\")&\".\"&RIGHT(TEXT(B39,\"0000\"),2)),0)","v":0}]
[38,null,null,null,null,{"$f":"IF(OR(MAX($I$2:I40)-I40=0,D40=0),\"\",MAX($I$2:I40)-I40)","v":""},"",0,10000,0,{"$f":"IF(B40>0,WEEKNUM(TEXT(Definice!$F$3,\"0000\")&\".\"&TEXT(J40,\"00\")&\".\"&RIGHT(TEXT(B40,\"0000\"),2)),0)","v":0}]
[39,null,null,null,null,{"$f":"IF(OR(MAX($I$2:I41)-I41=0,D41=0),\"\",MAX($I$2:I41)-I41)","v":""},"",0,10000,0,{"$f":"IF(B41>0,WEEKNUM(TEXT(Definice!$F$3,\"0000\")&\".\"&TEXT(J41,\"00\")&\".\"&RIGHT(TEXT(B41,\"0000\"),2)),0)","v":0}]
[40,null,null,null,null,{"$f":"IF(OR(MAX($I$2:I42)-I42=0,D42=0),\"\",MAX($I$2:I42)-I42)","v":""},"",0,10000,0,{"$f":"IF(B42>0,WEEKNUM(TEXT(Definice!$F$3,\"0000\")&\".\"&TEXT(J42,\"00\")&\".\"&RIGHT(TEXT(B42,\"0000\"),2)),0)","v":0}]
[41,null,null,null,null,{"$f":"IF(OR(MAX($I$2:I43)-I43=0,D43=0),\"\",MAX($I$2:I43)-I43)","v":""},"",0,10000,0,{"$f":"IF(B43>0,WEEKNUM(TEXT(Definice!$F$3,\"0000\")&\".\"&TEXT(J43,\"00\")&\".\"&RIGHT(TEXT(B43,\"0000\"),2)),0)","v":0}]
[42,null,null,null,null,{"$f":"IF(OR(MAX($I$2:I44)-I44=0,D44=0),\"\",MAX($I$2:I44)-I44)","v":""},"",0,10000,0,{"$f":"IF(B44>0,WEEKNUM(TEXT(Definice!$F$3,\"0000\")&\".\"&TEXT(J44,\"00\")&\".\"&RIGHT(TEXT(B44,\"0000\"),2)),0)","v":0}]
[43,null,null,null,null,{"$f":"IF(OR(MAX($I$2:I45)-I45=0,D45=0),\"\",MAX($I$2:I45)-I45)","v":""},"",0,10000,0,{"$f":"IF(B45>0,WEEKNUM(TEXT(Definice!$F$3,\"0000\")&\".\"&TEXT(J45,\"00\")&\".\"&RIGHT(TEXT(B45,\"0000\"),2)),0)","v":0}]
[44,null,null,null,null,{"$f":"IF(OR(MAX($I$2:I46)-I46=0,D46=0),\"\",MAX($I$2:I46)-I46)","v":""},"",0,10000,0,{"$f":"IF(B46>0,WEEKNUM(TEXT(Definice!$F$3,\"0000\")&\".\"&TEXT(J46,\"00\")&\".\"&RIGHT(TEXT(B46,\"0000\"),2)),0)","v":0}]
[45,null,null,null,null,{"$f":"IF(OR(MAX($I$2:I47)-I47=0,D47=0),\"\",MAX($I$2:I47)-I47)","v":""},"",0,10000,0,{"$f":"IF(B47>0,WEEKNUM(TEXT(Definice!$F$3,\"0000\")&\".\"&TEXT(J47,\"00\")&\".\"&RIGHT(TEXT(B47,\"0000\"),2)),0)","v":0}]
[46,null,null,null,null,{"$f":"IF(OR(MAX($I$2:I48)-I48=0,D48=0),\"\",MAX($I$2:I48)-I48)","v":""},"",0,10000,0,{"$f":"IF(B48>0,WEEKNUM(TEXT(Definice!$F$3,\"0000\")&\".\"&TEXT(J48,\"00\")&\".\"&RIGHT(TEXT(B48,\"0000\"),2)),0)","v":0}]
[47,null,null,null,null,{"$f":"IF(OR(MAX($I$2:I49)-I49=0,D49=0),\"\",MAX($I$2:I49)-I49)","v":""},"",0,10000,{"$f":"INT(B49/100)","v":0},{"$f":"IF(B49>0,WEEKNUM(TEXT(Definice!$F$3,\"0000\")&\".\"&TEXT(J49,\"00\")&\".\"&RIGHT(TEXT(B49,\"0000\"),2)),0)","v":0}]
[48,null,null,null,null,{"$f":"IF(OR(MAX($I$2:I50)-I50=0,D50=0),\"\",MAX($I$2:I50)-I50)","v":""},"",0,10000,0,{"$f":"IF(B50>0,WEEKNUM(TEXT(Definice!$F$3,\"0000\")&\".\"&TEXT(J50,\"00\")&\".\"&RIGHT(TEXT(B50,\"0000\"),2)),0)","v":0}]
[49,null,null,null,null,{"$f":"IF(OR(MAX($I$2:I51)-I51=0,D51=0),\"\",MAX($I$2:I51)-I51)","v":""},"",0,10000,0,{"$f":"IF(B51>0,WEEKNUM(TEXT(Definice!$F$3,\"0000\")&\".\"&TEXT(J51,\"00\")&\".\"&RIGHT(TEXT(B51,\"0000\"),2)),0)","v":0}]
[50,null,null,null,null,{"$f":"IF(OR(MAX($I$2:I52)-I52=0,D52=0),\"\",MAX($I$2:I52)-I52)","v":""},"",0,10000,0,{"$f":"IF(B52>0,WEEKNUM(TEXT(Definice!$F$3,\"0000\")&\".\"&TEXT(J52,\"00\")&\".\"&RIGHT(TEXT(B52,\"0000\"),2)),0)","v":0}]
[51,null,null,null,null,{"$f":"IF(OR(MAX($I$2:I53)-I53=0,D53=0),\"\",MAX($I$2:I53)-I53)","v":""},"",0,10000,0,{"$f":"IF(B53>0,WEEKNUM(TEXT(Definice!$F$3,\"0000\")&\".\"&TEXT(J53,\"00\")&\".\"&RIGHT(TEXT(B53,\"0000\"),2)),0)","v":0}]
[52,null,null,null,null,{"$f":"IF(OR(MAX($I$2:I54)-I54=0,D54=0),\"\",MAX($I$2:I54)-I54)","v":""},"",0,10000,0,{"$f":"IF(B54>0,WEEKNUM(TEXT(Definice!$F$3,\"0000\")&\".\"&TEXT(J54,\"00\")&\".\"&RIGHT(TEXT(B54,\"0000\"),2)),0)","v":0}]
[53,null,null,null,null,{"$f":"IF(OR(MAX($I$2:I55)-I55=0,D55=0),\"\",MAX($I$2:I55)-I55)","v":""},"",0,10000,0,{"$f":"IF(B55>0,WEEKNUM(TEXT(Definice!$F$3,\"0000\")&\".\"&TEXT(J55,\"00\")&\".\"&RIGHT(TEXT(B55,\"0000\"),2)),0)","v":0}]
[54,null,null,null,null,{"$f":"IF(OR(MAX($I$2:I56)-I56=0,D56=0),\"\",MAX($I$2:I56)-I56)","v":""},"",0,10000,0,{"$f":"IF(B56>0,WEEKNUM(TEXT(Definice!$F$3,\"0000\")&\".\"&TEXT(J56,\"00\")&\".\"&RIGHT(TEXT(B56,\"0000\"),2)),0)","v":0}]
[55,null,null,null,null,{"$f":"IF(OR(MAX($I$2:I57)-I57=0,D57=0),\"\",MAX($I$2:I57)-I57)","v":""},"",0,10000,0,{"$f":"IF(B57>0,WEEKNUM(TEXT(Definice!$F$3,\"0000\")&\".\"&TEXT(J57,\"00\")&\".\"&RIGHT(TEXT(B57,\"0000\"),2)),0)","v":0}]
[56,null,null,null,null,{"$f":"IF(OR(MAX($I$2:I58)-I58=0,D58=0),\"\",MAX($I$2:I58)-I58)","v":""},"",0,10000,0,{"$f":"IF(B58>0,WEEKNUM(TEXT(Definice!$F$3,\"0000\")&\".\"&TEXT(J58,\"00\")&\".\"&RIGHT(TEXT(B58,\"0000\"),2)),0)","v":0}]
[57,null,null,null,null,{"$f":"IF(OR(MAX($I$2:I59)-I59=0,D59=0),\"\",MAX($I$2:I59)-I59)","v":""},"",0,10000,0,{"$f":"IF(B59>0,WEEKNUM(TEXT(Definice!$F$3,\"0000\")&\".\"&TEXT(J59,\"00\")&\".\"&RIGHT(TEXT(B59,\"0000\"),2)),0)","v":0}]
[58,null,null,null,null,{"$f":"IF(OR(MAX($I$2:I60)-I60=0,D60=0),\"\",MAX($I$2:I60)-I60)","v":""},"",0,10000,0,{"$f":"IF(B60>0,WEEKNUM(TEXT(Definice!$F$3,\"0000\")&\".\"&TEXT(J60,\"00\")&\".\"&RIGHT(TEXT(B60,\"0000\"),2)),0)","v":0}]
[59,null,null,null,null,{"$f":"IF(OR(MAX($I$2:I61)-I61=0,D61=0),\"\",MAX($I$2:I61)-I61)","v":""},"",0,10000,0,{"$f":"IF(B61>0,WEEKNUM(TEXT(Definice!$F$3,\"0000\")&\".\"&TEXT(J61,\"00\")&\".\"&RIGHT(TEXT(B61,\"0000\"),2)),0)","v":0}]
[60,null,null,null,null,{"$f":"IF(OR(MAX($I$2:I62)-I62=0,D62=0),\"\",MAX($I$2:I62)-I62)","v":""},"",0,10000,0,{"$f":"IF(B62>0,WEEKNUM(TEXT(Definice!$F$3,\"0000\")&\".\"&TEXT(J62,\"00\")&\".\"&RIGHT(TEXT(B62,\"0000\"),2)),0)","v":0}]
[61,null,null,null,null,{"$f":"IF(OR(MAX($I$2:I63)-I63=0,D63=0),\"\",MAX($I$2:I63)-I63)","v":""},"",0,10000,{"$f":"((INT(B63/100)/100)-INT(INT(B63/100)/100))*100","v":0},{"$f":"IF(B63>0,WEEKNUM(TEXT(Definice!$F$3,\"0000\")&\".\"&TEXT(J63,\"00\")&\".\"&RIGHT(TEXT(B63,\"0000\"),2)),0)","v":0}]
[62,null,null,null,null,{"$f":"IF(OR(MAX($I$2:I64)-I64=0,D64=0),\"\",MAX($I$2:I64)-I64)","v":""},"",0,10000,0,{"$f":"IF(B64>0,WEEKNUM(TEXT(Definice!$F$3,\"0000\")&\".\"&TEXT(J64,\"00\")&\".\"&RIGHT(TEXT(B64,\"0000\"),2)),0)","v":0}]
[63,null,null,null,null,{"$f":"IF(OR(MAX($I$2:I65)-I65=0,D65=0),\"\",MAX($I$2:I65)-I65)","v":""},"",0,10000,0,{"$f":"IF(B65>0,WEEKNUM(TEXT(Definice!$F$3,\"0000\")&\".\"&TEXT(J65,\"00\")&\".\"&RIGHT(TEXT(B65,\"0000\"),2)),0)","v":0}]
[64,null,null,null,null,{"$f":"IF(OR(MAX($I$2:I66)-I66=0,D66=0),\"\",MAX($I$2:I66)-I66)","v":""},"",0,10000,0,{"$f":"IF(B66>0,WEEKNUM(TEXT(Definice!$F$3,\"0000\")&\".\"&TEXT(J66,\"00\")&\".\"&RIGHT(TEXT(B66,\"0000\"),2)),0)","v":0}]
[65,null,null,null,null,{"$f":"IF(OR(MAX($I$2:I67)-I67=0,D67=0),\"\",MAX($I$2:I67)-I67)","v":""},"",0,10000,0,{"$f":"IF(B67>0,WEEKNUM(TEXT(Definice!$F$3,\"0000\")&\".\"&TEXT(J67,\"00\")&\".\"&RIGHT(TEXT(B67,\"0000\"),2)),0)","v":0}]
[66,null,null,null,null,{"$f":"IF(OR(MAX($I$2:I68)-I68=0,D68=0),\"\",MAX($I$2:I68)-I68)","v":""},"",0,10000,{"$f":"((INT(B68/100)/100)-INT(INT(B68/100)/100))*100","v":0},{"$f":"IF(B68>0,WEEKNUM(TEXT(Definice!$F$3,\"0000\")&\".\"&TEXT(J68,\"00\")&\".\"&RIGHT(TEXT(B68,\"0000\"),2)),0)","v":0}]
[67,null,null,null,null,{"$f":"IF(OR(MAX($I$2:I69)-I69=0,D69=0),\"\",MAX($I$2:I69)-I69)","v":""},{"$f":"IF(F69=\"\",\"\",F69/(H69+I68))","v":""},{"$f":"H68+E69","v":0},{"$f":"I68+E69","v":10000},0,{"$f":"IF(B69>0,WEEKNUM(TEXT(Definice!$F$3,\"0000\")&\".\"&TEXT(J69,\"00\")&\".\"&RIGHT(TEXT(B69,\"0000\"),2)),0)","v":0}]
[68,null,null,null,null,{"$f":"IF(OR(MAX($I$2:I70)-I70=0,D70=0),\"\",MAX($I$2:I70)-I70)","v":""},"",0,10000,0,{"$f":"IF(B70>0,WEEKNUM(TEXT(Definice!$F$3,\"0000\")&\".\"&TEXT(J70,\"00\")&\".\"&RIGHT(TEXT(B70,\"0000\"),2)),0)","v":0}]
[69,null,null,null,null,{"$f":"IF(OR(MAX($I$2:I71)-I71=0,D71=0),\"\",MAX($I$2:I71)-I71)","v":""},"",0,10000,0,{"$f":"IF(B71>0,WEEKNUM(TEXT(Definice!$F$3,\"0000\")&\".\"&TEXT(J71,\"00\")&\".\"&RIGHT(TEXT(B71,\"0000\"),2)),0)","v":0}]
[70,null,null,null,null,{"$f":"IF(OR(MAX($I$2:I72)-I72=0,D72=0),\"\",MAX($I$2:I72)-I72)","v":""},"",0,10000,0,{"$f":"IF(B72>0,WEEKNUM(TEXT(Definice!$F$3,\"0000\")&\".\"&TEXT(J72,\"00\")&\".\"&RIGHT(TEXT(B72,\"0000\"),2)),0)","v":0}]
[71,null,null,null,null,{"$f":"IF(OR(MAX($I$2:I73)-I73=0,D73=0),\"\",MAX($I$2:I73)-I73)","v":""},"",0,10000,0,{"$f":"IF(B73>0,WEEKNUM(TEXT(Definice!$F$3,\"0000\")&\".\"&TEXT(J73,\"00\")&\".\"&RIGHT(TEXT(B73,\"0000\"),2)),0)","v":0}]
[72,null,null,null,null,{"$f":"IF(OR(MAX($I$2:I74)-I74=0,D74=0),\"\",MAX($I$2:I74)-I74)","v":""},"",0,10000,0,{"$f":"IF(B74>0,WEEKNUM(TEXT(Definice!$F$3,\"0000\")&\".\"&TEXT(J74,\"00\")&\".\"&RIGHT(TEXT(B74,\"0000\"),2)),0)","v":0}]
[73,null,null,null,null,{"$f":"IF(OR(MAX($I$2:I75)-I75=0,D75=0),\"\",MAX($I$2:I75)-I75)","v":""},"",0,10000,0,{"$f":"IF(B75>0,WEEKNUM(TEXT(Definice!$F$3,\"0000\")&\".\"&TEXT(J75,\"00\")&\".\"&RIGHT(TEXT(B75,\"0000\"),2)),0)","v":0}]
[74,null,null,null,null,{"$f":"IF(OR(MAX($I$2:I76)-I76=0,D76=0),\"\",MAX($I$2:I76)-I76)","v":""},"",0,10000,0,{"$f":"IF(B76>0,WEEKNUM(TEXT(Definice!$F$3,\"0000\")&\".\"&TEXT(J76,\"00\")&\".\"&RIGHT(TEXT(B76,\"0000\"),2)),0)","v":0}]
[75,null,null,null,null,{"$f":"IF(OR(MAX($I$2:I77)-I77=0,D77=0),\"\",MAX($I$2:I77)-I77)","v":""},"",0,10000,0,{"$f":"IF(B77>0,WEEKNUM(TEXT(Definice!$F$3,\"0000\")&\".\"&TEXT(J77,\"00\")&\".\"&RIGHT(TEXT(B77,\"0000\"),2)),0)","v":0}]
[76,null,null,null,null,{"$f":"IF(OR(MAX($I$2:I78)-I78=0,D78=0),\"\",MAX($I$2:I78)-I78)","v":""},"",0,10000,0,{"$f":"IF(B78>0,WEEKNUM(TEXT(Definice!$F$3,\"0000\")&\".\"&TEXT(J78,\"00\")&\".\"&RIGHT(TEXT(B78,\"0000\"),2)),0)","v":0}]
[77,null,null,null,null,{"$f":"IF(OR(MAX($I$2:I79)-I79=0,D79=0),\"\",MAX($I$2:I79)-I79)","v":""},"",0,10000,0,{"$f":"IF(B79>0,WEEKNUM(TEXT(Definice!$F$3,\"0000\")&\".\"&TEXT(J79,\"00\")&\".\"&RIGHT(TEXT(B79,\"0000\"),2)),0)","v":0}]
[78,null,null,null,null,{"$f":"IF(OR(MAX($I$2:I80)-I80=0,D80=0),\"\",MAX($I$2:I80)-I80)","v":""},"",0,10000,0,{"$f":"IF(B80>0,WEEKNUM(TEXT(Definice!$F$3,\"0000\")&\".\"&TEXT(J80,\"00\")&\".\"&RIGHT(TEXT(B80,\"0000\"),2)),0)","v":0}]
[79,null,null,null,null,{"$f":"IF(OR(MAX($I$2:I81)-I81=0,D81=0),\"\",MAX($I$2:I81)-I81)","v":""},"",0,10000,0,{"$f":"IF(B81>0,WEEKNUM(TEXT(Definice!$F$3,\"0000\")&\".\"&TEXT(J81,\"00\")&\".\"&RIGHT(TEXT(B81,\"0000\"),2)),0)","v":0}]
[80,null,null,null,null,{"$f":"IF(OR(MAX($I$2:I82)-I82=0,D82=0),\"\",MAX($I$2:I82)-I82)","v":""},"",0,10000,0,{"$f":"IF(B82>0,WEEKNUM(TEXT(Definice!$F$3,\"0000\")&\".\"&TEXT(J82,\"00\")&\".\"&RIGHT(TEXT(B82,\"0000\"),2)),0)","v":0}]
[81,null,null,null,null,{"$f":"IF(OR(MAX($I$2:I83)-I83=0,D83=0),\"\",MAX($I$2:I83)-I83)","v":""},"",0,10000,0,{"$f":"IF(B83>0,WEEKNUM(TEXT(Definice!$F$3,\"0000\")&\".\"&TEXT(J83,\"00\")&\".\"&RIGHT(TEXT(B83,\"0000\"),2)),0)","v":0}]
[82,null,null,null,null,{"$f":"IF(OR(MAX($I$2:I84)-I84=0,D84=0),\"\",MAX($I$2:I84)-I84)","v":""},"",0,10000,0,{"$f":"IF(B84>0,WEEKNUM(TEXT(Definice!$F$3,\"0000\")&\".\"&TEXT(J84,\"00\")&\".\"&RIGHT(TEXT(B84,\"0000\"),2)),0)","v":0}]
[83,null,null,null,null,{"$f":"IF(OR(MAX($I$2:I85)-I85=0,D85=0),\"\",MAX($I$2:I85)-I85)","v":""},"",0,10000,0,{"$f":"IF(B85>0,WEEKNUM(TEXT(Definice!$F$3,\"0000\")&\".\"&TEXT(J85,\"00\")&\".\"&RIGHT(TEXT(B85,\"0000\"),2)),0)","v":0}]
[84,null,null,null,null,{"$f":"IF(OR(MAX($I$2:I86)-I86=0,D86=0),\"\",MAX($I$2:I86)-I86)","v":""},"",0,10000,0,{"$f":"IF(B86>0,WEEKNUM(TEXT(Definice!$F$3,\"0000\")&\".\"&TEXT(J86,\"00\")&\".\"&RIGHT(TEXT(B86,\"0000\"),2)),0)","v":0}]
[85,null,null,null,null,{"$f":"IF(OR(MAX($I$2:I87)-I87=0,D87=0),\"\",MAX($I$2:I87)-I87)","v":""},"",0,10000,0,{"$f":"IF(B87>0,WEEKNUM(TEXT(Definice!$F$3,\"0000\")&\".\"&TEXT(J87,\"00\")&\".\"&RIGHT(TEXT(B87,\"0000\"),2)),0)","v":0}]
[86,null,null,null,null,{"$f":"IF(OR(MAX($I$2:I88)-I88=0,D88=0),\"\",MAX($I$2:I88)-I88)","v":""},"",0,10000,0,{"$f":"IF(B88>0,WEEKNUM(TEXT(Definice!$F$3,\"0000\")&\".\"&TEXT(J88,\"00\")&\".\"&RIGHT(TEXT(B88,\"0000\"),2)),0)","v":0}]
[87,null,null,null,null,{"$f":"IF(OR(MAX($I$2:I89)-I89=0,D89=0),\"\",MAX($I$2:I89)-I89)","v":""},"",0,10000,0,{"$f":"IF(B89>0,WEEKNUM(TEXT(Definice!$F$3,\"0000\")&\".\"&TEXT(J89,\"00\")&\".\"&RIGHT(TEXT(B89,\"0000\"),2)),0)","v":0}]
[88,null,null,null,null,{"$f":"IF(OR(MAX($I$2:I90)-I90=0,D90=0),\"\",MAX($I$2:I90)-I90)","v":""},"",0,10000,0,{"$f":"IF(B90>0,WEEKNUM(TEXT(Definice!$F$3,\"0000\")&\".\"&TEXT(J90,\"00\")&\".\"&RIGHT(TEXT(B90,\"0000\"),2)),0)","v":0}]
[89,null,null,null,null,{"$f":"IF(OR(MAX($I$2:I91)-I91=0,D91=0),\"\",MAX($I$2:I91)-I91)","v":""},"",0,10000,0,{"$f":"IF(B91>0,WEEKNUM(TEXT(Definice!$F$3,\"0000\")&\".\"&TEXT(J91,\"00\")&\".\"&RIGHT(TEXT(B91,\"0000\"),2)),0)","v":0}]
[90,null,null,null,null,{"$f":"IF(OR(MAX($I$2:I92)-I92=0,D92=0),\"\",MAX($I$2:I92)-I92)","v":""},"",0,10000,0,{"$f":"IF(B92>0,WEEKNUM(TEXT(Definice!$F$3,\"0000\")&\".\"&TEXT(J92,\"00\")&\".\"&RIGHT(TEXT(B92,\"0000\"),2)),0)","v":0}]
[91,null,null,null,null,{"$f":"IF(OR(MAX($I$2:I93)-I93=0,D93=0),\"\",MAX($I$2:I93)-I93)","v":""},"",0,10000,0,{"$f":"IF(B93>0,WEEKNUM(TEXT(Definice!$F$3,\"0000\")&\".\"&TEXT(J93,\"00\")&\".\"&RIGHT(TEXT(B93,\"0000\"),2)),0)","v":0}]
[92,null,null,null,null,{"$f":"IF(OR(MAX($I$2:I94)-I94=0,D94=0),\"\",MAX($I$2:I94)-I94)","v":""},"",0,10000,0,{"$f":"IF(B94>0,WEEKNUM(TEXT(Definice!$F$3,\"0000\")&\".\"&TEXT(J94,\"00\")&\".\"&RIGHT(TEXT(B94,\"0000\"),2)),0)","v":0}]
[93,null,null,null,null,{"$f":"IF(OR(MAX($I$2:I95)-I95=0,D95=0),\"\",MAX($I$2:I95)-I95)","v":""},"",0,10000,0,{"$f":"IF(B95>0,WEEKNUM(TEXT(Definice!$F$3,\"0000\")&\".\"&TEXT(J95,\"00\")&\".\"&RIGHT(TEXT(B95,\"0000\"),2)),0)","v":0}]
[94,null,null,null,null,{"$f":"IF(OR(MAX($I$2:I96)-I96=0,D96=0),\"\",MAX($I$2:I96)-I96)","v":""},"",0,10000,0,{"$f":"IF(B96>0,WEEKNUM(TEXT(Definice!$F$3,\"0000\")&\".\"&TEXT(J96,\"00\")&\".\"&RIGHT(TEXT(B96,\"0000\"),2)),0)","v":0}]
[95,null,null,null,null,{"$f":"IF(OR(MAX($I$2:I97)-I97=0,D97=0),\"\",MAX($I$2:I97)-I97)","v":""},"",0,10000,0,{"$f":"IF(B97>0,WEEKNUM(TEXT(Definice!$F$3,\"0000\")&\".\"&TEXT(J97,\"00\")&\".\"&RIGHT(TEXT(B97,\"0000\"),2)),0)","v":0}]
[96,null,null,null,null,{"$f":"IF(OR(MAX($I$2:I98)-I98=0,D98=0),\"\",MAX($I$2:I98)-I98)","v":""},"",0,10000,0,{"$f":"IF(B98>0,WEEKNUM(TEXT(Definice!$F$3,\"0000\")&\".\"&TEXT(J98,\"00\")&\".\"&RIGHT(TEXT(B98,\"0000\"),2)),0)","v":0}]
[97,null,null,null,null,{"$f":"IF(OR(MAX($I$2:I99)-I99=0,D99=0),\"\",MAX($I$2:I99)-I99)","v":""},"",0,10000,0,{"$f":"IF(B99>0,WEEKNUM(TEXT(Definice!$F$3,\"0000\")&\".\"&TEXT(J99,\"00\")&\".\"&RIGHT(TEXT(B99,\"0000\"),2)),0)","v":0}]
[98,null,null,null,null,{"$f":"IF(OR(MAX($I$2:I100)-I100=0,D100=0),\"\",MAX($I$2:I100)-I100)","v":""},"",0,10000,0,{"$f":"IF(B100>0,WEEKNUM(TEXT(Definice!$F$3,\"0000\")&\".\"&TEXT(J100,\"00\")&\".\"&RIGHT(TEXT(B100,\"0000\"),2)),0)","v":0}]
[99,null,null,null,null,{"$f":"IF(OR(MAX($I$2:I101)-I101=0,D101=0),\"\",MAX($I$2:I101)-I101)","v":""},"",0,10000,0,{"$f":"IF(B101>0,WEEKNUM(TEXT(Definice!$F$3,\"0000\")&\".\"&TEXT(J101,\"00\")&\".\"&RIGHT(TEXT(B101,\"0000\"),2)),0)","v":0}]
[100,null,null,null,null,{"$f":"IF(OR(MAX($I$2:I102)-I102=0,D102=0),\"\",MAX($I$2:I102)-I102)","v":""},"",0,10000,0,{"$f":"IF(B102>0,WEEKNUM(TEXT(Definice!$F$3,\"0000\")&\".\"&TEXT(J102,\"00\")&\".\"&RIGHT(TEXT(B102,\"0000\"),2)),0)","v":0}]
[101,null,null,null,null,{"$f":"IF(OR(MAX($I$2:I103)-I103=0,D103=0),\"\",MAX($I$2:I103)-I103)","v":""},"",0,10000,0,{"$f":"IF(B103>0,WEEKNUM(TEXT(Definice!$F$3,\"0000\")&\".\"&TEXT(J103,\"00\")&\".\"&RIGHT(TEXT(B103,\"0000\"),2)),0)","v":0}]
[102,null,null,null,null,{"$f":"IF(OR(MAX($I$2:I104)-I104=0,D104=0),\"\",MAX($I$2:I104)-I104)","v":""},"",0,10000,0,{"$f":"IF(B104>0,WEEKNUM(TEXT(Definice!$F$3,\"0000\")&\".\"&TEXT(J104,\"00\")&\".\"&RIGHT(TEXT(B104,\"0000\"),2)),0)","v":0}]
[103,null,null,null,null,{"$f":"IF(OR(MAX($I$2:I105)-I105=0,D105=0),\"\",MAX($I$2:I105)-I105)","v":""},"",0,10000,0,{"$f":"IF(B105>0,WEEKNUM(TEXT(Definice!$F$3,\"0000\")&\".\"&TEXT(J105,\"00\")&\".\"&RIGHT(TEXT(B105,\"0000\"),2)),0)","v":0}]
[104,null,null,null,null,{"$f":"IF(OR(MAX($I$2:I106)-I106=0,D106=0),\"\",MAX($I$2:I106)-I106)","v":""},"",0,10000,0,{"$f":"IF(B106>0,WEEKNUM(TEXT(Definice!$F$3,\"0000\")&\".\"&TEXT(J106,\"00\")&\".\"&RIGHT(TEXT(B106,\"0000\"),2)),0)","v":0}]
[105,null,null,null,null,{"$f":"IF(OR(MAX($I$2:I107)-I107=0,D107=0),\"\",MAX($I$2:I107)-I107)","v":""},"",0,10000,0,{"$f":"IF(B107>0,WEEKNUM(TEXT(Definice!$F$3,\"0000\")&\".\"&TEXT(J107,\"00\")&\".\"&RIGHT(TEXT(B107,\"0000\"),2)),0)","v":0}]
[106,null,null,null,null,{"$f":"IF(OR(MAX($I$2:I108)-I108=0,D108=0),\"\",MAX($I$2:I108)-I108)","v":""},"",0,10000,0,{"$f":"IF(B108>0,WEEKNUM(TEXT(Definice!$F$3,\"0000\")&\".\"&TEXT(J108,\"00\")&\".\"&RIGHT(TEXT(B108,\"0000\"),2)),0)","v":0}]
[107,null,null,null,null,{"$f":"IF(OR(MAX($I$2:I109)-I109=0,D109=0),\"\",MAX($I$2:I109)-I109)","v":""},"",0,10000,0,{"$f":"IF(B109>0,WEEKNUM(TEXT(Definice!$F$3,\"0000\")&\".\"&TEXT(J109,\"00\")&\".\"&RIGHT(TEXT(B109,\"0000\"),2)),0)","v":0}]
[108,null,null,null,null,{"$f":"IF(OR(MAX($I$2:I110)-I110=0,D110=0),\"\",MAX($I$2:I110)-I110)","v":""},"",0,10000,0,{"$f":"IF(B110>0,WEEKNUM(TEXT(Definice!$F$3,\"0000\")&\".\"&TEXT(J110,\"00\")&\".\"&RIGHT(TEXT(B110,\"0000\"),2)),0)","v":0}]
[109,null,null,null,null,{"$f":"IF(OR(MAX($I$2:I111)-I111=0,D111=0),\"\",MAX($I$2:I111)-I111)","v":""},"",0,10000,0,{"$f":"IF(B111>0,WEEKNUM(TEXT(Definice!$F$3,\"0000\")&\".\"&TEXT(J111,\"00\")&\".\"&RIGHT(TEXT(B111,\"0000\"),2)),0)","v":0}]
[110,null,null,null,null,{"$f":"IF(OR(MAX($I$2:I112)-I112=0,D112=0),\"\",MAX($I$2:I112)-I112)","v":""},"",0,10000,0,{"$f":"IF(B112>0,WEEKNUM(TEXT(Definice!$F$3,\"0000\")&\".\"&TEXT(J112,\"00\")&\".\"&RIGHT(TEXT(B112,\"0000\"),2)),0)","v":0}]
[111,null,null,null,null,{"$f":"IF(OR(MAX($I$2:I113)-I113=0,D113=0),\"\",MAX($I$2:I113)-I113)","v":""},"",0,10000,0,{"$f":"IF(B113>0,WEEKNUM(TEXT(Definice!$F$3,\"0000\")&\".\"&TEXT(J113,\"00\")&\".\"&RIGHT(TEXT(B113,\"0000\"),2)),0)","v":0}]
[112,null,null,null,null,{"$f":"IF(OR(MAX($I$2:I114)-I114=0,D114=0),\"\",MAX($I$2:I114)-I114)","v":""},"",0,10000,0,{"$f":"IF(B114>0,WEEKNUM(TEXT(Definice!$F$3,\"0000\")&\".\"&TEXT(J114,\"00\")&\".\"&RIGHT(TEXT(B114,\"0000\"),2)),0)","v":0}]
[113,null,null,null,null,{"$f":"IF(OR(MAX($I$2:I115)-I115=0,D115=0),\"\",MAX($I$2:I115)-I115)","v":""},"",0,10000,0,{"$f":"IF(B115>0,WEEKNUM(TEXT(Definice!$F$3,\"0000\")&\".\"&TEXT(J115,\"00\")&\".\"&RIGHT(TEXT(B115,\"0000\"),2)),0)","v":0}]
[114,null,null,null,null,{"$f":"IF(OR(MAX($I$2:I116)-I116=0,D116=0),\"\",MAX($I$2:I116)-I116)","v":""},"",0,10000,0,{"$f":"IF(B116>0,WEEKNUM(TEXT(Definice!$F$3,\"0000\")&\".\"&TEXT(J116,\"00\")&\".\"&RIGHT(TEXT(B116,\"0000\"),2)),0)","v":0}]
[115,null,null,null,null,{"$f":"IF(OR(MAX($I$2:I117)-I117=0,D117=0),\"\",MAX($I$2:I117)-I117)","v":""},"",0,10000,0,{"$f":"IF(B117>0,WEEKNUM(TEXT(Definice!$F$3,\"0000\")&\".\"&TEXT(J117,\"00\")&\".\"&RIGHT(TEXT(B117,\"0000\"),2)),0)","v":0}]
[116,null,null,null,null,{"$f":"IF(OR(MAX($I$2:I118)-I118=0,D118=0),\"\",MAX($I$2:I118)-I118)","v":""},"",0,10000,0,{"$f":"IF(B118>0,WEEKNUM(TEXT(Definice!$F$3,\"0000\")&\".\"&TEXT(J118,\"00\")&\".\"&RIGHT(TEXT(B118,\"0000\"),2)),0)","v":0}]
[117,null,null,null,null,{"$f":"IF(OR(MAX($I$2:I119)-I119=0,D119=0),\"\",MAX($I$2:I119)-I119)","v":""},"",0,10000,0,{"$f":"IF(B119>0,WEEKNUM(TEXT(Definice!$F$3,\"0000\")&\".\"&TEXT(J119,\"00\")&\".\"&RIGHT(TEXT(B119,\"0000\"),2)),0)","v":0}]
[118,null,null,null,null,{"$f":"IF(OR(MAX($I$2:I120)-I120=0,D120=0),\"\",MAX($I$2:I120)-I120)","v":""},"",0,10000,0,{"$f":"IF(B120>0,WEEKNUM(TEXT(Definice!$F$3,\"0000\")&\".\"&TEXT(J120,\"00\")&\".\"&RIGHT(TEXT(B120,\"0000\"),2)),0)","v":0}]
[119,null,null,null,null,{"$f":"IF(OR(MAX($I$2:I121)-I121=0,D121=0),\"\",MAX($I$2:I121)-I121)","v":""},"",0,10000,0,{"$f":"IF(B121>0,WEEKNUM(TEXT(Definice!$F$3,\"0000\")&\".\"&TEXT(J121,\"00\")&\".\"&RIGHT(TEXT(B121,\"0000\"),2)),0)","v":0}]
[120,null,null,null,null,{"$f":"IF(OR(MAX($I$2:I122)-I122=0,D122=0),\"\",MAX($I$2:I122)-I122)","v":""},"",0,10000,0,{"$f":"IF(B122>0,WEEKNUM(TEXT(Definice!$F$3,\"0000\")&\".\"&TEXT(J122,\"00\")&\".\"&RIGHT(TEXT(B122,\"0000\"),2)),0)","v":0}]
[121,null,null,null,null,{"$f":"IF(OR(MAX($I$2:I123)-I123=0,D123=0),\"\",MAX($I$2:I123)-I123)","v":""},"",0,10000,0,{"$f":"IF(B123>0,WEEKNUM(TEXT(Definice!$F$3,\"0000\")&\".\"&TEXT(J123,\"00\")&\".\"&RIGHT(TEXT(B123,\"0000\"),2)),0)","v":0}]
[122,null,null,null,null,{"$f":"IF(OR(MAX($I$2:I124)-I124=0,D124=0),\"\",MAX($I$2:I124)-I124)","v":""},"",0,10000,0,{"$f":"IF(B124>0,WEEKNUM(TEXT(Definice!$F$3,\"0000\")&\".\"&TEXT(J124,\"00\")&\".\"&RIGHT(TEXT(B124,\"0000\"),2)),0)","v":0}]
[123,null,null,null,null,{"$f":"IF(OR(MAX($I$2:I125)-I125=0,D125=0),\"\",MAX($I$2:I125)-I125)","v":""},"",0,10000,0,{"$f":"IF(B125>0,WEEKNUM(TEXT(Definice!$F$3,\"0000\")&\".\"&TEXT(J125,\"00\")&\".\"&RIGHT(TEXT(B125,\"0000\"),2)),0)","v":0}]
[124,null,null,null,null,{"$f":"IF(OR(MAX($I$2:I126)-I126=0,D126=0),\"\",MAX($I$2:I126)-I126)","v":""},"",0,10000,0,{"$f":"IF(B126>0,WEEKNUM(TEXT(Definice!$F$3,\"0000\")&\".\"&TEXT(J126,\"00\")&\".\"&RIGHT(TEXT(B126,\"0000\"),2)),0)","v":0}]
[125,null,null,null,null,{"$f":"IF(OR(MAX($I$2:I127)-I127=0,D127=0),\"\",MAX($I$2:I127)-I127)","v":""},"",0,10000,0,{"$f":"IF(B127>0,WEEKNUM(TEXT(Definice!$F$3,\"0000\")&\".\"&TEXT(J127,\"00\")&\".\"&RIGHT(TEXT(B127,\"0000\"),2)),0)","v":0}]
[126,null,null,null,null,{"$f":"IF(OR(MAX($I$2:I128)-I128=0,D128=0),\"\",MAX($I$2:I128)-I128)","v":""},"",0,10000,0,{"$f":"IF(B128>0,WEEKNUM(TEXT(Definice!$F$3,\"0000\")&\".\"&TEXT(J128,\"00\")&\".\"&RIGHT(TEXT(B128,\"0000\"),2)),0)","v":0}]
[127,null,null,null,null,{"$f":"IF(OR(MAX($I$2:I129)-I129=0,D129=0),\"\",MAX($I$2:I129)-I129)","v":""},"",0,10000,0,{"$f":"IF(B129>0,WEEKNUM(TEXT(Definice!$F$3,\"0000\")&\".\"&TEXT(J129,\"00\")&\".\"&RIGHT(TEXT(B129,\"0000\"),2)),0)","v":0}]
[128,null,null,null,null,{"$f":"IF(OR(MAX($I$2:I130)-I130=0,D130=0),\"\",MAX($I$2:I130)-I130)","v":""},"",0,10000,0,{"$f":"IF(B130>0,WEEKNUM(TEXT(Definice!$F$3,\"0000\")&\".\"&TEXT(J130,\"00\")&\".\"&RIGHT(TEXT(B130,\"0000\"),2)),0)","v":0}]
[129,null,null,null,null,{"$f":"IF(OR(MAX($I$2:I131)-I131=0,D131=0),\"\",MAX($I$2:I131)-I131)","v":""},"",0,10000,0,{"$f":"IF(B131>0,WEEKNUM(TEXT(Definice!$F$3,\"0000\")&\".\"&TEXT(J131,\"00\")&\".\"&RIGHT(TEXT(B131,\"0000\"),2)),0)","v":0}]
[130,null,null,null,null,{"$f":"IF(OR(MAX($I$2:I132)-I132=0,D132=0),\"\",MAX($I$2:I132)-I132)","v":""},"",0,10000,{"$f":"((INT(B132/100)/100)-INT(INT(B132/100)/100))*100","v":0},{"$f":"IF(B132>0,WEEKNUM(TEXT(Definice!$F$3,\"0000\")&\".\"&TEXT(J132,\"00\")&\".\"&RIGHT(TEXT(B132,\"0000\"),2)),0)","v":0}]
[131,null,null,null,null,{"$f":"IF(OR(MAX($I$2:I133)-I133=0,D133=0),\"\",MAX($I$2:I133)-I133)","v":""},{"$f":"IF(F133=\"\",\"\",F133/(H133+I132))","v":""},{"$f":"H132+E133","v":0},{"$f":"I132+E133","v":10000},0,{"$f":"IF(B133>0,WEEKNUM(TEXT(Definice!$F$3,\"0000\")&\".\"&TEXT(J133,\"00\")&\".\"&RIGHT(TEXT(B133,\"0000\"),2)),0)","v":0}]
[132,null,null,null,null,{"$f":"IF(OR(MAX($I$2:I134)-I134=0,D134=0),\"\",MAX($I$2:I134)-I134)","v":""},"",0,10000,0,{"$f":"IF(B134>0,WEEKNUM(TEXT(Definice!$F$3,\"0000\")&\".\"&TEXT(J134,\"00\")&\".\"&RIGHT(TEXT(B134,\"0000\"),2)),0)","v":0}]
[133,null,null,null,null,{"$f":"IF(OR(MAX($I$2:I135)-I135=0,D135=0),\"\",MAX($I$2:I135)-I135)","v":""},"",0,10000,0,{"$f":"IF(B135>0,WEEKNUM(TEXT(Definice!$F$3,\"0000\")&\".\"&TEXT(J135,\"00\")&\".\"&RIGHT(TEXT(B135,\"0000\"),2)),0)","v":0}]
[134,null,null,null,null,{"$f":"IF(OR(MAX($I$2:I136)-I136=0,D136=0),\"\",MAX($I$2:I136)-I136)","v":""},"",0,10000,0,{"$f":"IF(B136>0,WEEKNUM(TEXT(Definice!$F$3,\"0000\")&\".\"&TEXT(J136,\"00\")&\".\"&RIGHT(TEXT(B136,\"0000\"),2)),0)","v":0}]
[135,null,null,null,null,{"$f":"IF(OR(MAX($I$2:I137)-I137=0,D137=0),\"\",MAX($I$2:I137)-I137)","v":""},"",0,10000,0,{"$f":"IF(B137>0,WEEKNUM(TEXT(Definice!$F$3,\"0000\")&\".\"&TEXT(J137,\"00\")&\".\"&RIGHT(TEXT(B137,\"0000\"),2)),0)","v":0}]
[136,null,null,null,null,{"$f":"IF(OR(MAX($I$2:I138)-I138=0,D138=0),\"\",MAX($I$2:I138)-I138)","v":""},"",0,10000,0,{"$f":"IF(B138>0,WEEKNUM(TEXT(Definice!$F$3,\"0000\")&\".\"&TEXT(J138,\"00\")&\".\"&RIGHT(TEXT(B138,\"0000\"),2)),0)","v":0}]
[137,null,null,null,null,{"$f":"IF(OR(MAX($I$2:I139)-I139=0,D139=0),\"\",MAX($I$2:I139)-I139)","v":""},"",0,10000,0,{"$f":"IF(B139>0,WEEKNUM(TEXT(Definice!$F$3,\"0000\")&\".\"&TEXT(J139,\"00\")&\".\"&RIGHT(TEXT(B139,\"0000\"),2)),0)","v":0}]
[138,null,null,null,null,{"$f":"IF(OR(MAX($I$2:I140)-I140=0,D140=0),\"\",MAX($I$2:I140)-I140)","v":""},"",0,10000,0,{"$f":"IF(B140>0,WEEKNUM(TEXT(Definice!$F$3,\"0000\")&\".\"&TEXT(J140,\"00\")&\".\"&RIGHT(TEXT(B140,\"0000\"),2)),0)","v":0}]
[139,null,null,null,null,{"$f":"IF(OR(MAX($I$2:I141)-I141=0,D141=0),\"\",MAX($I$2:I141)-I141)","v":""},"",0,10000,0,{"$f":"IF(B141>0,WEEKNUM(TEXT(Definice!$F$3,\"0000\")&\".\"&TEXT(J141,\"00\")&\".\"&RIGHT(TEXT(B141,\"0000\"),2)),0)","v":0}]
[140,null,null,null,null,{"$f":"IF(OR(MAX($I$2:I142)-I142=0,D142=0),\"\",MAX($I$2:I142)-I142)","v":""},"",0,10000,0,{"$f":"IF(B142>0,WEEKNUM(TEXT(Definice!$F$3,\"0000\")&\".\"&TEXT(J142,\"00\")&\".\"&RIGHT(TEXT(B142,\"0000\"),2)),0)","v":0}]
[141,null,null,null,null,{"$f":"IF(OR(MAX($I$2:I143)-I143=0,D143=0),\"\",MAX($I$2:I143)-I143)","v":""},"",0,10000,0,{"$f":"IF(B143>0,WEEKNUM(TEXT(Definice!$F$3,\"0000\")&\".\"&TEXT(J143,\"00\")&\".\"&RIGHT(TEXT(B143,\"0000\"),2)),0)","v":0}]
[142,null,null,null,null,{"$f":"IF(OR(MAX($I$2:I144)-I144=0,D144=0),\"\",MAX($I$2:I144)-I144)","v":""},"",0,10000,0,{"$f":"IF(B144>0,WEEKNUM(TEXT(Definice!$F$3,\"0000\")&\".\"&TEXT(J144,\"00\")&\".\"&RIGHT(TEXT(B144,\"0000\"),2)),0)","v":0}]
[143,null,null,null,null,{"$f":"IF(OR(MAX($I$2:I145)-I145=0,D145=0),\"\",MAX($I$2:I145)-I145)","v":""},"",0,10000,0,{"$f":"IF(B145>0,WEEKNUM(TEXT(Definice!$F$3,\"0000\")&\".\"&TEXT(J145,\"00\")&\".\"&RIGHT(TEXT(B145,\"0000\"),2)),0)","v":0}]
[144,null,null,null,null,{"$f":"IF(OR(MAX($I$2:I146)-I146=0,D146=0),\"\",MAX($I$2:I146)-I146)","v":""},"",0,10000,0,{"$f":"IF(B146>0,WEEKNUM(TEXT(Definice!$F$3,\"0000\")&\".\"&TEXT(J146,\"00\")&\".\"&RIGHT(TEXT(B146,\"0000\"),2)),0)","v":0}]
[145,null,null,null,null,{"$f":"IF(OR(MAX($I$2:I147)-I147=0,D147=0),\"\",MAX($I$2:I147)-I147)","v":""},"",0,10000,0,{"$f":"IF(B147>0,WEEKNUM(TEXT(Definice!$F$3,\"0000\")&\".\"&TEXT(J147,\"00\")&\".\"&RIGHT(TEXT(B147,\"0000\"),2)),0)","v":0}]
[146,null,null,null,null,{"$f":"IF(OR(MAX($I$2:I148)-I148=0,D148=0),\"\",MAX($I$2:I148)-I148)","v":""},"",0,10000,0,{"$f":"IF(B148>0,WEEKNUM(TEXT(Definice!$F$3,\"0000\")&\".\"&TEXT(J148,\"00\")&\".\"&RIGHT(TEXT(B148,\"0000\"),2)),0)","v":0}]
[147,null,null,null,null,{"$f":"IF(OR(MAX($I$2:I149)-I149=0,D149=0),\"\",MAX($I$2:I149)-I149)","v":""},"",0,10000,0,{"$f":"IF(B149>0,WEEKNUM(TEXT(Definice!$F$3,\"0000\")&\".\"&TEXT(J149,\"00\")&\".\"&RIGHT(TEXT(B149,\"0000\"),2)),0)","v":0}]
[148,null,null,null,null,{"$f":"IF(OR(MAX($I$2:I150)-I150=0,D150=0),\"\",MAX($I$2:I150)-I150)","v":""},"",0,10000,0,{"$f":"IF(B150>0,WEEKNUM(TEXT(Definice!$F$3,\"0000\")&\".\"&TEXT(J150,\"00\")&\".\"&RIGHT(TEXT(B150,\"0000\"),2)),0)","v":0}]
[149,null,null,null,null,{"$f":"IF(OR(MAX($I$2:I151)-I151=0,D151=0),\"\",MAX($I$2:I151)-I151)","v":""},"",0,10000,0,{"$f":"IF(B151>0,WEEKNUM(TEXT(Definice!$F$3,\"0000\")&\".\"&TEXT(J151,\"00\")&\".\"&RIGHT(TEXT(B151,\"0000\"),2)),0)","v":0}]
[150,null,null,null,null,{"$f":"IF(OR(MAX($I$2:I152)-I152=0,D152=0),\"\",MAX($I$2:I152)-I152)","v":""},"",0,10000,0,{"$f":"IF(B152>0,WEEKNUM(TEXT(Definice!$F$3,\"0000\")&\".\"&TEXT(J152,\"00\")&\".\"&RIGHT(TEXT(B152,\"0000\"),2)),0)","v":0}]
[151,null,null,null,null,{"$f":"IF(OR(MAX($I$2:I153)-I153=0,D153=0),\"\",MAX($I$2:I153)-I153)","v":""},"",0,10000,0,{"$f":"IF(B153>0,WEEKNUM(TEXT(Definice!$F$3,\"0000\")&\".\"&TEXT(J153,\"00\")&\".\"&RIGHT(TEXT(B153,\"0000\"),2)),0)","v":0}]
[152,null,null,null,null,{"$f":"IF(OR(MAX($I$2:I154)-I154=0,D154=0),\"\",MAX($I$2:I154)-I154)","v":""},"",0,10000,0,{"$f":"IF(B154>0,WEEKNUM(TEXT(Definice!$F$3,\"0000\")&\".\"&TEXT(J154,\"00\")&\".\"&RIGHT(TEXT(B154,\"0000\"),2)),0)","v":0}]
[153,null,null,null,null,{"$f":"IF(OR(MAX($I$2:I155)-I155=0,D155=0),\"\",MAX($I$2:I155)-I155)","v":""},"",0,10000,0,{"$f":"IF(B155>0,WEEKNUM(TEXT(Definice!$F$3,\"0000\")&\".\"&TEXT(J155,\"00\")&\".\"&RIGHT(TEXT(B155,\"0000\"),2)),0)","v":0}]
[154,null,null,null,null,{"$f":"IF(OR(MAX($I$2:I156)-I156=0,D156=0),\"\",MAX($I$2:I156)-I156)","v":""},"",0,10000,0,{"$f":"IF(B156>0,WEEKNUM(TEXT(Definice!$F$3,\"0000\")&\".\"&TEXT(J156,\"00\")&\".\"&RIGHT(TEXT(B156,\"0000\"),2)),0)","v":0}]
[155,null,null,null,null,{"$f":"IF(OR(MAX($I$2:I157)-I157=0,D157=0),\"\",MAX($I$2:I157)-I157)","v":""},"",0,10000,0,{"$f":"IF(B157>0,WEEKNUM(TEXT(Definice!$F$3,\"0000\")&\".\"&TEXT(J157,\"00\")&\".\"&RIGHT(TEXT(B157,\"0000\"),2)),0)","v":0}]
[156,null,null,null,null,{"$f":"IF(OR(MAX($I$2:I158)-I158=0,D158=0),\"\",MAX($I$2:I158)-I158)","v":""},"",0,10000,0,{"$f":"IF(B158>0,WEEKNUM(TEXT(Definice!$F$3,\"0000\")&\".\"&TEXT(J158,\"00\")&\".\"&RIGHT(TEXT(B158,\"0000\"),2)),0)","v":0}]
[157,null,null,null,null,{"$f":"IF(OR(MAX($I$2:I159)-I159=0,D159=0),\"\",MAX($I$2:I159)-I159)","v":""},"",0,10000,0,{"$f":"IF(B159>0,WEEKNUM(TEXT(Definice!$F$3,\"0000\")&\".\"&TEXT(J159,\"00\")&\".\"&RIGHT(TEXT(B159,\"0000\"),2)),0)","v":0}]
[158,null,null,null,null,{"$f":"IF(OR(MAX($I$2:I160)-I160=0,D160=0),\"\",MAX($I$2:I160)-I160)","v":""},"",0,10000,0,{"$f":"IF(B160>0,WEEKNUM(TEXT(Definice!$F$3,\"0000\")&\".\"&TEXT(J160,\"00\")&\".\"&RIGHT(TEXT(B160,\"0000\"),2)),0)","v":0}]
[159,null,null,null,null,{"$f":"IF(OR(MAX($I$2:I161)-I161=0,D161=0),\"\",MAX($I$2:I161)-I161)","v":""},"",0,10000,0,{"$f":"IF(B161>0,WEEKNUM(TEXT(Definice!$F$3,\"0000\")&\".\"&TEXT(J161,\"00\")&\".\"&RIGHT(TEXT(B161,\"0000\"),2)),0)","v":0}]
[160,null,null,null,null,{"$f":"IF(OR(MAX($I$2:I162)-I162=0,D162=0),\"\",MAX($I$2:I162)-I162)","v":""},"",0,10000,0,{"$f":"IF(B162>0,WEEKNUM(TEXT(Definice!$F$3,\"0000\")&\".\"&TEXT(J162,\"00\")&\".\"&RIGHT(TEXT(B162,\"0000\"),2)),0)","v":0}]
[161,null,null,null,null,{"$f":"IF(OR(MAX($I$2:I163)-I163=0,D163=0),\"\",MAX($I$2:I163)-I163)","v":""},"",0,10000,0,{"$f":"IF(B163>0,WEEKNUM(TEXT(Definice!$F$3,\"0000\")&\".\"&TEXT(J163,\"00\")&\".\"&RIGHT(TEXT(B163,\"0000\"),2)),0)","v":0}]
[162,null,null,null,null,{"$f":"IF(OR(MAX($I$2:I164)-I164=0,D164=0),\"\",MAX($I$2:I164)-I164)","v":""},"",0,10000,0,{"$f":"IF(B164>0,WEEKNUM(TEXT(Definice!$F$3,\"0000\")&\".\"&TEXT(J164,\"00\")&\".\"&RIGHT(TEXT(B164,\"0000\"),2)),0)","v":0}]
[163,null,null,null,null,{"$f":"IF(OR(MAX($I$2:I165)-I165=0,D165=0),\"\",MAX($I$2:I165)-I165)","v":""},"",0,10000,0,{"$f":"IF(B165>0,WEEKNUM(TEXT(Definice!$F$3,\"0000\")&\".\"&TEXT(J165,\"00\")&\".\"&RIGHT(TEXT(B165,\"0000\"),2)),0)","v":0}]
[164,null,null,null,null,{"$f":"IF(OR(MAX($I$2:I166)-I166=0,D166=0),\"\",MAX($I$2:I166)-I166)","v":""},"",0,10000,0,{"$f":"IF(B166>0,WEEKNUM(TEXT(Definice!$F$3,\"0000\")&\".\"&TEXT(J166,\"00\")&\".\"&RIGHT(TEXT(B166,\"0000\"),2)),0)","v":0}]
[165,null,null,null,null,{"$f":"IF(OR(MAX($I$2:I167)-I167=0,D167=0),\"\",MAX($I$2:I167)-I167)","v":""},"",0,10000,0,{"$f":"IF(B167>0,WEEKNUM(TEXT(Definice!$F$3,\"0000\")&\".\"&TEXT(J167,\"00\")&\".\"&RIGHT(TEXT(B167,\"0000\"),2)),0)","v":0}]
[166,null,null,null,null,{"$f":"IF(OR(MAX($I$2:I168)-I168=0,D168=0),\"\",MAX($I$2:I168)-I168)","v":""},"",0,10000,0,{"$f":"IF(B168>0,WEEKNUM(TEXT(Definice!$F$3,\"0000\")&\".\"&TEXT(J168,\"00\")&\".\"&RIGHT(TEXT(B168,\"0000\"),2)),0)","v":0}]
[167,null,null,null,null,{"$f":"IF(OR(MAX($I$2:I169)-I169=0,D169=0),\"\",MAX($I$2:I169)-I169)","v":""},"",0,10000,0,{"$f":"IF(B169>0,WEEKNUM(TEXT(Definice!$F$3,\"0000\")&\".\"&TEXT(J169,\"00\")&\".\"&RIGHT(TEXT(B169,\"0000\"),2)),0)","v":0}]
[168,null,null,null,null,{"$f":"IF(OR(MAX($I$2:I170)-I170=0,D170=0),\"\",MAX($I$2:I170)-I170)","v":""},"",0,10000,0,{"$f":"IF(B170>0,WEEKNUM(TEXT(Definice!$F$3,\"0000\")&\".\"&TEXT(J170,\"00\")&\".\"&RIGHT(TEXT(B170,\"0000\"),2)),0)","v":0}]
[169,null,null,null,null,{"$f":"IF(OR(MAX($I$2:I171)-I171=0,D171=0),\"\",MAX($I$2:I171)-I171)","v":""},"",0,10000,0,{"$f":"IF(B171>0,WEEKNUM(TEXT(Definice!$F$3,\"0000\")&\".\"&TEXT(J171,\"00\")&\".\"&RIGHT(TEXT(B171,\"0000\"),2)),0)","v":0}]
[170,null,null,null,null,{"$f":"IF(OR(MAX($I$2:I172)-I172=0,D172=0),\"\",MAX($I$2:I172)-I172)","v":""},"",0,10000,0,{"$f":"IF(B172>0,WEEKNUM(TEXT(Definice!$F$3,\"0000\")&\".\"&TEXT(J172,\"00\")&\".\"&RIGHT(TEXT(B172,\"0000\"),2)),0)","v":0}]
[171,null,null,null,null,{"$f":"IF(OR(MAX($I$2:I173)-I173=0,D173=0),\"\",MAX($I$2:I173)-I173)","v":""},"",0,10000,0,{"$f":"IF(B173>0,WEEKNUM(TEXT(Definice!$F$3,\"0000\")&\".\"&TEXT(J173,\"00\")&\".\"&RIGHT(TEXT(B173,\"0000\"),2)),0)","v":0}]
[172,null,null,null,null,{"$f":"IF(OR(MAX($I$2:I174)-I174=0,D174=0),\"\",MAX($I$2:I174)-I174)","v":""},"",0,10000,0,{"$f":"IF(B174>0,WEEKNUM(TEXT(Definice!$F$3,\"0000\")&\".\"&TEXT(J174,\"00\")&\".\"&RIGHT(TEXT(B174,\"0000\"),2)),0)","v":0}]
[173,null,null,null,null,{"$f":"IF(OR(MAX($I$2:I175)-I175=0,D175=0),\"\",MAX($I$2:I175)-I175)","v":""},"",0,10000,0,{"$f":"IF(B175>0,WEEKNUM(TEXT(Definice!$F$3,\"0000\")&\".\"&TEXT(J175,\"00\")&\".\"&RIGHT(TEXT(B175,\"0000\"),2)),0)","v":0}]
[174,null,null,null,null,{"$f":"IF(OR(MAX($I$2:I176)-I176=0,D176=0),\"\",MAX($I$2:I176)-I176)","v":""},"",0,10000,0,{"$f":"IF(B176>0,WEEKNUM(TEXT(Definice!$F$3,\"0000\")&\".\"&TEXT(J176,\"00\")&\".\"&RIGHT(TEXT(B176,\"0000\"),2)),0)","v":0}]
[175,null,null,null,null,{"$f":"IF(OR(MAX($I$2:I177)-I177=0,D177=0),\"\",MAX($I$2:I177)-I177)","v":""},"",0,10000,0,{"$f":"IF(B177>0,WEEKNUM(TEXT(Definice!$F$3,\"0000\")&\".\"&TEXT(J177,\"00\")&\".\"&RIGHT(TEXT(B177,\"0000\"),2)),0)","v":0}]
[176,null,null,null,null,{"$f":"IF(OR(MAX($I$2:I178)-I178=0,D178=0),\"\",MAX($I$2:I178)-I178)","v":""},"",0,10000,0,{"$f":"IF(B178>0,WEEKNUM(TEXT(Definice!$F$3,\"0000\")&\".\"&TEXT(J178,\"00\")&\".\"&RIGHT(TEXT(B178,\"0000\"),2)),0)","v":0}]
[177,null,null,null,null,{"$f":"IF(OR(MAX($I$2:I179)-I179=0,D179=0),\"\",MAX($I$2:I179)-I179)","v":""},"",0,10000,0,{"$f":"IF(B179>0,WEEKNUM(TEXT(Definice!$F$3,\"0000\")&\".\"&TEXT(J179,\"00\")&\".\"&RIGHT(TEXT(B179,\"0000\"),2)),0)","v":0}]
[178,null,null,null,null,{"$f":"IF(OR(MAX($I$2:I180)-I180=0,D180=0),\"\",MAX($I$2:I180)-I180)","v":""},"",0,10000,0,{"$f":"IF(B180>0,WEEKNUM(TEXT(Definice!$F$3,\"0000\")&\".\"&TEXT(J180,\"00\")&\".\"&RIGHT(TEXT(B180,\"0000\"),2)),0)","v":0}]
[179,null,null,null,null,{"$f":"IF(OR(MAX($I$2:I181)-I181=0,D181=0),\"\",MAX($I$2:I181)-I181)","v":""},"",0,10000,0,{"$f":"IF(B181>0,WEEKNUM(TEXT(Definice!$F$3,\"0000\")&\".\"&TEXT(J181,\"00\")&\".\"&RIGHT(TEXT(B181,\"0000\"),2)),0)","v":0}]
[180,null,null,null,null,{"$f":"IF(OR(MAX($I$2:I182)-I182=0,D182=0),\"\",MAX($I$2:I182)-I182)","v":""},"",0,10000,0,{"$f":"IF(B182>0,WEEKNUM(TEXT(Definice!$F$3,\"0000\")&\".\"&TEXT(J182,\"00\")&\".\"&RIGHT(TEXT(B182,\"0000\"),2)),0)","v":0}]
[181,null,null,null,null,{"$f":"IF(OR(MAX($I$2:I183)-I183=0,D183=0),\"\",MAX($I$2:I183)-I183)","v":""},"",0,10000,0,{"$f":"IF(B183>0,WEEKNUM(TEXT(Definice!$F$3,\"0000\")&\".\"&TEXT(J183,\"00\")&\".\"&RIGHT(TEXT(B183,\"0000\"),2)),0)","v":0}]
[182,null,null,null,null,{"$f":"IF(OR(MAX($I$2:I184)-I184=0,D184=0),\"\",MAX($I$2:I184)-I184)","v":""},"",0,10000,0,{"$f":"IF(B184>0,WEEKNUM(TEXT(Definice!$F$3,\"0000\")&\".\"&TEXT(J184,\"00\")&\".\"&RIGHT(TEXT(B184,\"0000\"),2)),0)","v":0}]
[183,null,null,null,null,{"$f":"IF(OR(MAX($I$2:I185)-I185=0,D185=0),\"\",MAX($I$2:I185)-I185)","v":""},"",0,10000,0,{"$f":"IF(B185>0,WEEKNUM(TEXT(Definice!$F$3,\"0000\")&\".\"&TEXT(J185,\"00\")&\".\"&RIGHT(TEXT(B185,\"0000\"),2)),0)","v":0}]
[184,null,null,null,null,{"$f":"IF(OR(MAX($I$2:I186)-I186=0,D186=0),\"\",MAX($I$2:I186)-I186)","v":""},"",0,10000,0,{"$f":"IF(B186>0,WEEKNUM(TEXT(Definice!$F$3,\"0000\")&\".\"&TEXT(J186,\"00\")&\".\"&RIGHT(TEXT(B186,\"0000\"),2)),0)","v":0}]
[185,null,null,null,null,{"$f":"IF(OR(MAX($I$2:I187)-I187=0,D187=0),\"\",MAX($I$2:I187)-I187)","v":""},"",0,10000,0,{"$f":"IF(B187>0,WEEKNUM(TEXT(Definice!$F$3,\"0000\")&\".\"&TEXT(J187,\"00\")&\".\"&RIGHT(TEXT(B187,\"0000\"),2)),0)","v":0}]
[186,null,null,null,null,{"$f":"IF(OR(MAX($I$2:I188)-I188=0,D188=0),\"\",MAX($I$2:I188)-I188)","v":""},"",0,10000,0,{"$f":"IF(B188>0,WEEKNUM(TEXT(Definice!$F$3,\"0000\")&\".\"&TEXT(J188,\"00\")&\".\"&RIGHT(TEXT(B188,\"0000\"),2)),0)","v":0}]
[187,null,null,null,null,{"$f":"IF(OR(MAX($I$2:I189)-I189=0,D189=0),\"\",MAX($I$2:I189)-I189)","v":""},"",0,10000,0,{"$f":"IF(B189>0,WEEKNUM(TEXT(Definice!$F$3,\"0000\")&\".\"&TEXT(J189,\"00\")&\".\"&RIGHT(TEXT(B189,\"0000\"),2)),0)","v":0}]
[188,null,null,null,null,{"$f":"IF(OR(MAX($I$2:I190)-I190=0,D190=0),\"\",MAX($I$2:I190)-I190)","v":""},"",0,10000,0,{"$f":"IF(B190>0,WEEKNUM(TEXT(Definice!$F$3,\"0000\")&\".\"&TEXT(J190,\"00\")&\".\"&RIGHT(TEXT(B190,\"0000\"),2)),0)","v":0}]
[189,null,null,null,null,{"$f":"IF(OR(MAX($I$2:I191)-I191=0,D191=0),\"\",MAX($I$2:I191)-I191)","v":""},"",0,10000,0,{"$f":"IF(B191>0,WEEKNUM(TEXT(Definice!$F$3,\"0000\")&\".\"&TEXT(J191,\"00\")&\".\"&RIGHT(TEXT(B191,\"0000\"),2)),0)","v":0}]
[190,null,null,null,null,{"$f":"IF(OR(MAX($I$2:I192)-I192=0,D192=0),\"\",MAX($I$2:I192)-I192)","v":""},"",0,10000,0,{"$f":"IF(B192>0,WEEKNUM(TEXT(Definice!$F$3,\"0000\")&\".\"&TEXT(J192,\"00\")&\".\"&RIGHT(TEXT(B192,\"0000\"),2)),0)","v":0}]
[191,null,null,null,null,{"$f":"IF(OR(MAX($I$2:I193)-I193=0,D193=0),\"\",MAX($I$2:I193)-I193)","v":""},"",0,10000,0,{"$f":"IF(B193>0,WEEKNUM(TEXT(Definice!$F$3,\"0000\")&\".\"&TEXT(J193,\"00\")&\".\"&RIGHT(TEXT(B193,\"0000\"),2)),0)","v":0}]
[192,null,null,null,null,{"$f":"IF(OR(MAX($I$2:I194)-I194=0,D194=0),\"\",MAX($I$2:I194)-I194)","v":""},"",0,10000,0,{"$f":"IF(B194>0,WEEKNUM(TEXT(Definice!$F$3,\"0000\")&\".\"&TEXT(J194,\"00\")&\".\"&RIGHT(TEXT(B194,\"0000\"),2)),0)","v":0}]
[193,null,null,null,null,{"$f":"IF(OR(MAX($I$2:I195)-I195=0,D195=0),\"\",MAX($I$2:I195)-I195)","v":""},"",0,10000,0,{"$f":"IF(B195>0,WEEKNUM(TEXT(Definice!$F$3,\"0000\")&\".\"&TEXT(J195,\"00\")&\".\"&RIGHT(TEXT(B195,\"0000\"),2)),0)","v":0}]
[194,null,null,null,null,{"$f":"IF(OR(MAX($I$2:I196)-I196=0,D196=0),\"\",MAX($I$2:I196)-I196)","v":""},"",0,10000,{"$f":"((INT(B196/100)/100)-INT(INT(B196/100)/100))*100","v":0},{"$f":"IF(B196>0,WEEKNUM(TEXT(Definice!$F$3,\"0000\")&\".\"&TEXT(J196,\"00\")&\".\"&RIGHT(TEXT(B196,\"0000\"),2)),0)","v":0}]
[195,null,null,null,null,{"$f":"IF(OR(MAX($I$2:I197)-I197=0,D197=0),\"\",MAX($I$2:I197)-I197)","v":""},{"$f":"IF(F197=\"\",\"\",F197/(H197+I196))","v":""},{"$f":"H196+E197","v":0},{"$f":"I196+E197","v":10000},0,{"$f":"IF(B197>0,WEEKNUM(TEXT(Definice!$F$3,\"0000\")&\".\"&TEXT(J197,\"00\")&\".\"&RIGHT(TEXT(B197,\"0000\"),2)),0)","v":0}]
[196,null,null,null,null,{"$f":"IF(OR(MAX($I$2:I198)-I198=0,D198=0),\"\",MAX($I$2:I198)-I198)","v":""},"",0,10000,0,{"$f":"IF(B198>0,WEEKNUM(TEXT(Definice!$F$3,\"0000\")&\".\"&TEXT(J198,\"00\")&\".\"&RIGHT(TEXT(B198,\"0000\"),2)),0)","v":0}]
[197,null,null,null,null,{"$f":"IF(OR(MAX($I$2:I199)-I199=0,D199=0),\"\",MAX($I$2:I199)-I199)","v":""},"",0,10000,0,{"$f":"IF(B199>0,WEEKNUM(TEXT(Definice!$F$3,\"0000\")&\".\"&TEXT(J199,\"00\")&\".\"&RIGHT(TEXT(B199,\"0000\"),2)),0)","v":0}]
[198,null,null,null,null,{"$f":"IF(OR(MAX($I$2:I200)-I200=0,D200=0),\"\",MAX($I$2:I200)-I200)","v":""},"",0,10000,0,{"$f":"IF(B200>0,WEEKNUM(TEXT(Definice!$F$3,\"0000\")&\".\"&TEXT(J200,\"00\")&\".\"&RIGHT(TEXT(B200,\"0000\"),2)),0)","v":0}]
[199,null,null,null,null,{"$f":"IF(OR(MAX($I$2:I201)-I201=0,D201=0),\"\",MAX($I$2:I201)-I201)","v":""},"",0,10000,0,{"$f":"IF(B201>0,WEEKNUM(TEXT(Definice!$F$3,\"0000\")&\".\"&TEXT(J201,\"00\")&\".\"&RIGHT(TEXT(B201,\"0000\"),2)),0)","v":0}]
[200,null,null,null,null,{"$f":"IF(OR(MAX($I$2:I202)-I202=0,D202=0),\"\",MAX($I$2:I202)-I202)","v":""},"",0,10000,0,{"$f":"IF(B202>0,WEEKNUM(TEXT(Definice!$F$3,\"0000\")&\".\"&TEXT(J202,\"00\")&\".\"&RIGHT(TEXT(B202,\"0000\"),2)),0)","v":0}]
[201,null,null,null,null,{"$f":"IF(OR(MAX($I$2:I203)-I203=0,D203=0),\"\",MAX($I$2:I203)-I203)","v":""},"",0,10000,0,{"$f":"IF(B203>0,WEEKNUM(TEXT(Definice!$F$3,\"0000\")&\".\"&TEXT(J203,\"00\")&\".\"&RIGHT(TEXT(B203,\"0000\"),2)),0)","v":0}]
[202,null,null,null,null,{"$f":"IF(OR(MAX($I$2:I204)-I204=0,D204=0),\"\",MAX($I$2:I204)-I204)","v":""},"",0,10000,0,{"$f":"IF(B204>0,WEEKNUM(TEXT(Definice!$F$3,\"0000\")&\".\"&TEXT(J204,\"00\")&\".\"&RIGHT(TEXT(B204,\"0000\"),2)),0)","v":0}]
[203,null,null,null,null,{"$f":"IF(OR(MAX($I$2:I205)-I205=0,D205=0),\"\",MAX($I$2:I205)-I205)","v":""},"",0,10000,0,{"$f":"IF(B205>0,WEEKNUM(TEXT(Definice!$F$3,\"0000\")&\".\"&TEXT(J205,\"00\")&\".\"&RIGHT(TEXT(B205,\"0000\"),2)),0)","v":0}]
[204,null,null,null,null,{"$f":"IF(OR(MAX($I$2:I206)-I206=0,D206=0),\"\",MAX($I$2:I206)-I206)","v":""},"",0,10000,0,{"$f":"IF(B206>0,WEEKNUM(TEXT(Definice!$F$3,\"0000\")&\".\"&TEXT(J206,\"00\")&\".\"&RIGHT(TEXT(B206,\"0000\"),2)),0)","v":0}]
[205,null,null,null,null,{"$f":"IF(OR(MAX($I$2:I207)-I207=0,D207=0),\"\",MAX($I$2:I207)-I207)","v":""},"",0,10000,0,{"$f":"IF(B207>0,WEEKNUM(TEXT(Definice!$F$3,\"0000\")&\".\"&TEXT(J207,\"00\")&\".\"&RIGHT(TEXT(B207,\"0000\"),2)),0)","v":0}]
[206,null,null,null,null,{"$f":"IF(OR(MAX($I$2:I208)-I208=0,D208=0),\"\",MAX($I$2:I208)-I208)","v":""},"",0,10000,0,{"$f":"IF(B208>0,WEEKNUM(TEXT(Definice!$F$3,\"0000\")&\".\"&TEXT(J208,\"00\")&\".\"&RIGHT(TEXT(B208,\"0000\"),2)),0)","v":0}]
[207,null,null,null,null,{"$f":"IF(OR(MAX($I$2:I209)-I209=0,D209=0),\"\",MAX($I$2:I209)-I209)","v":""},"",0,10000,0,{"$f":"IF(B209>0,WEEKNUM(TEXT(Definice!$F$3,\"0000\")&\".\"&TEXT(J209,\"00\")&\".\"&RIGHT(TEXT(B209,\"0000\"),2)),0)","v":0}]
[208,null,null,null,null,{"$f":"IF(OR(MAX($I$2:I210)-I210=0,D210=0),\"\",MAX($I$2:I210)-I210)","v":""},"",0,10000,0,{"$f":"IF(B210>0,WEEKNUM(TEXT(Definice!$F$3,\"0000\")&\".\"&TEXT(J210,\"00\")&\".\"&RIGHT(TEXT(B210,\"0000\"),2)),0)","v":0}]
[209,null,null,null,null,{"$f":"IF(OR(MAX($I$2:I211)-I211=0,D211=0),\"\",MAX($I$2:I211)-I211)","v":""},"",0,10000,0,{"$f":"IF(B211>0,WEEKNUM(TEXT(Definice!$F$3,\"0000\")&\".\"&TEXT(J211,\"00\")&\".\"&RIGHT(TEXT(B211,\"0000\"),2)),0)","v":0}]
[210,null,null,null,null,{"$f":"IF(OR(MAX($I$2:I212)-I212=0,D212=0),\"\",MAX($I$2:I212)-I212)","v":""},"",0,10000,0,{"$f":"IF(B212>0,WEEKNUM(TEXT(Definice!$F$3,\"0000\")&\".\"&TEXT(J212,\"00\")&\".\"&RIGHT(TEXT(B212,\"0000\"),2)),0)","v":0}]
[211,null,null,null,null,{"$f":"IF(OR(MAX($I$2:I213)-I213=0,D213=0),\"\",MAX($I$2:I213)-I213)","v":""},"",0,10000,0,{"$f":"IF(B213>0,WEEKNUM(TEXT(Definice!$F$3,\"0000\")&\".\"&TEXT(J213,\"00\")&\".\"&RIGHT(TEXT(B213,\"0000\"),2)),0)","v":0}]
[212,null,null,null,null,{"$f":"IF(OR(MAX($I$2:I214)-I214=0,D214=0),\"\",MAX($I$2:I214)-I214)","v":""},"",0,10000,0,{"$f":"IF(B214>0,WEEKNUM(TEXT(Definice!$F$3,\"0000\")&\".\"&TEXT(J214,\"00\")&\".\"&RIGHT(TEXT(B214,\"0000\"),2)),0)","v":0}]
[213,null,null,null,null,{"$f":"IF(OR(MAX($I$2:I215)-I215=0,D215=0),\"\",MAX($I$2:I215)-I215)","v":""},"",0,10000,0,{"$f":"IF(B215>0,WEEKNUM(TEXT(Definice!$F$3,\"0000\")&\".\"&TEXT(J215,\"00\")&\".\"&RIGHT(TEXT(B215,\"0000\"),2)),0)","v":0}]
[214,null,null,null,null,{"$f":"IF(OR(MAX($I$2:I216)-I216=0,D216=0),\"\",MAX($I$2:I216)-I216)","v":""},"",0,10000,0,{"$f":"IF(B216>0,WEEKNUM(TEXT(Definice!$F$3,\"0000\")&\".\"&TEXT(J216,\"00\")&\".\"&RIGHT(TEXT(B216,\"0000\"),2)),0)","v":0}]
[215,null,null,null,null,{"$f":"IF(OR(MAX($I$2:I217)-I217=0,D217=0),\"\",MAX($I$2:I217)-I217)","v":""},"",0,10000,0,{"$f":"IF(B217>0,WEEKNUM(TEXT(Definice!$F$3,\"0000\")&\".\"&TEXT(J217,\"00\")&\".\"&RIGHT(TEXT(B217,\"0000\"),2)),0)","v":0}]
[216,null,null,null,null,{"$f":"IF(OR(MAX($I$2:I218)-I218=0,D218=0),\"\",MAX($I$2:I218)-I218)","v":""},"",0,10000,0,{"$f":"IF(B218>0,WEEKNUM(TEXT(Definice!$F$3,\"0000\")&\".\"&TEXT(J218,\"00\")&\".\"&RIGHT(TEXT(B218,\"0000\"),2)),0)","v":0}]
[217,null,null,null,null,{"$f":"IF(OR(MAX($I$2:I219)-I219=0,D219=0),\"\",MAX($I$2:I219)-I219)","v":""},"",0,10000,0,{"$f":"IF(B219>0,WEEKNUM(TEXT(Definice!$F$3,\"0000\")&\".\"&TEXT(J219,\"00\")&\".\"&RIGHT(TEXT(B219,\"0000\"),2)),0)","v":0}]
[218,null,null,null,null,{"$f":"IF(OR(MAX($I$2:I220)-I220=0,D220=0),\"\",MAX($I$2:I220)-I220)","v":""},"",0,10000,0,{"$f":"IF(B220>0,WEEKNUM(TEXT(Definice!$F$3,\"0000\")&\".\"&TEXT(J220,\"00\")&\".\"&RIGHT(TEXT(B220,\"0000\"),2)),0)","v":0}]
[219,null,null,null,null,{"$f":"IF(OR(MAX($I$2:I221)-I221=0,D221=0),\"\",MAX($I$2:I221)-I221)","v":""},"",0,10000,0,{"$f":"IF(B221>0,WEEKNUM(TEXT(Definice!$F$3,\"0000\")&\".\"&TEXT(J221,\"00\")&\".\"&RIGHT(TEXT(B221,\"0000\"),2)),0)","v":0}]
[220,null,null,null,null,{"$f":"IF(OR(MAX($I$2:I222)-I222=0,D222=0),\"\",MAX($I$2:I222)-I222)","v":""},"",0,10000,0,{"$f":"IF(B222>0,WEEKNUM(TEXT(Definice!$F$3,\"0000\")&\".\"&TEXT(J222,\"00\")&\".\"&RIGHT(TEXT(B222,\"0000\"),2)),0)","v":0}]
[221,null,null,null,null,{"$f":"IF(OR(MAX($I$2:I223)-I223=0,D223=0),\"\",MAX($I$2:I223)-I223)","v":""},"",0,10000,0,{"$f":"IF(B223>0,WEEKNUM(TEXT(Definice!$F$3,\"0000\")&\".\"&TEXT(J223,\"00\")&\".\"&RIGHT(TEXT(B223,\"0000\"),2)),0)","v":0}]
[222,null,null,null,null,{"$f":"IF(OR(MAX($I$2:I224)-I224=0,D224=0),\"\",MAX($I$2:I224)-I224)","v":""},"",0,10000,0,{"$f":"IF(B224>0,WEEKNUM(TEXT(Definice!$F$3,\"0000\")&\".\"&TEXT(J224,\"00\")&\".\"&RIGHT(TEXT(B224,\"0000\"),2)),0)","v":0}]
[223,null,null,null,null,{"$f":"IF(OR(MAX($I$2:I225)-I225=0,D225=0),\"\",MAX($I$2:I225)-I225)","v":""},"",0,10000,0,{"$f":"IF(B225>0,WEEKNUM(TEXT(Definice!$F$3,\"0000\")&\".\"&TEXT(J225,\"00\")&\".\"&RIGHT(TEXT(B225,\"0000\"),2)),0)","v":0}]
[224,null,null,null,null,{"$f":"IF(OR(MAX($I$2:I226)-I226=0,D226=0),\"\",MAX($I$2:I226)-I226)","v":""},"",0,10000,0,{"$f":"IF(B226>0,WEEKNUM(TEXT(Definice!$F$3,\"0000\")&\".\"&TEXT(J226,\"00\")&\".\"&RIGHT(TEXT(B226,\"0000\"),2)),0)","v":0}]
[225,null,null,null,null,{"$f":"IF(OR(MAX($I$2:I227)-I227=0,D227=0),\"\",MAX($I$2:I227)-I227)","v":""},"",0,10000,0,{"$f":"IF(B227>0,WEEKNUM(TEXT(Definice!$F$3,\"0000\")&\".\"&TEXT(J227,\"00\")&\".\"&RIGHT(TEXT(B227,\"0000\"),2)),0)","v":0}]
[226,null,null,null,null,{"$f":"IF(OR(MAX($I$2:I228)-I228=0,D228=0),\"\",MAX($I$2:I228)-I228)","v":""},"",0,10000,0,{"$f":"IF(B228>0,WEEKNUM(TEXT(Definice!$F$3,\"0000\")&\".\"&TEXT(J228,\"00\")&\".\"&RIGHT(TEXT(B228,\"0000\"),2)),0)","v":0}]
[227,null,null,null,null,{"$f":"IF(OR(MAX($I$2:I229)-I229=0,D229=0),\"\",MAX($I$2:I229)-I229)","v":""},"",0,10000,0,{"$f":"IF(B229>0,WEEKNUM(TEXT(Definice!$F$3,\"0000\")&\".\"&TEXT(J229,\"00\")&\".\"&RIGHT(TEXT(B229,\"0000\"),2)),0)","v":0}]
[228,null,null,null,null,{"$f":"IF(OR(MAX($I$2:I230)-I230=0,D230=0),\"\",MAX($I$2:I230)-I230)","v":""},"",0,10000,0,{"$f":"IF(B230>0,WEEKNUM(TEXT(Definice!$F$3,\"0000\")&\".\"&TEXT(J230,\"00\")&\".\"&RIGHT(TEXT(B230,\"0000\"),2)),0)","v":0}]
[229,null,null,null,null,{"$f":"IF(OR(MAX($I$2:I231)-I231=0,D231=0),\"\",MAX($I$2:I231)-I231)","v":""},"",0,10000,0,{"$f":"IF(B231>0,WEEKNUM(TEXT(Definice!$F$3,\"0000\")&\".\"&TEXT(J231,\"00\")&\".\"&RIGHT(TEXT(B231,\"0000\"),2)),0)","v":0}]
[230,null,null,null,null,{"$f":"IF(OR(MAX($I$2:I232)-I232=0,D232=0),\"\",MAX($I$2:I232)-I232)","v":""},"",0,10000,0,{"$f":"IF(B232>0,WEEKNUM(TEXT(Definice!$F$3,\"0000\")&\".\"&TEXT(J232,\"00\")&\".\"&RIGHT(TEXT(B232,\"0000\"),2)),0)","v":0}]
[231,null,null,null,null,{"$f":"IF(OR(MAX($I$2:I233)-I233=0,D233=0),\"\",MAX($I$2:I233)-I233)","v":""},"",0,10000,0,{"$f":"IF(B233>0,WEEKNUM(TEXT(Definice!$F$3,\"0000\")&\".\"&TEXT(J233,\"00\")&\".\"&RIGHT(TEXT(B233,\"0000\"),2)),0)","v":0}]
[232,null,null,null,null,{"$f":"IF(OR(MAX($I$2:I234)-I234=0,D234=0),\"\",MAX($I$2:I234)-I234)","v":""},"",0,10000,0,{"$f":"IF(B234>0,WEEKNUM(TEXT(Definice!$F$3,\"0000\")&\".\"&TEXT(J234,\"00\")&\".\"&RIGHT(TEXT(B234,\"0000\"),2)),0)","v":0}]
[233,null,null,null,null,{"$f":"IF(OR(MAX($I$2:I235)-I235=0,D235=0),\"\",MAX($I$2:I235)-I235)","v":""},"",0,10000,0,{"$f":"IF(B235>0,WEEKNUM(TEXT(Definice!$F$3,\"0000\")&\".\"&TEXT(J235,\"00\")&\".\"&RIGHT(TEXT(B235,\"0000\"),2)),0)","v":0}]
[234,null,null,null,null,{"$f":"IF(OR(MAX($I$2:I236)-I236=0,D236=0),\"\",MAX($I$2:I236)-I236)","v":""},"",0,10000,0,{"$f":"IF(B236>0,WEEKNUM(TEXT(Definice!$F$3,\"0000\")&\".\"&TEXT(J236,\"00\")&\".\"&RIGHT(TEXT(B236,\"0000\"),2)),0)","v":0}]
[235,null,null,null,null,{"$f":"IF(OR(MAX($I$2:I237)-I237=0,D237=0),\"\",MAX($I$2:I237)-I237)","v":""},"",0,10000,0,{"$f":"IF(B237>0,WEEKNUM(TEXT(Definice!$F$3,\"0000\")&\".\"&TEXT(J237,\"00\")&\".\"&RIGHT(TEXT(B237,\"0000\"),2)),0)","v":0}]
[236,null,null,null,null,{"$f":"IF(OR(MAX($I$2:I238)-I238=0,D238=0),\"\",MAX($I$2:I238)-I238)","v":""},"",0,10000,0,{"$f":"IF(B238>0,WEEKNUM(TEXT(Definice!$F$3,\"0000\")&\".\"&TEXT(J238,\"00\")&\".\"&RIGHT(TEXT(B238,\"0000\"),2)),0)","v":0}]
[237,null,null,null,null,{"$f":"IF(OR(MAX($I$2:I239)-I239=0,D239=0),\"\",MAX($I$2:I239)-I239)","v":""},"",0,10000,0,{"$f":"IF(B239>0,WEEKNUM(TEXT(Definice!$F$3,\"0000\")&\".\"&TEXT(J239,\"00\")&\".\"&RIGHT(TEXT(B239,\"0000\"),2)),0)","v":0}]
[238,null,null,null,null,{"$f":"IF(OR(MAX($I$2:I240)-I240=0,D240=0),\"\",MAX($I$2:I240)-I240)","v":""},"",0,10000,0,{"$f":"IF(B240>0,WEEKNUM(TEXT(Definice!$F$3,\"0000\")&\".\"&TEXT(J240,\"00\")&\".\"&RIGHT(TEXT(B240,\"0000\"),2)),0)","v":0}]
[239,null,null,null,null,{"$f":"IF(OR(MAX($I$2:I241)-I241=0,D241=0),\"\",MAX($I$2:I241)-I241)","v":""},"",0,10000,0,{"$f":"IF(B241>0,WEEKNUM(TEXT(Definice!$F$3,\"0000\")&\".\"&TEXT(J241,\"00\")&\".\"&RIGHT(TEXT(B241,\"0000\"),2)),0)","v":0}]
[240,null,null,null,null,{"$f":"IF(OR(MAX($I$2:I242)-I242=0,D242=0),\"\",MAX($I$2:I242)-I242)","v":""},"",0,10000,0,{"$f":"IF(B242>0,WEEKNUM(TEXT(Definice!$F$3,\"0000\")&\".\"&TEXT(J242,\"00\")&\".\"&RIGHT(TEXT(B242,\"0000\"),2)),0)","v":0}]
[241,null,null,null,null,{"$f":"IF(OR(MAX($I$2:I243)-I243=0,D243=0),\"\",MAX($I$2:I243)-I243)","v":""},"",0,10000,0,{"$f":"IF(B243>0,WEEKNUM(TEXT(Definice!$F$3,\"0000\")&\".\"&TEXT(J243,\"00\")&\".\"&RIGHT(TEXT(B243,\"0000\"),2)),0)","v":0}]
[242,null,null,null,null,{"$f":"IF(OR(MAX($I$2:I244)-I244=0,D244=0),\"\",MAX($I$2:I244)-I244)","v":""},"",0,10000,0,{"$f":"IF(B244>0,WEEKNUM(TEXT(Definice!$F$3,\"0000\")&\".\"&TEXT(J244,\"00\")&\".\"&RIGHT(TEXT(B244,\"0000\"),2)),0)","v":0}]
[243,null,null,null,null,{"$f":"IF(OR(MAX($I$2:I245)-I245=0,D245=0),\"\",MAX($I$2:I245)-I245)","v":""},"",0,10000,0,{"$f":"IF(B245>0,WEEKNUM(TEXT(Definice!$F$3,\"0000\")&\".\"&TEXT(J245,\"00\")&\".\"&RIGHT(TEXT(B245,\"0000\"),2)),0)","v":0}]
[244,null,null,null,null,{"$f":"IF(OR(MAX($I$2:I246)-I246=0,D246=0),\"\",MAX($I$2:I246)-I246)","v":""},"",0,10000,0,{"$f":"IF(B246>0,WEEKNUM(TEXT(Definice!$F$3,\"0000\")&\".\"&TEXT(J246,\"00\")&\".\"&RIGHT(TEXT(B246,\"0000\"),2)),0)","v":0}]
[245,null,null,null,null,{"$f":"IF(OR(MAX($I$2:I247)-I247=0,D247=0),\"\",MAX($I$2:I247)-I247)","v":""},"",0,10000,0,{"$f":"IF(B247>0,WEEKNUM(TEXT(Definice!$F$3,\"0000\")&\".\"&TEXT(J247,\"00\")&\".\"&RIGHT(TEXT(B247,\"0000\"),2)),0)","v":0}]
[246,null,null,null,null,{"$f":"IF(OR(MAX($I$2:I248)-I248=0,D248=0),\"\",MAX($I$2:I248)-I248)","v":""},"",0,10000,0,{"$f":"IF(B248>0,WEEKNUM(TEXT(Definice!$F$3,\"0000\")&\".\"&TEXT(J248,\"00\")&\".\"&RIGHT(TEXT(B248,\"0000\"),2)),0)","v":0}]
[247,null,null,null,null,{"$f":"IF(OR(MAX($I$2:I249)-I249=0,D249=0),\"\",MAX($I$2:I249)-I249)","v":""},"",0,10000,0,{"$f":"IF(B249>0,WEEKNUM(TEXT(Definice!$F$3,\"0000\")&\".\"&TEXT(J249,\"00\")&\".\"&RIGHT(TEXT(B249,\"0000\"),2)),0)","v":0}]
[248,null,null,null,null,{"$f":"IF(OR(MAX($I$2:I250)-I250=0,D250=0),\"\",MAX($I$2:I250)-I250)","v":""},"",0,10000,0,{"$f":"IF(B250>0,WEEKNUM(TEXT(Definice!$F$3,\"0000\")&\".\"&TEXT(J250,\"00\")&\".\"&RIGHT(TEXT(B250,\"0000\"),2)),0)","v":0}]
[249,null,null,null,null,{"$f":"IF(OR(MAX($I$2:I251)-I251=0,D251=0),\"\",MAX($I$2:I251)-I251)","v":""},"",0,10000,0,{"$f":"IF(B251>0,WEEKNUM(TEXT(Definice!$F$3,\"0000\")&\".\"&TEXT(J251,\"00\")&\".\"&RIGHT(TEXT(B251,\"0000\"),2)),0)","v":0}]
[250,null,null,null,null,{"$f":"IF(OR(MAX($I$2:I252)-I252=0,D252=0),\"\",MAX($I$2:I252)-I252)","v":""},"",0,10000,0,{"$f":"IF(B252>0,WEEKNUM(TEXT(Definice!$F$3,\"0000\")&\".\"&TEXT(J252,\"00\")&\".\"&RIGHT(TEXT(B252,\"0000\"),2)),0)","v":0}]
[251,null,null,null,null,{"$f":"IF(OR(MAX($I$2:I253)-I253=0,D253=0),\"\",MAX($I$2:I253)-I253)","v":""},"",0,10000,0,{"$f":"IF(B253>0,WEEKNUM(TEXT(Definice!$F$3,\"0000\")&\".\"&TEXT(J253,\"00\")&\".\"&RIGHT(TEXT(B253,\"0000\"),2)),0)","v":0}]
[252,null,null,null,null,{"$f":"IF(OR(MAX($I$2:I254)-I254=0,D254=0),\"\",MAX($I$2:I254)-I254)","v":""},"",0,10000,0,{"$f":"IF(B254>0,WEEKNUM(TEXT(Definice!$F$3,\"0000\")&\".\"&TEXT(J254,\"00\")&\".\"&RIGHT(TEXT(B254,\"0000\"),2)),0)","v":0}]
[253,null,null,null,null,{"$f":"IF(OR(MAX($I$2:I255)-I255=0,D255=0),\"\",MAX($I$2:I255)-I255)","v":""},"",0,10000,0,{"$f":"IF(B255>0,WEEKNUM(TEXT(Definice!$F$3,\"0000\")&\".\"&TEXT(J255,\"00\")&\".\"&RIGHT(TEXT(B255,\"0000\"),2)),0)","v":0}]
[254,null,null,null,null,{"$f":"IF(OR(MAX($I$2:I256)-I256=0,D256=0),\"\",MAX($I$2:I256)-I256)","v":""},"",0,10000,0,{"$f":"IF(B256>0,WEEKNUM(TEXT(Definice!$F$3,\"0000\")&\".\"&TEXT(J256,\"00\")&\".\"&RIGHT(TEXT(B256,\"0000\"),2)),0)","v":0}]
[255,null,null,null,null,{"$f":"IF(OR(MAX($I$2:I257)-I257=0,D257=0),\"\",MAX($I$2:I257)-I257)","v":""},"",0,10000,0,{"$f":"IF(B257>0,WEEKNUM(TEXT(Definice!$F$3,\"0000\")&\".\"&TEXT(J257,\"00\")&\".\"&RIGHT(TEXT(B257,\"0000\"),2)),0)","v":0}]
[256,null,null,null,null,{"$f":"IF(OR(MAX($I$2:I258)-I258=0,D258=0),\"\",MAX($I$2:I258)-I258)","v":""},"",0,10000,0,{"$f":"IF(B258>0,WEEKNUM(TEXT(Definice!$F$3,\"0000\")&\".\"&TEXT(J258,\"00\")&\".\"&RIGHT(TEXT(B258,\"0000\"),2)),0)","v":0}]
[257,null,null,null,null,{"$f":"IF(OR(MAX($I$2:I259)-I259=0,D259=0),\"\",MAX($I$2:I259)-I259)","v":""},"",0,10000,0,{"$f":"IF(B259>0,WEEKNUM(TEXT(Definice!$F$3,\"0000\")&\".\"&TEXT(J259,\"00\")&\".\"&RIGHT(TEXT(B259,\"0000\"),2)),0)","v":0}]
[258,null,null,null,null,{"$f":"IF(OR(MAX($I$2:I260)-I260=0,D260=0),\"\",MAX($I$2:I260)-I260)","v":""},"",0,10000,{"$f":"((INT(B260/100)/100)-INT(INT(B260/100)/100))*100","v":0},{"$f":"IF(B260>0,WEEKNUM(TEXT(Definice!$F$3,\"0000\")&\".\"&TEXT(J260,\"00\")&\".\"&RIGHT(TEXT(B260,\"0000\"),2)),0)","v":0}]
[259,null,null,null,null,{"$f":"IF(OR(MAX($I$2:I261)-I261=0,D261=0),\"\",MAX($I$2:I261)-I261)","v":""},{"$f":"IF(F261=\"\",\"\",F261/(H261+I260))","v":""},{"$f":"H260+E261","v":0},{"$f":"I260+E261","v":10000},0,{"$f":"IF(B261>0,WEEKNUM(TEXT(Definice!$F$3,\"0000\")&\".\"&TEXT(J261,\"00\")&\".\"&RIGHT(TEXT(B261,\"0000\"),2)),0)","v":0}]
[260,null,null,null,null,{"$f":"IF(OR(MAX($I$2:I262)-I262=0,D262=0),\"\",MAX($I$2:I262)-I262)","v":""},"",0,10000,0,{"$f":"IF(B262>0,WEEKNUM(TEXT(Definice!$F$3,\"0000\")&\".\"&TEXT(J262,\"00\")&\".\"&RIGHT(TEXT(B262,\"0000\"),2)),0)","v":0}]
[261,null,null,null,null,{"$f":"IF(OR(MAX($I$2:I263)-I263=0,D263=0),\"\",MAX($I$2:I263)-I263)","v":""},"",0,10000,0,{"$f":"IF(B263>0,WEEKNUM(TEXT(Definice!$F$3,\"0000\")&\".\"&TEXT(J263,\"00\")&\".\"&RIGHT(TEXT(B263,\"0000\"),2)),0)","v":0}]
[262,null,null,null,null,{"$f":"IF(OR(MAX($I$2:I264)-I264=0,D264=0),\"\",MAX($I$2:I264)-I264)","v":""},"",0,10000,0,{"$f":"IF(B264>0,WEEKNUM(TEXT(Definice!$F$3,\"0000\")&\".\"&TEXT(J264,\"00\")&\".\"&RIGHT(TEXT(B264,\"0000\"),2)),0)","v":0}]
[263,null,null,null,null,{"$f":"IF(OR(MAX($I$2:I265)-I265=0,D265=0),\"\",MAX($I$2:I265)-I265)","v":""},"",0,10000,0,{"$f":"IF(B265>0,WEEKNUM(TEXT(Definice!$F$3,\"0000\")&\".\"&TEXT(J265,\"00\")&\".\"&RIGHT(TEXT(B265,\"0000\"),2)),0)","v":0}]
[264,null,null,null,null,{"$f":"IF(OR(MAX($I$2:I266)-I266=0,D266=0),\"\",MAX($I$2:I266)-I266)","v":""},"",0,10000,0,{"$f":"IF(B266>0,WEEKNUM(TEXT(Definice!$F$3,\"0000\")&\".\"&TEXT(J266,\"00\")&\".\"&RIGHT(TEXT(B266,\"0000\"),2)),0)","v":0}]
[265,null,null,null,null,{"$f":"IF(OR(MAX($I$2:I267)-I267=0,D267=0),\"\",MAX($I$2:I267)-I267)","v":""},"",0,10000,0,{"$f":"IF(B267>0,WEEKNUM(TEXT(Definice!$F$3,\"0000\")&\".\"&TEXT(J267,\"00\")&\".\"&RIGHT(TEXT(B267,\"0000\"),2)),0)","v":0}]
[266,null,null,null,null,{"$f":"IF(OR(MAX($I$2:I268)-I268=0,D268=0),\"\",MAX($I$2:I268)-I268)","v":""},"",0,10000,0,{"$f":"IF(B268>0,WEEKNUM(TEXT(Definice!$F$3,\"0000\")&\".\"&TEXT(J268,\"00\")&\".\"&RIGHT(TEXT(B268,\"0000\"),2)),0)","v":0}]
[267,null,null,null,null,{"$f":"IF(OR(MAX($I$2:I269)-I269=0,D269=0),\"\",MAX($I$2:I269)-I269)","v":""},"",0,10000,0,{"$f":"IF(B269>0,WEEKNUM(TEXT(Definice!$F$3,\"0000\")&\".\"&TEXT(J269,\"00\")&\".\"&RIGHT(TEXT(B269,\"0000\"),2)),0)","v":0}]
[268,null,null,null,null,{"$f":"IF(OR(MAX($I$2:I270)-I270=0,D270=0),\"\",MAX($I$2:I270)-I270)","v":""},"",0,10000,0,{"$f":"IF(B270>0,WEEKNUM(TEXT(Definice!$F$3,\"0000\")&\".\"&TEXT(J270,\"00\")&\".\"&RIGHT(TEXT(B270,\"0000\"),2)),0)","v":0}]
[269,null,null,null,null,{"$f":"IF(OR(MAX($I$2:I271)-I271=0,D271=0),\"\",MAX($I$2:I271)-I271)","v":""},"",0,10000,0,{"$f":"IF(B271>0,WEEKNUM(TEXT(Definice!$F$3,\"0000\")&\".\"&TEXT(J271,\"00\")&\".\"&RIGHT(TEXT(B271,\"0000\"),2)),0)","v":0}]
[270,null,null,null,null,{"$f":"IF(OR(MAX($I$2:I272)-I272=0,D272=0),\"\",MAX($I$2:I272)-I272)","v":""},"",0,10000,0,{"$f":"IF(B272>0,WEEKNUM(TEXT(Definice!$F$3,\"0000\")&\".\"&TEXT(J272,\"00\")&\".\"&RIGHT(TEXT(B272,\"0000\"),2)),0)","v":0}]
[271,null,null,null,null,{"$f":"IF(OR(MAX($I$2:I273)-I273=0,D273=0),\"\",MAX($I$2:I273)-I273)","v":""},"",0,10000,0,{"$f":"IF(B273>0,WEEKNUM(TEXT(Definice!$F$3,\"0000\")&\".\"&TEXT(J273,\"00\")&\".\"&RIGHT(TEXT(B273,\"0000\"),2)),0)","v":0}]
[272,null,null,null,null,{"$f":"IF(OR(MAX($I$2:I274)-I274=0,D274=0),\"\",MAX($I$2:I274)-I274)","v":""},"",0,10000,0,{"$f":"IF(B274>0,WEEKNUM(TEXT(Definice!$F$3,\"0000\")&\".\"&TEXT(J274,\"00\")&\".\"&RIGHT(TEXT(B274,\"0000\"),2)),0)","v":0}]
[273,null,null,null,null,{"$f":"IF(OR(MAX($I$2:I275)-I275=0,D275=0),\"\",MAX($I$2:I275)-I275)","v":""},"",0,10000,0,{"$f":"IF(B275>0,WEEKNUM(TEXT(Definice!$F$3,\"0000\")&\".\"&TEXT(J275,\"00\")&\".\"&RIGHT(TEXT(B275,\"0000\"),2)),0)","v":0}]
[274,null,null,null,null,{"$f":"IF(OR(MAX($I$2:I276)-I276=0,D276=0),\"\",MAX($I$2:I276)-I276)","v":""},"",0,10000,0,{"$f":"IF(B276>0,WEEKNUM(TEXT(Definice!$F$3,\"0000\")&\".\"&TEXT(J276,\"00\")&\".\"&RIGHT(TEXT(B276,\"0000\"),2)),0)","v":0}]
[275,null,null,null,null,{"$f":"IF(OR(MAX($I$2:I277)-I277=0,D277=0),\"\",MAX($I$2:I277)-I277)","v":""},"",0,10000,0,{"$f":"IF(B277>0,WEEKNUM(TEXT(Definice!$F$3,\"0000\")&\".\"&TEXT(J277,\"00\")&\".\"&RIGHT(TEXT(B277,\"0000\"),2)),0)","v":0}]
[276,null,null,null,null,{"$f":"IF(OR(MAX($I$2:I278)-I278=0,D278=0),\"\",MAX($I$2:I278)-I278)","v":""},"",0,10000,0,{"$f":"IF(B278>0,WEEKNUM(TEXT(Definice!$F$3,\"0000\")&\".\"&TEXT(J278,\"00\")&\".\"&RIGHT(TEXT(B278,\"0000\"),2)),0)","v":0}]
[277,null,null,null,null,{"$f":"IF(OR(MAX($I$2:I279)-I279=0,D279=0),\"\",MAX($I$2:I279)-I279)","v":""},"",0,10000,0,{"$f":"IF(B279>0,WEEKNUM(TEXT(Definice!$F$3,\"0000\")&\".\"&TEXT(J279,\"00\")&\".\"&RIGHT(TEXT(B279,\"0000\"),2)),0)","v":0}]
[278,null,null,null,null,{"$f":"IF(OR(MAX($I$2:I280)-I280=0,D280=0),\"\",MAX($I$2:I280)-I280)","v":""},"",0,10000,0,{"$f":"IF(B280>0,WEEKNUM(TEXT(Definice!$F$3,\"0000\")&\".\"&TEXT(J280,\"00\")&\".\"&RIGHT(TEXT(B280,\"0000\"),2)),0)","v":0}]
[279,null,null,null,null,{"$f":"IF(OR(MAX($I$2:I281)-I281=0,D281=0),\"\",MAX($I$2:I281)-I281)","v":""},"",0,10000,0,{"$f":"IF(B281>0,WEEKNUM(TEXT(Definice!$F$3,\"0000\")&\".\"&TEXT(J281,\"00\")&\".\"&RIGHT(TEXT(B281,\"0000\"),2)),0)","v":0}]
[280,null,null,null,null,{"$f":"IF(OR(MAX($I$2:I282)-I282=0,D282=0),\"\",MAX($I$2:I282)-I282)","v":""},"",0,10000,0,{"$f":"IF(B282>0,WEEKNUM(TEXT(Definice!$F$3,\"0000\")&\".\"&TEXT(J282,\"00\")&\".\"&RIGHT(TEXT(B282,\"0000\"),2)),0)","v":0}]
[281,null,null,null,null,{"$f":"IF(OR(MAX($I$2:I283)-I283=0,D283=0),\"\",MAX($I$2:I283)-I283)","v":""},"",0,10000,0,{"$f":"IF(B283>0,WEEKNUM(TEXT(Definice!$F$3,\"0000\")&\".\"&TEXT(J283,\"00\")&\".\"&RIGHT(TEXT(B283,\"0000\"),2)),0)","v":0}]
[282,null,null,null,null,{"$f":"IF(OR(MAX($I$2:I284)-I284=0,D284=0),\"\",MAX($I$2:I284)-I284)","v":""},"",0,10000,0,{"$f":"IF(B284>0,WEEKNUM(TEXT(Definice!$F$3,\"0000\")&\".\"&TEXT(J284,\"00\")&\".\"&RIGHT(TEXT(B284,\"0000\"),2)),0)","v":0}]
[283,null,null,null,null,{"$f":"IF(OR(MAX($I$2:I285)-I285=0,D285=0),\"\",MAX($I$2:I285)-I285)","v":""},"",0,10000,0,{"$f":"IF(B285>0,WEEKNUM(TEXT(Definice!$F$3,\"0000\")&\".\"&TEXT(J285,\"00\")&\".\"&RIGHT(TEXT(B285,\"0000\"),2)),0)","v":0}]
[284,null,null,null,null,{"$f":"IF(OR(MAX($I$2:I286)-I286=0,D286=0),\"\",MAX($I$2:I286)-I286)","v":""},"",0,10000,0,{"$f":"IF(B286>0,WEEKNUM(TEXT(Definice!$F$3,\"0000\")&\".\"&TEXT(J286,\"00\")&\".\"&RIGHT(TEXT(B286,\"0000\"),2)),0)","v":0}]
[285,null,null,null,null,{"$f":"IF(OR(MAX($I$2:I287)-I287=0,D287=0),\"\",MAX($I$2:I287)-I287)","v":""},"",0,10000,0,{"$f":"IF(B287>0,WEEKNUM(TEXT(Definice!$F$3,\"0000\")&\".\"&TEXT(J287,\"00\")&\".\"&RIGHT(TEXT(B287,\"0000\"),2)),0)","v":0}]
[286,null,null,null,null,{"$f":"IF(OR(MAX($I$2:I288)-I288=0,D288=0),\"\",MAX($I$2:I288)-I288)","v":""},"",0,10000,0,{"$f":"IF(B288>0,WEEKNUM(TEXT(Definice!$F$3,\"0000\")&\".\"&TEXT(J288,\"00\")&\".\"&RIGHT(TEXT(B288,\"0000\"),2)),0)","v":0}]
[287,null,null,null,null,{"$f":"IF(OR(MAX($I$2:I289)-I289=0,D289=0),\"\",MAX($I$2:I289)-I289)","v":""},"",0,10000,0,{"$f":"IF(B289>0,WEEKNUM(TEXT(Definice!$F$3,\"0000\")&\".\"&TEXT(J289,\"00\")&\".\"&RIGHT(TEXT(B289,\"0000\"),2)),0)","v":0}]
[288,null,null,null,null,{"$f":"IF(OR(MAX($I$2:I290)-I290=0,D290=0),\"\",MAX($I$2:I290)-I290)","v":""},"",0,10000,0,{"$f":"IF(B290>0,WEEKNUM(TEXT(Definice!$F$3,\"0000\")&\".\"&TEXT(J290,\"00\")&\".\"&RIGHT(TEXT(B290,\"0000\"),2)),0)","v":0}]
[289,null,null,null,null,{"$f":"IF(OR(MAX($I$2:I291)-I291=0,D291=0),\"\",MAX($I$2:I291)-I291)","v":""},"",0,10000,0,{"$f":"IF(B291>0,WEEKNUM(TEXT(Definice!$F$3,\"0000\")&\".\"&TEXT(J291,\"00\")&\".\"&RIGHT(TEXT(B291,\"0000\"),2)),0)","v":0}]
[290,null,null,null,null,{"$f":"IF(OR(MAX($I$2:I292)-I292=0,D292=0),\"\",MAX($I$2:I292)-I292)","v":""},"",0,10000,0,{"$f":"IF(B292>0,WEEKNUM(TEXT(Definice!$F$3,\"0000\")&\".\"&TEXT(J292,\"00\")&\".\"&RIGHT(TEXT(B292,\"0000\"),2)),0)","v":0}]
[291,null,null,null,null,{"$f":"IF(OR(MAX($I$2:I293)-I293=0,D293=0),\"\",MAX($I$2:I293)-I293)","v":""},"",0,10000,0,{"$f":"IF(B293>0,WEEKNUM(TEXT(Definice!$F$3,\"0000\")&\".\"&TEXT(J293,\"00\")&\".\"&RIGHT(TEXT(B293,\"0000\"),2)),0)","v":0}]
[292,null,null,null,null,{"$f":"IF(OR(MAX($I$2:I294)-I294=0,D294=0),\"\",MAX($I$2:I294)-I294)","v":""},"",0,10000,0,{"$f":"IF(B294>0,WEEKNUM(TEXT(Definice!$F$3,\"0000\")&\".\"&TEXT(J294,\"00\")&\".\"&RIGHT(TEXT(B294,\"0000\"),2)),0)","v":0}]
[293,null,null,null,null,{"$f":"IF(OR(MAX($I$2:I295)-I295=0,D295=0),\"\",MAX($I$2:I295)-I295)","v":""},"",0,10000,0,{"$f":"IF(B295>0,WEEKNUM(TEXT(Definice!$F$3,\"0000\")&\".\"&TEXT(J295,\"00\")&\".\"&RIGHT(TEXT(B295,\"0000\"),2)),0)","v":0}]
[294,null,null,null,null,{"$f":"IF(OR(MAX($I$2:I296)-I296=0,D296=0),\"\",MAX($I$2:I296)-I296)","v":""},"",0,10000,0,{"$f":"IF(B296>0,WEEKNUM(TEXT(Definice!$F$3,\"0000\")&\".\"&TEXT(J296,\"00\")&\".\"&RIGHT(TEXT(B296,\"0000\"),2)),0)","v":0}]
[295,null,null,null,null,{"$f":"IF(OR(MAX($I$2:I297)-I297=0,D297=0),\"\",MAX($I$2:I297)-I297)","v":""},"",0,10000,0,{"$f":"IF(B297>0,WEEKNUM(TEXT(Definice!$F$3,\"0000\")&\".\"&TEXT(J297,\"00\")&\".\"&RIGHT(TEXT(B297,\"0000\"),2)),0)","v":0}]
[296,null,null,null,null,{"$f":"IF(OR(MAX($I$2:I298)-I298=0,D298=0),\"\",MAX($I$2:I298)-I298)","v":""},"",0,10000,0,{"$f":"IF(B298>0,WEEKNUM(TEXT(Definice!$F$3,\"0000\")&\".\"&TEXT(J298,\"00\")&\".\"&RIGHT(TEXT(B298,\"0000\"),2)),0)","v":0}]
[297,null,null,null,null,{"$f":"IF(OR(MAX($I$2:I299)-I299=0,D299=0),\"\",MAX($I$2:I299)-I299)","v":""},"",0,10000,0,{"$f":"IF(B299>0,WEEKNUM(TEXT(Definice!$F$3,\"0000\")&\".\"&TEXT(J299,\"00\")&\".\"&RIGHT(TEXT(B299,\"0000\"),2)),0)","v":0}]
[298,null,null,null,null,{"$f":"IF(OR(MAX($I$2:I300)-I300=0,D300=0),\"\",MAX($I$2:I300)-I300)","v":""},"",0,10000,0,{"$f":"IF(B300>0,WEEKNUM(TEXT(Definice!$F$3,\"0000\")&\".\"&TEXT(J300,\"00\")&\".\"&RIGHT(TEXT(B300,\"0000\"),2)),0)","v":0}]
[299,null,null,null,null,{"$f":"IF(OR(MAX($I$2:I301)-I301=0,D301=0),\"\",MAX($I$2:I301)-I301)","v":""},"",0,10000,0,{"$f":"IF(B301>0,WEEKNUM(TEXT(Definice!$F$3,\"0000\")&\".\"&TEXT(J301,\"00\")&\".\"&RIGHT(TEXT(B301,\"0000\"),2)),0)","v":0}]
[300,null,null,null,null,{"$f":"IF(OR(MAX($I$2:I302)-I302=0,D302=0),\"\",MAX($I$2:I302)-I302)","v":""},"",0,10000,0,{"$f":"IF(B302>0,WEEKNUM(TEXT(Definice!$F$3,\"0000\")&\".\"&TEXT(J302,\"00\")&\".\"&RIGHT(TEXT(B302,\"0000\"),2)),0)","v":0}]
[301,null,null,null,null,{"$f":"IF(OR(MAX($I$2:I303)-I303=0,D303=0),\"\",MAX($I$2:I303)-I303)","v":""},"",0,10000,0,{"$f":"IF(B303>0,WEEKNUM(TEXT(Definice!$F$3,\"0000\")&\".\"&TEXT(J303,\"00\")&\".\"&RIGHT(TEXT(B303,\"0000\"),2)),0)","v":0}]
[302,null,null,null,null,{"$f":"IF(OR(MAX($I$2:I304)-I304=0,D304=0),\"\",MAX($I$2:I304)-I304)","v":""},"",0,10000,0,{"$f":"IF(B304>0,WEEKNUM(TEXT(Definice!$F$3,\"0000\")&\".\"&TEXT(J304,\"00\")&\".\"&RIGHT(TEXT(B304,\"0000\"),2)),0)","v":0}]
[303,null,null,null,null,{"$f":"IF(OR(MAX($I$2:I305)-I305=0,D305=0),\"\",MAX($I$2:I305)-I305)","v":""},"",0,10000,0,{"$f":"IF(B305>0,WEEKNUM(TEXT(Definice!$F$3,\"0000\")&\".\"&TEXT(J305,\"00\")&\".\"&RIGHT(TEXT(B305,\"0000\"),2)),0)","v":0}]
[304,null,null,null,null,{"$f":"IF(OR(MAX($I$2:I306)-I306=0,D306=0),\"\",MAX($I$2:I306)-I306)","v":""},"",0,10000,0,{"$f":"IF(B306>0,WEEKNUM(TEXT(Definice!$F$3,\"0000\")&\".\"&TEXT(J306,\"00\")&\".\"&RIGHT(TEXT(B306,\"0000\"),2)),0)","v":0}]
[305,null,null,null,null,{"$f":"IF(OR(MAX($I$2:I307)-I307=0,D307=0),\"\",MAX($I$2:I307)-I307)","v":""},"",0,10000,0,{"$f":"IF(B307>0,WEEKNUM(TEXT(Definice!$F$3,\"0000\")&\".\"&TEXT(J307,\"00\")&\".\"&RIGHT(TEXT(B307,\"0000\"),2)),0)","v":0}]
[306,null,null,null,null,{"$f":"IF(OR(MAX($I$2:I308)-I308=0,D308=0),\"\",MAX($I$2:I308)-I308)","v":""},"",0,10000,0,{"$f":"IF(B308>0,WEEKNUM(TEXT(Definice!$F$3,\"0000\")&\".\"&TEXT(J308,\"00\")&\".\"&RIGHT(TEXT(B308,\"0000\"),2)),0)","v":0}]
[307,null,null,null,null,{"$f":"IF(OR(MAX($I$2:I309)-I309=0,D309=0),\"\",MAX($I$2:I309)-I309)","v":""},"",0,10000,0,{"$f":"IF(B309>0,WEEKNUM(TEXT(Definice!$F$3,\"0000\")&\".\"&TEXT(J309,\"00\")&\".\"&RIGHT(TEXT(B309,\"0000\"),2)),0)","v":0}]
[308,null,null,null,null,{"$f":"IF(OR(MAX($I$2:I310)-I310=0,D310=0),\"\",MAX($I$2:I310)-I310)","v":""},"",0,10000,0,{"$f":"IF(B310>0,WEEKNUM(TEXT(Definice!$F$3,\"0000\")&\".\"&TEXT(J310,\"00\")&\".\"&RIGHT(TEXT(B310,\"0000\"),2)),0)","v":0}]
[309,null,null,null,null,{"$f":"IF(OR(MAX($I$2:I311)-I311=0,D311=0),\"\",MAX($I$2:I311)-I311)","v":""},"",0,10000,0,{"$f":"IF(B311>0,WEEKNUM(TEXT(Definice!$F$3,\"0000\")&\".\"&TEXT(J311,\"00\")&\".\"&RIGHT(TEXT(B311,\"0000\"),2)),0)","v":0}]
[310,null,null,null,null,{"$f":"IF(OR(MAX($I$2:I312)-I312=0,D312=0),\"\",MAX($I$2:I312)-I312)","v":""},"",0,10000,0,{"$f":"IF(B312>0,WEEKNUM(TEXT(Definice!$F$3,\"0000\")&\".\"&TEXT(J312,\"00\")&\".\"&RIGHT(TEXT(B312,\"0000\"),2)),0)","v":0}]
[311,null,null,null,null,{"$f":"IF(OR(MAX($I$2:I313)-I313=0,D313=0),\"\",MAX($I$2:I313)-I313)","v":""},"",0,10000,0,{"$f":"IF(B313>0,WEEKNUM(TEXT(Definice!$F$3,\"0000\")&\".\"&TEXT(J313,\"00\")&\".\"&RIGHT(TEXT(B313,\"0000\"),2)),0)","v":0}]
[312,null,null,null,null,{"$f":"IF(OR(MAX($I$2:I314)-I314=0,D314=0),\"\",MAX($I$2:I314)-I314)","v":""},"",0,10000,0,{"$f":"IF(B314>0,WEEKNUM(TEXT(Definice!$F$3,\"0000\")&\".\"&TEXT(J314,\"00\")&\".\"&RIGHT(TEXT(B314,\"0000\"),2)),0)","v":0}]
[313,null,null,null,null,{"$f":"IF(OR(MAX($I$2:I315)-I315=0,D315=0),\"\",MAX($I$2:I315)-I315)","v":""},"",0,10000,0,{"$f":"IF(B315>0,WEEKNUM(TEXT(Definice!$F$3,\"0000\")&\".\"&TEXT(J315,\"00\")&\".\"&RIGHT(TEXT(B315,\"0000\"),2)),0)","v":0}]
[314,null,null,null,null,{"$f":"IF(OR(MAX($I$2:I316)-I316=0,D316=0),\"\",MAX($I$2:I316)-I316)","v":""},"",0,10000,0,{"$f":"IF(B316>0,WEEKNUM(TEXT(Definice!$F$3,\"0000\")&\".\"&TEXT(J316,\"00\")&\".\"&RIGHT(TEXT(B316,\"0000\"),2)),0)","v":0}]
[315,null,null,null,null,{"$f":"IF(OR(MAX($I$2:I317)-I317=0,D317=0),\"\",MAX($I$2:I317)-I317)","v":""},"",0,10000,0,{"$f":"IF(B317>0,WEEKNUM(TEXT(Definice!$F$3,\"0000\")&\".\"&TEXT(J317,\"00\")&\".\"&RIGHT(TEXT(B317,\"0000\"),2)),0)","v":0}]
[316,null,null,null,null,{"$f":"IF(OR(MAX($I$2:I318)-I318=0,D318=0),\"\",MAX($I$2:I318)-I318)","v":""},"",0,10000,0,{"$f":"IF(B318>0,WEEKNUM(TEXT(Definice!$F$3,\"0000\")&\".\"&TEXT(J318,\"00\")&\".\"&RIGHT(TEXT(B318,\"0000\"),2)),0)","v":0}]
[317,null,null,null,null,{"$f":"IF(OR(MAX($I$2:I319)-I319=0,D319=0),\"\",MAX($I$2:I319)-I319)","v":""},"",0,10000,0,{"$f":"IF(B319>0,WEEKNUM(TEXT(Definice!$F$3,\"0000\")&\".\"&TEXT(J319,\"00\")&\".\"&RIGHT(TEXT(B319,\"0000\"),2)),0)","v":0}]
[318,null,null,null,null,{"$f":"IF(OR(MAX($I$2:I320)-I320=0,D320=0),\"\",MAX($I$2:I320)-I320)","v":""},"",0,10000,0,{"$f":"IF(B320>0,WEEKNUM(TEXT(Definice!$F$3,\"0000\")&\".\"&TEXT(J320,\"00\")&\".\"&RIGHT(TEXT(B320,\"0000\"),2)),0)","v":0}]
[319,null,null,null,null,{"$f":"IF(OR(MAX($I$2:I321)-I321=0,D321=0),\"\",MAX($I$2:I321)-I321)","v":""},"",0,10000,0,{"$f":"IF(B321>0,WEEKNUM(TEXT(Definice!$F$3,\"0000\")&\".\"&TEXT(J321,\"00\")&\".\"&RIGHT(TEXT(B321,\"0000\"),2)),0)","v":0}]
[320,null,null,null,null,{"$f":"IF(OR(MAX($I$2:I322)-I322=0,D322=0),\"\",MAX($I$2:I322)-I322)","v":""},"",0,10000,0,{"$f":"IF(B322>0,WEEKNUM(TEXT(Definice!$F$3,\"0000\")&\".\"&TEXT(J322,\"00\")&\".\"&RIGHT(TEXT(B322,\"0000\"),2)),0)","v":0}]
[321,null,null,null,null,{"$f":"IF(OR(MAX($I$2:I323)-I323=0,D323=0),\"\",MAX($I$2:I323)-I323)","v":""},"",0,10000,0,{"$f":"IF(B323>0,WEEKNUM(TEXT(Definice!$F$3,\"0000\")&\".\"&TEXT(J323,\"00\")&\".\"&RIGHT(TEXT(B323,\"0000\"),2)),0)","v":0}]
[322,null,null,null,null,{"$f":"IF(OR(MAX($I$2:I324)-I324=0,D324=0),\"\",MAX($I$2:I324)-I324)","v":""},"",0,10000,{"$f":"((INT(B324/100)/100)-INT(INT(B324/100)/100))*100","v":0},{"$f":"IF(B324>0,WEEKNUM(TEXT(Definice!$F$3,\"0000\")&\".\"&TEXT(J324,\"00\")&\".\"&RIGHT(TEXT(B324,\"0000\"),2)),0)","v":0}]
[323,null,null,null,null,{"$f":"IF(OR(MAX($I$2:I325)-I325=0,D325=0),\"\",MAX($I$2:I325)-I325)","v":""},{"$f":"IF(F325=\"\",\"\",F325/(H325+I324))","v":""},{"$f":"H324+E325","v":0},{"$f":"I324+E325","v":10000},0,{"$f":"IF(B325>0,WEEKNUM(TEXT(Definice!$F$3,\"0000\")&\".\"&TEXT(J325,\"00\")&\".\"&RIGHT(TEXT(B325,\"0000\"),2)),0)","v":0}]
[324,null,null,null,null,{"$f":"IF(OR(MAX($I$2:I326)-I326=0,D326=0),\"\",MAX($I$2:I326)-I326)","v":""},"",0,10000,0,{"$f":"IF(B326>0,WEEKNUM(TEXT(Definice!$F$3,\"0000\")&\".\"&TEXT(J326,\"00\")&\".\"&RIGHT(TEXT(B326,\"0000\"),2)),0)","v":0}]
[325,null,null,null,null,{"$f":"IF(OR(MAX($I$2:I327)-I327=0,D327=0),\"\",MAX($I$2:I327)-I327)","v":""},"",0,10000,0,{"$f":"IF(B327>0,WEEKNUM(TEXT(Definice!$F$3,\"0000\")&\".\"&TEXT(J327,\"00\")&\".\"&RIGHT(TEXT(B327,\"0000\"),2)),0)","v":0}]
[326,null,null,null,null,{"$f":"IF(OR(MAX($I$2:I328)-I328=0,D328=0),\"\",MAX($I$2:I328)-I328)","v":""},"",0,10000,0,{"$f":"IF(B328>0,WEEKNUM(TEXT(Definice!$F$3,\"0000\")&\".\"&TEXT(J328,\"00\")&\".\"&RIGHT(TEXT(B328,\"0000\"),2)),0)","v":0}]
[327,null,null,null,null,{"$f":"IF(OR(MAX($I$2:I329)-I329=0,D329=0),\"\",MAX($I$2:I329)-I329)","v":""},"",0,10000,0,{"$f":"IF(B329>0,WEEKNUM(TEXT(Definice!$F$3,\"0000\")&\".\"&TEXT(J329,\"00\")&\".\"&RIGHT(TEXT(B329,\"0000\"),2)),0)","v":0}]
[328,null,null,null,null,{"$f":"IF(OR(MAX($I$2:I330)-I330=0,D330=0),\"\",MAX($I$2:I330)-I330)","v":""},"",0,10000,0,{"$f":"IF(B330>0,WEEKNUM(TEXT(Definice!$F$3,\"0000\")&\".\"&TEXT(J330,\"00\")&\".\"&RIGHT(TEXT(B330,\"0000\"),2)),0)","v":0}]
[329,null,null,null,null,{"$f":"IF(OR(MAX($I$2:I331)-I331=0,D331=0),\"\",MAX($I$2:I331)-I331)","v":""},"",0,10000,0,{"$f":"IF(B331>0,WEEKNUM(TEXT(Definice!$F$3,\"0000\")&\".\"&TEXT(J331,\"00\")&\".\"&RIGHT(TEXT(B331,\"0000\"),2)),0)","v":0}]
[330,null,null,null,null,{"$f":"IF(OR(MAX($I$2:I332)-I332=0,D332=0),\"\",MAX($I$2:I332)-I332)","v":""},"",0,10000,0,{"$f":"IF(B332>0,WEEKNUM(TEXT(Definice!$F$3,\"0000\")&\".\"&TEXT(J332,\"00\")&\".\"&RIGHT(TEXT(B332,\"0000\"),2)),0)","v":0}]
[331,null,null,null,null,{"$f":"IF(OR(MAX($I$2:I333)-I333=0,D333=0),\"\",MAX($I$2:I333)-I333)","v":""},"",0,10000,0,{"$f":"IF(B333>0,WEEKNUM(TEXT(Definice!$F$3,\"0000\")&\".\"&TEXT(J333,\"00\")&\".\"&RIGHT(TEXT(B333,\"0000\"),2)),0)","v":0}]
[332,null,null,null,null,{"$f":"IF(OR(MAX($I$2:I334)-I334=0,D334=0),\"\",MAX($I$2:I334)-I334)","v":""},"",0,10000,0,{"$f":"IF(B334>0,WEEKNUM(TEXT(Definice!$F$3,\"0000\")&\".\"&TEXT(J334,\"00\")&\".\"&RIGHT(TEXT(B334,\"0000\"),2)),0)","v":0}]
[333,null,null,null,null,{"$f":"IF(OR(MAX($I$2:I335)-I335=0,D335=0),\"\",MAX($I$2:I335)-I335)","v":""},"",0,10000,0,{"$f":"IF(B335>0,WEEKNUM(TEXT(Definice!$F$3,\"0000\")&\".\"&TEXT(J335,\"00\")&\".\"&RIGHT(TEXT(B335,\"0000\"),2)),0)","v":0}]
[334,null,null,null,null,{"$f":"IF(OR(MAX($I$2:I336)-I336=0,D336=0),\"\",MAX($I$2:I336)-I336)","v":""},"",0,10000,0,{"$f":"IF(B336>0,WEEKNUM(TEXT(Definice!$F$3,\"0000\")&\".\"&TEXT(J336,\"00\")&\".\"&RIGHT(TEXT(B336,\"0000\"),2)),0)","v":0}]
[335,null,null,null,null,{"$f":"IF(OR(MAX($I$2:I337)-I337=0,D337=0),\"\",MAX($I$2:I337)-I337)","v":""},"",0,10000,0,{"$f":"IF(B337>0,WEEKNUM(TEXT(Definice!$F$3,\"0000\")&\".\"&TEXT(J337,\"00\")&\".\"&RIGHT(TEXT(B337,\"0000\"),2)),0)","v":0}]
[336,null,null,null,null,{"$f":"IF(OR(MAX($I$2:I338)-I338=0,D338=0),\"\",MAX($I$2:I338)-I338)","v":""},"",0,10000,0,{"$f":"IF(B338>0,WEEKNUM(TEXT(Definice!$F$3,\"0000\")&\".\"&TEXT(J338,\"00\")&\".\"&RIGHT(TEXT(B338,\"0000\"),2)),0)","v":0}]
[337,null,null,null,null,{"$f":"IF(OR(MAX($I$2:I339)-I339=0,D339=0),\"\",MAX($I$2:I339)-I339)","v":""},"",0,10000,0,{"$f":"IF(B339>0,WEEKNUM(TEXT(Definice!$F$3,\"0000\")&\".\"&TEXT(J339,\"00\")&\".\"&RIGHT(TEXT(B339,\"0000\"),2)),0)","v":0}]
[338,null,null,null,null,{"$f":"IF(OR(MAX($I$2:I340)-I340=0,D340=0),\"\",MAX($I$2:I340)-I340)","v":""},"",0,10000,0,{"$f":"IF(B340>0,WEEKNUM(TEXT(Definice!$F$3,\"0000\")&\".\"&TEXT(J340,\"00\")&\".\"&RIGHT(TEXT(B340,\"0000\"),2)),0)","v":0}]
[339,null,null,null,null,{"$f":"IF(OR(MAX($I$2:I341)-I341=0,D341=0),\"\",MAX($I$2:I341)-I341)","v":""},"",0,10000,0,{"$f":"IF(B341>0,WEEKNUM(TEXT(Definice!$F$3,\"0000\")&\".\"&TEXT(J341,\"00\")&\".\"&RIGHT(TEXT(B341,\"0000\"),2)),0)","v":0}]
[340,null,null,null,null,{"$f":"IF(OR(MAX($I$2:I342)-I342=0,D342=0),\"\",MAX($I$2:I342)-I342)","v":""},"",0,10000,0,{"$f":"IF(B342>0,WEEKNUM(TEXT(Definice!$F$3,\"0000\")&\".\"&TEXT(J342,\"00\")&\".\"&RIGHT(TEXT(B342,\"0000\"),2)),0)","v":0}]
[341,null,null,null,null,{"$f":"IF(OR(MAX($I$2:I343)-I343=0,D343=0),\"\",MAX($I$2:I343)-I343)","v":""},"",0,10000,0,{"$f":"IF(B343>0,WEEKNUM(TEXT(Definice!$F$3,\"0000\")&\".\"&TEXT(J343,\"00\")&\".\"&RIGHT(TEXT(B343,\"0000\"),2)),0)","v":0}]
[342,null,null,null,null,{"$f":"IF(OR(MAX($I$2:I344)-I344=0,D344=0),\"\",MAX($I$2:I344)-I344)","v":""},"",0,10000,0,{"$f":"IF(B344>0,WEEKNUM(TEXT(Definice!$F$3,\"0000\")&\".\"&TEXT(J344,\"00\")&\".\"&RIGHT(TEXT(B344,\"0000\"),2)),0)","v":0}]
[343,null,null,null,null,{"$f":"IF(OR(MAX($I$2:I345)-I345=0,D345=0),\"\",MAX($I$2:I345)-I345)","v":""},"",0,10000,0,{"$f":"IF(B345>0,WEEKNUM(TEXT(Definice!$F$3,\"0000\")&\".\"&TEXT(J345,\"00\")&\".\"&RIGHT(TEXT(B345,\"0000\"),2)),0)","v":0}]
[344,null,null,null,null,{"$f":"IF(OR(MAX($I$2:I346)-I346=0,D346=0),\"\",MAX($I$2:I346)-I346)","v":""},"",0,10000,0,{"$f":"IF(B346>0,WEEKNUM(TEXT(Definice!$F$3,\"0000\")&\".\"&TEXT(J346,\"00\")&\".\"&RIGHT(TEXT(B346,\"0000\"),2)),0)","v":0}]
[345,null,null,null,null,{"$f":"IF(OR(MAX($I$2:I347)-I347=0,D347=0),\"\",MAX($I$2:I347)-I347)","v":""},"",0,10000,0,{"$f":"IF(B347>0,WEEKNUM(TEXT(Definice!$F$3,\"0000\")&\".\"&TEXT(J347,\"00\")&\".\"&RIGHT(TEXT(B347,\"0000\"),2)),0)","v":0}]
[346,null,null,null,null,{"$f":"IF(OR(MAX($I$2:I348)-I348=0,D348=0),\"\",MAX($I$2:I348)-I348)","v":""},"",0,10000,0,{"$f":"IF(B348>0,WEEKNUM(TEXT(Definice!$F$3,\"0000\")&\".\"&TEXT(J348,\"00\")&\".\"&RIGHT(TEXT(B348,\"0000\"),2)),0)","v":0}]
[347,null,null,null,null,{"$f":"IF(OR(MAX($I$2:I349)-I349=0,D349=0),\"\",MAX($I$2:I349)-I349)","v":""},"",0,10000,0,{"$f":"IF(B349>0,WEEKNUM(TEXT(Definice!$F$3,\"0000\")&\".\"&TEXT(J349,\"00\")&\".\"&RIGHT(TEXT(B349,\"0000\"),2)),0)","v":0}]
[348,null,null,null,null,{"$f":"IF(OR(MAX($I$2:I350)-I350=0,D350=0),\"\",MAX($I$2:I350)-I350)","v":""},"",0,10000,0,{"$f":"IF(B350>0,WEEKNUM(TEXT(Definice!$F$3,\"0000\")&\".\"&TEXT(J350,\"00\")&\".\"&RIGHT(TEXT(B350,\"0000\"),2)),0)","v":0}]
[349,null,null,null,null,{"$f":"IF(OR(MAX($I$2:I351)-I351=0,D351=0),\"\",MAX($I$2:I351)-I351)","v":""},"",0,10000,0,{"$f":"IF(B351>0,WEEKNUM(TEXT(Definice!$F$3,\"0000\")&\".\"&TEXT(J351,\"00\")&\".\"&RIGHT(TEXT(B351,\"0000\"),2)),0)","v":0}]
[350,null,null,null,null,{"$f":"IF(OR(MAX($I$2:I352)-I352=0,D352=0),\"\",MAX($I$2:I352)-I352)","v":""},"",0,10000,0,{"$f":"IF(B352>0,WEEKNUM(TEXT(Definice!$F$3,\"0000\")&\".\"&TEXT(J352,\"00\")&\".\"&RIGHT(TEXT(B352,\"0000\"),2)),0)","v":0}]
[351,null,null,null,null,{"$f":"IF(OR(MAX($I$2:I353)-I353=0,D353=0),\"\",MAX($I$2:I353)-I353)","v":""},"",0,10000,0,{"$f":"IF(B353>0,WEEKNUM(TEXT(Definice!$F$3,\"0000\")&\".\"&TEXT(J353,\"00\")&\".\"&RIGHT(TEXT(B353,\"0000\"),2)),0)","v":0}]
[352,null,null,null,null,{"$f":"IF(OR(MAX($I$2:I354)-I354=0,D354=0),\"\",MAX($I$2:I354)-I354)","v":""},"",0,10000,0,{"$f":"IF(B354>0,WEEKNUM(TEXT(Definice!$F$3,\"0000\")&\".\"&TEXT(J354,\"00\")&\".\"&RIGHT(TEXT(B354,\"0000\"),2)),0)","v":0}]
[353,null,null,null,null,{"$f":"IF(OR(MAX($I$2:I355)-I355=0,D355=0),\"\",MAX($I$2:I355)-I355)","v":""},"",0,10000,0,{"$f":"IF(B355>0,WEEKNUM(TEXT(Definice!$F$3,\"0000\")&\".\"&TEXT(J355,\"00\")&\".\"&RIGHT(TEXT(B355,\"0000\"),2)),0)","v":0}]
[354,null,null,null,null,{"$f":"IF(OR(MAX($I$2:I356)-I356=0,D356=0),\"\",MAX($I$2:I356)-I356)","v":""},"",0,10000,0,{"$f":"IF(B356>0,WEEKNUM(TEXT(Definice!$F$3,\"0000\")&\".\"&TEXT(J356,\"00\")&\".\"&RIGHT(TEXT(B356,\"0000\"),2)),0)","v":0}]
[355,null,null,null,null,{"$f":"IF(OR(MAX($I$2:I357)-I357=0,D357=0),\"\",MAX($I$2:I357)-I357)","v":""},"",0,10000,0,{"$f":"IF(B357>0,WEEKNUM(TEXT(Definice!$F$3,\"0000\")&\".\"&TEXT(J357,\"00\")&\".\"&RIGHT(TEXT(B357,\"0000\"),2)),0)","v":0}]
[356,null,null,null,null,{"$f":"IF(OR(MAX($I$2:I358)-I358=0,D358=0),\"\",MAX($I$2:I358)-I358)","v":""},"",0,10000,0,{"$f":"IF(B358>0,WEEKNUM(TEXT(Definice!$F$3,\"0000\")&\".\"&TEXT(J358,\"00\")&\".\"&RIGHT(TEXT(B358,\"0000\"),2)),0)","v":0}]
[357,null,null,null,null,{"$f":"IF(OR(MAX($I$2:I359)-I359=0,D359=0),\"\",MAX($I$2:I359)-I359)","v":""},"",0,10000,0,{"$f":"IF(B359>0,WEEKNUM(TEXT(Definice!$F$3,\"0000\")&\".\"&TEXT(J359,\"00\")&\".\"&RIGHT(TEXT(B359,\"0000\"),2)),0)","v":0}]
[358,null,null,null,null,{"$f":"IF(OR(MAX($I$2:I360)-I360=0,D360=0),\"\",MAX($I$2:I360)-I360)","v":""},"",0,10000,0,{"$f":"IF(B360>0,WEEKNUM(TEXT(Definice!$F$3,\"0000\")&\".\"&TEXT(J360,\"00\")&\".\"&RIGHT(TEXT(B360,\"0000\"),2)),0)","v":0}]
[359,null,null,null,null,{"$f":"IF(OR(MAX($I$2:I361)-I361=0,D361=0),\"\",MAX($I$2:I361)-I361)","v":""},"",0,10000,0,{"$f":"IF(B361>0,WEEKNUM(TEXT(Definice!$F$3,\"0000\")&\".\"&TEXT(J361,\"00\")&\".\"&RIGHT(TEXT(B361,\"0000\"),2)),0)","v":0}]
[360,null,null,null,null,{"$f":"IF(OR(MAX($I$2:I362)-I362=0,D362=0),\"\",MAX($I$2:I362)-I362)","v":""},"",0,10000,0,{"$f":"IF(B362>0,WEEKNUM(TEXT(Definice!$F$3,\"0000\")&\".\"&TEXT(J362,\"00\")&\".\"&RIGHT(TEXT(B362,\"0000\"),2)),0)","v":0}]
[361,null,null,null,null,{"$f":"IF(OR(MAX($I$2:I363)-I363=0,D363=0),\"\",MAX($I$2:I363)-I363)","v":""},"",0,10000,0,{"$f":"IF(B363>0,WEEKNUM(TEXT(Definice!$F$3,\"0000\")&\".\"&TEXT(J363,\"00\")&\".\"&RIGHT(TEXT(B363,\"0000\"),2)),0)","v":0}]
[362,null,null,null,null,{"$f":"IF(OR(MAX($I$2:I364)-I364=0,D364=0),\"\",MAX($I$2:I364)-I364)","v":""},"",0,10000,0,{"$f":"IF(B364>0,WEEKNUM(TEXT(Definice!$F$3,\"0000\")&\".\"&TEXT(J364,\"00\")&\".\"&RIGHT(TEXT(B364,\"0000\"),2)),0)","v":0}]
[363,null,null,null,null,{"$f":"IF(OR(MAX($I$2:I365)-I365=0,D365=0),\"\",MAX($I$2:I365)-I365)","v":""},"",0,10000,0,{"$f":"IF(B365>0,WEEKNUM(TEXT(Definice!$F$3,\"0000\")&\".\"&TEXT(J365,\"00\")&\".\"&RIGHT(TEXT(B365,\"0000\"),2)),0)","v":0}]
[364,null,null,null,null,{"$f":"IF(OR(MAX($I$2:I366)-I366=0,D366=0),\"\",MAX($I$2:I366)-I366)","v":""},"",0,10000,0,{"$f":"IF(B366>0,WEEKNUM(TEXT(Definice!$F$3,\"0000\")&\".\"&TEXT(J366,\"00\")&\".\"&RIGHT(TEXT(B366,\"0000\"),2)),0)","v":0}]
[365,null,null,null,null,{"$f":"IF(OR(MAX($I$2:I367)-I367=0,D367=0),\"\",MAX($I$2:I367)-I367)","v":""},"",0,10000,0,{"$f":"IF(B367>0,WEEKNUM(TEXT(Definice!$F$3,\"0000\")&\".\"&TEXT(J367,\"00\")&\".\"&RIGHT(TEXT(B367,\"0000\"),2)),0)","v":0}]
[366,null,null,null,null,{"$f":"IF(OR(MAX($I$2:I368)-I368=0,D368=0),\"\",MAX($I$2:I368)-I368)","v":""},"",0,10000,0,{"$f":"IF(B368>0,WEEKNUM(TEXT(Definice!$F$3,\"0000\")&\".\"&TEXT(J368,\"00\")&\".\"&RIGHT(TEXT(B368,\"0000\"),2)),0)","v":0}]
[367,null,null,null,null,{"$f":"IF(OR(MAX($I$2:I369)-I369=0,D369=0),\"\",MAX($I$2:I369)-I369)","v":""},"",0,10000,0,{"$f":"IF(B369>0,WEEKNUM(TEXT(Definice!$F$3,\"0000\")&\".\"&TEXT(J369,\"00\")&\".\"&RIGHT(TEXT(B369,\"0000\"),2)),0)","v":0}]
[368,null,null,null,null,{"$f":"IF(OR(MAX($I$2:I370)-I370=0,D370=0),\"\",MAX($I$2:I370)-I370)","v":""},"",0,10000,0,{"$f":"IF(B370>0,WEEKNUM(TEXT(Definice!$F$3,\"0000\")&\".\"&TEXT(J370,\"00\")&\".\"&RIGHT(TEXT(B370,\"0000\"),2)),0)","v":0}]
[369,null,null,null,null,{"$f":"IF(OR(MAX($I$2:I371)-I371=0,D371=0),\"\",MAX($I$2:I371)-I371)","v":""},"",0,10000,0,{"$f":"IF(B371>0,WEEKNUM(TEXT(Definice!$F$3,\"0000\")&\".\"&TEXT(J371,\"00\")&\".\"&RIGHT(TEXT(B371,\"0000\"),2)),0)","v":0}]
[370,null,null,null,null,{"$f":"IF(OR(MAX($I$2:I372)-I372=0,D372=0),\"\",MAX($I$2:I372)-I372)","v":""},"",0,10000,0,{"$f":"IF(B372>0,WEEKNUM(TEXT(Definice!$F$3,\"0000\")&\".\"&TEXT(J372,\"00\")&\".\"&RIGHT(TEXT(B372,\"0000\"),2)),0)","v":0}]
[371,null,null,null,null,{"$f":"IF(OR(MAX($I$2:I373)-I373=0,D373=0),\"\",MAX($I$2:I373)-I373)","v":""},"",0,10000,0,{"$f":"IF(B373>0,WEEKNUM(TEXT(Definice!$F$3,\"0000\")&\".\"&TEXT(J373,\"00\")&\".\"&RIGHT(TEXT(B373,\"0000\"),2)),0)","v":0}]
[372,null,null,null,null,{"$f":"IF(OR(MAX($I$2:I374)-I374=0,D374=0),\"\",MAX($I$2:I374)-I374)","v":""},"",0,10000,0,{"$f":"IF(B374>0,WEEKNUM(TEXT(Definice!$F$3,\"0000\")&\".\"&TEXT(J374,\"00\")&\".\"&RIGHT(TEXT(B374,\"0000\"),2)),0)","v":0}]
[373,null,null,null,null,{"$f":"IF(OR(MAX($I$2:I375)-I375=0,D375=0),\"\",MAX($I$2:I375)-I375)","v":""},"",0,10000,0,{"$f":"IF(B375>0,WEEKNUM(TEXT(Definice!$F$3,\"0000\")&\".\"&TEXT(J375,\"00\")&\".\"&RIGHT(TEXT(B375,\"0000\"),2)),0)","v":0}]
[374,null,null,null,null,{"$f":"IF(OR(MAX($I$2:I376)-I376=0,D376=0),\"\",MAX($I$2:I376)-I376)","v":""},"",0,10000,0,{"$f":"IF(B376>0,WEEKNUM(TEXT(Definice!$F$3,\"0000\")&\".\"&TEXT(J376,\"00\")&\".\"&RIGHT(TEXT(B376,\"0000\"),2)),0)","v":0}]
[375,null,null,null,null,{"$f":"IF(OR(MAX($I$2:I377)-I377=0,D377=0),\"\",MAX($I$2:I377)-I377)","v":""},"",0,10000,0,{"$f":"IF(B377>0,WEEKNUM(TEXT(Definice!$F$3,\"0000\")&\".\"&TEXT(J377,\"00\")&\".\"&RIGHT(TEXT(B377,\"0000\"),2)),0)","v":0}]
[376,null,null,null,null,{"$f":"IF(OR(MAX($I$2:I378)-I378=0,D378=0),\"\",MAX($I$2:I378)-I378)","v":""},"",0,10000,0,{"$f":"IF(B378>0,WEEKNUM(TEXT(Definice!$F$3,\"0000\")&\".\"&TEXT(J378,\"00\")&\".\"&RIGHT(TEXT(B378,\"0000\"),2)),0)","v":0}]
[377,null,null,null,null,{"$f":"IF(OR(MAX($I$2:I379)-I379=0,D379=0),\"\",MAX($I$2:I379)-I379)","v":""},"",0,10000,0,{"$f":"IF(B379>0,WEEKNUM(TEXT(Definice!$F$3,\"0000\")&\".\"&TEXT(J379,\"00\")&\".\"&RIGHT(TEXT(B379,\"0000\"),2)),0)","v":0}]
[378,null,null,null,null,{"$f":"IF(OR(MAX($I$2:I380)-I380=0,D380=0),\"\",MAX($I$2:I380)-I380)","v":""},"",0,10000,0,{"$f":"IF(B380>0,WEEKNUM(TEXT(Definice!$F$3,\"0000\")&\".\"&TEXT(J380,\"00\")&\".\"&RIGHT(TEXT(B380,\"0000\"),2)),0)","v":0}]
[379,null,null,null,null,{"$f":"IF(OR(MAX($I$2:I381)-I381=0,D381=0),\"\",MAX($I$2:I381)-I381)","v":""},"",0,10000,0,{"$f":"IF(B381>0,WEEKNUM(TEXT(Definice!$F$3,\"0000\")&\".\"&TEXT(J381,\"00\")&\".\"&RIGHT(TEXT(B381,\"0000\"),2)),0)","v":0}]
[380,null,null,null,null,{"$f":"IF(OR(MAX($I$2:I382)-I382=0,D382=0),\"\",MAX($I$2:I382)-I382)","v":""},"",0,10000,0,{"$f":"IF(B382>0,WEEKNUM(TEXT(Definice!$F$3,\"0000\")&\".\"&TEXT(J382,\"00\")&\".\"&RIGHT(TEXT(B382,\"0000\"),2)),0)","v":0}]
[381,null,null,null,null,{"$f":"IF(OR(MAX($I$2:I383)-I383=0,D383=0),\"\",MAX($I$2:I383)-I383)","v":""},"",0,10000,0,{"$f":"IF(B383>0,WEEKNUM(TEXT(Definice!$F$3,\"0000\")&\".\"&TEXT(J383,\"00\")&\".\"&RIGHT(TEXT(B383,\"0000\"),2)),0)","v":0}]
[382,null,null,null,null,{"$f":"IF(OR(MAX($I$2:I384)-I384=0,D384=0),\"\",MAX($I$2:I384)-I384)","v":""},"",0,10000,0,{"$f":"IF(B384>0,WEEKNUM(TEXT(Definice!$F$3,\"0000\")&\".\"&TEXT(J384,\"00\")&\".\"&RIGHT(TEXT(B384,\"0000\"),2)),0)","v":0}]
[383,null,null,null,null,{"$f":"IF(OR(MAX($I$2:I385)-I385=0,D385=0),\"\",MAX($I$2:I385)-I385)","v":""},"",0,10000,0,{"$f":"IF(B385>0,WEEKNUM(TEXT(Definice!$F$3,\"0000\")&\".\"&TEXT(J385,\"00\")&\".\"&RIGHT(TEXT(B385,\"0000\"),2)),0)","v":0}]
[384,null,null,null,null,{"$f":"IF(OR(MAX($I$2:I386)-I386=0,D386=0),\"\",MAX($I$2:I386)-I386)","v":""},"",0,10000,0,{"$f":"IF(B386>0,WEEKNUM(TEXT(Definice!$F$3,\"0000\")&\".\"&TEXT(J386,\"00\")&\".\"&RIGHT(TEXT(B386,\"0000\"),2)),0)","v":0}]
[385,null,null,null,null,{"$f":"IF(OR(MAX($I$2:I387)-I387=0,D387=0),\"\",MAX($I$2:I387)-I387)","v":""},"",0,10000,0,{"$f":"IF(B387>0,WEEKNUM(TEXT(Definice!$F$3,\"0000\")&\".\"&TEXT(J387,\"00\")&\".\"&RIGHT(TEXT(B387,\"0000\"),2)),0)","v":0}]
[386,null,null,null,null,{"$f":"IF(OR(MAX($I$2:I388)-I388=0,D388=0),\"\",MAX($I$2:I388)-I388)","v":""},"",0,10000,{"$f":"((INT(B388/100)/100)-INT(INT(B388/100)/100))*100","v":0},{"$f":"IF(B388>0,WEEKNUM(TEXT(Definice!$F$3,\"0000\")&\".\"&TEXT(J388,\"00\")&\".\"&RIGHT(TEXT(B388,\"0000\"),2)),0)","v":0}]
[387,null,null,null,null,{"$f":"IF(OR(MAX($I$2:I389)-I389=0,D389=0),\"\",MAX($I$2:I389)-I389)","v":""},{"$f":"IF(F389=\"\",\"\",F389/(H389+I388))","v":""},{"$f":"H388+E389","v":0},{"$f":"I388+E389","v":10000},0,{"$f":"IF(B389>0,WEEKNUM(TEXT(Definice!$F$3,\"0000\")&\".\"&TEXT(J389,\"00\")&\".\"&RIGHT(TEXT(B389,\"0000\"),2)),0)","v":0}]
[388,null,null,null,null,{"$f":"IF(OR(MAX($I$2:I390)-I390=0,D390=0),\"\",MAX($I$2:I390)-I390)","v":""},"",0,10000,0,{"$f":"IF(B390>0,WEEKNUM(TEXT(Definice!$F$3,\"0000\")&\".\"&TEXT(J390,\"00\")&\".\"&RIGHT(TEXT(B390,\"0000\"),2)),0)","v":0}]
[389,null,null,null,null,{"$f":"IF(OR(MAX($I$2:I391)-I391=0,D391=0),\"\",MAX($I$2:I391)-I391)","v":""},"",0,10000,0,{"$f":"IF(B391>0,WEEKNUM(TEXT(Definice!$F$3,\"0000\")&\".\"&TEXT(J391,\"00\")&\".\"&RIGHT(TEXT(B391,\"0000\"),2)),0)","v":0}]
[390,null,null,null,null,{"$f":"IF(OR(MAX($I$2:I392)-I392=0,D392=0),\"\",MAX($I$2:I392)-I392)","v":""},"",0,10000,0,{"$f":"IF(B392>0,WEEKNUM(TEXT(Definice!$F$3,\"0000\")&\".\"&TEXT(J392,\"00\")&\".\"&RIGHT(TEXT(B392,\"0000\"),2)),0)","v":0}]
[391,null,null,null,null,{"$f":"IF(OR(MAX($I$2:I393)-I393=0,D393=0),\"\",MAX($I$2:I393)-I393)","v":""},"",0,10000,0,{"$f":"IF(B393>0,WEEKNUM(TEXT(Definice!$F$3,\"0000\")&\".\"&TEXT(J393,\"00\")&\".\"&RIGHT(TEXT(B393,\"0000\"),2)),0)","v":0}]
[392,null,null,null,null,{"$f":"IF(OR(MAX($I$2:I394)-I394=0,D394=0),\"\",MAX($I$2:I394)-I394)","v":""},"",0,10000,0,{"$f":"IF(B394>0,WEEKNUM(TEXT(Definice!$F$3,\"0000\")&\".\"&TEXT(J394,\"00\")&\".\"&RIGHT(TEXT(B394,\"0000\"),2)),0)","v":0}]
[393,null,null,null,null,{"$f":"IF(OR(MAX($I$2:I395)-I395=0,D395=0),\"\",MAX($I$2:I395)-I395)","v":""},"",0,10000,0,{"$f":"IF(B395>0,WEEKNUM(TEXT(Definice!$F$3,\"0000\")&\".\"&TEXT(J395,\"00\")&\".\"&RIGHT(TEXT(B395,\"0000\"),2)),0)","v":0}]
[394,null,null,null,null,{"$f":"IF(OR(MAX($I$2:I396)-I396=0,D396=0),\"\",MAX($I$2:I396)-I396)","v":""},"",0,10000,0,{"$f":"IF(B396>0,WEEKNUM(TEXT(Definice!$F$3,\"0000\")&\".\"&TEXT(J396,\"00\")&\".\"&RIGHT(TEXT(B396,\"0000\"),2)),0)","v":0}]
[395,null,null,null,null,{"$f":"IF(OR(MAX($I$2:I397)-I397=0,D397=0),\"\",MAX($I$2:I397)-I397)","v":""},"",0,10000,0,{"$f":"IF(B397>0,WEEKNUM(TEXT(Definice!$F$3,\"0000\")&\".\"&TEXT(J397,\"00\")&\".\"&RIGHT(TEXT(B397,\"0000\"),2)),0)","v":0}]
[396,null,null,null,null,{"$f":"IF(OR(MAX($I$2:I398)-I398=0,D398=0),\"\",MAX($I$2:I398)-I398)","v":""},"",0,10000,0,{"$f":"IF(B398>0,WEEKNUM(TEXT(Definice!$F$3,\"0000\")&\".\"&TEXT(J398,\"00\")&\".\"&RIGHT(TEXT(B398,\"0000\"),2)),0)","v":0}]
[397,null,null,null,null,{"$f":"IF(OR(MAX($I$2:I399)-I399=0,D399=0),\"\",MAX($I$2:I399)-I399)","v":""},"",0,10000,0,{"$f":"IF(B399>0,WEEKNUM(TEXT(Definice!$F$3,\"0000\")&\".\"&TEXT(J399,\"00\")&\".\"&RIGHT(TEXT(B399,\"0000\"),2)),0)","v":0}]
[398,null,null,null,null,{"$f":"IF(OR(MAX($I$2:I400)-I400=0,D400=0),\"\",MAX($I$2:I400)-I400)","v":""},"",0,10000,0,{"$f":"IF(B400>0,WEEKNUM(TEXT(Definice!$F$3,\"0000\")&\".\"&TEXT(J400,\"00\")&\".\"&RIGHT(TEXT(B400,\"0000\"),2)),0)","v":0}]
[399,null,null,null,null,{"$f":"IF(OR(MAX($I$2:I401)-I401=0,D401=0),\"\",MAX($I$2:I401)-I401)","v":""},"",0,10000,0,{"$f":"IF(B401>0,WEEKNUM(TEXT(Definice!$F$3,\"0000\")&\".\"&TEXT(J401,\"00\")&\".\"&RIGHT(TEXT(B401,\"0000\"),2)),0)","v":0}]
[400,null,null,null,null,{"$f":"IF(OR(MAX($I$2:I402)-I402=0,D402=0),\"\",MAX($I$2:I402)-I402)","v":""},"",0,10000,0,{"$f":"IF(B402>0,WEEKNUM(TEXT(Definice!$F$3,\"0000\")&\".\"&TEXT(J402,\"00\")&\".\"&RIGHT(TEXT(B402,\"0000\"),2)),0)","v":0}]
[401,null,null,null,null,{"$f":"IF(OR(MAX($I$2:I403)-I403=0,D403=0),\"\",MAX($I$2:I403)-I403)","v":""},"",0,10000,0,{"$f":"IF(B403>0,WEEKNUM(TEXT(Definice!$F$3,\"0000\")&\".\"&TEXT(J403,\"00\")&\".\"&RIGHT(TEXT(B403,\"0000\"),2)),0)","v":0}]
[402,null,null,null,null,{"$f":"IF(OR(MAX($I$2:I404)-I404=0,D404=0),\"\",MAX($I$2:I404)-I404)","v":""},"",0,10000,0,{"$f":"IF(B404>0,WEEKNUM(TEXT(Definice!$F$3,\"0000\")&\".\"&TEXT(J404,\"00\")&\".\"&RIGHT(TEXT(B404,\"0000\"),2)),0)","v":0}]
[403,null,null,null,null,{"$f":"IF(OR(MAX($I$2:I405)-I405=0,D405=0),\"\",MAX($I$2:I405)-I405)","v":""},"",0,10000,0,{"$f":"IF(B405>0,WEEKNUM(TEXT(Definice!$F$3,\"0000\")&\".\"&TEXT(J405,\"00\")&\".\"&RIGHT(TEXT(B405,\"0000\"),2)),0)","v":0}]
[404,null,null,null,null,{"$f":"IF(OR(MAX($I$2:I406)-I406=0,D406=0),\"\",MAX($I$2:I406)-I406)","v":""},"",0,10000,0,{"$f":"IF(B406>0,WEEKNUM(TEXT(Definice!$F$3,\"0000\")&\".\"&TEXT(J406,\"00\")&\".\"&RIGHT(TEXT(B406,\"0000\"),2)),0)","v":0}]
[405,null,null,null,null,{"$f":"IF(OR(MAX($I$2:I407)-I407=0,D407=0),\"\",MAX($I$2:I407)-I407)","v":""},"",0,10000,0,{"$f":"IF(B407>0,WEEKNUM(TEXT(Definice!$F$3,\"0000\")&\".\"&TEXT(J407,\"00\")&\".\"&RIGHT(TEXT(B407,\"0000\"),2)),0)","v":0}]
[406,null,null,null,null,{"$f":"IF(OR(MAX($I$2:I408)-I408=0,D408=0),\"\",MAX($I$2:I408)-I408)","v":""},"",0,10000,0,{"$f":"IF(B408>0,WEEKNUM(TEXT(Definice!$F$3,\"0000\")&\".\"&TEXT(J408,\"00\")&\".\"&RIGHT(TEXT(B408,\"0000\"),2)),0)","v":0}]
[407,null,null,null,null,{"$f":"IF(OR(MAX($I$2:I409)-I409=0,D409=0),\"\",MAX($I$2:I409)-I409)","v":""},"",0,10000,0,{"$f":"IF(B409>0,WEEKNUM(TEXT(Definice!$F$3,\"0000\")&\".\"&TEXT(J409,\"00\")&\".\"&RIGHT(TEXT(B409,\"0000\"),2)),0)","v":0}]
[408,null,null,null,null,{"$f":"IF(OR(MAX($I$2:I410)-I410=0,D410=0),\"\",MAX($I$2:I410)-I410)","v":""},"",0,10000,0,{"$f":"IF(B410>0,WEEKNUM(TEXT(Definice!$F$3,\"0000\")&\".\"&TEXT(J410,\"00\")&\".\"&RIGHT(TEXT(B410,\"0000\"),2)),0)","v":0}]
[409,null,null,null,null,{"$f":"IF(OR(MAX($I$2:I411)-I411=0,D411=0),\"\",MAX($I$2:I411)-I411)","v":""},"",0,10000,0,{"$f":"IF(B411>0,WEEKNUM(TEXT(Definice!$F$3,\"0000\")&\".\"&TEXT(J411,\"00\")&\".\"&RIGHT(TEXT(B411,\"0000\"),2)),0)","v":0}]
[410,null,null,null,null,{"$f":"IF(OR(MAX($I$2:I412)-I412=0,D412=0),\"\",MAX($I$2:I412)-I412)","v":""},"",0,10000,0,{"$f":"IF(B412>0,WEEKNUM(TEXT(Definice!$F$3,\"0000\")&\".\"&TEXT(J412,\"00\")&\".\"&RIGHT(TEXT(B412,\"0000\"),2)),0)","v":0}]
[411,null,null,null,null,{"$f":"IF(OR(MAX($I$2:I413)-I413=0,D413=0),\"\",MAX($I$2:I413)-I413)","v":""},"",0,10000,0,{"$f":"IF(B413>0,WEEKNUM(TEXT(Definice!$F$3,\"0000\")&\".\"&TEXT(J413,\"00\")&\".\"&RIGHT(TEXT(B413,\"0000\"),2)),0)","v":0}]
[412,null,null,null,null,{"$f":"IF(OR(MAX($I$2:I414)-I414=0,D414=0),\"\",MAX($I$2:I414)-I414)","v":""},"",0,10000,0,{"$f":"IF(B414>0,WEEKNUM(TEXT(Definice!$F$3,\"0000\")&\".\"&TEXT(J414,\"00\")&\".\"&RIGHT(TEXT(B414,\"0000\"),2)),0)","v":0}]
[413,null,null,null,null,{"$f":"IF(OR(MAX($I$2:I415)-I415=0,D415=0),\"\",MAX($I$2:I415)-I415)","v":""},"",0,10000,0,{"$f":"IF(B415>0,WEEKNUM(TEXT(Definice!$F$3,\"0000\")&\".\"&TEXT(J415,\"00\")&\".\"&RIGHT(TEXT(B415,\"0000\"),2)),0)","v":0}]
[414,null,null,null,null,{"$f":"IF(OR(MAX($I$2:I416)-I416=0,D416=0),\"\",MAX($I$2:I416)-I416)","v":""},"",0,10000,0,{"$f":"IF(B416>0,WEEKNUM(TEXT(Definice!$F$3,\"0000\")&\".\"&TEXT(J416,\"00\")&\".\"&RIGHT(TEXT(B416,\"0000\"),2)),0)","v":0}]
[415,null,null,null,null,{"$f":"IF(OR(MAX($I$2:I417)-I417=0,D417=0),\"\",MAX($I$2:I417)-I417)","v":""},"",0,10000,0,{"$f":"IF(B417>0,WEEKNUM(TEXT(Definice!$F$3,\"0000\")&\".\"&TEXT(J417,\"00\")&\".\"&RIGHT(TEXT(B417,\"0000\"),2)),0)","v":0}]
[416,null,null,null,null,{"$f":"IF(OR(MAX($I$2:I418)-I418=0,D418=0),\"\",MAX($I$2:I418)-I418)","v":""},"",0,10000,0,{"$f":"IF(B418>0,WEEKNUM(TEXT(Definice!$F$3,\"0000\")&\".\"&TEXT(J418,\"00\")&\".\"&RIGHT(TEXT(B418,\"0000\"),2)),0)","v":0}]
[417,null,null,null,null,{"$f":"IF(OR(MAX($I$2:I419)-I419=0,D419=0),\"\",MAX($I$2:I419)-I419)","v":""},"",0,10000,0,{"$f":"IF(B419>0,WEEKNUM(TEXT(Definice!$F$3,\"0000\")&\".\"&TEXT(J419,\"00\")&\".\"&RIGHT(TEXT(B419,\"0000\"),2)),0)","v":0}]
[418,null,null,null,null,{"$f":"IF(OR(MAX($I$2:I420)-I420=0,D420=0),\"\",MAX($I$2:I420)-I420)","v":""},"",0,10000,0,{"$f":"IF(B420>0,WEEKNUM(TEXT(Definice!$F$3,\"0000\")&\".\"&TEXT(J420,\"00\")&\".\"&RIGHT(TEXT(B420,\"0000\"),2)),0)","v":0}]
[419,null,null,null,null,{"$f":"IF(OR(MAX($I$2:I421)-I421=0,D421=0),\"\",MAX($I$2:I421)-I421)","v":""},"",0,10000,0,{"$f":"IF(B421>0,WEEKNUM(TEXT(Definice!$F$3,\"0000\")&\".\"&TEXT(J421,\"00\")&\".\"&RIGHT(TEXT(B421,\"0000\"),2)),0)","v":0}]
[420,null,null,null,null,{"$f":"IF(OR(MAX($I$2:I422)-I422=0,D422=0),\"\",MAX($I$2:I422)-I422)","v":""},"",0,10000,0,{"$f":"IF(B422>0,WEEKNUM(TEXT(Definice!$F$3,\"0000\")&\".\"&TEXT(J422,\"00\")&\".\"&RIGHT(TEXT(B422,\"0000\"),2)),0)","v":0}]
[421,null,null,null,null,{"$f":"IF(OR(MAX($I$2:I423)-I423=0,D423=0),\"\",MAX($I$2:I423)-I423)","v":""},"",0,10000,0,{"$f":"IF(B423>0,WEEKNUM(TEXT(Definice!$F$3,\"0000\")&\".\"&TEXT(J423,\"00\")&\".\"&RIGHT(TEXT(B423,\"0000\"),2)),0)","v":0}]
[422,null,null,null,null,{"$f":"IF(OR(MAX($I$2:I424)-I424=0,D424=0),\"\",MAX($I$2:I424)-I424)","v":""},"",0,10000,0,{"$f":"IF(B424>0,WEEKNUM(TEXT(Definice!$F$3,\"0000\")&\".\"&TEXT(J424,\"00\")&\".\"&RIGHT(TEXT(B424,\"0000\"),2)),0)","v":0}]
[423,null,null,null,null,{"$f":"IF(OR(MAX($I$2:I425)-I425=0,D425=0),\"\",MAX($I$2:I425)-I425)","v":""},"",0,10000,0,{"$f":"IF(B425>0,WEEKNUM(TEXT(Definice!$F$3,\"0000\")&\".\"&TEXT(J425,\"00\")&\".\"&RIGHT(TEXT(B425,\"0000\"),2)),0)","v":0}]
[424,null,null,null,null,{"$f":"IF(OR(MAX($I$2:I426)-I426=0,D426=0),\"\",MAX($I$2:I426)-I426)","v":""},"",0,10000,0,{"$f":"IF(B426>0,WEEKNUM(TEXT(Definice!$F$3,\"0000\")&\".\"&TEXT(J426,\"00\")&\".\"&RIGHT(TEXT(B426,\"0000\"),2)),0)","v":0}]
[425,null,null,null,null,{"$f":"IF(OR(MAX($I$2:I427)-I427=0,D427=0),\"\",MAX($I$2:I427)-I427)","v":""},"",0,10000,0,{"$f":"IF(B427>0,WEEKNUM(TEXT(Definice!$F$3,\"0000\")&\".\"&TEXT(J427,\"00\")&\".\"&RIGHT(TEXT(B427,\"0000\"),2)),0)","v":0}]
[426,null,null,null,null,{"$f":"IF(OR(MAX($I$2:I428)-I428=0,D428=0),\"\",MAX($I$2:I428)-I428)","v":""},"",0,10000,0,{"$f":"IF(B428>0,WEEKNUM(TEXT(Definice!$F$3,\"0000\")&\".\"&TEXT(J428,\"00\")&\".\"&RIGHT(TEXT(B428,\"0000\"),2)),0)","v":0}]
[427,null,null,null,null,{"$f":"IF(OR(MAX($I$2:I429)-I429=0,D429=0),\"\",MAX($I$2:I429)-I429)","v":""},"",0,10000,0,{"$f":"IF(B429>0,WEEKNUM(TEXT(Definice!$F$3,\"0000\")&\".\"&TEXT(J429,\"00\")&\".\"&RIGHT(TEXT(B429,\"0000\"),2)),0)","v":0}]
[428,null,null,null,null,{"$f":"IF(OR(MAX($I$2:I430)-I430=0,D430=0),\"\",MAX($I$2:I430)-I430)","v":""},"",0,10000,0,{"$f":"IF(B430>0,WEEKNUM(TEXT(Definice!$F$3,\"0000\")&\".\"&TEXT(J430,\"00\")&\".\"&RIGHT(TEXT(B430,\"0000\"),2)),0)","v":0}]
[429,null,null,null,null,{"$f":"IF(OR(MAX($I$2:I431)-I431=0,D431=0),\"\",MAX($I$2:I431)-I431)","v":""},"",0,10000,0,{"$f":"IF(B431>0,WEEKNUM(TEXT(Definice!$F$3,\"0000\")&\".\"&TEXT(J431,\"00\")&\".\"&RIGHT(TEXT(B431,\"0000\"),2)),0)","v":0}]
[430,null,null,null,null,{"$f":"IF(OR(MAX($I$2:I432)-I432=0,D432=0),\"\",MAX($I$2:I432)-I432)","v":""},"",0,10000,0,{"$f":"IF(B432>0,WEEKNUM(TEXT(Definice!$F$3,\"0000\")&\".\"&TEXT(J432,\"00\")&\".\"&RIGHT(TEXT(B432,\"0000\"),2)),0)","v":0}]
[431,null,null,null,null,{"$f":"IF(OR(MAX($I$2:I433)-I433=0,D433=0),\"\",MAX($I$2:I433)-I433)","v":""},"",0,10000,0,{"$f":"IF(B433>0,WEEKNUM(TEXT(Definice!$F$3,\"0000\")&\".\"&TEXT(J433,\"00\")&\".\"&RIGHT(TEXT(B433,\"0000\"),2)),0)","v":0}]
[432,null,null,null,null,{"$f":"IF(OR(MAX($I$2:I434)-I434=0,D434=0),\"\",MAX($I$2:I434)-I434)","v":""},"",0,10000,0,{"$f":"IF(B434>0,WEEKNUM(TEXT(Definice!$F$3,\"0000\")&\".\"&TEXT(J434,\"00\")&\".\"&RIGHT(TEXT(B434,\"0000\"),2)),0)","v":0}]
[433,null,null,null,null,{"$f":"IF(OR(MAX($I$2:I435)-I435=0,D435=0),\"\",MAX($I$2:I435)-I435)","v":""},"",0,10000,0,{"$f":"IF(B435>0,WEEKNUM(TEXT(Definice!$F$3,\"0000\")&\".\"&TEXT(J435,\"00\")&\".\"&RIGHT(TEXT(B435,\"0000\"),2)),0)","v":0}]
[434,null,null,null,null,{"$f":"IF(OR(MAX($I$2:I436)-I436=0,D436=0),\"\",MAX($I$2:I436)-I436)","v":""},"",0,10000,0,{"$f":"IF(B436>0,WEEKNUM(TEXT(Definice!$F$3,\"0000\")&\".\"&TEXT(J436,\"00\")&\".\"&RIGHT(TEXT(B436,\"0000\"),2)),0)","v":0}]
[435,null,null,null,null,{"$f":"IF(OR(MAX($I$2:I437)-I437=0,D437=0),\"\",MAX($I$2:I437)-I437)","v":""},"",0,10000,0,{"$f":"IF(B437>0,WEEKNUM(TEXT(Definice!$F$3,\"0000\")&\".\"&TEXT(J437,\"00\")&\".\"&RIGHT(TEXT(B437,\"0000\"),2)),0)","v":0}]
[436,null,null,null,null,{"$f":"IF(OR(MAX($I$2:I438)-I438=0,D438=0),\"\",MAX($I$2:I438)-I438)","v":""},"",0,10000,0,{"$f":"IF(B438>0,WEEKNUM(TEXT(Definice!$F$3,\"0000\")&\".\"&TEXT(J438,\"00\")&\".\"&RIGHT(TEXT(B438,\"0000\"),2)),0)","v":0}]
[437,null,null,null,null,{"$f":"IF(OR(MAX($I$2:I439)-I439=0,D439=0),\"\",MAX($I$2:I439)-I439)","v":""},"",0,10000,0,{"$f":"IF(B439>0,WEEKNUM(TEXT(Definice!$F$3,\"0000\")&\".\"&TEXT(J439,\"00\")&\".\"&RIGHT(TEXT(B439,\"0000\"),2)),0)","v":0}]
[438,null,null,null,null,{"$f":"IF(OR(MAX($I$2:I440)-I440=0,D440=0),\"\",MAX($I$2:I440)-I440)","v":""},"",0,10000,0,{"$f":"IF(B440>0,WEEKNUM(TEXT(Definice!$F$3,\"0000\")&\".\"&TEXT(J440,\"00\")&\".\"&RIGHT(TEXT(B440,\"0000\"),2)),0)","v":0}]
[439,null,null,null,null,{"$f":"IF(OR(MAX($I$2:I441)-I441=0,D441=0),\"\",MAX($I$2:I441)-I441)","v":""},"",0,10000,0,{"$f":"IF(B441>0,WEEKNUM(TEXT(Definice!$F$3,\"0000\")&\".\"&TEXT(J441,\"00\")&\".\"&RIGHT(TEXT(B441,\"0000\"),2)),0)","v":0}]
[440,null,null,null,null,{"$f":"IF(OR(MAX($I$2:I442)-I442=0,D442=0),\"\",MAX($I$2:I442)-I442)","v":""},"",0,10000,0,{"$f":"IF(B442>0,WEEKNUM(TEXT(Definice!$F$3,\"0000\")&\".\"&TEXT(J442,\"00\")&\".\"&RIGHT(TEXT(B442,\"0000\"),2)),0)","v":0}]
[441,null,null,null,null,{"$f":"IF(OR(MAX($I$2:I443)-I443=0,D443=0),\"\",MAX($I$2:I443)-I443)","v":""},"",0,10000,0,{"$f":"IF(B443>0,WEEKNUM(TEXT(Definice!$F$3,\"0000\")&\".\"&TEXT(J443,\"00\")&\".\"&RIGHT(TEXT(B443,\"0000\"),2)),0)","v":0}]
[442,null,null,null,null,{"$f":"IF(OR(MAX($I$2:I444)-I444=0,D444=0),\"\",MAX($I$2:I444)-I444)","v":""},"",0,10000,0,{"$f":"IF(B444>0,WEEKNUM(TEXT(Definice!$F$3,\"0000\")&\".\"&TEXT(J444,\"00\")&\".\"&RIGHT(TEXT(B444,\"0000\"),2)),0)","v":0}]
[443,null,null,null,null,{"$f":"IF(OR(MAX($I$2:I445)-I445=0,D445=0),\"\",MAX($I$2:I445)-I445)","v":""},"",0,10000,0,{"$f":"IF(B445>0,WEEKNUM(TEXT(Definice!$F$3,\"0000\")&\".\"&TEXT(J445,\"00\")&\".\"&RIGHT(TEXT(B445,\"0000\"),2)),0)","v":0}]
[444,null,null,null,null,{"$f":"IF(OR(MAX($I$2:I446)-I446=0,D446=0),\"\",MAX($I$2:I446)-I446)","v":""},"",0,10000,0,{"$f":"IF(B446>0,WEEKNUM(TEXT(Definice!$F$3,\"0000\")&\".\"&TEXT(J446,\"00\")&\".\"&RIGHT(TEXT(B446,\"0000\"),2)),0)","v":0}]
[445,null,null,null,null,{"$f":"IF(OR(MAX($I$2:I447)-I447=0,D447=0),\"\",MAX($I$2:I447)-I447)","v":""},"",0,10000,0,{"$f":"IF(B447>0,WEEKNUM(TEXT(Definice!$F$3,\"0000\")&\".\"&TEXT(J447,\"00\")&\".\"&RIGHT(TEXT(B447,\"0000\"),2)),0)","v":0}]
[446,null,null,null,null,{"$f":"IF(OR(MAX($I$2:I448)-I448=0,D448=0),\"\",MAX($I$2:I448)-I448)","v":""},"",0,10000,0,{"$f":"IF(B448>0,WEEKNUM(TEXT(Definice!$F$3,\"0000\")&\".\"&TEXT(J448,\"00\")&\".\"&RIGHT(TEXT(B448,\"0000\"),2)),0)","v":0}]
[447,null,null,null,null,{"$f":"IF(OR(MAX($I$2:I449)-I449=0,D449=0),\"\",MAX($I$2:I449)-I449)","v":""},"",0,10000,0,{"$f":"IF(B449>0,WEEKNUM(TEXT(Definice!$F$3,\"0000\")&\".\"&TEXT(J449,\"00\")&\".\"&RIGHT(TEXT(B449,\"0000\"),2)),0)","v":0}]
[448,null,null,null,null,{"$f":"IF(OR(MAX($I$2:I450)-I450=0,D450=0),\"\",MAX($I$2:I450)-I450)","v":""},"",0,10000,0,{"$f":"IF(B450>0,WEEKNUM(TEXT(Definice!$F$3,\"0000\")&\".\"&TEXT(J450,\"00\")&\".\"&RIGHT(TEXT(B450,\"0000\"),2)),0)","v":0}]
[449,null,null,null,null,{"$f":"IF(OR(MAX($I$2:I451)-I451=0,D451=0),\"\",MAX($I$2:I451)-I451)","v":""},"",0,10000,0,{"$f":"IF(B451>0,WEEKNUM(TEXT(Definice!$F$3,\"0000\")&\".\"&TEXT(J451,\"00\")&\".\"&RIGHT(TEXT(B451,\"0000\"),2)),0)","v":0}]
[450,null,null,null,null,{"$f":"IF(OR(MAX($I$2:I452)-I452=0,D452=0),\"\",MAX($I$2:I452)-I452)","v":""},"",0,10000,{"$f":"((INT(B452/100)/100)-INT(INT(B452/100)/100))*100","v":0},{"$f":"IF(B452>0,WEEKNUM(TEXT(Definice!$F$3,\"0000\")&\".\"&TEXT(J452,\"00\")&\".\"&RIGHT(TEXT(B452,\"0000\"),2)),0)","v":0}]
[451,null,null,null,null,{"$f":"IF(OR(MAX($I$2:I453)-I453=0,D453=0),\"\",MAX($I$2:I453)-I453)","v":""},{"$f":"IF(F453=\"\",\"\",F453/(H453+I452))","v":""},{"$f":"H452+E453","v":0},{"$f":"I452+E453","v":10000},0,{"$f":"IF(B453>0,WEEKNUM(TEXT(Definice!$F$3,\"0000\")&\".\"&TEXT(J453,\"00\")&\".\"&RIGHT(TEXT(B453,\"0000\"),2)),0)","v":0}]
[452,null,null,null,null,{"$f":"IF(OR(MAX($I$2:I454)-I454=0,D454=0),\"\",MAX($I$2:I454)-I454)","v":""},"",0,10000,0,{"$f":"IF(B454>0,WEEKNUM(TEXT(Definice!$F$3,\"0000\")&\".\"&TEXT(J454,\"00\")&\".\"&RIGHT(TEXT(B454,\"0000\"),2)),0)","v":0}]
[453,null,null,null,null,{"$f":"IF(OR(MAX($I$2:I455)-I455=0,D455=0),\"\",MAX($I$2:I455)-I455)","v":""},"",0,10000,0,{"$f":"IF(B455>0,WEEKNUM(TEXT(Definice!$F$3,\"0000\")&\".\"&TEXT(J455,\"00\")&\".\"&RIGHT(TEXT(B455,\"0000\"),2)),0)","v":0}]
[454,null,null,null,null,{"$f":"IF(OR(MAX($I$2:I456)-I456=0,D456=0),\"\",MAX($I$2:I456)-I456)","v":""},"",0,10000,0,{"$f":"IF(B456>0,WEEKNUM(TEXT(Definice!$F$3,\"0000\")&\".\"&TEXT(J456,\"00\")&\".\"&RIGHT(TEXT(B456,\"0000\"),2)),0)","v":0}]
[455,null,null,null,null,{"$f":"IF(OR(MAX($I$2:I457)-I457=0,D457=0),\"\",MAX($I$2:I457)-I457)","v":""},"",0,10000,0,{"$f":"IF(B457>0,WEEKNUM(TEXT(Definice!$F$3,\"0000\")&\".\"&TEXT(J457,\"00\")&\".\"&RIGHT(TEXT(B457,\"0000\"),2)),0)","v":0}]
[456,null,null,null,null,{"$f":"IF(OR(MAX($I$2:I458)-I458=0,D458=0),\"\",MAX($I$2:I458)-I458)","v":""},"",0,10000,0,{"$f":"IF(B458>0,WEEKNUM(TEXT(Definice!$F$3,\"0000\")&\".\"&TEXT(J458,\"00\")&\".\"&RIGHT(TEXT(B458,\"0000\"),2)),0)","v":0}]
[457,null,null,null,null,{"$f":"IF(OR(MAX($I$2:I459)-I459=0,D459=0),\"\",MAX($I$2:I459)-I459)","v":""},"",0,10000,0,{"$f":"IF(B459>0,WEEKNUM(TEXT(Definice!$F$3,\"0000\")&\".\"&TEXT(J459,\"00\")&\".\"&RIGHT(TEXT(B459,\"0000\"),2)),0)","v":0}]
[458,null,null,null,null,{"$f":"IF(OR(MAX($I$2:I460)-I460=0,D460=0),\"\",MAX($I$2:I460)-I460)","v":""},"",0,10000,0,{"$f":"IF(B460>0,WEEKNUM(TEXT(Definice!$F$3,\"0000\")&\".\"&TEXT(J460,\"00\")&\".\"&RIGHT(TEXT(B460,\"0000\"),2)),0)","v":0}]
[459,null,null,null,null,{"$f":"IF(OR(MAX($I$2:I461)-I461=0,D461=0),\"\",MAX($I$2:I461)-I461)","v":""},"",0,10000,0,{"$f":"IF(B461>0,WEEKNUM(TEXT(Definice!$F$3,\"0000\")&\".\"&TEXT(J461,\"00\")&\".\"&RIGHT(TEXT(B461,\"0000\"),2)),0)","v":0}]
[460,null,null,null,null,{"$f":"IF(OR(MAX($I$2:I462)-I462=0,D462=0),\"\",MAX($I$2:I462)-I462)","v":""},"",0,10000,0,{"$f":"IF(B462>0,WEEKNUM(TEXT(Definice!$F$3,\"0000\")&\".\"&TEXT(J462,\"00\")&\".\"&RIGHT(TEXT(B462,\"0000\"),2)),0)","v":0}]
[461,null,null,null,null,{"$f":"IF(OR(MAX($I$2:I463)-I463=0,D463=0),\"\",MAX($I$2:I463)-I463)","v":""},"",0,10000,0,{"$f":"IF(B463>0,WEEKNUM(TEXT(Definice!$F$3,\"0000\")&\".\"&TEXT(J463,\"00\")&\".\"&RIGHT(TEXT(B463,\"0000\"),2)),0)","v":0}]
[462,null,null,null,null,{"$f":"IF(OR(MAX($I$2:I464)-I464=0,D464=0),\"\",MAX($I$2:I464)-I464)","v":""},"",0,10000,0,{"$f":"IF(B464>0,WEEKNUM(TEXT(Definice!$F$3,\"0000\")&\".\"&TEXT(J464,\"00\")&\".\"&RIGHT(TEXT(B464,\"0000\"),2)),0)","v":0}]
[463,null,null,null,null,{"$f":"IF(OR(MAX($I$2:I465)-I465=0,D465=0),\"\",MAX($I$2:I465)-I465)","v":""},"",0,10000,0,{"$f":"IF(B465>0,WEEKNUM(TEXT(Definice!$F$3,\"0000\")&\".\"&TEXT(J465,\"00\")&\".\"&RIGHT(TEXT(B465,\"0000\"),2)),0)","v":0}]
[464,null,null,null,null,{"$f":"IF(OR(MAX($I$2:I466)-I466=0,D466=0),\"\",MAX($I$2:I466)-I466)","v":""},"",0,10000,0,{"$f":"IF(B466>0,WEEKNUM(TEXT(Definice!$F$3,\"0000\")&\".\"&TEXT(J466,\"00\")&\".\"&RIGHT(TEXT(B466,\"0000\"),2)),0)","v":0}]
[465,null,null,null,null,{"$f":"IF(OR(MAX($I$2:I467)-I467=0,D467=0),\"\",MAX($I$2:I467)-I467)","v":""},"",0,10000,0,{"$f":"IF(B467>0,WEEKNUM(TEXT(Definice!$F$3,\"0000\")&\".\"&TEXT(J467,\"00\")&\".\"&RIGHT(TEXT(B467,\"0000\"),2)),0)","v":0}]
[466,null,null,null,null,{"$f":"IF(OR(MAX($I$2:I468)-I468=0,D468=0),\"\",MAX($I$2:I468)-I468)","v":""},"",0,10000,0,{"$f":"IF(B468>0,WEEKNUM(TEXT(Definice!$F$3,\"0000\")&\".\"&TEXT(J468,\"00\")&\".\"&RIGHT(TEXT(B468,\"0000\"),2)),0)","v":0}]
[467,null,null,null,null,{"$f":"IF(OR(MAX($I$2:I469)-I469=0,D469=0),\"\",MAX($I$2:I469)-I469)","v":""},"",0,10000,0,{"$f":"IF(B469>0,WEEKNUM(TEXT(Definice!$F$3,\"0000\")&\".\"&TEXT(J469,\"00\")&\".\"&RIGHT(TEXT(B469,\"0000\"),2)),0)","v":0}]
[468,null,null,null,null,{"$f":"IF(OR(MAX($I$2:I470)-I470=0,D470=0),\"\",MAX($I$2:I470)-I470)","v":""},"",0,10000,0,{"$f":"IF(B470>0,WEEKNUM(TEXT(Definice!$F$3,\"0000\")&\".\"&TEXT(J470,\"00\")&\".\"&RIGHT(TEXT(B470,\"0000\"),2)),0)","v":0}]
[469,null,null,null,null,{"$f":"IF(OR(MAX($I$2:I471)-I471=0,D471=0),\"\",MAX($I$2:I471)-I471)","v":""},"",0,10000,0,{"$f":"IF(B471>0,WEEKNUM(TEXT(Definice!$F$3,\"0000\")&\".\"&TEXT(J471,\"00\")&\".\"&RIGHT(TEXT(B471,\"0000\"),2)),0)","v":0}]
[470,null,null,null,null,{"$f":"IF(OR(MAX($I$2:I472)-I472=0,D472=0),\"\",MAX($I$2:I472)-I472)","v":""},"",0,10000,0,{"$f":"IF(B472>0,WEEKNUM(TEXT(Definice!$F$3,\"0000\")&\".\"&TEXT(J472,\"00\")&\".\"&RIGHT(TEXT(B472,\"0000\"),2)),0)","v":0}]
[471,null,null,null,null,{"$f":"IF(OR(MAX($I$2:I473)-I473=0,D473=0),\"\",MAX($I$2:I473)-I473)","v":""},"",0,10000,0,{"$f":"IF(B473>0,WEEKNUM(TEXT(Definice!$F$3,\"0000\")&\".\"&TEXT(J473,\"00\")&\".\"&RIGHT(TEXT(B473,\"0000\"),2)),0)","v":0}]
[472,null,null,null,null,{"$f":"IF(OR(MAX($I$2:I474)-I474=0,D474=0),\"\",MAX($I$2:I474)-I474)","v":""},"",0,10000,0,{"$f":"IF(B474>0,WEEKNUM(TEXT(Definice!$F$3,\"0000\")&\".\"&TEXT(J474,\"00\")&\".\"&RIGHT(TEXT(B474,\"0000\"),2)),0)","v":0}]
[473,null,null,null,null,{"$f":"IF(OR(MAX($I$2:I475)-I475=0,D475=0),\"\",MAX($I$2:I475)-I475)","v":""},"",0,10000,0,{"$f":"IF(B475>0,WEEKNUM(TEXT(Definice!$F$3,\"0000\")&\".\"&TEXT(J475,\"00\")&\".\"&RIGHT(TEXT(B475,\"0000\"),2)),0)","v":0}]
[474,null,null,null,null,{"$f":"IF(OR(MAX($I$2:I476)-I476=0,D476=0),\"\",MAX($I$2:I476)-I476)","v":""},"",0,10000,0,{"$f":"IF(B476>0,WEEKNUM(TEXT(Definice!$F$3,\"0000\")&\".\"&TEXT(J476,\"00\")&\".\"&RIGHT(TEXT(B476,\"0000\"),2)),0)","v":0}]
[475,null,null,null,null,{"$f":"IF(OR(MAX($I$2:I477)-I477=0,D477=0),\"\",MAX($I$2:I477)-I477)","v":""},"",0,10000,0,{"$f":"IF(B477>0,WEEKNUM(TEXT(Definice!$F$3,\"0000\")&\".\"&TEXT(J477,\"00\")&\".\"&RIGHT(TEXT(B477,\"0000\"),2)),0)","v":0}]
[476,null,null,null,null,{"$f":"IF(OR(MAX($I$2:I478)-I478=0,D478=0),\"\",MAX($I$2:I478)-I478)","v":""},"",0,10000,0,{"$f":"IF(B478>0,WEEKNUM(TEXT(Definice!$F$3,\"0000\")&\".\"&TEXT(J478,\"00\")&\".\"&RIGHT(TEXT(B478,\"0000\"),2)),0)","v":0}]
[477,null,null,null,null,{"$f":"IF(OR(MAX($I$2:I479)-I479=0,D479=0),\"\",MAX($I$2:I479)-I479)","v":""},"",0,10000,0,{"$f":"IF(B479>0,WEEKNUM(TEXT(Definice!$F$3,\"0000\")&\".\"&TEXT(J479,\"00\")&\".\"&RIGHT(TEXT(B479,\"0000\"),2)),0)","v":0}]
[478,null,null,null,null,{"$f":"IF(OR(MAX($I$2:I480)-I480=0,D480=0),\"\",MAX($I$2:I480)-I480)","v":""},"",0,10000,0,{"$f":"IF(B480>0,WEEKNUM(TEXT(Definice!$F$3,\"0000\")&\".\"&TEXT(J480,\"00\")&\".\"&RIGHT(TEXT(B480,\"0000\"),2)),0)","v":0}]
[479,null,null,null,null,{"$f":"IF(OR(MAX($I$2:I481)-I481=0,D481=0),\"\",MAX($I$2:I481)-I481)","v":""},"",0,10000,0,{"$f":"IF(B481>0,WEEKNUM(TEXT(Definice!$F$3,\"0000\")&\".\"&TEXT(J481,\"00\")&\".\"&RIGHT(TEXT(B481,\"0000\"),2)),0)","v":0}]
[480,null,null,null,null,{"$f":"IF(OR(MAX($I$2:I482)-I482=0,D482=0),\"\",MAX($I$2:I482)-I482)","v":""},"",0,10000,0,{"$f":"IF(B482>0,WEEKNUM(TEXT(Definice!$F$3,\"0000\")&\".\"&TEXT(J482,\"00\")&\".\"&RIGHT(TEXT(B482,\"0000\"),2)),0)","v":0}]
[481,null,null,null,null,{"$f":"IF(OR(MAX($I$2:I483)-I483=0,D483=0),\"\",MAX($I$2:I483)-I483)","v":""},"",0,10000,0,{"$f":"IF(B483>0,WEEKNUM(TEXT(Definice!$F$3,\"0000\")&\".\"&TEXT(J483,\"00\")&\".\"&RIGHT(TEXT(B483,\"0000\"),2)),0)","v":0}]
[482,null,null,null,null,{"$f":"IF(OR(MAX($I$2:I484)-I484=0,D484=0),\"\",MAX($I$2:I484)-I484)","v":""},"",0,10000,0,{"$f":"IF(B484>0,WEEKNUM(TEXT(Definice!$F$3,\"0000\")&\".\"&TEXT(J484,\"00\")&\".\"&RIGHT(TEXT(B484,\"0000\"),2)),0)","v":0}]
[483,null,null,null,null,{"$f":"IF(OR(MAX($I$2:I485)-I485=0,D485=0),\"\",MAX($I$2:I485)-I485)","v":""},"",0,10000,0,{"$f":"IF(B485>0,WEEKNUM(TEXT(Definice!$F$3,\"0000\")&\".\"&TEXT(J485,\"00\")&\".\"&RIGHT(TEXT(B485,\"0000\"),2)),0)","v":0}]
[484,null,null,null,null,{"$f":"IF(OR(MAX($I$2:I486)-I486=0,D486=0),\"\",MAX($I$2:I486)-I486)","v":""},"",0,10000,0,{"$f":"IF(B486>0,WEEKNUM(TEXT(Definice!$F$3,\"0000\")&\".\"&TEXT(J486,\"00\")&\".\"&RIGHT(TEXT(B486,\"0000\"),2)),0)","v":0}]
[485,null,null,null,null,{"$f":"IF(OR(MAX($I$2:I487)-I487=0,D487=0),\"\",MAX($I$2:I487)-I487)","v":""},"",0,10000,0,{"$f":"IF(B487>0,WEEKNUM(TEXT(Definice!$F$3,\"0000\")&\".\"&TEXT(J487,\"00\")&\".\"&RIGHT(TEXT(B487,\"0000\"),2)),0)","v":0}]
[486,null,null,null,null,{"$f":"IF(OR(MAX($I$2:I488)-I488=0,D488=0),\"\",MAX($I$2:I488)-I488)","v":""},"",0,10000,0,{"$f":"IF(B488>0,WEEKNUM(TEXT(Definice!$F$3,\"0000\")&\".\"&TEXT(J488,\"00\")&\".\"&RIGHT(TEXT(B488,\"0000\"),2)),0)","v":0}]
[487,null,null,null,null,{"$f":"IF(OR(MAX($I$2:I489)-I489=0,D489=0),\"\",MAX($I$2:I489)-I489)","v":""},"",0,10000,0,{"$f":"IF(B489>0,WEEKNUM(TEXT(Definice!$F$3,\"0000\")&\".\"&TEXT(J489,\"00\")&\".\"&RIGHT(TEXT(B489,\"0000\"),2)),0)","v":0}]
[488,null,null,null,null,{"$f":"IF(OR(MAX($I$2:I490)-I490=0,D490=0),\"\",MAX($I$2:I490)-I490)","v":""},"",0,10000,0,{"$f":"IF(B490>0,WEEKNUM(TEXT(Definice!$F$3,\"0000\")&\".\"&TEXT(J490,\"00\")&\".\"&RIGHT(TEXT(B490,\"0000\"),2)),0)","v":0}]
[489,null,null,null,null,{"$f":"IF(OR(MAX($I$2:I491)-I491=0,D491=0),\"\",MAX($I$2:I491)-I491)","v":""},"",0,10000,0,{"$f":"IF(B491>0,WEEKNUM(TEXT(Definice!$F$3,\"0000\")&\".\"&TEXT(J491,\"00\")&\".\"&RIGHT(TEXT(B491,\"0000\"),2)),0)","v":0}]
[490,null,null,null,null,{"$f":"IF(OR(MAX($I$2:I492)-I492=0,D492=0),\"\",MAX($I$2:I492)-I492)","v":""},"",0,10000,0,{"$f":"IF(B492>0,WEEKNUM(TEXT(Definice!$F$3,\"0000\")&\".\"&TEXT(J492,\"00\")&\".\"&RIGHT(TEXT(B492,\"0000\"),2)),0)","v":0}]
[491,null,null,null,null,{"$f":"IF(OR(MAX($I$2:I493)-I493=0,D493=0),\"\",MAX($I$2:I493)-I493)","v":""},"",0,10000,0,{"$f":"IF(B493>0,WEEKNUM(TEXT(Definice!$F$3,\"0000\")&\".\"&TEXT(J493,\"00\")&\".\"&RIGHT(TEXT(B493,\"0000\"),2)),0)","v":0}]
[492,null,null,null,null,{"$f":"IF(OR(MAX($I$2:I494)-I494=0,D494=0),\"\",MAX($I$2:I494)-I494)","v":""},"",0,10000,0,{"$f":"IF(B494>0,WEEKNUM(TEXT(Definice!$F$3,\"0000\")&\".\"&TEXT(J494,\"00\")&\".\"&RIGHT(TEXT(B494,\"0000\"),2)),0)","v":0}]
[493,null,null,null,null,{"$f":"IF(OR(MAX($I$2:I495)-I495=0,D495=0),\"\",MAX($I$2:I495)-I495)","v":""},"",0,10000,0,{"$f":"IF(B495>0,WEEKNUM(TEXT(Definice!$F$3,\"0000\")&\".\"&TEXT(J495,\"00\")&\".\"&RIGHT(TEXT(B495,\"0000\"),2)),0)","v":0}]
[494,null,null,null,null,{"$f":"IF(OR(MAX($I$2:I496)-I496=0,D496=0),\"\",MAX($I$2:I496)-I496)","v":""},"",0,10000,0,{"$f":"IF(B496>0,WEEKNUM(TEXT(Definice!$F$3,\"0000\")&\".\"&TEXT(J496,\"00\")&\".\"&RIGHT(TEXT(B496,\"0000\"),2)),0)","v":0}]
[495,null,null,null,null,{"$f":"IF(OR(MAX($I$2:I497)-I497=0,D497=0),\"\",MAX($I$2:I497)-I497)","v":""},"",0,10000,0,{"$f":"IF(B497>0,WEEKNUM(TEXT(Definice!$F$3,\"0000\")&\".\"&TEXT(J497,\"00\")&\".\"&RIGHT(TEXT(B497,\"0000\"),2)),0)","v":0}]
[496,null,null,null,null,{"$f":"IF(OR(MAX($I$2:I498)-I498=0,D498=0),\"\",MAX($I$2:I498)-I498)","v":""},"",0,10000,0,{"$f":"IF(B498>0,WEEKNUM(TEXT(Definice!$F$3,\"0000\")&\".\"&TEXT(J498,\"00\")&\".\"&RIGHT(TEXT(B498,\"0000\"),2)),0)","v":0}]
[497,null,null,null,null,{"$f":"IF(OR(MAX($I$2:I499)-I499=0,D499=0),\"\",MAX($I$2:I499)-I499)","v":""},"",0,10000,0,{"$f":"IF(B499>0,WEEKNUM(TEXT(Definice!$F$3,\"0000\")&\".\"&TEXT(J499,\"00\")&\".\"&RIGHT(TEXT(B499,\"0000\"),2)),0)","v":0}]
[498,null,null,null,null,{"$f":"IF(OR(MAX($I$2:I500)-I500=0,D500=0),\"\",MAX($I$2:I500)-I500)","v":""},"",0,10000,0,{"$f":"IF(B500>0,WEEKNUM(TEXT(Definice!$F$3,\"0000\")&\".\"&TEXT(J500,\"00\")&\".\"&RIGHT(TEXT(B500,\"0000\"),2)),0)","v":0}]
[499,null,null,null,null,{"$f":"IF(OR(MAX($I$2:I501)-I501=0,D501=0),\"\",MAX($I$2:I501)-I501)","v":""},"",0,10000,0,{"$f":"IF(B501>0,WEEKNUM(TEXT(Definice!$F$3,\"0000\")&\".\"&TEXT(J501,\"00\")&\".\"&RIGHT(TEXT(B501,\"0000\"),2)),0)","v":0}]
[500,null,null,null,null,{"$f":"IF(OR(MAX($I$2:I502)-I502=0,D502=0),\"\",MAX($I$2:I502)-I502)","v":""},"",0,10000,0,{"$f":"IF(B502>0,WEEKNUM(TEXT(Definice!$F$3,\"0000\")&\".\"&TEXT(J502,\"00\")&\".\"&RIGHT(TEXT(B502,\"0000\"),2)),0)","v":0}]
[501,null,null,null,null,{"$f":"IF(OR(MAX($I$2:I503)-I503=0,D503=0),\"\",MAX($I$2:I503)-I503)","v":""},"",0,10000,0,{"$f":"IF(B503>0,WEEKNUM(TEXT(Definice!$F$3,\"0000\")&\".\"&TEXT(J503,\"00\")&\".\"&RIGHT(TEXT(B503,\"0000\"),2)),0)","v":0}]
[502,null,null,null,null,{"$f":"IF(OR(MAX($I$2:I504)-I504=0,D504=0),\"\",MAX($I$2:I504)-I504)","v":""},"",0,10000,0,{"$f":"IF(B504>0,WEEKNUM(TEXT(Definice!$F$3,\"0000\")&\".\"&TEXT(J504,\"00\")&\".\"&RIGHT(TEXT(B504,\"0000\"),2)),0)","v":0}]
[503,null,null,null,null,{"$f":"IF(OR(MAX($I$2:I505)-I505=0,D505=0),\"\",MAX($I$2:I505)-I505)","v":""},"",0,10000,0,{"$f":"IF(B505>0,WEEKNUM(TEXT(Definice!$F$3,\"0000\")&\".\"&TEXT(J505,\"00\")&\".\"&RIGHT(TEXT(B505,\"0000\"),2)),0)","v":0}]
[504,null,null,null,null,{"$f":"IF(OR(MAX($I$2:I506)-I506=0,D506=0),\"\",MAX($I$2:I506)-I506)","v":""},"",0,10000,0,{"$f":"IF(B506>0,WEEKNUM(TEXT(Definice!$F$3,\"0000\")&\".\"&TEXT(J506,\"00\")&\".\"&RIGHT(TEXT(B506,\"0000\"),2)),0)","v":0}]
[505,null,null,null,null,{"$f":"IF(OR(MAX($I$2:I507)-I507=0,D507=0),\"\",MAX($I$2:I507)-I507)","v":""},"",0,10000,0,{"$f":"IF(B507>0,WEEKNUM(TEXT(Definice!$F$3,\"0000\")&\".\"&TEXT(J507,\"00\")&\".\"&RIGHT(TEXT(B507,\"0000\"),2)),0)","v":0}]
[506,null,null,null,null,{"$f":"IF(OR(MAX($I$2:I508)-I508=0,D508=0),\"\",MAX($I$2:I508)-I508)","v":""},"",0,10000,0,{"$f":"IF(B508>0,WEEKNUM(TEXT(Definice!$F$3,\"0000\")&\".\"&TEXT(J508,\"00\")&\".\"&RIGHT(TEXT(B508,\"0000\"),2)),0)","v":0}]
[507,null,null,null,null,{"$f":"IF(OR(MAX($I$2:I509)-I509=0,D509=0),\"\",MAX($I$2:I509)-I509)","v":""},"",0,10000,0,{"$f":"IF(B509>0,WEEKNUM(TEXT(Definice!$F$3,\"0000\")&\".\"&TEXT(J509,\"00\")&\".\"&RIGHT(TEXT(B509,\"0000\"),2)),0)","v":0}]
[508,null,null,null,null,{"$f":"IF(OR(MAX($I$2:I510)-I510=0,D510=0),\"\",MAX($I$2:I510)-I510)","v":""},"",0,10000,0,{"$f":"IF(B510>0,WEEKNUM(TEXT(Definice!$F$3,\"0000\")&\".\"&TEXT(J510,\"00\")&\".\"&RIGHT(TEXT(B510,\"0000\"),2)),0)","v":0}]
[509,null,null,null,null,{"$f":"IF(OR(MAX($I$2:I511)-I511=0,D511=0),\"\",MAX($I$2:I511)-I511)","v":""},"",0,10000,0,{"$f":"IF(B511>0,WEEKNUM(TEXT(Definice!$F$3,\"0000\")&\".\"&TEXT(J511,\"00\")&\".\"&RIGHT(TEXT(B511,\"0000\"),2)),0)","v":0}]
[510,null,null,null,null,{"$f":"IF(OR(MAX($I$2:I512)-I512=0,D512=0),\"\",MAX($I$2:I512)-I512)","v":""},"",0,10000,0,{"$f":"IF(B512>0,WEEKNUM(TEXT(Definice!$F$3,\"0000\")&\".\"&TEXT(J512,\"00\")&\".\"&RIGHT(TEXT(B512,\"0000\"),2)),0)","v":0}]
[511,null,null,null,null,{"$f":"IF(OR(MAX($I$2:I513)-I513=0,D513=0),\"\",MAX($I$2:I513)-I513)","v":""},"",0,10000,0,{"$f":"IF(B513>0,WEEKNUM(TEXT(Definice!$F$3,\"0000\")&\".\"&TEXT(J513,\"00\")&\".\"&RIGHT(TEXT(B513,\"0000\"),2)),0)","v":0}]
[512,null,null,null,null,{"$f":"IF(OR(MAX($I$2:I514)-I514=0,D514=0),\"\",MAX($I$2:I514)-I514)","v":""},"",0,10000,0,{"$f":"IF(B514>0,WEEKNUM(TEXT(Definice!$F$3,\"0000\")&\".\"&TEXT(J514,\"00\")&\".\"&RIGHT(TEXT(B514,\"0000\"),2)),0)","v":0}]
[513,null,null,null,null,{"$f":"IF(OR(MAX($I$2:I515)-I515=0,D515=0),\"\",MAX($I$2:I515)-I515)","v":""},"",0,10000,0,{"$f":"IF(B515>0,WEEKNUM(TEXT(Definice!$F$3,\"0000\")&\".\"&TEXT(J515,\"00\")&\".\"&RIGHT(TEXT(B515,\"0000\"),2)),0)","v":0}]
[514,null,null,null,null,{"$f":"IF(OR(MAX($I$2:I516)-I516=0,D516=0),\"\",MAX($I$2:I516)-I516)","v":""},"",0,10000,{"$f":"((INT(B516/100)/100)-INT(INT(B516/100)/100))*100","v":0},{"$f":"IF(B516>0,WEEKNUM(TEXT(Definice!$F$3,\"0000\")&\".\"&TEXT(J516,\"00\")&\".\"&RIGHT(TEXT(B516,\"0000\"),2)),0)","v":0}]
[515,null,null,null,null,{"$f":"IF(OR(MAX($I$2:I517)-I517=0,D517=0),\"\",MAX($I$2:I517)-I517)","v":""},{"$f":"IF(F517=\"\",\"\",F517/(H517+I516))","v":""},{"$f":"H516+E517","v":0},{"$f":"I516+E517","v":10000},0,{"$f":"IF(B517>0,WEEKNUM(TEXT(Definice!$F$3,\"0000\")&\".\"&TEXT(J517,\"00\")&\".\"&RIGHT(TEXT(B517,\"0000\"),2)),0)","v":0}]
[516,null,null,null,null,{"$f":"IF(OR(MAX($I$2:I518)-I518=0,D518=0),\"\",MAX($I$2:I518)-I518)","v":""},"",0,10000,0,{"$f":"IF(B518>0,WEEKNUM(TEXT(Definice!$F$3,\"0000\")&\".\"&TEXT(J518,\"00\")&\".\"&RIGHT(TEXT(B518,\"0000\"),2)),0)","v":0}]
[517,null,null,null,null,{"$f":"IF(OR(MAX($I$2:I519)-I519=0,D519=0),\"\",MAX($I$2:I519)-I519)","v":""},"",0,10000,0,{"$f":"IF(B519>0,WEEKNUM(TEXT(Definice!$F$3,\"0000\")&\".\"&TEXT(J519,\"00\")&\".\"&RIGHT(TEXT(B519,\"0000\"),2)),0)","v":0}]
[518,null,null,null,null,{"$f":"IF(OR(MAX($I$2:I520)-I520=0,D520=0),\"\",MAX($I$2:I520)-I520)","v":""},"",0,10000,0,{"$f":"IF(B520>0,WEEKNUM(TEXT(Definice!$F$3,\"0000\")&\".\"&TEXT(J520,\"00\")&\".\"&RIGHT(TEXT(B520,\"0000\"),2)),0)","v":0}]
[519,null,null,null,null,{"$f":"IF(OR(MAX($I$2:I521)-I521=0,D521=0),\"\",MAX($I$2:I521)-I521)","v":""},"",0,10000,0,{"$f":"IF(B521>0,WEEKNUM(TEXT(Definice!$F$3,\"0000\")&\".\"&TEXT(J521,\"00\")&\".\"&RIGHT(TEXT(B521,\"0000\"),2)),0)","v":0}]
[520,null,null,null,null,{"$f":"IF(OR(MAX($I$2:I522)-I522=0,D522=0),\"\",MAX($I$2:I522)-I522)","v":""},"",0,10000,0,{"$f":"IF(B522>0,WEEKNUM(TEXT(Definice!$F$3,\"0000\")&\".\"&TEXT(J522,\"00\")&\".\"&RIGHT(TEXT(B522,\"0000\"),2)),0)","v":0}]
[521,null,null,null,null,{"$f":"IF(OR(MAX($I$2:I523)-I523=0,D523=0),\"\",MAX($I$2:I523)-I523)","v":""},"",0,10000,0,{"$f":"IF(B523>0,WEEKNUM(TEXT(Definice!$F$3,\"0000\")&\".\"&TEXT(J523,\"00\")&\".\"&RIGHT(TEXT(B523,\"0000\"),2)),0)","v":0}]
[522,null,null,null,null,{"$f":"IF(OR(MAX($I$2:I524)-I524=0,D524=0),\"\",MAX($I$2:I524)-I524)","v":""},"",0,10000,0,{"$f":"IF(B524>0,WEEKNUM(TEXT(Definice!$F$3,\"0000\")&\".\"&TEXT(J524,\"00\")&\".\"&RIGHT(TEXT(B524,\"0000\"),2)),0)","v":0}]
[523,null,null,null,null,{"$f":"IF(OR(MAX($I$2:I525)-I525=0,D525=0),\"\",MAX($I$2:I525)-I525)","v":""},"",0,10000,0,{"$f":"IF(B525>0,WEEKNUM(TEXT(Definice!$F$3,\"0000\")&\".\"&TEXT(J525,\"00\")&\".\"&RIGHT(TEXT(B525,\"0000\"),2)),0)","v":0}]
[524,null,null,null,null,{"$f":"IF(OR(MAX($I$2:I526)-I526=0,D526=0),\"\",MAX($I$2:I526)-I526)","v":""},"",0,10000,0,{"$f":"IF(B526>0,WEEKNUM(TEXT(Definice!$F$3,\"0000\")&\".\"&TEXT(J526,\"00\")&\".\"&RIGHT(TEXT(B526,\"0000\"),2)),0)","v":0}]
[525,null,null,null,null,{"$f":"IF(OR(MAX($I$2:I527)-I527=0,D527=0),\"\",MAX($I$2:I527)-I527)","v":""},"",0,10000,0,{"$f":"IF(B527>0,WEEKNUM(TEXT(Definice!$F$3,\"0000\")&\".\"&TEXT(J527,\"00\")&\".\"&RIGHT(TEXT(B527,\"0000\"),2)),0)","v":0}]
[526,null,null,null,null,{"$f":"IF(OR(MAX($I$2:I528)-I528=0,D528=0),\"\",MAX($I$2:I528)-I528)","v":""},"",0,10000,0,{"$f":"IF(B528>0,WEEKNUM(TEXT(Definice!$F$3,\"0000\")&\".\"&TEXT(J528,\"00\")&\".\"&RIGHT(TEXT(B528,\"0000\"),2)),0)","v":0}]
[527,null,null,null,null,{"$f":"IF(OR(MAX($I$2:I529)-I529=0,D529=0),\"\",MAX($I$2:I529)-I529)","v":""},"",0,10000,0,{"$f":"IF(B529>0,WEEKNUM(TEXT(Definice!$F$3,\"0000\")&\".\"&TEXT(J529,\"00\")&\".\"&RIGHT(TEXT(B529,\"0000\"),2)),0)","v":0}]
[528,null,null,null,null,{"$f":"IF(OR(MAX($I$2:I530)-I530=0,D530=0),\"\",MAX($I$2:I530)-I530)","v":""},"",0,10000,0,{"$f":"IF(B530>0,WEEKNUM(TEXT(Definice!$F$3,\"0000\")&\".\"&TEXT(J530,\"00\")&\".\"&RIGHT(TEXT(B530,\"0000\"),2)),0)","v":0}]
[529,null,null,null,null,{"$f":"IF(OR(MAX($I$2:I531)-I531=0,D531=0),\"\",MAX($I$2:I531)-I531)","v":""},"",0,10000,0,{"$f":"IF(B531>0,WEEKNUM(TEXT(Definice!$F$3,\"0000\")&\".\"&TEXT(J531,\"00\")&\".\"&RIGHT(TEXT(B531,\"0000\"),2)),0)","v":0}]
[530,null,null,null,null,{"$f":"IF(OR(MAX($I$2:I532)-I532=0,D532=0),\"\",MAX($I$2:I532)-I532)","v":""},"",0,10000,0,{"$f":"IF(B532>0,WEEKNUM(TEXT(Definice!$F$3,\"0000\")&\".\"&TEXT(J532,\"00\")&\".\"&RIGHT(TEXT(B532,\"0000\"),2)),0)","v":0}]
[531,null,null,null,null,{"$f":"IF(OR(MAX($I$2:I533)-I533=0,D533=0),\"\",MAX($I$2:I533)-I533)","v":""},"",0,10000,0,{"$f":"IF(B533>0,WEEKNUM(TEXT(Definice!$F$3,\"0000\")&\".\"&TEXT(J533,\"00\")&\".\"&RIGHT(TEXT(B533,\"0000\"),2)),0)","v":0}]
[532,null,null,null,null,{"$f":"IF(OR(MAX($I$2:I534)-I534=0,D534=0),\"\",MAX($I$2:I534)-I534)","v":""},"",0,10000,0,{"$f":"IF(B534>0,WEEKNUM(TEXT(Definice!$F$3,\"0000\")&\".\"&TEXT(J534,\"00\")&\".\"&RIGHT(TEXT(B534,\"0000\"),2)),0)","v":0}]
[533,null,null,null,null,{"$f":"IF(OR(MAX($I$2:I535)-I535=0,D535=0),\"\",MAX($I$2:I535)-I535)","v":""},"",0,10000,0,{"$f":"IF(B535>0,WEEKNUM(TEXT(Definice!$F$3,\"0000\")&\".\"&TEXT(J535,\"00\")&\".\"&RIGHT(TEXT(B535,\"0000\"),2)),0)","v":0}]
[534,null,null,null,null,{"$f":"IF(OR(MAX($I$2:I536)-I536=0,D536=0),\"\",MAX($I$2:I536)-I536)","v":""},"",0,10000,0,{"$f":"IF(B536>0,WEEKNUM(TEXT(Definice!$F$3,\"0000\")&\".\"&TEXT(J536,\"00\")&\".\"&RIGHT(TEXT(B536,\"0000\"),2)),0)","v":0}]
[535,null,null,null,null,{"$f":"IF(OR(MAX($I$2:I537)-I537=0,D537=0),\"\",MAX($I$2:I537)-I537)","v":""},"",0,10000,0,{"$f":"IF(B537>0,WEEKNUM(TEXT(Definice!$F$3,\"0000\")&\".\"&TEXT(J537,\"00\")&\".\"&RIGHT(TEXT(B537,\"0000\"),2)),0)","v":0}]
[536,null,null,null,null,{"$f":"IF(OR(MAX($I$2:I538)-I538=0,D538=0),\"\",MAX($I$2:I538)-I538)","v":""},"",0,10000,0,{"$f":"IF(B538>0,WEEKNUM(TEXT(Definice!$F$3,\"0000\")&\".\"&TEXT(J538,\"00\")&\".\"&RIGHT(TEXT(B538,\"0000\"),2)),0)","v":0}]
[537,null,null,null,null,{"$f":"IF(OR(MAX($I$2:I539)-I539=0,D539=0),\"\",MAX($I$2:I539)-I539)","v":""},"",0,10000,0,{"$f":"IF(B539>0,WEEKNUM(TEXT(Definice!$F$3,\"0000\")&\".\"&TEXT(J539,\"00\")&\".\"&RIGHT(TEXT(B539,\"0000\"),2)),0)","v":0}]
[538,null,null,null,null,{"$f":"IF(OR(MAX($I$2:I540)-I540=0,D540=0),\"\",MAX($I$2:I540)-I540)","v":""},"",0,10000,0,{"$f":"IF(B540>0,WEEKNUM(TEXT(Definice!$F$3,\"0000\")&\".\"&TEXT(J540,\"00\")&\".\"&RIGHT(TEXT(B540,\"0000\"),2)),0)","v":0}]
[539,null,null,null,null,{"$f":"IF(OR(MAX($I$2:I541)-I541=0,D541=0),\"\",MAX($I$2:I541)-I541)","v":""},"",0,10000,0,{"$f":"IF(B541>0,WEEKNUM(TEXT(Definice!$F$3,\"0000\")&\".\"&TEXT(J541,\"00\")&\".\"&RIGHT(TEXT(B541,\"0000\"),2)),0)","v":0}]
[540,null,null,null,null,{"$f":"IF(OR(MAX($I$2:I542)-I542=0,D542=0),\"\",MAX($I$2:I542)-I542)","v":""},"",0,10000,0,{"$f":"IF(B542>0,WEEKNUM(TEXT(Definice!$F$3,\"0000\")&\".\"&TEXT(J542,\"00\")&\".\"&RIGHT(TEXT(B542,\"0000\"),2)),0)","v":0}]
[541,null,null,null,null,{"$f":"IF(OR(MAX($I$2:I543)-I543=0,D543=0),\"\",MAX($I$2:I543)-I543)","v":""},"",0,10000,0,{"$f":"IF(B543>0,WEEKNUM(TEXT(Definice!$F$3,\"0000\")&\".\"&TEXT(J543,\"00\")&\".\"&RIGHT(TEXT(B543,\"0000\"),2)),0)","v":0}]
[542,null,null,null,null,{"$f":"IF(OR(MAX($I$2:I544)-I544=0,D544=0),\"\",MAX($I$2:I544)-I544)","v":""},"",0,10000,0,{"$f":"IF(B544>0,WEEKNUM(TEXT(Definice!$F$3,\"0000\")&\".\"&TEXT(J544,\"00\")&\".\"&RIGHT(TEXT(B544,\"0000\"),2)),0)","v":0}]
[543,null,null,null,null,{"$f":"IF(OR(MAX($I$2:I545)-I545=0,D545=0),\"\",MAX($I$2:I545)-I545)","v":""},"",0,10000,0,{"$f":"IF(B545>0,WEEKNUM(TEXT(Definice!$F$3,\"0000\")&\".\"&TEXT(J545,\"00\")&\".\"&RIGHT(TEXT(B545,\"0000\"),2)),0)","v":0}]
[544,null,null,null,null,{"$f":"IF(OR(MAX($I$2:I546)-I546=0,D546=0),\"\",MAX($I$2:I546)-I546)","v":""},"",0,10000,0,{"$f":"IF(B546>0,WEEKNUM(TEXT(Definice!$F$3,\"0000\")&\".\"&TEXT(J546,\"00\")&\".\"&RIGHT(TEXT(B546,\"0000\"),2)),0)","v":0}]
[545,null,null,null,null,{"$f":"IF(OR(MAX($I$2:I547)-I547=0,D547=0),\"\",MAX($I$2:I547)-I547)","v":""},"",0,10000,0,{"$f":"IF(B547>0,WEEKNUM(TEXT(Definice!$F$3,\"0000\")&\".\"&TEXT(J547,\"00\")&\".\"&RIGHT(TEXT(B547,\"0000\"),2)),0)","v":0}]
[546,null,null,null,null,{"$f":"IF(OR(MAX($I$2:I548)-I548=0,D548=0),\"\",MAX($I$2:I548)-I548)","v":""},"",0,10000,0,{"$f":"IF(B548>0,WEEKNUM(TEXT(Definice!$F$3,\"0000\")&\".\"&TEXT(J548,\"00\")&\".\"&RIGHT(TEXT(B548,\"0000\"),2)),0)","v":0}]
[547,null,null,null,null,{"$f":"IF(OR(MAX($I$2:I549)-I549=0,D549=0),\"\",MAX($I$2:I549)-I549)","v":""},"",0,10000,0,{"$f":"IF(B549>0,WEEKNUM(TEXT(Definice!$F$3,\"0000\")&\".\"&TEXT(J549,\"00\")&\".\"&RIGHT(TEXT(B549,\"0000\"),2)),0)","v":0}]
[548,null,null,null,null,{"$f":"IF(OR(MAX($I$2:I550)-I550=0,D550=0),\"\",MAX($I$2:I550)-I550)","v":""},"",0,10000,0,{"$f":"IF(B550>0,WEEKNUM(TEXT(Definice!$F$3,\"0000\")&\".\"&TEXT(J550,\"00\")&\".\"&RIGHT(TEXT(B550,\"0000\"),2)),0)","v":0}]
[549,null,null,null,null,{"$f":"IF(OR(MAX($I$2:I551)-I551=0,D551=0),\"\",MAX($I$2:I551)-I551)","v":""},"",0,10000,0,{"$f":"IF(B551>0,WEEKNUM(TEXT(Definice!$F$3,\"0000\")&\".\"&TEXT(J551,\"00\")&\".\"&RIGHT(TEXT(B551,\"0000\"),2)),0)","v":0}]
[550,null,null,null,null,{"$f":"IF(OR(MAX($I$2:I552)-I552=0,D552=0),\"\",MAX($I$2:I552)-I552)","v":""},"",0,10000,0,{"$f":"IF(B552>0,WEEKNUM(TEXT(Definice!$F$3,\"0000\")&\".\"&TEXT(J552,\"00\")&\".\"&RIGHT(TEXT(B552,\"0000\"),2)),0)","v":0}]
[551,null,null,null,null,{"$f":"IF(OR(MAX($I$2:I553)-I553=0,D553=0),\"\",MAX($I$2:I553)-I553)","v":""},"",0,10000,0,{"$f":"IF(B553>0,WEEKNUM(TEXT(Definice!$F$3,\"0000\")&\".\"&TEXT(J553,\"00\")&\".\"&RIGHT(TEXT(B553,\"0000\"),2)),0)","v":0}]
[552,null,null,null,null,{"$f":"IF(OR(MAX($I$2:I554)-I554=0,D554=0),\"\",MAX($I$2:I554)-I554)","v":""},"",0,10000,0,{"$f":"IF(B554>0,WEEKNUM(TEXT(Definice!$F$3,\"0000\")&\".\"&TEXT(J554,\"00\")&\".\"&RIGHT(TEXT(B554,\"0000\"),2)),0)","v":0}]
[553,null,null,null,null,{"$f":"IF(OR(MAX($I$2:I555)-I555=0,D555=0),\"\",MAX($I$2:I555)-I555)","v":""},"",0,10000,0,{"$f":"IF(B555>0,WEEKNUM(TEXT(Definice!$F$3,\"0000\")&\".\"&TEXT(J555,\"00\")&\".\"&RIGHT(TEXT(B555,\"0000\"),2)),0)","v":0}]
[554,null,null,null,null,{"$f":"IF(OR(MAX($I$2:I556)-I556=0,D556=0),\"\",MAX($I$2:I556)-I556)","v":""},"",0,10000,0,{"$f":"IF(B556>0,WEEKNUM(TEXT(Definice!$F$3,\"0000\")&\".\"&TEXT(J556,\"00\")&\".\"&RIGHT(TEXT(B556,\"0000\"),2)),0)","v":0}]
[555,null,null,null,null,{"$f":"IF(OR(MAX($I$2:I557)-I557=0,D557=0),\"\",MAX($I$2:I557)-I557)","v":""},"",0,10000,0,{"$f":"IF(B557>0,WEEKNUM(TEXT(Definice!$F$3,\"0000\")&\".\"&TEXT(J557,\"00\")&\".\"&RIGHT(TEXT(B557,\"0000\"),2)),0)","v":0}]
[556,null,null,null,null,{"$f":"IF(OR(MAX($I$2:I558)-I558=0,D558=0),\"\",MAX($I$2:I558)-I558)","v":""},"",0,10000,0,{"$f":"IF(B558>0,WEEKNUM(TEXT(Definice!$F$3,\"0000\")&\".\"&TEXT(J558,\"00\")&\".\"&RIGHT(TEXT(B558,\"0000\"),2)),0)","v":0}]
[557,null,null,null,null,{"$f":"IF(OR(MAX($I$2:I559)-I559=0,D559=0),\"\",MAX($I$2:I559)-I559)","v":""},"",0,10000,0,{"$f":"IF(B559>0,WEEKNUM(TEXT(Definice!$F$3,\"0000\")&\".\"&TEXT(J559,\"00\")&\".\"&RIGHT(TEXT(B559,\"0000\"),2)),0)","v":0}]
[558,null,null,null,null,{"$f":"IF(OR(MAX($I$2:I560)-I560=0,D560=0),\"\",MAX($I$2:I560)-I560)","v":""},"",0,10000,0,{"$f":"IF(B560>0,WEEKNUM(TEXT(Definice!$F$3,\"0000\")&\".\"&TEXT(J560,\"00\")&\".\"&RIGHT(TEXT(B560,\"0000\"),2)),0)","v":0}]
[559,null,null,null,null,{"$f":"IF(OR(MAX($I$2:I561)-I561=0,D561=0),\"\",MAX($I$2:I561)-I561)","v":""},"",0,10000,0,{"$f":"IF(B561>0,WEEKNUM(TEXT(Definice!$F$3,\"0000\")&\".\"&TEXT(J561,\"00\")&\".\"&RIGHT(TEXT(B561,\"0000\"),2)),0)","v":0}]
[560,null,null,null,null,{"$f":"IF(OR(MAX($I$2:I562)-I562=0,D562=0),\"\",MAX($I$2:I562)-I562)","v":""},"",0,10000,0,{"$f":"IF(B562>0,WEEKNUM(TEXT(Definice!$F$3,\"0000\")&\".\"&TEXT(J562,\"00\")&\".\"&RIGHT(TEXT(B562,\"0000\"),2)),0)","v":0}]
[561,null,null,null,null,{"$f":"IF(OR(MAX($I$2:I563)-I563=0,D563=0),\"\",MAX($I$2:I563)-I563)","v":""},"",0,10000,0,{"$f":"IF(B563>0,WEEKNUM(TEXT(Definice!$F$3,\"0000\")&\".\"&TEXT(J563,\"00\")&\".\"&RIGHT(TEXT(B563,\"0000\"),2)),0)","v":0}]
[562,null,null,null,null,{"$f":"IF(OR(MAX($I$2:I564)-I564=0,D564=0),\"\",MAX($I$2:I564)-I564)","v":""},"",0,10000,0,{"$f":"IF(B564>0,WEEKNUM(TEXT(Definice!$F$3,\"0000\")&\".\"&TEXT(J564,\"00\")&\".\"&RIGHT(TEXT(B564,\"0000\"),2)),0)","v":0}]
[563,null,null,null,null,{"$f":"IF(OR(MAX($I$2:I565)-I565=0,D565=0),\"\",MAX($I$2:I565)-I565)","v":""},"",0,10000,0,{"$f":"IF(B565>0,WEEKNUM(TEXT(Definice!$F$3,\"0000\")&\".\"&TEXT(J565,\"00\")&\".\"&RIGHT(TEXT(B565,\"0000\"),2)),0)","v":0}]
[564,null,null,null,null,{"$f":"IF(OR(MAX($I$2:I566)-I566=0,D566=0),\"\",MAX($I$2:I566)-I566)","v":""},"",0,10000,0,{"$f":"IF(B566>0,WEEKNUM(TEXT(Definice!$F$3,\"0000\")&\".\"&TEXT(J566,\"00\")&\".\"&RIGHT(TEXT(B566,\"0000\"),2)),0)","v":0}]
[565,null,null,null,null,{"$f":"IF(OR(MAX($I$2:I567)-I567=0,D567=0),\"\",MAX($I$2:I567)-I567)","v":""},"",0,10000,0,{"$f":"IF(B567>0,WEEKNUM(TEXT(Definice!$F$3,\"0000\")&\".\"&TEXT(J567,\"00\")&\".\"&RIGHT(TEXT(B567,\"0000\"),2)),0)","v":0}]
[566,null,null,null,null,{"$f":"IF(OR(MAX($I$2:I568)-I568=0,D568=0),\"\",MAX($I$2:I568)-I568)","v":""},"",0,10000,0,{"$f":"IF(B568>0,WEEKNUM(TEXT(Definice!$F$3,\"0000\")&\".\"&TEXT(J568,\"00\")&\".\"&RIGHT(TEXT(B568,\"0000\"),2)),0)","v":0}]
[567,null,null,null,null,{"$f":"IF(OR(MAX($I$2:I569)-I569=0,D569=0),\"\",MAX($I$2:I569)-I569)","v":""},"",0,10000,0,{"$f":"IF(B569>0,WEEKNUM(TEXT(Definice!$F$3,\"0000\")&\".\"&TEXT(J569,\"00\")&\".\"&RIGHT(TEXT(B569,\"0000\"),2)),0)","v":0}]
[568,null,null,null,null,{"$f":"IF(OR(MAX($I$2:I570)-I570=0,D570=0),\"\",MAX($I$2:I570)-I570)","v":""},"",0,10000,0,{"$f":"IF(B570>0,WEEKNUM(TEXT(Definice!$F$3,\"0000\")&\".\"&TEXT(J570,\"00\")&\".\"&RIGHT(TEXT(B570,\"0000\"),2)),0)","v":0}]
[569,null,null,null,null,{"$f":"IF(OR(MAX($I$2:I571)-I571=0,D571=0),\"\",MAX($I$2:I571)-I571)","v":""},"",0,10000,0,{"$f":"IF(B571>0,WEEKNUM(TEXT(Definice!$F$3,\"0000\")&\".\"&TEXT(J571,\"00\")&\".\"&RIGHT(TEXT(B571,\"0000\"),2)),0)","v":0}]
[570,null,null,null,null,{"$f":"IF(OR(MAX($I$2:I572)-I572=0,D572=0),\"\",MAX($I$2:I572)-I572)","v":""},"",0,10000,0,{"$f":"IF(B572>0,WEEKNUM(TEXT(Definice!$F$3,\"0000\")&\".\"&TEXT(J572,\"00\")&\".\"&RIGHT(TEXT(B572,\"0000\"),2)),0)","v":0}]
[571,null,null,null,null,{"$f":"IF(OR(MAX($I$2:I573)-I573=0,D573=0),\"\",MAX($I$2:I573)-I573)","v":""},"",0,10000,0,{"$f":"IF(B573>0,WEEKNUM(TEXT(Definice!$F$3,\"0000\")&\".\"&TEXT(J573,\"00\")&\".\"&RIGHT(TEXT(B573,\"0000\"),2)),0)","v":0}]
[572,null,null,null,null,{"$f":"IF(OR(MAX($I$2:I574)-I574=0,D574=0),\"\",MAX($I$2:I574)-I574)","v":""},"",0,10000,0,{"$f":"IF(B574>0,WEEKNUM(TEXT(Definice!$F$3,\"0000\")&\".\"&TEXT(J574,\"00\")&\".\"&RIGHT(TEXT(B574,\"0000\"),2)),0)","v":0}]
[573,null,null,null,null,{"$f":"IF(OR(MAX($I$2:I575)-I575=0,D575=0),\"\",MAX($I$2:I575)-I575)","v":""},"",0,10000,0,{"$f":"IF(B575>0,WEEKNUM(TEXT(Definice!$F$3,\"0000\")&\".\"&TEXT(J575,\"00\")&\".\"&RIGHT(TEXT(B575,\"0000\"),2)),0)","v":0}]
[574,null,null,null,null,{"$f":"IF(OR(MAX($I$2:I576)-I576=0,D576=0),\"\",MAX($I$2:I576)-I576)","v":""},"",0,10000,0,{"$f":"IF(B576>0,WEEKNUM(TEXT(Definice!$F$3,\"0000\")&\".\"&TEXT(J576,\"00\")&\".\"&RIGHT(TEXT(B576,\"0000\"),2)),0)","v":0}]
[575,null,null,null,null,{"$f":"IF(OR(MAX($I$2:I577)-I577=0,D577=0),\"\",MAX($I$2:I577)-I577)","v":""},"",0,10000,0,{"$f":"IF(B577>0,WEEKNUM(TEXT(Definice!$F$3,\"0000\")&\".\"&TEXT(J577,\"00\")&\".\"&RIGHT(TEXT(B577,\"0000\"),2)),0)","v":0}]
[576,null,null,null,null,{"$f":"IF(OR(MAX($I$2:I578)-I578=0,D578=0),\"\",MAX($I$2:I578)-I578)","v":""},"",0,10000,0,{"$f":"IF(B578>0,WEEKNUM(TEXT(Definice!$F$3,\"0000\")&\".\"&TEXT(J578,\"00\")&\".\"&RIGHT(TEXT(B578,\"0000\"),2)),0)","v":0}]
[577,null,null,null,null,{"$f":"IF(OR(MAX($I$2:I579)-I579=0,D579=0),\"\",MAX($I$2:I579)-I579)","v":""},"",0,10000,0,{"$f":"IF(B579>0,WEEKNUM(TEXT(Definice!$F$3,\"0000\")&\".\"&TEXT(J579,\"00\")&\".\"&RIGHT(TEXT(B579,\"0000\"),2)),0)","v":0}]
[578,null,null,null,null,{"$f":"IF(OR(MAX($I$2:I580)-I580=0,D580=0),\"\",MAX($I$2:I580)-I580)","v":""},"",0,10000,{"$f":"((INT(B580/100)/100)-INT(INT(B580/100)/100))*100","v":0},{"$f":"IF(B580>0,WEEKNUM(TEXT(Definice!$F$3,\"0000\")&\".\"&TEXT(J580,\"00\")&\".\"&RIGHT(TEXT(B580,\"0000\"),2)),0)","v":0}]
[579,null,null,null,null,{"$f":"IF(OR(MAX($I$2:I581)-I581=0,D581=0),\"\",MAX($I$2:I581)-I581)","v":""},{"$f":"IF(F581=\"\",\"\",F581/(H581+I580))","v":""},{"$f":"H580+E581","v":0},{"$f":"I580+E581","v":10000},0,{"$f":"IF(B581>0,WEEKNUM(TEXT(Definice!$F$3,\"0000\")&\".\"&TEXT(J581,\"00\")&\".\"&RIGHT(TEXT(B581,\"0000\"),2)),0)","v":0}]
[580,null,null,null,null,{"$f":"IF(OR(MAX($I$2:I582)-I582=0,D582=0),\"\",MAX($I$2:I582)-I582)","v":""},"",0,10000,0,{"$f":"IF(B582>0,WEEKNUM(TEXT(Definice!$F$3,\"0000\")&\".\"&TEXT(J582,\"00\")&\".\"&RIGHT(TEXT(B582,\"0000\"),2)),0)","v":0}]
[581,null,null,null,null,{"$f":"IF(OR(MAX($I$2:I583)-I583=0,D583=0),\"\",MAX($I$2:I583)-I583)","v":""},"",0,10000,0,{"$f":"IF(B583>0,WEEKNUM(TEXT(Definice!$F$3,\"0000\")&\".\"&TEXT(J583,\"00\")&\".\"&RIGHT(TEXT(B583,\"0000\"),2)),0)","v":0}]
[582,null,null,null,null,{"$f":"IF(OR(MAX($I$2:I584)-I584=0,D584=0),\"\",MAX($I$2:I584)-I584)","v":""},"",0,10000,0,{"$f":"IF(B584>0,WEEKNUM(TEXT(Definice!$F$3,\"0000\")&\".\"&TEXT(J584,\"00\")&\".\"&RIGHT(TEXT(B584,\"0000\"),2)),0)","v":0}]
[583,null,null,null,null,{"$f":"IF(OR(MAX($I$2:I585)-I585=0,D585=0),\"\",MAX($I$2:I585)-I585)","v":""},"",0,10000,0,{"$f":"IF(B585>0,WEEKNUM(TEXT(Definice!$F$3,\"0000\")&\".\"&TEXT(J585,\"00\")&\".\"&RIGHT(TEXT(B585,\"0000\"),2)),0)","v":0}]
[584,null,null,null,null,{"$f":"IF(OR(MAX($I$2:I586)-I586=0,D586=0),\"\",MAX($I$2:I586)-I586)","v":""},"",0,10000,0,{"$f":"IF(B586>0,WEEKNUM(TEXT(Definice!$F$3,\"0000\")&\".\"&TEXT(J586,\"00\")&\".\"&RIGHT(TEXT(B586,\"0000\"),2)),0)","v":0}]
[585,null,null,null,null,{"$f":"IF(OR(MAX($I$2:I587)-I587=0,D587=0),\"\",MAX($I$2:I587)-I587)","v":""},"",0,10000,0,{"$f":"IF(B587>0,WEEKNUM(TEXT(Definice!$F$3,\"0000\")&\".\"&TEXT(J587,\"00\")&\".\"&RIGHT(TEXT(B587,\"0000\"),2)),0)","v":0}]
[586,null,null,null,null,{"$f":"IF(OR(MAX($I$2:I588)-I588=0,D588=0),\"\",MAX($I$2:I588)-I588)","v":""},"",0,10000,0,{"$f":"IF(B588>0,WEEKNUM(TEXT(Definice!$F$3,\"0000\")&\".\"&TEXT(J588,\"00\")&\".\"&RIGHT(TEXT(B588,\"0000\"),2)),0)","v":0}]
[587,null,null,null,null,{"$f":"IF(OR(MAX($I$2:I589)-I589=0,D589=0),\"\",MAX($I$2:I589)-I589)","v":""},"",0,10000,0,{"$f":"IF(B589>0,WEEKNUM(TEXT(Definice!$F$3,\"0000\")&\".\"&TEXT(J589,\"00\")&\".\"&RIGHT(TEXT(B589,\"0000\"),2)),0)","v":0}]
[588,null,null,null,null,{"$f":"IF(OR(MAX($I$2:I590)-I590=0,D590=0),\"\",MAX($I$2:I590)-I590)","v":""},"",0,10000,0,{"$f":"IF(B590>0,WEEKNUM(TEXT(Definice!$F$3,\"0000\")&\".\"&TEXT(J590,\"00\")&\".\"&RIGHT(TEXT(B590,\"0000\"),2)),0)","v":0}]
[589,null,null,null,null,{"$f":"IF(OR(MAX($I$2:I591)-I591=0,D591=0),\"\",MAX($I$2:I591)-I591)","v":""},"",0,10000,0,{"$f":"IF(B591>0,WEEKNUM(TEXT(Definice!$F$3,\"0000\")&\".\"&TEXT(J591,\"00\")&\".\"&RIGHT(TEXT(B591,\"0000\"),2)),0)","v":0}]
[590,null,null,null,null,{"$f":"IF(OR(MAX($I$2:I592)-I592=0,D592=0),\"\",MAX($I$2:I592)-I592)","v":""},"",0,10000,0,{"$f":"IF(B592>0,WEEKNUM(TEXT(Definice!$F$3,\"0000\")&\".\"&TEXT(J592,\"00\")&\".\"&RIGHT(TEXT(B592,\"0000\"),2)),0)","v":0}]
[591,null,null,null,null,{"$f":"IF(OR(MAX($I$2:I593)-I593=0,D593=0),\"\",MAX($I$2:I593)-I593)","v":""},"",0,10000,0,{"$f":"IF(B593>0,WEEKNUM(TEXT(Definice!$F$3,\"0000\")&\".\"&TEXT(J593,\"00\")&\".\"&RIGHT(TEXT(B593,\"0000\"),2)),0)","v":0}]
[592,null,null,null,null,{"$f":"IF(OR(MAX($I$2:I594)-I594=0,D594=0),\"\",MAX($I$2:I594)-I594)","v":""},"",0,10000,0,{"$f":"IF(B594>0,WEEKNUM(TEXT(Definice!$F$3,\"0000\")&\".\"&TEXT(J594,\"00\")&\".\"&RIGHT(TEXT(B594,\"0000\"),2)),0)","v":0}]
[593,null,null,null,null,{"$f":"IF(OR(MAX($I$2:I595)-I595=0,D595=0),\"\",MAX($I$2:I595)-I595)","v":""},"",0,10000,0,{"$f":"IF(B595>0,WEEKNUM(TEXT(Definice!$F$3,\"0000\")&\".\"&TEXT(J595,\"00\")&\".\"&RIGHT(TEXT(B595,\"0000\"),2)),0)","v":0}]
[594,null,null,null,null,{"$f":"IF(OR(MAX($I$2:I596)-I596=0,D596=0),\"\",MAX($I$2:I596)-I596)","v":""},"",0,10000,0,{"$f":"IF(B596>0,WEEKNUM(TEXT(Definice!$F$3,\"0000\")&\".\"&TEXT(J596,\"00\")&\".\"&RIGHT(TEXT(B596,\"0000\"),2)),0)","v":0}]
[595,null,null,null,null,{"$f":"IF(OR(MAX($I$2:I597)-I597=0,D597=0),\"\",MAX($I$2:I597)-I597)","v":""},"",0,10000,0,{"$f":"IF(B597>0,WEEKNUM(TEXT(Definice!$F$3,\"0000\")&\".\"&TEXT(J597,\"00\")&\".\"&RIGHT(TEXT(B597,\"0000\"),2)),0)","v":0}]
[596,null,null,null,null,{"$f":"IF(OR(MAX($I$2:I598)-I598=0,D598=0),\"\",MAX($I$2:I598)-I598)","v":""},"",0,10000,0,{"$f":"IF(B598>0,WEEKNUM(TEXT(Definice!$F$3,\"0000\")&\".\"&TEXT(J598,\"00\")&\".\"&RIGHT(TEXT(B598,\"0000\"),2)),0)","v":0}]
[597,null,null,null,null,{"$f":"IF(OR(MAX($I$2:I599)-I599=0,D599=0),\"\",MAX($I$2:I599)-I599)","v":""},"",0,10000,0,{"$f":"IF(B599>0,WEEKNUM(TEXT(Definice!$F$3,\"0000\")&\".\"&TEXT(J599,\"00\")&\".\"&RIGHT(TEXT(B599,\"0000\"),2)),0)","v":0}]
[598,null,null,null,null,{"$f":"IF(OR(MAX($I$2:I600)-I600=0,D600=0),\"\",MAX($I$2:I600)-I600)","v":""},"",0,10000,0,{"$f":"IF(B600>0,WEEKNUM(TEXT(Definice!$F$3,\"0000\")&\".\"&TEXT(J600,\"00\")&\".\"&RIGHT(TEXT(B600,\"0000\"),2)),0)","v":0}]
[599,null,null,null,null,{"$f":"IF(OR(MAX($I$2:I601)-I601=0,D601=0),\"\",MAX($I$2:I601)-I601)","v":""},"",0,10000,0,{"$f":"IF(B601>0,WEEKNUM(TEXT(Definice!$F$3,\"0000\")&\".\"&TEXT(J601,\"00\")&\".\"&RIGHT(TEXT(B601,\"0000\"),2)),0)","v":0}]
[600,null,null,null,null,{"$f":"IF(OR(MAX($I$2:I602)-I602=0,D602=0),\"\",MAX($I$2:I602)-I602)","v":""},"",0,10000,0,{"$f":"IF(B602>0,WEEKNUM(TEXT(Definice!$F$3,\"0000\")&\".\"&TEXT(J602,\"00\")&\".\"&RIGHT(TEXT(B602,\"0000\"),2)),0)","v":0}]
[601,null,null,null,null,{"$f":"IF(OR(MAX($I$2:I603)-I603=0,D603=0),\"\",MAX($I$2:I603)-I603)","v":""},"",0,10000,0,{"$f":"IF(B603>0,WEEKNUM(TEXT(Definice!$F$3,\"0000\")&\".\"&TEXT(J603,\"00\")&\".\"&RIGHT(TEXT(B603,\"0000\"),2)),0)","v":0}]
[602,null,null,null,null,{"$f":"IF(OR(MAX($I$2:I604)-I604=0,D604=0),\"\",MAX($I$2:I604)-I604)","v":""},"",0,10000,0,{"$f":"IF(B604>0,WEEKNUM(TEXT(Definice!$F$3,\"0000\")&\".\"&TEXT(J604,\"00\")&\".\"&RIGHT(TEXT(B604,\"0000\"),2)),0)","v":0}]
[603,null,null,null,null,{"$f":"IF(OR(MAX($I$2:I605)-I605=0,D605=0),\"\",MAX($I$2:I605)-I605)","v":""},"",0,10000,0,{"$f":"IF(B605>0,WEEKNUM(TEXT(Definice!$F$3,\"0000\")&\".\"&TEXT(J605,\"00\")&\".\"&RIGHT(TEXT(B605,\"0000\"),2)),0)","v":0}]
[604,null,null,null,null,{"$f":"IF(OR(MAX($I$2:I606)-I606=0,D606=0),\"\",MAX($I$2:I606)-I606)","v":""},"",0,10000,0,{"$f":"IF(B606>0,WEEKNUM(TEXT(Definice!$F$3,\"0000\")&\".\"&TEXT(J606,\"00\")&\".\"&RIGHT(TEXT(B606,\"0000\"),2)),0)","v":0}]
[605,null,null,null,null,{"$f":"IF(OR(MAX($I$2:I607)-I607=0,D607=0),\"\",MAX($I$2:I607)-I607)","v":""},"",0,10000,0,{"$f":"IF(B607>0,WEEKNUM(TEXT(Definice!$F$3,\"0000\")&\".\"&TEXT(J607,\"00\")&\".\"&RIGHT(TEXT(B607,\"0000\"),2)),0)","v":0}]
[606,null,null,null,null,{"$f":"IF(OR(MAX($I$2:I608)-I608=0,D608=0),\"\",MAX($I$2:I608)-I608)","v":""},"",0,10000,0,{"$f":"IF(B608>0,WEEKNUM(TEXT(Definice!$F$3,\"0000\")&\".\"&TEXT(J608,\"00\")&\".\"&RIGHT(TEXT(B608,\"0000\"),2)),0)","v":0}]
[607,null,null,null,null,{"$f":"IF(OR(MAX($I$2:I609)-I609=0,D609=0),\"\",MAX($I$2:I609)-I609)","v":""},"",0,10000,0,{"$f":"IF(B609>0,WEEKNUM(TEXT(Definice!$F$3,\"0000\")&\".\"&TEXT(J609,\"00\")&\".\"&RIGHT(TEXT(B609,\"0000\"),2)),0)","v":0}]
[608,null,null,null,null,{"$f":"IF(OR(MAX($I$2:I610)-I610=0,D610=0),\"\",MAX($I$2:I610)-I610)","v":""},"",0,10000,0,{"$f":"IF(B610>0,WEEKNUM(TEXT(Definice!$F$3,\"0000\")&\".\"&TEXT(J610,\"00\")&\".\"&RIGHT(TEXT(B610,\"0000\"),2)),0)","v":0}]
[609,null,null,null,null,{"$f":"IF(OR(MAX($I$2:I611)-I611=0,D611=0),\"\",MAX($I$2:I611)-I611)","v":""},"",0,10000,0,{"$f":"IF(B611>0,WEEKNUM(TEXT(Definice!$F$3,\"0000\")&\".\"&TEXT(J611,\"00\")&\".\"&RIGHT(TEXT(B611,\"0000\"),2)),0)","v":0}]
[610,null,null,null,null,{"$f":"IF(OR(MAX($I$2:I612)-I612=0,D612=0),\"\",MAX($I$2:I612)-I612)","v":""},"",0,10000,0,{"$f":"IF(B612>0,WEEKNUM(TEXT(Definice!$F$3,\"0000\")&\".\"&TEXT(J612,\"00\")&\".\"&RIGHT(TEXT(B612,\"0000\"),2)),0)","v":0}]
[611,null,null,null,null,{"$f":"IF(OR(MAX($I$2:I613)-I613=0,D613=0),\"\",MAX($I$2:I613)-I613)","v":""},"",0,10000,0,{"$f":"IF(B613>0,WEEKNUM(TEXT(Definice!$F$3,\"0000\")&\".\"&TEXT(J613,\"00\")&\".\"&RIGHT(TEXT(B613,\"0000\"),2)),0)","v":0}]
[612,null,null,null,null,{"$f":"IF(OR(MAX($I$2:I614)-I614=0,D614=0),\"\",MAX($I$2:I614)-I614)","v":""},"",0,10000,0,{"$f":"IF(B614>0,WEEKNUM(TEXT(Definice!$F$3,\"0000\")&\".\"&TEXT(J614,\"00\")&\".\"&RIGHT(TEXT(B614,\"0000\"),2)),0)","v":0}]
[613,null,null,null,null,{"$f":"IF(OR(MAX($I$2:I615)-I615=0,D615=0),\"\",MAX($I$2:I615)-I615)","v":""},"",0,10000,0,{"$f":"IF(B615>0,WEEKNUM(TEXT(Definice!$F$3,\"0000\")&\".\"&TEXT(J615,\"00\")&\".\"&RIGHT(TEXT(B615,\"0000\"),2)),0)","v":0}]
[614,null,null,null,null,{"$f":"IF(OR(MAX($I$2:I616)-I616=0,D616=0),\"\",MAX($I$2:I616)-I616)","v":""},"",0,10000,0,{"$f":"IF(B616>0,WEEKNUM(TEXT(Definice!$F$3,\"0000\")&\".\"&TEXT(J616,\"00\")&\".\"&RIGHT(TEXT(B616,\"0000\"),2)),0)","v":0}]
[615,null,null,null,null,{"$f":"IF(OR(MAX($I$2:I617)-I617=0,D617=0),\"\",MAX($I$2:I617)-I617)","v":""},"",0,10000,0,{"$f":"IF(B617>0,WEEKNUM(TEXT(Definice!$F$3,\"0000\")&\".\"&TEXT(J617,\"00\")&\".\"&RIGHT(TEXT(B617,\"0000\"),2)),0)","v":0}]
[616,null,null,null,null,{"$f":"IF(OR(MAX($I$2:I618)-I618=0,D618=0),\"\",MAX($I$2:I618)-I618)","v":""},"",0,10000,0,{"$f":"IF(B618>0,WEEKNUM(TEXT(Definice!$F$3,\"0000\")&\".\"&TEXT(J618,\"00\")&\".\"&RIGHT(TEXT(B618,\"0000\"),2)),0)","v":0}]
[617,null,null,null,null,{"$f":"IF(OR(MAX($I$2:I619)-I619=0,D619=0),\"\",MAX($I$2:I619)-I619)","v":""},"",0,10000,0,{"$f":"IF(B619>0,WEEKNUM(TEXT(Definice!$F$3,\"0000\")&\".\"&TEXT(J619,\"00\")&\".\"&RIGHT(TEXT(B619,\"0000\"),2)),0)","v":0}]
[618,null,null,null,null,{"$f":"IF(OR(MAX($I$2:I620)-I620=0,D620=0),\"\",MAX($I$2:I620)-I620)","v":""},"",0,10000,0,{"$f":"IF(B620>0,WEEKNUM(TEXT(Definice!$F$3,\"0000\")&\".\"&TEXT(J620,\"00\")&\".\"&RIGHT(TEXT(B620,\"0000\"),2)),0)","v":0}]
[619,null,null,null,null,{"$f":"IF(OR(MAX($I$2:I621)-I621=0,D621=0),\"\",MAX($I$2:I621)-I621)","v":""},"",0,10000,0,{"$f":"IF(B621>0,WEEKNUM(TEXT(Definice!$F$3,\"0000\")&\".\"&TEXT(J621,\"00\")&\".\"&RIGHT(TEXT(B621,\"0000\"),2)),0)","v":0}]
[620,null,null,null,null,{"$f":"IF(OR(MAX($I$2:I622)-I622=0,D622=0),\"\",MAX($I$2:I622)-I622)","v":""},"",0,10000,0,{"$f":"IF(B622>0,WEEKNUM(TEXT(Definice!$F$3,\"0000\")&\".\"&TEXT(J622,\"00\")&\".\"&RIGHT(TEXT(B622,\"0000\"),2)),0)","v":0}]
[621,null,null,null,null,{"$f":"IF(OR(MAX($I$2:I623)-I623=0,D623=0),\"\",MAX($I$2:I623)-I623)","v":""},"",0,10000,0,{"$f":"IF(B623>0,WEEKNUM(TEXT(Definice!$F$3,\"0000\")&\".\"&TEXT(J623,\"00\")&\".\"&RIGHT(TEXT(B623,\"0000\"),2)),0)","v":0}]
[622,null,null,null,null,{"$f":"IF(OR(MAX($I$2:I624)-I624=0,D624=0),\"\",MAX($I$2:I624)-I624)","v":""},"",0,10000,0,{"$f":"IF(B624>0,WEEKNUM(TEXT(Definice!$F$3,\"0000\")&\".\"&TEXT(J624,\"00\")&\".\"&RIGHT(TEXT(B624,\"0000\"),2)),0)","v":0}]
[623,null,null,null,null,{"$f":"IF(OR(MAX($I$2:I625)-I625=0,D625=0),\"\",MAX($I$2:I625)-I625)","v":""},"",0,10000,0,{"$f":"IF(B625>0,WEEKNUM(TEXT(Definice!$F$3,\"0000\")&\".\"&TEXT(J625,\"00\")&\".\"&RIGHT(TEXT(B625,\"0000\"),2)),0)","v":0}]
[624,null,null,null,null,{"$f":"IF(OR(MAX($I$2:I626)-I626=0,D626=0),\"\",MAX($I$2:I626)-I626)","v":""},"",0,10000,0,{"$f":"IF(B626>0,WEEKNUM(TEXT(Definice!$F$3,\"0000\")&\".\"&TEXT(J626,\"00\")&\".\"&RIGHT(TEXT(B626,\"0000\"),2)),0)","v":0}]
[625,null,null,null,null,{"$f":"IF(OR(MAX($I$2:I627)-I627=0,D627=0),\"\",MAX($I$2:I627)-I627)","v":""},"",0,10000,0,{"$f":"IF(B627>0,WEEKNUM(TEXT(Definice!$F$3,\"0000\")&\".\"&TEXT(J627,\"00\")&\".\"&RIGHT(TEXT(B627,\"0000\"),2)),0)","v":0}]
[626,null,null,null,null,{"$f":"IF(OR(MAX($I$2:I628)-I628=0,D628=0),\"\",MAX($I$2:I628)-I628)","v":""},"",0,10000,0,{"$f":"IF(B628>0,WEEKNUM(TEXT(Definice!$F$3,\"0000\")&\".\"&TEXT(J628,\"00\")&\".\"&RIGHT(TEXT(B628,\"0000\"),2)),0)","v":0}]
[627,null,null,null,null,{"$f":"IF(OR(MAX($I$2:I629)-I629=0,D629=0),\"\",MAX($I$2:I629)-I629)","v":""},"",0,10000,0,{"$f":"IF(B629>0,WEEKNUM(TEXT(Definice!$F$3,\"0000\")&\".\"&TEXT(J629,\"00\")&\".\"&RIGHT(TEXT(B629,\"0000\"),2)),0)","v":0}]
[628,null,null,null,null,{"$f":"IF(OR(MAX($I$2:I630)-I630=0,D630=0),\"\",MAX($I$2:I630)-I630)","v":""},"",0,10000,0,{"$f":"IF(B630>0,WEEKNUM(TEXT(Definice!$F$3,\"0000\")&\".\"&TEXT(J630,\"00\")&\".\"&RIGHT(TEXT(B630,\"0000\"),2)),0)","v":0}]
[629,null,null,null,null,{"$f":"IF(OR(MAX($I$2:I631)-I631=0,D631=0),\"\",MAX($I$2:I631)-I631)","v":""},"",0,10000,0,{"$f":"IF(B631>0,WEEKNUM(TEXT(Definice!$F$3,\"0000\")&\".\"&TEXT(J631,\"00\")&\".\"&RIGHT(TEXT(B631,\"0000\"),2)),0)","v":0}]
[630,null,null,null,null,{"$f":"IF(OR(MAX($I$2:I632)-I632=0,D632=0),\"\",MAX($I$2:I632)-I632)","v":""},"",0,10000,0,{"$f":"IF(B632>0,WEEKNUM(TEXT(Definice!$F$3,\"0000\")&\".\"&TEXT(J632,\"00\")&\".\"&RIGHT(TEXT(B632,\"0000\"),2)),0)","v":0}]
[631,null,null,null,null,{"$f":"IF(OR(MAX($I$2:I633)-I633=0,D633=0),\"\",MAX($I$2:I633)-I633)","v":""},"",0,10000,0,{"$f":"IF(B633>0,WEEKNUM(TEXT(Definice!$F$3,\"0000\")&\".\"&TEXT(J633,\"00\")&\".\"&RIGHT(TEXT(B633,\"0000\"),2)),0)","v":0}]
[632,null,null,null,null,{"$f":"IF(OR(MAX($I$2:I634)-I634=0,D634=0),\"\",MAX($I$2:I634)-I634)","v":""},"",0,10000,0,{"$f":"IF(B634>0,WEEKNUM(TEXT(Definice!$F$3,\"0000\")&\".\"&TEXT(J634,\"00\")&\".\"&RIGHT(TEXT(B634,\"0000\"),2)),0)","v":0}]
[633,null,null,null,null,{"$f":"IF(OR(MAX($I$2:I635)-I635=0,D635=0),\"\",MAX($I$2:I635)-I635)","v":""},"",0,10000,0,{"$f":"IF(B635>0,WEEKNUM(TEXT(Definice!$F$3,\"0000\")&\".\"&TEXT(J635,\"00\")&\".\"&RIGHT(TEXT(B635,\"0000\"),2)),0)","v":0}]
[634,null,null,null,null,{"$f":"IF(OR(MAX($I$2:I636)-I636=0,D636=0),\"\",MAX($I$2:I636)-I636)","v":""},"",0,10000,0,{"$f":"IF(B636>0,WEEKNUM(TEXT(Definice!$F$3,\"0000\")&\".\"&TEXT(J636,\"00\")&\".\"&RIGHT(TEXT(B636,\"0000\"),2)),0)","v":0}]
[635,null,null,null,null,{"$f":"IF(OR(MAX($I$2:I637)-I637=0,D637=0),\"\",MAX($I$2:I637)-I637)","v":""},"",0,10000,0,{"$f":"IF(B637>0,WEEKNUM(TEXT(Definice!$F$3,\"0000\")&\".\"&TEXT(J637,\"00\")&\".\"&RIGHT(TEXT(B637,\"0000\"),2)),0)","v":0}]
[636,null,null,null,null,{"$f":"IF(OR(MAX($I$2:I638)-I638=0,D638=0),\"\",MAX($I$2:I638)-I638)","v":""},"",0,10000,0,{"$f":"IF(B638>0,WEEKNUM(TEXT(Definice!$F$3,\"0000\")&\".\"&TEXT(J638,\"00\")&\".\"&RIGHT(TEXT(B638,\"0000\"),2)),0)","v":0}]
[637,null,null,null,null,{"$f":"IF(OR(MAX($I$2:I639)-I639=0,D639=0),\"\",MAX($I$2:I639)-I639)","v":""},"",0,10000,0,{"$f":"IF(B639>0,WEEKNUM(TEXT(Definice!$F$3,\"0000\")&\".\"&TEXT(J639,\"00\")&\".\"&RIGHT(TEXT(B639,\"0000\"),2)),0)","v":0}]
[638,null,null,null,null,{"$f":"IF(OR(MAX($I$2:I640)-I640=0,D640=0),\"\",MAX($I$2:I640)-I640)","v":""},"",0,10000,0,{"$f":"IF(B640>0,WEEKNUM(TEXT(Definice!$F$3,\"0000\")&\".\"&TEXT(J640,\"00\")&\".\"&RIGHT(TEXT(B640,\"0000\"),2)),0)","v":0}]
[639,null,null,null,null,{"$f":"IF(OR(MAX($I$2:I641)-I641=0,D641=0),\"\",MAX($I$2:I641)-I641)","v":""},"",0,10000,0,{"$f":"IF(B641>0,WEEKNUM(TEXT(Definice!$F$3,\"0000\")&\".\"&TEXT(J641,\"00\")&\".\"&RIGHT(TEXT(B641,\"0000\"),2)),0)","v":0}]
[640,null,null,null,null,{"$f":"IF(OR(MAX($I$2:I642)-I642=0,D642=0),\"\",MAX($I$2:I642)-I642)","v":""},"",0,10000,0,{"$f":"IF(B642>0,WEEKNUM(TEXT(Definice!$F$3,\"0000\")&\".\"&TEXT(J642,\"00\")&\".\"&RIGHT(TEXT(B642,\"0000\"),2)),0)","v":0}]
[641,null,null,null,null,{"$f":"IF(OR(MAX($I$2:I643)-I643=0,D643=0),\"\",MAX($I$2:I643)-I643)","v":""},"",0,10000,0,{"$f":"IF(B643>0,WEEKNUM(TEXT(Definice!$F$3,\"0000\")&\".\"&TEXT(J643,\"00\")&\".\"&RIGHT(TEXT(B643,\"0000\"),2)),0)","v":0}]
[642,null,null,null,null,{"$f":"IF(OR(MAX($I$2:I644)-I644=0,D644=0),\"\",MAX($I$2:I644)-I644)","v":""},"",0,10000,{"$f":"((INT(B644/100)/100)-INT(INT(B644/100)/100))*100","v":0},{"$f":"IF(B644>0,WEEKNUM(TEXT(Definice!$F$3,\"0000\")&\".\"&TEXT(J644,\"00\")&\".\"&RIGHT(TEXT(B644,\"0000\"),2)),0)","v":0}]
[643,null,null,null,null,{"$f":"IF(OR(MAX($I$2:I645)-I645=0,D645=0),\"\",MAX($I$2:I645)-I645)","v":""},{"$f":"IF(F645=\"\",\"\",F645/(H645+I644))","v":""},{"$f":"H644+E645","v":0},{"$f":"I644+E645","v":10000},0,{"$f":"IF(B645>0,WEEKNUM(TEXT(Definice!$F$3,\"0000\")&\".\"&TEXT(J645,\"00\")&\".\"&RIGHT(TEXT(B645,\"0000\"),2)),0)","v":0}]
[644,null,null,null,null,{"$f":"IF(OR(MAX($I$2:I646)-I646=0,D646=0),\"\",MAX($I$2:I646)-I646)","v":""},"",0,10000,0,{"$f":"IF(B646>0,WEEKNUM(TEXT(Definice!$F$3,\"0000\")&\".\"&TEXT(J646,\"00\")&\".\"&RIGHT(TEXT(B646,\"0000\"),2)),0)","v":0}]
[645,null,null,null,null,{"$f":"IF(OR(MAX($I$2:I647)-I647=0,D647=0),\"\",MAX($I$2:I647)-I647)","v":""},"",0,10000,0,{"$f":"IF(B647>0,WEEKNUM(TEXT(Definice!$F$3,\"0000\")&\".\"&TEXT(J647,\"00\")&\".\"&RIGHT(TEXT(B647,\"0000\"),2)),0)","v":0}]
[646,null,null,null,null,{"$f":"IF(OR(MAX($I$2:I648)-I648=0,D648=0),\"\",MAX($I$2:I648)-I648)","v":""},"",0,10000,0,{"$f":"IF(B648>0,WEEKNUM(TEXT(Definice!$F$3,\"0000\")&\".\"&TEXT(J648,\"00\")&\".\"&RIGHT(TEXT(B648,\"0000\"),2)),0)","v":0}]
[647,null,null,null,null,{"$f":"IF(OR(MAX($I$2:I649)-I649=0,D649=0),\"\",MAX($I$2:I649)-I649)","v":""},"",0,10000,0,{"$f":"IF(B649>0,WEEKNUM(TEXT(Definice!$F$3,\"0000\")&\".\"&TEXT(J649,\"00\")&\".\"&RIGHT(TEXT(B649,\"0000\"),2)),0)","v":0}]
[648,null,null,null,null,{"$f":"IF(OR(MAX($I$2:I650)-I650=0,D650=0),\"\",MAX($I$2:I650)-I650)","v":""},"",0,10000,0,{"$f":"IF(B650>0,WEEKNUM(TEXT(Definice!$F$3,\"0000\")&\".\"&TEXT(J650,\"00\")&\".\"&RIGHT(TEXT(B650,\"0000\"),2)),0)","v":0}]
[649,null,null,null,null,{"$f":"IF(OR(MAX($I$2:I651)-I651=0,D651=0),\"\",MAX($I$2:I651)-I651)","v":""},"",0,10000,0,{"$f":"IF(B651>0,WEEKNUM(TEXT(Definice!$F$3,\"0000\")&\".\"&TEXT(J651,\"00\")&\".\"&RIGHT(TEXT(B651,\"0000\"),2)),0)","v":0}]
[650,null,null,null,null,{"$f":"IF(OR(MAX($I$2:I652)-I652=0,D652=0),\"\",MAX($I$2:I652)-I652)","v":""},"",0,10000,0,{"$f":"IF(B652>0,WEEKNUM(TEXT(Definice!$F$3,\"0000\")&\".\"&TEXT(J652,\"00\")&\".\"&RIGHT(TEXT(B652,\"0000\"),2)),0)","v":0}]
[651,null,null,null,null,{"$f":"IF(OR(MAX($I$2:I653)-I653=0,D653=0),\"\",MAX($I$2:I653)-I653)","v":""},"",0,10000,0,{"$f":"IF(B653>0,WEEKNUM(TEXT(Definice!$F$3,\"0000\")&\".\"&TEXT(J653,\"00\")&\".\"&RIGHT(TEXT(B653,\"0000\"),2)),0)","v":0}]
[652,null,null,null,null,{"$f":"IF(OR(MAX($I$2:I654)-I654=0,D654=0),\"\",MAX($I$2:I654)-I654)","v":""},"",0,10000,0,{"$f":"IF(B654>0,WEEKNUM(TEXT(Definice!$F$3,\"0000\")&\".\"&TEXT(J654,\"00\")&\".\"&RIGHT(TEXT(B654,\"0000\"),2)),0)","v":0}]
[653,null,null,null,null,{"$f":"IF(OR(MAX($I$2:I655)-I655=0,D655=0),\"\",MAX($I$2:I655)-I655)","v":""},"",0,10000,0,{"$f":"IF(B655>0,WEEKNUM(TEXT(Definice!$F$3,\"0000\")&\".\"&TEXT(J655,\"00\")&\".\"&RIGHT(TEXT(B655,\"0000\"),2)),0)","v":0}]
[654,null,null,null,null,{"$f":"IF(OR(MAX($I$2:I656)-I656=0,D656=0),\"\",MAX($I$2:I656)-I656)","v":""},"",0,10000,0,{"$f":"IF(B656>0,WEEKNUM(TEXT(Definice!$F$3,\"0000\")&\".\"&TEXT(J656,\"00\")&\".\"&RIGHT(TEXT(B656,\"0000\"),2)),0)","v":0}]
[655,null,null,null,null,{"$f":"IF(OR(MAX($I$2:I657)-I657=0,D657=0),\"\",MAX($I$2:I657)-I657)","v":""},"",0,10000,0,{"$f":"IF(B657>0,WEEKNUM(TEXT(Definice!$F$3,\"0000\")&\".\"&TEXT(J657,\"00\")&\".\"&RIGHT(TEXT(B657,\"0000\"),2)),0)","v":0}]
[656,null,null,null,null,{"$f":"IF(OR(MAX($I$2:I658)-I658=0,D658=0),\"\",MAX($I$2:I658)-I658)","v":""},"",0,10000,0,{"$f":"IF(B658>0,WEEKNUM(TEXT(Definice!$F$3,\"0000\")&\".\"&TEXT(J658,\"00\")&\".\"&RIGHT(TEXT(B658,\"0000\"),2)),0)","v":0}]
[657,null,null,null,null,{"$f":"IF(OR(MAX($I$2:I659)-I659=0,D659=0),\"\",MAX($I$2:I659)-I659)","v":""},"",0,10000,0,{"$f":"IF(B659>0,WEEKNUM(TEXT(Definice!$F$3,\"0000\")&\".\"&TEXT(J659,\"00\")&\".\"&RIGHT(TEXT(B659,\"0000\"),2)),0)","v":0}]
[658,null,null,null,null,{"$f":"IF(OR(MAX($I$2:I660)-I660=0,D660=0),\"\",MAX($I$2:I660)-I660)","v":""},"",0,10000,0,{"$f":"IF(B660>0,WEEKNUM(TEXT(Definice!$F$3,\"0000\")&\".\"&TEXT(J660,\"00\")&\".\"&RIGHT(TEXT(B660,\"0000\"),2)),0)","v":0}]
[659,null,null,null,null,{"$f":"IF(OR(MAX($I$2:I661)-I661=0,D661=0),\"\",MAX($I$2:I661)-I661)","v":""},"",0,10000,0,{"$f":"IF(B661>0,WEEKNUM(TEXT(Definice!$F$3,\"0000\")&\".\"&TEXT(J661,\"00\")&\".\"&RIGHT(TEXT(B661,\"0000\"),2)),0)","v":0}]
[660,null,null,null,null,{"$f":"IF(OR(MAX($I$2:I662)-I662=0,D662=0),\"\",MAX($I$2:I662)-I662)","v":""},"",0,10000,0,{"$f":"IF(B662>0,WEEKNUM(TEXT(Definice!$F$3,\"0000\")&\".\"&TEXT(J662,\"00\")&\".\"&RIGHT(TEXT(B662,\"0000\"),2)),0)","v":0}]
[661,null,null,null,null,{"$f":"IF(OR(MAX($I$2:I663)-I663=0,D663=0),\"\",MAX($I$2:I663)-I663)","v":""},"",0,10000,0,{"$f":"IF(B663>0,WEEKNUM(TEXT(Definice!$F$3,\"0000\")&\".\"&TEXT(J663,\"00\")&\".\"&RIGHT(TEXT(B663,\"0000\"),2)),0)","v":0}]
[662,null,null,null,null,{"$f":"IF(OR(MAX($I$2:I664)-I664=0,D664=0),\"\",MAX($I$2:I664)-I664)","v":""},"",0,10000,0,{"$f":"IF(B664>0,WEEKNUM(TEXT(Definice!$F$3,\"0000\")&\".\"&TEXT(J664,\"00\")&\".\"&RIGHT(TEXT(B664,\"0000\"),2)),0)","v":0}]
[663,null,null,null,null,{"$f":"IF(OR(MAX($I$2:I665)-I665=0,D665=0),\"\",MAX($I$2:I665)-I665)","v":""},"",0,10000,0,{"$f":"IF(B665>0,WEEKNUM(TEXT(Definice!$F$3,\"0000\")&\".\"&TEXT(J665,\"00\")&\".\"&RIGHT(TEXT(B665,\"0000\"),2)),0)","v":0}]
[664,null,null,null,null,{"$f":"IF(OR(MAX($I$2:I666)-I666=0,D666=0),\"\",MAX($I$2:I666)-I666)","v":""},"",0,10000,0,{"$f":"IF(B666>0,WEEKNUM(TEXT(Definice!$F$3,\"0000\")&\".\"&TEXT(J666,\"00\")&\".\"&RIGHT(TEXT(B666,\"0000\"),2)),0)","v":0}]
[665,null,null,null,null,{"$f":"IF(OR(MAX($I$2:I667)-I667=0,D667=0),\"\",MAX($I$2:I667)-I667)","v":""},"",0,10000,0,{"$f":"IF(B667>0,WEEKNUM(TEXT(Definice!$F$3,\"0000\")&\".\"&TEXT(J667,\"00\")&\".\"&RIGHT(TEXT(B667,\"0000\"),2)),0)","v":0}]
[666,null,null,null,null,{"$f":"IF(OR(MAX($I$2:I668)-I668=0,D668=0),\"\",MAX($I$2:I668)-I668)","v":""},"",0,10000,0,{"$f":"IF(B668>0,WEEKNUM(TEXT(Definice!$F$3,\"0000\")&\".\"&TEXT(J668,\"00\")&\".\"&RIGHT(TEXT(B668,\"0000\"),2)),0)","v":0}]
[667,null,null,null,null,{"$f":"IF(OR(MAX($I$2:I669)-I669=0,D669=0),\"\",MAX($I$2:I669)-I669)","v":""},"",0,10000,0,{"$f":"IF(B669>0,WEEKNUM(TEXT(Definice!$F$3,\"0000\")&\".\"&TEXT(J669,\"00\")&\".\"&RIGHT(TEXT(B669,\"0000\"),2)),0)","v":0}]
[668,null,null,null,null,{"$f":"IF(OR(MAX($I$2:I670)-I670=0,D670=0),\"\",MAX($I$2:I670)-I670)","v":""},"",0,10000,0,{"$f":"IF(B670>0,WEEKNUM(TEXT(Definice!$F$3,\"0000\")&\".\"&TEXT(J670,\"00\")&\".\"&RIGHT(TEXT(B670,\"0000\"),2)),0)","v":0}]
[669,null,null,null,null,{"$f":"IF(OR(MAX($I$2:I671)-I671=0,D671=0),\"\",MAX($I$2:I671)-I671)","v":""},"",0,10000,0,{"$f":"IF(B671>0,WEEKNUM(TEXT(Definice!$F$3,\"0000\")&\".\"&TEXT(J671,\"00\")&\".\"&RIGHT(TEXT(B671,\"0000\"),2)),0)","v":0}]
[670,null,null,null,null,{"$f":"IF(OR(MAX($I$2:I672)-I672=0,D672=0),\"\",MAX($I$2:I672)-I672)","v":""},"",0,10000,0,{"$f":"IF(B672>0,WEEKNUM(TEXT(Definice!$F$3,\"0000\")&\".\"&TEXT(J672,\"00\")&\".\"&RIGHT(TEXT(B672,\"0000\"),2)),0)","v":0}]
[671,null,null,null,null,{"$f":"IF(OR(MAX($I$2:I673)-I673=0,D673=0),\"\",MAX($I$2:I673)-I673)","v":""},"",0,10000,0,{"$f":"IF(B673>0,WEEKNUM(TEXT(Definice!$F$3,\"0000\")&\".\"&TEXT(J673,\"00\")&\".\"&RIGHT(TEXT(B673,\"0000\"),2)),0)","v":0}]
[672,null,null,null,null,{"$f":"IF(OR(MAX($I$2:I674)-I674=0,D674=0),\"\",MAX($I$2:I674)-I674)","v":""},"",0,10000,0,{"$f":"IF(B674>0,WEEKNUM(TEXT(Definice!$F$3,\"0000\")&\".\"&TEXT(J674,\"00\")&\".\"&RIGHT(TEXT(B674,\"0000\"),2)),0)","v":0}]
[673,null,null,null,null,{"$f":"IF(OR(MAX($I$2:I675)-I675=0,D675=0),\"\",MAX($I$2:I675)-I675)","v":""},"",0,10000,0,{"$f":"IF(B675>0,WEEKNUM(TEXT(Definice!$F$3,\"0000\")&\".\"&TEXT(J675,\"00\")&\".\"&RIGHT(TEXT(B675,\"0000\"),2)),0)","v":0}]
[674,null,null,null,null,{"$f":"IF(OR(MAX($I$2:I676)-I676=0,D676=0),\"\",MAX($I$2:I676)-I676)","v":""},"",0,10000,0,{"$f":"IF(B676>0,WEEKNUM(TEXT(Definice!$F$3,\"0000\")&\".\"&TEXT(J676,\"00\")&\".\"&RIGHT(TEXT(B676,\"0000\"),2)),0)","v":0}]
[675,null,null,null,null,{"$f":"IF(OR(MAX($I$2:I677)-I677=0,D677=0),\"\",MAX($I$2:I677)-I677)","v":""},"",0,10000,0,{"$f":"IF(B677>0,WEEKNUM(TEXT(Definice!$F$3,\"0000\")&\".\"&TEXT(J677,\"00\")&\".\"&RIGHT(TEXT(B677,\"0000\"),2)),0)","v":0}]
[676,null,null,null,null,{"$f":"IF(OR(MAX($I$2:I678)-I678=0,D678=0),\"\",MAX($I$2:I678)-I678)","v":""},"",0,10000,0,{"$f":"IF(B678>0,WEEKNUM(TEXT(Definice!$F$3,\"0000\")&\".\"&TEXT(J678,\"00\")&\".\"&RIGHT(TEXT(B678,\"0000\"),2)),0)","v":0}]
[677,null,null,null,null,{"$f":"IF(OR(MAX($I$2:I679)-I679=0,D679=0),\"\",MAX($I$2:I679)-I679)","v":""},"",0,10000,0,{"$f":"IF(B679>0,WEEKNUM(TEXT(Definice!$F$3,\"0000\")&\".\"&TEXT(J679,\"00\")&\".\"&RIGHT(TEXT(B679,\"0000\"),2)),0)","v":0}]
[678,null,null,null,null,{"$f":"IF(OR(MAX($I$2:I680)-I680=0,D680=0),\"\",MAX($I$2:I680)-I680)","v":""},"",0,10000,0,{"$f":"IF(B680>0,WEEKNUM(TEXT(Definice!$F$3,\"0000\")&\".\"&TEXT(J680,\"00\")&\".\"&RIGHT(TEXT(B680,\"0000\"),2)),0)","v":0}]
[679,null,null,null,null,{"$f":"IF(OR(MAX($I$2:I681)-I681=0,D681=0),\"\",MAX($I$2:I681)-I681)","v":""},"",0,10000,0,{"$f":"IF(B681>0,WEEKNUM(TEXT(Definice!$F$3,\"0000\")&\".\"&TEXT(J681,\"00\")&\".\"&RIGHT(TEXT(B681,\"0000\"),2)),0)","v":0}]
[680,null,null,null,null,{"$f":"IF(OR(MAX($I$2:I682)-I682=0,D682=0),\"\",MAX($I$2:I682)-I682)","v":""},"",0,10000,0,{"$f":"IF(B682>0,WEEKNUM(TEXT(Definice!$F$3,\"0000\")&\".\"&TEXT(J682,\"00\")&\".\"&RIGHT(TEXT(B682,\"0000\"),2)),0)","v":0}]
[681,null,null,null,null,{"$f":"IF(OR(MAX($I$2:I683)-I683=0,D683=0),\"\",MAX($I$2:I683)-I683)","v":""},"",0,10000,0,{"$f":"IF(B683>0,WEEKNUM(TEXT(Definice!$F$3,\"0000\")&\".\"&TEXT(J683,\"00\")&\".\"&RIGHT(TEXT(B683,\"0000\"),2)),0)","v":0}]
[682,null,null,null,null,{"$f":"IF(OR(MAX($I$2:I684)-I684=0,D684=0),\"\",MAX($I$2:I684)-I684)","v":""},"",0,10000,0,{"$f":"IF(B684>0,WEEKNUM(TEXT(Definice!$F$3,\"0000\")&\".\"&TEXT(J684,\"00\")&\".\"&RIGHT(TEXT(B684,\"0000\"),2)),0)","v":0}]
[683,null,null,null,null,{"$f":"IF(OR(MAX($I$2:I685)-I685=0,D685=0),\"\",MAX($I$2:I685)-I685)","v":""},"",0,10000,0,{"$f":"IF(B685>0,WEEKNUM(TEXT(Definice!$F$3,\"0000\")&\".\"&TEXT(J685,\"00\")&\".\"&RIGHT(TEXT(B685,\"0000\"),2)),0)","v":0}]
[684,null,null,null,null,{"$f":"IF(OR(MAX($I$2:I686)-I686=0,D686=0),\"\",MAX($I$2:I686)-I686)","v":""},"",0,10000,0,{"$f":"IF(B686>0,WEEKNUM(TEXT(Definice!$F$3,\"0000\")&\".\"&TEXT(J686,\"00\")&\".\"&RIGHT(TEXT(B686,\"0000\"),2)),0)","v":0}]
[685,null,null,null,null,{"$f":"IF(OR(MAX($I$2:I687)-I687=0,D687=0),\"\",MAX($I$2:I687)-I687)","v":""},"",0,10000,0,{"$f":"IF(B687>0,WEEKNUM(TEXT(Definice!$F$3,\"0000\")&\".\"&TEXT(J687,\"00\")&\".\"&RIGHT(TEXT(B687,\"0000\"),2)),0)","v":0}]
[686,null,null,null,null,{"$f":"IF(OR(MAX($I$2:I688)-I688=0,D688=0),\"\",MAX($I$2:I688)-I688)","v":""},"",0,10000,0,{"$f":"IF(B688>0,WEEKNUM(TEXT(Definice!$F$3,\"0000\")&\".\"&TEXT(J688,\"00\")&\".\"&RIGHT(TEXT(B688,\"0000\"),2)),0)","v":0}]
[687,null,null,null,null,{"$f":"IF(OR(MAX($I$2:I689)-I689=0,D689=0),\"\",MAX($I$2:I689)-I689)","v":""},"",0,10000,0,{"$f":"IF(B689>0,WEEKNUM(TEXT(Definice!$F$3,\"0000\")&\".\"&TEXT(J689,\"00\")&\".\"&RIGHT(TEXT(B689,\"0000\"),2)),0)","v":0}]
[688,null,null,null,null,{"$f":"IF(OR(MAX($I$2:I690)-I690=0,D690=0),\"\",MAX($I$2:I690)-I690)","v":""},"",0,10000,0,{"$f":"IF(B690>0,WEEKNUM(TEXT(Definice!$F$3,\"0000\")&\".\"&TEXT(J690,\"00\")&\".\"&RIGHT(TEXT(B690,\"0000\"),2)),0)","v":0}]
[689,null,null,null,null,{"$f":"IF(OR(MAX($I$2:I691)-I691=0,D691=0),\"\",MAX($I$2:I691)-I691)","v":""},"",0,10000,0,{"$f":"IF(B691>0,WEEKNUM(TEXT(Definice!$F$3,\"0000\")&\".\"&TEXT(J691,\"00\")&\".\"&RIGHT(TEXT(B691,\"0000\"),2)),0)","v":0}]
[690,null,null,null,null,{"$f":"IF(OR(MAX($I$2:I692)-I692=0,D692=0),\"\",MAX($I$2:I692)-I692)","v":""},"",0,10000,0,{"$f":"IF(B692>0,WEEKNUM(TEXT(Definice!$F$3,\"0000\")&\".\"&TEXT(J692,\"00\")&\".\"&RIGHT(TEXT(B692,\"0000\"),2)),0)","v":0}]
[691,null,null,null,null,{"$f":"IF(OR(MAX($I$2:I693)-I693=0,D693=0),\"\",MAX($I$2:I693)-I693)","v":""},"",0,10000,0,{"$f":"IF(B693>0,WEEKNUM(TEXT(Definice!$F$3,\"0000\")&\".\"&TEXT(J693,\"00\")&\".\"&RIGHT(TEXT(B693,\"0000\"),2)),0)","v":0}]
[692,null,null,null,null,{"$f":"IF(OR(MAX($I$2:I694)-I694=0,D694=0),\"\",MAX($I$2:I694)-I694)","v":""},"",0,10000,0,{"$f":"IF(B694>0,WEEKNUM(TEXT(Definice!$F$3,\"0000\")&\".\"&TEXT(J694,\"00\")&\".\"&RIGHT(TEXT(B694,\"0000\"),2)),0)","v":0}]
[693,null,null,null,null,{"$f":"IF(OR(MAX($I$2:I695)-I695=0,D695=0),\"\",MAX($I$2:I695)-I695)","v":""},"",0,10000,0,{"$f":"IF(B695>0,WEEKNUM(TEXT(Definice!$F$3,\"0000\")&\".\"&TEXT(J695,\"00\")&\".\"&RIGHT(TEXT(B695,\"0000\"),2)),0)","v":0}]
[694,null,null,null,null,{"$f":"IF(OR(MAX($I$2:I696)-I696=0,D696=0),\"\",MAX($I$2:I696)-I696)","v":""},"",0,10000,0,{"$f":"IF(B696>0,WEEKNUM(TEXT(Definice!$F$3,\"0000\")&\".\"&TEXT(J696,\"00\")&\".\"&RIGHT(TEXT(B696,\"0000\"),2)),0)","v":0}]
[695,null,null,null,null,{"$f":"IF(OR(MAX($I$2:I697)-I697=0,D697=0),\"\",MAX($I$2:I697)-I697)","v":""},"",0,10000,0,{"$f":"IF(B697>0,WEEKNUM(TEXT(Definice!$F$3,\"0000\")&\".\"&TEXT(J697,\"00\")&\".\"&RIGHT(TEXT(B697,\"0000\"),2)),0)","v":0}]
[696,null,null,null,null,{"$f":"IF(OR(MAX($I$2:I698)-I698=0,D698=0),\"\",MAX($I$2:I698)-I698)","v":""},"",0,10000,0,{"$f":"IF(B698>0,WEEKNUM(TEXT(Definice!$F$3,\"0000\")&\".\"&TEXT(J698,\"00\")&\".\"&RIGHT(TEXT(B698,\"0000\"),2)),0)","v":0}]
[697,null,null,null,null,{"$f":"IF(OR(MAX($I$2:I699)-I699=0,D699=0),\"\",MAX($I$2:I699)-I699)","v":""},"",0,10000,0,{"$f":"IF(B699>0,WEEKNUM(TEXT(Definice!$F$3,\"0000\")&\".\"&TEXT(J699,\"00\")&\".\"&RIGHT(TEXT(B699,\"0000\"),2)),0)","v":0}]
[698,null,null,null,null,{"$f":"IF(OR(MAX($I$2:I700)-I700=0,D700=0),\"\",MAX($I$2:I700)-I700)","v":""},"",0,10000,0,{"$f":"IF(B700>0,WEEKNUM(TEXT(Definice!$F$3,\"0000\")&\".\"&TEXT(J700,\"00\")&\".\"&RIGHT(TEXT(B700,\"0000\"),2)),0)","v":0}]
[699,null,null,null,null,{"$f":"IF(OR(MAX($I$2:I701)-I701=0,D701=0),\"\",MAX($I$2:I701)-I701)","v":""},"",0,10000,0,{"$f":"IF(B701>0,WEEKNUM(TEXT(Definice!$F$3,\"0000\")&\".\"&TEXT(J701,\"00\")&\".\"&RIGHT(TEXT(B701,\"0000\"),2)),0)","v":0}]
[700,null,null,null,null,{"$f":"IF(OR(MAX($I$2:I702)-I702=0,D702=0),\"\",MAX($I$2:I702)-I702)","v":""},"",0,10000,0,{"$f":"IF(B702>0,WEEKNUM(TEXT(Definice!$F$3,\"0000\")&\".\"&TEXT(J702,\"00\")&\".\"&RIGHT(TEXT(B702,\"0000\"),2)),0)","v":0}]
[701,null,null,null,null,{"$f":"IF(OR(MAX($I$2:I703)-I703=0,D703=0),\"\",MAX($I$2:I703)-I703)","v":""},"",0,10000,0,{"$f":"IF(B703>0,WEEKNUM(TEXT(Definice!$F$3,\"0000\")&\".\"&TEXT(J703,\"00\")&\".\"&RIGHT(TEXT(B703,\"0000\"),2)),0)","v":0}]
[702,null,null,null,null,{"$f":"IF(OR(MAX($I$2:I704)-I704=0,D704=0),\"\",MAX($I$2:I704)-I704)","v":""},"",0,10000,0,{"$f":"IF(B704>0,WEEKNUM(TEXT(Definice!$F$3,\"0000\")&\".\"&TEXT(J704,\"00\")&\".\"&RIGHT(TEXT(B704,\"0000\"),2)),0)","v":0}]
[703,null,null,null,null,{"$f":"IF(OR(MAX($I$2:I705)-I705=0,D705=0),\"\",MAX($I$2:I705)-I705)","v":""},"",0,10000,0,{"$f":"IF(B705>0,WEEKNUM(TEXT(Definice!$F$3,\"0000\")&\".\"&TEXT(J705,\"00\")&\".\"&RIGHT(TEXT(B705,\"0000\"),2)),0)","v":0}]
[704,null,null,null,null,{"$f":"IF(OR(MAX($I$2:I706)-I706=0,D706=0),\"\",MAX($I$2:I706)-I706)","v":""},"",0,10000,0,{"$f":"IF(B706>0,WEEKNUM(TEXT(Definice!$F$3,\"0000\")&\".\"&TEXT(J706,\"00\")&\".\"&RIGHT(TEXT(B706,\"0000\"),2)),0)","v":0}]
[705,null,null,null,null,{"$f":"IF(OR(MAX($I$2:I707)-I707=0,D707=0),\"\",MAX($I$2:I707)-I707)","v":""},"",0,10000,0,{"$f":"IF(B707>0,WEEKNUM(TEXT(Definice!$F$3,\"0000\")&\".\"&TEXT(J707,\"00\")&\".\"&RIGHT(TEXT(B707,\"0000\"),2)),0)","v":0}]
[706,null,null,null,null,{"$f":"IF(OR(MAX($I$2:I708)-I708=0,D708=0),\"\",MAX($I$2:I708)-I708)","v":""},"",0,10000,{"$f":"((INT(B708/100)/100)-INT(INT(B708/100)/100))*100","v":0},{"$f":"IF(B708>0,WEEKNUM(TEXT(Definice!$F$3,\"0000\")&\".\"&TEXT(J708,\"00\")&\".\"&RIGHT(TEXT(B708,\"0000\"),2)),0)","v":0}]
[707,null,null,null,null,{"$f":"IF(OR(MAX($I$2:I709)-I709=0,D709=0),\"\",MAX($I$2:I709)-I709)","v":""},{"$f":"IF(F709=\"\",\"\",F709/(H709+I708))","v":""},{"$f":"H708+E709","v":0},{"$f":"I708+E709","v":10000},0,{"$f":"IF(B709>0,WEEKNUM(TEXT(Definice!$F$3,\"0000\")&\".\"&TEXT(J709,\"00\")&\".\"&RIGHT(TEXT(B709,\"0000\"),2)),0)","v":0}]
[708,null,null,null,null,{"$f":"IF(OR(MAX($I$2:I710)-I710=0,D710=0),\"\",MAX($I$2:I710)-I710)","v":""},"",0,10000,0,{"$f":"IF(B710>0,WEEKNUM(TEXT(Definice!$F$3,\"0000\")&\".\"&TEXT(J710,\"00\")&\".\"&RIGHT(TEXT(B710,\"0000\"),2)),0)","v":0}]
[709,null,null,null,null,{"$f":"IF(OR(MAX($I$2:I711)-I711=0,D711=0),\"\",MAX($I$2:I711)-I711)","v":""},"",0,10000,0,{"$f":"IF(B711>0,WEEKNUM(TEXT(Definice!$F$3,\"0000\")&\".\"&TEXT(J711,\"00\")&\".\"&RIGHT(TEXT(B711,\"0000\"),2)),0)","v":0}]
[710,null,null,null,null,{"$f":"IF(OR(MAX($I$2:I712)-I712=0,D712=0),\"\",MAX($I$2:I712)-I712)","v":""},"",0,10000,0,{"$f":"IF(B712>0,WEEKNUM(TEXT(Definice!$F$3,\"0000\")&\".\"&TEXT(J712,\"00\")&\".\"&RIGHT(TEXT(B712,\"0000\"),2)),0)","v":0}]
[711,null,null,null,null,{"$f":"IF(OR(MAX($I$2:I713)-I713=0,D713=0),\"\",MAX($I$2:I713)-I713)","v":""},"",0,10000,0,{"$f":"IF(B713>0,WEEKNUM(TEXT(Definice!$F$3,\"0000\")&\".\"&TEXT(J713,\"00\")&\".\"&RIGHT(TEXT(B713,\"0000\"),2)),0)","v":0}]
[712,null,null,null,null,{"$f":"IF(OR(MAX($I$2:I714)-I714=0,D714=0),\"\",MAX($I$2:I714)-I714)","v":""},"",0,10000,0,{"$f":"IF(B714>0,WEEKNUM(TEXT(Definice!$F$3,\"0000\")&\".\"&TEXT(J714,\"00\")&\".\"&RIGHT(TEXT(B714,\"0000\"),2)),0)","v":0}]
[713,null,null,null,null,{"$f":"IF(OR(MAX($I$2:I715)-I715=0,D715=0),\"\",MAX($I$2:I715)-I715)","v":""},"",0,10000,0,{"$f":"IF(B715>0,WEEKNUM(TEXT(Definice!$F$3,\"0000\")&\".\"&TEXT(J715,\"00\")&\".\"&RIGHT(TEXT(B715,\"0000\"),2)),0)","v":0}]
[714,null,null,null,null,{"$f":"IF(OR(MAX($I$2:I716)-I716=0,D716=0),\"\",MAX($I$2:I716)-I716)","v":""},"",0,10000,0,{"$f":"IF(B716>0,WEEKNUM(TEXT(Definice!$F$3,\"0000\")&\".\"&TEXT(J716,\"00\")&\".\"&RIGHT(TEXT(B716,\"0000\"),2)),0)","v":0}]
[715,null,null,null,null,{"$f":"IF(OR(MAX($I$2:I717)-I717=0,D717=0),\"\",MAX($I$2:I717)-I717)","v":""},"",0,10000,0,{"$f":"IF(B717>0,WEEKNUM(TEXT(Definice!$F$3,\"0000\")&\".\"&TEXT(J717,\"00\")&\".\"&RIGHT(TEXT(B717,\"0000\"),2)),0)","v":0}]
[716,null,null,null,null,{"$f":"IF(OR(MAX($I$2:I718)-I718=0,D718=0),\"\",MAX($I$2:I718)-I718)","v":""},"",0,10000,0,{"$f":"IF(B718>0,WEEKNUM(TEXT(Definice!$F$3,\"0000\")&\".\"&TEXT(J718,\"00\")&\".\"&RIGHT(TEXT(B718,\"0000\"),2)),0)","v":0}]
[717,null,null,null,null,{"$f":"IF(OR(MAX($I$2:I719)-I719=0,D719=0),\"\",MAX($I$2:I719)-I719)","v":""},"",0,10000,0,{"$f":"IF(B719>0,WEEKNUM(TEXT(Definice!$F$3,\"0000\")&\".\"&TEXT(J719,\"00\")&\".\"&RIGHT(TEXT(B719,\"0000\"),2)),0)","v":0}]
[718,null,null,null,null,{"$f":"IF(OR(MAX($I$2:I720)-I720=0,D720=0),\"\",MAX($I$2:I720)-I720)","v":""},"",0,10000,0,{"$f":"IF(B720>0,WEEKNUM(TEXT(Definice!$F$3,\"0000\")&\".\"&TEXT(J720,\"00\")&\".\"&RIGHT(TEXT(B720,\"0000\"),2)),0)","v":0}]
[719,null,null,null,null,{"$f":"IF(OR(MAX($I$2:I721)-I721=0,D721=0),\"\",MAX($I$2:I721)-I721)","v":""},"",0,10000,0,{"$f":"IF(B721>0,WEEKNUM(TEXT(Definice!$F$3,\"0000\")&\".\"&TEXT(J721,\"00\")&\".\"&RIGHT(TEXT(B721,\"0000\"),2)),0)","v":0}]
[720,null,null,null,null,{"$f":"IF(OR(MAX($I$2:I722)-I722=0,D722=0),\"\",MAX($I$2:I722)-I722)","v":""},"",0,10000,0,{"$f":"IF(B722>0,WEEKNUM(TEXT(Definice!$F$3,\"0000\")&\".\"&TEXT(J722,\"00\")&\".\"&RIGHT(TEXT(B722,\"0000\"),2)),0)","v":0}]
[721,null,null,null,null,{"$f":"IF(OR(MAX($I$2:I723)-I723=0,D723=0),\"\",MAX($I$2:I723)-I723)","v":""},"",0,10000,0,{"$f":"IF(B723>0,WEEKNUM(TEXT(Definice!$F$3,\"0000\")&\".\"&TEXT(J723,\"00\")&\".\"&RIGHT(TEXT(B723,\"0000\"),2)),0)","v":0}]
[722,null,null,null,null,{"$f":"IF(OR(MAX($I$2:I724)-I724=0,D724=0),\"\",MAX($I$2:I724)-I724)","v":""},"",0,10000,0,{"$f":"IF(B724>0,WEEKNUM(TEXT(Definice!$F$3,\"0000\")&\".\"&TEXT(J724,\"00\")&\".\"&RIGHT(TEXT(B724,\"0000\"),2)),0)","v":0}]
[723,null,null,null,null,{"$f":"IF(OR(MAX($I$2:I725)-I725=0,D725=0),\"\",MAX($I$2:I725)-I725)","v":""},"",0,10000,0,{"$f":"IF(B725>0,WEEKNUM(TEXT(Definice!$F$3,\"0000\")&\".\"&TEXT(J725,\"00\")&\".\"&RIGHT(TEXT(B725,\"0000\"),2)),0)","v":0}]
[724,null,null,null,null,{"$f":"IF(OR(MAX($I$2:I726)-I726=0,D726=0),\"\",MAX($I$2:I726)-I726)","v":""},"",0,10000,0,{"$f":"IF(B726>0,WEEKNUM(TEXT(Definice!$F$3,\"0000\")&\".\"&TEXT(J726,\"00\")&\".\"&RIGHT(TEXT(B726,\"0000\"),2)),0)","v":0}]
[725,null,null,null,null,{"$f":"IF(OR(MAX($I$2:I727)-I727=0,D727=0),\"\",MAX($I$2:I727)-I727)","v":""},"",0,10000,0,{"$f":"IF(B727>0,WEEKNUM(TEXT(Definice!$F$3,\"0000\")&\".\"&TEXT(J727,\"00\")&\".\"&RIGHT(TEXT(B727,\"0000\"),2)),0)","v":0}]
[726,null,null,null,null,{"$f":"IF(OR(MAX($I$2:I728)-I728=0,D728=0),\"\",MAX($I$2:I728)-I728)","v":""},"",0,10000,0,{"$f":"IF(B728>0,WEEKNUM(TEXT(Definice!$F$3,\"0000\")&\".\"&TEXT(J728,\"00\")&\".\"&RIGHT(TEXT(B728,\"0000\"),2)),0)","v":0}]
[727,null,null,null,null,{"$f":"IF(OR(MAX($I$2:I729)-I729=0,D729=0),\"\",MAX($I$2:I729)-I729)","v":""},"",0,10000,0,{"$f":"IF(B729>0,WEEKNUM(TEXT(Definice!$F$3,\"0000\")&\".\"&TEXT(J729,\"00\")&\".\"&RIGHT(TEXT(B729,\"0000\"),2)),0)","v":0}]
[728,null,null,null,null,{"$f":"IF(OR(MAX($I$2:I730)-I730=0,D730=0),\"\",MAX($I$2:I730)-I730)","v":""},"",0,10000,0,{"$f":"IF(B730>0,WEEKNUM(TEXT(Definice!$F$3,\"0000\")&\".\"&TEXT(J730,\"00\")&\".\"&RIGHT(TEXT(B730,\"0000\"),2)),0)","v":0}]
[729,null,null,null,null,{"$f":"IF(OR(MAX($I$2:I731)-I731=0,D731=0),\"\",MAX($I$2:I731)-I731)","v":""},"",0,10000,0,{"$f":"IF(B731>0,WEEKNUM(TEXT(Definice!$F$3,\"0000\")&\".\"&TEXT(J731,\"00\")&\".\"&RIGHT(TEXT(B731,\"0000\"),2)),0)","v":0}]
[730,null,null,null,null,{"$f":"IF(OR(MAX($I$2:I732)-I732=0,D732=0),\"\",MAX($I$2:I732)-I732)","v":""},"",0,10000,0,{"$f":"IF(B732>0,WEEKNUM(TEXT(Definice!$F$3,\"0000\")&\".\"&TEXT(J732,\"00\")&\".\"&RIGHT(TEXT(B732,\"0000\"),2)),0)","v":0}]
[731,null,null,null,null,{"$f":"IF(OR(MAX($I$2:I733)-I733=0,D733=0),\"\",MAX($I$2:I733)-I733)","v":""},"",0,10000,0,{"$f":"IF(B733>0,WEEKNUM(TEXT(Definice!$F$3,\"0000\")&\".\"&TEXT(J733,\"00\")&\".\"&RIGHT(TEXT(B733,\"0000\"),2)),0)","v":0}]
[732,null,null,null,null,{"$f":"IF(OR(MAX($I$2:I734)-I734=0,D734=0),\"\",MAX($I$2:I734)-I734)","v":""},"",0,10000,0,{"$f":"IF(B734>0,WEEKNUM(TEXT(Definice!$F$3,\"0000\")&\".\"&TEXT(J734,\"00\")&\".\"&RIGHT(TEXT(B734,\"0000\"),2)),0)","v":0}]
[733,null,null,null,null,{"$f":"IF(OR(MAX($I$2:I735)-I735=0,D735=0),\"\",MAX($I$2:I735)-I735)","v":""},"",0,10000,0,{"$f":"IF(B735>0,WEEKNUM(TEXT(Definice!$F$3,\"0000\")&\".\"&TEXT(J735,\"00\")&\".\"&RIGHT(TEXT(B735,\"0000\"),2)),0)","v":0}]
[734,null,null,null,null,{"$f":"IF(OR(MAX($I$2:I736)-I736=0,D736=0),\"\",MAX($I$2:I736)-I736)","v":""},"",0,10000,0,{"$f":"IF(B736>0,WEEKNUM(TEXT(Definice!$F$3,\"0000\")&\".\"&TEXT(J736,\"00\")&\".\"&RIGHT(TEXT(B736,\"0000\"),2)),0)","v":0}]
[735,null,null,null,null,{"$f":"IF(OR(MAX($I$2:I737)-I737=0,D737=0),\"\",MAX($I$2:I737)-I737)","v":""},"",0,10000,0,{"$f":"IF(B737>0,WEEKNUM(TEXT(Definice!$F$3,\"0000\")&\".\"&TEXT(J737,\"00\")&\".\"&RIGHT(TEXT(B737,\"0000\"),2)),0)","v":0}]
[736,null,null,null,null,{"$f":"IF(OR(MAX($I$2:I738)-I738=0,D738=0),\"\",MAX($I$2:I738)-I738)","v":""},"",0,10000,0,{"$f":"IF(B738>0,WEEKNUM(TEXT(Definice!$F$3,\"0000\")&\".\"&TEXT(J738,\"00\")&\".\"&RIGHT(TEXT(B738,\"0000\"),2)),0)","v":0}]
[737,null,null,null,null,{"$f":"IF(OR(MAX($I$2:I739)-I739=0,D739=0),\"\",MAX($I$2:I739)-I739)","v":""},"",0,10000,0,{"$f":"IF(B739>0,WEEKNUM(TEXT(Definice!$F$3,\"0000\")&\".\"&TEXT(J739,\"00\")&\".\"&RIGHT(TEXT(B739,\"0000\"),2)),0)","v":0}]
[738,null,null,null,null,{"$f":"IF(OR(MAX($I$2:I740)-I740=0,D740=0),\"\",MAX($I$2:I740)-I740)","v":""},"",0,10000,0,{"$f":"IF(B740>0,WEEKNUM(TEXT(Definice!$F$3,\"0000\")&\".\"&TEXT(J740,\"00\")&\".\"&RIGHT(TEXT(B740,\"0000\"),2)),0)","v":0}]
[739,null,null,null,null,{"$f":"IF(OR(MAX($I$2:I741)-I741=0,D741=0),\"\",MAX($I$2:I741)-I741)","v":""},"",0,10000,0,{"$f":"IF(B741>0,WEEKNUM(TEXT(Definice!$F$3,\"0000\")&\".\"&TEXT(J741,\"00\")&\".\"&RIGHT(TEXT(B741,\"0000\"),2)),0)","v":0}]
[740,null,null,null,null,{"$f":"IF(OR(MAX($I$2:I742)-I742=0,D742=0),\"\",MAX($I$2:I742)-I742)","v":""},"",0,10000,0,{"$f":"IF(B742>0,WEEKNUM(TEXT(Definice!$F$3,\"0000\")&\".\"&TEXT(J742,\"00\")&\".\"&RIGHT(TEXT(B742,\"0000\"),2)),0)","v":0}]
[741,null,null,null,null,{"$f":"IF(OR(MAX($I$2:I743)-I743=0,D743=0),\"\",MAX($I$2:I743)-I743)","v":""},"",0,10000,0,{"$f":"IF(B743>0,WEEKNUM(TEXT(Definice!$F$3,\"0000\")&\".\"&TEXT(J743,\"00\")&\".\"&RIGHT(TEXT(B743,\"0000\"),2)),0)","v":0}]
[742,null,null,null,null,{"$f":"IF(OR(MAX($I$2:I744)-I744=0,D744=0),\"\",MAX($I$2:I744)-I744)","v":""},"",0,10000,0,{"$f":"IF(B744>0,WEEKNUM(TEXT(Definice!$F$3,\"0000\")&\".\"&TEXT(J744,\"00\")&\".\"&RIGHT(TEXT(B744,\"0000\"),2)),0)","v":0}]
[743,null,null,null,null,{"$f":"IF(OR(MAX($I$2:I745)-I745=0,D745=0),\"\",MAX($I$2:I745)-I745)","v":""},"",0,10000,0,{"$f":"IF(B745>0,WEEKNUM(TEXT(Definice!$F$3,\"0000\")&\".\"&TEXT(J745,\"00\")&\".\"&RIGHT(TEXT(B745,\"0000\"),2)),0)","v":0}]
[744,null,null,null,null,{"$f":"IF(OR(MAX($I$2:I746)-I746=0,D746=0),\"\",MAX($I$2:I746)-I746)","v":""},"",0,10000,0,{"$f":"IF(B746>0,WEEKNUM(TEXT(Definice!$F$3,\"0000\")&\".\"&TEXT(J746,\"00\")&\".\"&RIGHT(TEXT(B746,\"0000\"),2)),0)","v":0}]
[745,null,null,null,null,{"$f":"IF(OR(MAX($I$2:I747)-I747=0,D747=0),\"\",MAX($I$2:I747)-I747)","v":""},"",0,10000,0,{"$f":"IF(B747>0,WEEKNUM(TEXT(Definice!$F$3,\"0000\")&\".\"&TEXT(J747,\"00\")&\".\"&RIGHT(TEXT(B747,\"0000\"),2)),0)","v":0}]
[746,null,null,null,null,{"$f":"IF(OR(MAX($I$2:I748)-I748=0,D748=0),\"\",MAX($I$2:I748)-I748)","v":""},"",0,10000,0,{"$f":"IF(B748>0,WEEKNUM(TEXT(Definice!$F$3,\"0000\")&\".\"&TEXT(J748,\"00\")&\".\"&RIGHT(TEXT(B748,\"0000\"),2)),0)","v":0}]
[747,null,null,null,null,{"$f":"IF(OR(MAX($I$2:I749)-I749=0,D749=0),\"\",MAX($I$2:I749)-I749)","v":""},"",0,10000,0,{"$f":"IF(B749>0,WEEKNUM(TEXT(Definice!$F$3,\"0000\")&\".\"&TEXT(J749,\"00\")&\".\"&RIGHT(TEXT(B749,\"0000\"),2)),0)","v":0}]
[748,null,null,null,null,{"$f":"IF(OR(MAX($I$2:I750)-I750=0,D750=0),\"\",MAX($I$2:I750)-I750)","v":""},"",0,10000,0,{"$f":"IF(B750>0,WEEKNUM(TEXT(Definice!$F$3,\"0000\")&\".\"&TEXT(J750,\"00\")&\".\"&RIGHT(TEXT(B750,\"0000\"),2)),0)","v":0}]
[749,null,null,null,null,{"$f":"IF(OR(MAX($I$2:I751)-I751=0,D751=0),\"\",MAX($I$2:I751)-I751)","v":""},"",0,10000,0,{"$f":"IF(B751>0,WEEKNUM(TEXT(Definice!$F$3,\"0000\")&\".\"&TEXT(J751,\"00\")&\".\"&RIGHT(TEXT(B751,\"0000\"),2)),0)","v":0}]
[750,null,null,null,null,{"$f":"IF(OR(MAX($I$2:I752)-I752=0,D752=0),\"\",MAX($I$2:I752)-I752)","v":""},"",0,10000,0,{"$f":"IF(B752>0,WEEKNUM(TEXT(Definice!$F$3,\"0000\")&\".\"&TEXT(J752,\"00\")&\".\"&RIGHT(TEXT(B752,\"0000\"),2)),0)","v":0}]
[751,null,null,null,null,{"$f":"IF(OR(MAX($I$2:I753)-I753=0,D753=0),\"\",MAX($I$2:I753)-I753)","v":""},"",0,10000,0,{"$f":"IF(B753>0,WEEKNUM(TEXT(Definice!$F$3,\"0000\")&\".\"&TEXT(J753,\"00\")&\".\"&RIGHT(TEXT(B753,\"0000\"),2)),0)","v":0}]
[752,null,null,null,null,{"$f":"IF(OR(MAX($I$2:I754)-I754=0,D754=0),\"\",MAX($I$2:I754)-I754)","v":""},"",0,10000,0,{"$f":"IF(B754>0,WEEKNUM(TEXT(Definice!$F$3,\"0000\")&\".\"&TEXT(J754,\"00\")&\".\"&RIGHT(TEXT(B754,\"0000\"),2)),0)","v":0}]
[753,null,null,null,null,{"$f":"IF(OR(MAX($I$2:I755)-I755=0,D755=0),\"\",MAX($I$2:I755)-I755)","v":""},"",0,10000,0,{"$f":"IF(B755>0,WEEKNUM(TEXT(Definice!$F$3,\"0000\")&\".\"&TEXT(J755,\"00\")&\".\"&RIGHT(TEXT(B755,\"0000\"),2)),0)","v":0}]
[754,null,null,null,null,{"$f":"IF(OR(MAX($I$2:I756)-I756=0,D756=0),\"\",MAX($I$2:I756)-I756)","v":""},"",0,10000,0,{"$f":"IF(B756>0,WEEKNUM(TEXT(Definice!$F$3,\"0000\")&\".\"&TEXT(J756,\"00\")&\".\"&RIGHT(TEXT(B756,\"0000\"),2)),0)","v":0}]
[755,null,null,null,null,{"$f":"IF(OR(MAX($I$2:I757)-I757=0,D757=0),\"\",MAX($I$2:I757)-I757)","v":""},"",0,10000,0,{"$f":"IF(B757>0,WEEKNUM(TEXT(Definice!$F$3,\"0000\")&\".\"&TEXT(J757,\"00\")&\".\"&RIGHT(TEXT(B757,\"0000\"),2)),0)","v":0}]
[756,null,null,null,null,{"$f":"IF(OR(MAX($I$2:I758)-I758=0,D758=0),\"\",MAX($I$2:I758)-I758)","v":""},"",0,10000,0,{"$f":"IF(B758>0,WEEKNUM(TEXT(Definice!$F$3,\"0000\")&\".\"&TEXT(J758,\"00\")&\".\"&RIGHT(TEXT(B758,\"0000\"),2)),0)","v":0}]
[757,null,null,null,null,{"$f":"IF(OR(MAX($I$2:I759)-I759=0,D759=0),\"\",MAX($I$2:I759)-I759)","v":""},"",0,10000,0,{"$f":"IF(B759>0,WEEKNUM(TEXT(Definice!$F$3,\"0000\")&\".\"&TEXT(J759,\"00\")&\".\"&RIGHT(TEXT(B759,\"0000\"),2)),0)","v":0}]
[758,null,null,null,null,{"$f":"IF(OR(MAX($I$2:I760)-I760=0,D760=0),\"\",MAX($I$2:I760)-I760)","v":""},"",0,10000,0,{"$f":"IF(B760>0,WEEKNUM(TEXT(Definice!$F$3,\"0000\")&\".\"&TEXT(J760,\"00\")&\".\"&RIGHT(TEXT(B760,\"0000\"),2)),0)","v":0}]
[759,null,null,null,null,{"$f":"IF(OR(MAX($I$2:I761)-I761=0,D761=0),\"\",MAX($I$2:I761)-I761)","v":""},"",0,10000,0,{"$f":"IF(B761>0,WEEKNUM(TEXT(Definice!$F$3,\"0000\")&\".\"&TEXT(J761,\"00\")&\".\"&RIGHT(TEXT(B761,\"0000\"),2)),0)","v":0}]
[760,null,null,null,null,{"$f":"IF(OR(MAX($I$2:I762)-I762=0,D762=0),\"\",MAX($I$2:I762)-I762)","v":""},"",0,10000,0,{"$f":"IF(B762>0,WEEKNUM(TEXT(Definice!$F$3,\"0000\")&\".\"&TEXT(J762,\"00\")&\".\"&RIGHT(TEXT(B762,\"0000\"),2)),0)","v":0}]
[761,null,null,null,null,{"$f":"IF(OR(MAX($I$2:I763)-I763=0,D763=0),\"\",MAX($I$2:I763)-I763)","v":""},"",0,10000,0,{"$f":"IF(B763>0,WEEKNUM(TEXT(Definice!$F$3,\"0000\")&\".\"&TEXT(J763,\"00\")&\".\"&RIGHT(TEXT(B763,\"0000\"),2)),0)","v":0}]
[762,null,null,null,null,{"$f":"IF(OR(MAX($I$2:I764)-I764=0,D764=0),\"\",MAX($I$2:I764)-I764)","v":""},"",0,10000,0,{"$f":"IF(B764>0,WEEKNUM(TEXT(Definice!$F$3,\"0000\")&\".\"&TEXT(J764,\"00\")&\".\"&RIGHT(TEXT(B764,\"0000\"),2)),0)","v":0}]
[763,null,null,null,null,{"$f":"IF(OR(MAX($I$2:I765)-I765=0,D765=0),\"\",MAX($I$2:I765)-I765)","v":""},"",0,10000,0,{"$f":"IF(B765>0,WEEKNUM(TEXT(Definice!$F$3,\"0000\")&\".\"&TEXT(J765,\"00\")&\".\"&RIGHT(TEXT(B765,\"0000\"),2)),0)","v":0}]
[764,null,null,null,null,{"$f":"IF(OR(MAX($I$2:I766)-I766=0,D766=0),\"\",MAX($I$2:I766)-I766)","v":""},"",0,10000,0,{"$f":"IF(B766>0,WEEKNUM(TEXT(Definice!$F$3,\"0000\")&\".\"&TEXT(J766,\"00\")&\".\"&RIGHT(TEXT(B766,\"0000\"),2)),0)","v":0}]
[765,null,null,null,null,{"$f":"IF(OR(MAX($I$2:I767)-I767=0,D767=0),\"\",MAX($I$2:I767)-I767)","v":""},"",0,10000,0,{"$f":"IF(B767>0,WEEKNUM(TEXT(Definice!$F$3,\"0000\")&\".\"&TEXT(J767,\"00\")&\".\"&RIGHT(TEXT(B767,\"0000\"),2)),0)","v":0}]
[766,null,null,null,null,{"$f":"IF(OR(MAX($I$2:I768)-I768=0,D768=0),\"\",MAX($I$2:I768)-I768)","v":""},"",0,10000,0,{"$f":"IF(B768>0,WEEKNUM(TEXT(Definice!$F$3,\"0000\")&\".\"&TEXT(J768,\"00\")&\".\"&RIGHT(TEXT(B768,\"0000\"),2)),0)","v":0}]
[767,null,null,null,null,{"$f":"IF(OR(MAX($I$2:I769)-I769=0,D769=0),\"\",MAX($I$2:I769)-I769)","v":""},"",0,10000,0,{"$f":"IF(B769>0,WEEKNUM(TEXT(Definice!$F$3,\"0000\")&\".\"&TEXT(J769,\"00\")&\".\"&RIGHT(TEXT(B769,\"0000\"),2)),0)","v":0}]
[768,null,null,null,null,{"$f":"IF(OR(MAX($I$2:I770)-I770=0,D770=0),\"\",MAX($I$2:I770)-I770)","v":""},"",0,10000,0,{"$f":"IF(B770>0,WEEKNUM(TEXT(Definice!$F$3,\"0000\")&\".\"&TEXT(J770,\"00\")&\".\"&RIGHT(TEXT(B770,\"0000\"),2)),0)","v":0}]
[769,null,null,null,null,{"$f":"IF(OR(MAX($I$2:I771)-I771=0,D771=0),\"\",MAX($I$2:I771)-I771)","v":""},"",0,10000,0,{"$f":"IF(B771>0,WEEKNUM(TEXT(Definice!$F$3,\"0000\")&\".\"&TEXT(J771,\"00\")&\".\"&RIGHT(TEXT(B771,\"0000\"),2)),0)","v":0}]
[770,null,null,null,null,{"$f":"IF(OR(MAX($I$2:I772)-I772=0,D772=0),\"\",MAX($I$2:I772)-I772)","v":""},"",0,10000,{"$f":"((INT(B772/100)/100)-INT(INT(B772/100)/100))*100","v":0},{"$f":"IF(B772>0,WEEKNUM(TEXT(Definice!$F$3,\"0000\")&\".\"&TEXT(J772,\"00\")&\".\"&RIGHT(TEXT(B772,\"0000\"),2)),0)","v":0}]
[771,null,null,null,null,{"$f":"IF(OR(MAX($I$2:I773)-I773=0,D773=0),\"\",MAX($I$2:I773)-I773)","v":""},{"$f":"IF(F773=\"\",\"\",F773/(H773+I772))","v":""},{"$f":"H772+E773","v":0},{"$f":"I772+E773","v":10000},0,{"$f":"IF(B773>0,WEEKNUM(TEXT(Definice!$F$3,\"0000\")&\".\"&TEXT(J773,\"00\")&\".\"&RIGHT(TEXT(B773,\"0000\"),2)),0)","v":0}]
[772,null,null,null,null,{"$f":"IF(OR(MAX($I$2:I774)-I774=0,D774=0),\"\",MAX($I$2:I774)-I774)","v":""},"",0,10000,0,{"$f":"IF(B774>0,WEEKNUM(TEXT(Definice!$F$3,\"0000\")&\".\"&TEXT(J774,\"00\")&\".\"&RIGHT(TEXT(B774,\"0000\"),2)),0)","v":0}]
[773,null,null,null,null,{"$f":"IF(OR(MAX($I$2:I775)-I775=0,D775=0),\"\",MAX($I$2:I775)-I775)","v":""},"",0,10000,0,{"$f":"IF(B775>0,WEEKNUM(TEXT(Definice!$F$3,\"0000\")&\".\"&TEXT(J775,\"00\")&\".\"&RIGHT(TEXT(B775,\"0000\"),2)),0)","v":0}]
[774,null,null,null,null,{"$f":"IF(OR(MAX($I$2:I776)-I776=0,D776=0),\"\",MAX($I$2:I776)-I776)","v":""},"",0,10000,0,{"$f":"IF(B776>0,WEEKNUM(TEXT(Definice!$F$3,\"0000\")&\".\"&TEXT(J776,\"00\")&\".\"&RIGHT(TEXT(B776,\"0000\"),2)),0)","v":0}]
[775,null,null,null,null,{"$f":"IF(OR(MAX($I$2:I777)-I777=0,D777=0),\"\",MAX($I$2:I777)-I777)","v":""},"",0,10000,0,{"$f":"IF(B777>0,WEEKNUM(TEXT(Definice!$F$3,\"0000\")&\".\"&TEXT(J777,\"00\")&\".\"&RIGHT(TEXT(B777,\"0000\"),2)),0)","v":0}]
[776,null,null,null,null,{"$f":"IF(OR(MAX($I$2:I778)-I778=0,D778=0),\"\",MAX($I$2:I778)-I778)","v":""},"",0,10000,0,{"$f":"IF(B778>0,WEEKNUM(TEXT(Definice!$F$3,\"0000\")&\".\"&TEXT(J778,\"00\")&\".\"&RIGHT(TEXT(B778,\"0000\"),2)),0)","v":0}]
[777,null,null,null,null,{"$f":"IF(OR(MAX($I$2:I779)-I779=0,D779=0),\"\",MAX($I$2:I779)-I779)","v":""},"",0,10000,0,{"$f":"IF(B779>0,WEEKNUM(TEXT(Definice!$F$3,\"0000\")&\".\"&TEXT(J779,\"00\")&\".\"&RIGHT(TEXT(B779,\"0000\"),2)),0)","v":0}]
[778,null,null,null,null,{"$f":"IF(OR(MAX($I$2:I780)-I780=0,D780=0),\"\",MAX($I$2:I780)-I780)","v":""},"",0,10000,0,{"$f":"IF(B780>0,WEEKNUM(TEXT(Definice!$F$3,\"0000\")&\".\"&TEXT(J780,\"00\")&\".\"&RIGHT(TEXT(B780,\"0000\"),2)),0)","v":0}]
[779,null,null,null,null,{"$f":"IF(OR(MAX($I$2:I781)-I781=0,D781=0),\"\",MAX($I$2:I781)-I781)","v":""},"",0,10000,0,{"$f":"IF(B781>0,WEEKNUM(TEXT(Definice!$F$3,\"0000\")&\".\"&TEXT(J781,\"00\")&\".\"&RIGHT(TEXT(B781,\"0000\"),2)),0)","v":0}]
[780,null,null,null,null,{"$f":"IF(OR(MAX($I$2:I782)-I782=0,D782=0),\"\",MAX($I$2:I782)-I782)","v":""},"",0,10000,0,{"$f":"IF(B782>0,WEEKNUM(TEXT(Definice!$F$3,\"0000\")&\".\"&TEXT(J782,\"00\")&\".\"&RIGHT(TEXT(B782,\"0000\"),2)),0)","v":0}]
[781,null,null,null,null,{"$f":"IF(OR(MAX($I$2:I783)-I783=0,D783=0),\"\",MAX($I$2:I783)-I783)","v":""},"",0,10000,0,{"$f":"IF(B783>0,WEEKNUM(TEXT(Definice!$F$3,\"0000\")&\".\"&TEXT(J783,\"00\")&\".\"&RIGHT(TEXT(B783,\"0000\"),2)),0)","v":0}]
[782,null,null,null,null,{"$f":"IF(OR(MAX($I$2:I784)-I784=0,D784=0),\"\",MAX($I$2:I784)-I784)","v":""},"",0,10000,0,{"$f":"IF(B784>0,WEEKNUM(TEXT(Definice!$F$3,\"0000\")&\".\"&TEXT(J784,\"00\")&\".\"&RIGHT(TEXT(B784,\"0000\"),2)),0)","v":0}]
[783,null,null,null,null,{"$f":"IF(OR(MAX($I$2:I785)-I785=0,D785=0),\"\",MAX($I$2:I785)-I785)","v":""},"",0,10000,0,{"$f":"IF(B785>0,WEEKNUM(TEXT(Definice!$F$3,\"0000\")&\".\"&TEXT(J785,\"00\")&\".\"&RIGHT(TEXT(B785,\"0000\"),2)),0)","v":0}]
[784,null,null,null,null,{"$f":"IF(OR(MAX($I$2:I786)-I786=0,D786=0),\"\",MAX($I$2:I786)-I786)","v":""},"",0,10000,0,{"$f":"IF(B786>0,WEEKNUM(TEXT(Definice!$F$3,\"0000\")&\".\"&TEXT(J786,\"00\")&\".\"&RIGHT(TEXT(B786,\"0000\"),2)),0)","v":0}]
[785,null,null,null,null,{"$f":"IF(OR(MAX($I$2:I787)-I787=0,D787=0),\"\",MAX($I$2:I787)-I787)","v":""},"",0,10000,0,{"$f":"IF(B787>0,WEEKNUM(TEXT(Definice!$F$3,\"0000\")&\".\"&TEXT(J787,\"00\")&\".\"&RIGHT(TEXT(B787,\"0000\"),2)),0)","v":0}]
[786,null,null,null,null,{"$f":"IF(OR(MAX($I$2:I788)-I788=0,D788=0),\"\",MAX($I$2:I788)-I788)","v":""},"",0,10000,0,{"$f":"IF(B788>0,WEEKNUM(TEXT(Definice!$F$3,\"0000\")&\".\"&TEXT(J788,\"00\")&\".\"&RIGHT(TEXT(B788,\"0000\"),2)),0)","v":0}]
[787,null,null,null,null,{"$f":"IF(OR(MAX($I$2:I789)-I789=0,D789=0),\"\",MAX($I$2:I789)-I789)","v":""},"",0,10000,0,{"$f":"IF(B789>0,WEEKNUM(TEXT(Definice!$F$3,\"0000\")&\".\"&TEXT(J789,\"00\")&\".\"&RIGHT(TEXT(B789,\"0000\"),2)),0)","v":0}]
[788,null,null,null,null,{"$f":"IF(OR(MAX($I$2:I790)-I790=0,D790=0),\"\",MAX($I$2:I790)-I790)","v":""},"",0,10000,0,{"$f":"IF(B790>0,WEEKNUM(TEXT(Definice!$F$3,\"0000\")&\".\"&TEXT(J790,\"00\")&\".\"&RIGHT(TEXT(B790,\"0000\"),2)),0)","v":0}]
[789,null,null,null,null,{"$f":"IF(OR(MAX($I$2:I791)-I791=0,D791=0),\"\",MAX($I$2:I791)-I791)","v":""},"",0,10000,0,{"$f":"IF(B791>0,WEEKNUM(TEXT(Definice!$F$3,\"0000\")&\".\"&TEXT(J791,\"00\")&\".\"&RIGHT(TEXT(B791,\"0000\"),2)),0)","v":0}]
[790,null,null,null,null,{"$f":"IF(OR(MAX($I$2:I792)-I792=0,D792=0),\"\",MAX($I$2:I792)-I792)","v":""},"",0,10000,0,{"$f":"IF(B792>0,WEEKNUM(TEXT(Definice!$F$3,\"0000\")&\".\"&TEXT(J792,\"00\")&\".\"&RIGHT(TEXT(B792,\"0000\"),2)),0)","v":0}]
[791,null,null,null,null,{"$f":"IF(OR(MAX($I$2:I793)-I793=0,D793=0),\"\",MAX($I$2:I793)-I793)","v":""},"",0,10000,0,{"$f":"IF(B793>0,WEEKNUM(TEXT(Definice!$F$3,\"0000\")&\".\"&TEXT(J793,\"00\")&\".\"&RIGHT(TEXT(B793,\"0000\"),2)),0)","v":0}]
[792,null,null,null,null,{"$f":"IF(OR(MAX($I$2:I794)-I794=0,D794=0),\"\",MAX($I$2:I794)-I794)","v":""},"",0,10000,0,{"$f":"IF(B794>0,WEEKNUM(TEXT(Definice!$F$3,\"0000\")&\".\"&TEXT(J794,\"00\")&\".\"&RIGHT(TEXT(B794,\"0000\"),2)),0)","v":0}]
[793,null,null,null,null,{"$f":"IF(OR(MAX($I$2:I795)-I795=0,D795=0),\"\",MAX($I$2:I795)-I795)","v":""},"",0,10000,0,{"$f":"IF(B795>0,WEEKNUM(TEXT(Definice!$F$3,\"0000\")&\".\"&TEXT(J795,\"00\")&\".\"&RIGHT(TEXT(B795,\"0000\"),2)),0)","v":0}]
[794,null,null,null,null,{"$f":"IF(OR(MAX($I$2:I796)-I796=0,D796=0),\"\",MAX($I$2:I796)-I796)","v":""},"",0,10000,0,{"$f":"IF(B796>0,WEEKNUM(TEXT(Definice!$F$3,\"0000\")&\".\"&TEXT(J796,\"00\")&\".\"&RIGHT(TEXT(B796,\"0000\"),2)),0)","v":0}]
[795,null,null,null,null,{"$f":"IF(OR(MAX($I$2:I797)-I797=0,D797=0),\"\",MAX($I$2:I797)-I797)","v":""},"",0,10000,0,{"$f":"IF(B797>0,WEEKNUM(TEXT(Definice!$F$3,\"0000\")&\".\"&TEXT(J797,\"00\")&\".\"&RIGHT(TEXT(B797,\"0000\"),2)),0)","v":0}]
[796,null,null,null,null,{"$f":"IF(OR(MAX($I$2:I798)-I798=0,D798=0),\"\",MAX($I$2:I798)-I798)","v":""},"",0,10000,0,{"$f":"IF(B798>0,WEEKNUM(TEXT(Definice!$F$3,\"0000\")&\".\"&TEXT(J798,\"00\")&\".\"&RIGHT(TEXT(B798,\"0000\"),2)),0)","v":0}]
[797,null,null,null,null,{"$f":"IF(OR(MAX($I$2:I799)-I799=0,D799=0),\"\",MAX($I$2:I799)-I799)","v":""},"",0,10000,0,{"$f":"IF(B799>0,WEEKNUM(TEXT(Definice!$F$3,\"0000\")&\".\"&TEXT(J799,\"00\")&\".\"&RIGHT(TEXT(B799,\"0000\"),2)),0)","v":0}]
[798,null,null,null,null,{"$f":"IF(OR(MAX($I$2:I800)-I800=0,D800=0),\"\",MAX($I$2:I800)-I800)","v":""},"",0,10000,0,{"$f":"IF(B800>0,WEEKNUM(TEXT(Definice!$F$3,\"0000\")&\".\"&TEXT(J800,\"00\")&\".\"&RIGHT(TEXT(B800,\"0000\"),2)),0)","v":0}]
[799,null,null,null,null,{"$f":"IF(OR(MAX($I$2:I801)-I801=0,D801=0),\"\",MAX($I$2:I801)-I801)","v":""},"",0,10000,0,{"$f":"IF(B801>0,WEEKNUM(TEXT(Definice!$F$3,\"0000\")&\".\"&TEXT(J801,\"00\")&\".\"&RIGHT(TEXT(B801,\"0000\"),2)),0)","v":0}]
[800,null,null,null,null,{"$f":"IF(OR(MAX($I$2:I802)-I802=0,D802=0),\"\",MAX($I$2:I802)-I802)","v":""},"",0,10000,0,{"$f":"IF(B802>0,WEEKNUM(TEXT(Definice!$F$3,\"0000\")&\".\"&TEXT(J802,\"00\")&\".\"&RIGHT(TEXT(B802,\"0000\"),2)),0)","v":0}]
[801,null,null,null,null,{"$f":"IF(OR(MAX($I$2:I803)-I803=0,D803=0),\"\",MAX($I$2:I803)-I803)","v":""},"",0,10000,0,{"$f":"IF(B803>0,WEEKNUM(TEXT(Definice!$F$3,\"0000\")&\".\"&TEXT(J803,\"00\")&\".\"&RIGHT(TEXT(B803,\"0000\"),2)),0)","v":0}]
[802,null,null,null,null,{"$f":"IF(OR(MAX($I$2:I804)-I804=0,D804=0),\"\",MAX($I$2:I804)-I804)","v":""},"",0,10000,0,{"$f":"IF(B804>0,WEEKNUM(TEXT(Definice!$F$3,\"0000\")&\".\"&TEXT(J804,\"00\")&\".\"&RIGHT(TEXT(B804,\"0000\"),2)),0)","v":0}]
[803,null,null,null,null,{"$f":"IF(OR(MAX($I$2:I805)-I805=0,D805=0),\"\",MAX($I$2:I805)-I805)","v":""},"",0,10000,0,{"$f":"IF(B805>0,WEEKNUM(TEXT(Definice!$F$3,\"0000\")&\".\"&TEXT(J805,\"00\")&\".\"&RIGHT(TEXT(B805,\"0000\"),2)),0)","v":0}]
[804,null,null,null,null,{"$f":"IF(OR(MAX($I$2:I806)-I806=0,D806=0),\"\",MAX($I$2:I806)-I806)","v":""},"",0,10000,0,{"$f":"IF(B806>0,WEEKNUM(TEXT(Definice!$F$3,\"0000\")&\".\"&TEXT(J806,\"00\")&\".\"&RIGHT(TEXT(B806,\"0000\"),2)),0)","v":0}]
[805,null,null,null,null,{"$f":"IF(OR(MAX($I$2:I807)-I807=0,D807=0),\"\",MAX($I$2:I807)-I807)","v":""},"",0,10000,0,{"$f":"IF(B807>0,WEEKNUM(TEXT(Definice!$F$3,\"0000\")&\".\"&TEXT(J807,\"00\")&\".\"&RIGHT(TEXT(B807,\"0000\"),2)),0)","v":0}]
[806,null,null,null,null,{"$f":"IF(OR(MAX($I$2:I808)-I808=0,D808=0),\"\",MAX($I$2:I808)-I808)","v":""},"",0,10000,0,{"$f":"IF(B808>0,WEEKNUM(TEXT(Definice!$F$3,\"0000\")&\".\"&TEXT(J808,\"00\")&\".\"&RIGHT(TEXT(B808,\"0000\"),2)),0)","v":0}]
[807,null,null,null,null,{"$f":"IF(OR(MAX($I$2:I809)-I809=0,D809=0),\"\",MAX($I$2:I809)-I809)","v":""},"",0,10000,0,{"$f":"IF(B809>0,WEEKNUM(TEXT(Definice!$F$3,\"0000\")&\".\"&TEXT(J809,\"00\")&\".\"&RIGHT(TEXT(B809,\"0000\"),2)),0)","v":0}]
[808,null,null,null,null,{"$f":"IF(OR(MAX($I$2:I810)-I810=0,D810=0),\"\",MAX($I$2:I810)-I810)","v":""},"",0,10000,0,{"$f":"IF(B810>0,WEEKNUM(TEXT(Definice!$F$3,\"0000\")&\".\"&TEXT(J810,\"00\")&\".\"&RIGHT(TEXT(B810,\"0000\"),2)),0)","v":0}]
[809,null,null,null,null,{"$f":"IF(OR(MAX($I$2:I811)-I811=0,D811=0),\"\",MAX($I$2:I811)-I811)","v":""},"",0,10000,0,{"$f":"IF(B811>0,WEEKNUM(TEXT(Definice!$F$3,\"0000\")&\".\"&TEXT(J811,\"00\")&\".\"&RIGHT(TEXT(B811,\"0000\"),2)),0)","v":0}]
[810,null,null,null,null,{"$f":"IF(OR(MAX($I$2:I812)-I812=0,D812=0),\"\",MAX($I$2:I812)-I812)","v":""},"",0,10000,0,{"$f":"IF(B812>0,WEEKNUM(TEXT(Definice!$F$3,\"0000\")&\".\"&TEXT(J812,\"00\")&\".\"&RIGHT(TEXT(B812,\"0000\"),2)),0)","v":0}]
[811,null,null,null,null,{"$f":"IF(OR(MAX($I$2:I813)-I813=0,D813=0),\"\",MAX($I$2:I813)-I813)","v":""},"",0,10000,0,{"$f":"IF(B813>0,WEEKNUM(TEXT(Definice!$F$3,\"0000\")&\".\"&TEXT(J813,\"00\")&\".\"&RIGHT(TEXT(B813,\"0000\"),2)),0)","v":0}]
[812,null,null,null,null,{"$f":"IF(OR(MAX($I$2:I814)-I814=0,D814=0),\"\",MAX($I$2:I814)-I814)","v":""},"",0,10000,0,{"$f":"IF(B814>0,WEEKNUM(TEXT(Definice!$F$3,\"0000\")&\".\"&TEXT(J814,\"00\")&\".\"&RIGHT(TEXT(B814,\"0000\"),2)),0)","v":0}]
[813,null,null,null,null,{"$f":"IF(OR(MAX($I$2:I815)-I815=0,D815=0),\"\",MAX($I$2:I815)-I815)","v":""},"",0,10000,0,{"$f":"IF(B815>0,WEEKNUM(TEXT(Definice!$F$3,\"0000\")&\".\"&TEXT(J815,\"00\")&\".\"&RIGHT(TEXT(B815,\"0000\"),2)),0)","v":0}]
[814,null,null,null,null,{"$f":"IF(OR(MAX($I$2:I816)-I816=0,D816=0),\"\",MAX($I$2:I816)-I816)","v":""},"",0,10000,0,{"$f":"IF(B816>0,WEEKNUM(TEXT(Definice!$F$3,\"0000\")&\".\"&TEXT(J816,\"00\")&\".\"&RIGHT(TEXT(B816,\"0000\"),2)),0)","v":0}]
[815,null,null,null,null,{"$f":"IF(OR(MAX($I$2:I817)-I817=0,D817=0),\"\",MAX($I$2:I817)-I817)","v":""},"",0,10000,0,{"$f":"IF(B817>0,WEEKNUM(TEXT(Definice!$F$3,\"0000\")&\".\"&TEXT(J817,\"00\")&\".\"&RIGHT(TEXT(B817,\"0000\"),2)),0)","v":0}]
[816,null,null,null,null,{"$f":"IF(OR(MAX($I$2:I818)-I818=0,D818=0),\"\",MAX($I$2:I818)-I818)","v":""},"",0,10000,0,{"$f":"IF(B818>0,WEEKNUM(TEXT(Definice!$F$3,\"0000\")&\".\"&TEXT(J818,\"00\")&\".\"&RIGHT(TEXT(B818,\"0000\"),2)),0)","v":0}]
[817,null,null,null,null,{"$f":"IF(OR(MAX($I$2:I819)-I819=0,D819=0),\"\",MAX($I$2:I819)-I819)","v":""},"",0,10000,0,{"$f":"IF(B819>0,WEEKNUM(TEXT(Definice!$F$3,\"0000\")&\".\"&TEXT(J819,\"00\")&\".\"&RIGHT(TEXT(B819,\"0000\"),2)),0)","v":0}]
[818,null,null,null,null,{"$f":"IF(OR(MAX($I$2:I820)-I820=0,D820=0),\"\",MAX($I$2:I820)-I820)","v":""},"",0,10000,0,{"$f":"IF(B820>0,WEEKNUM(TEXT(Definice!$F$3,\"0000\")&\".\"&TEXT(J820,\"00\")&\".\"&RIGHT(TEXT(B820,\"0000\"),2)),0)","v":0}]
[819,null,null,null,null,{"$f":"IF(OR(MAX($I$2:I821)-I821=0,D821=0),\"\",MAX($I$2:I821)-I821)","v":""},"",0,10000,0,{"$f":"IF(B821>0,WEEKNUM(TEXT(Definice!$F$3,\"0000\")&\".\"&TEXT(J821,\"00\")&\".\"&RIGHT(TEXT(B821,\"0000\"),2)),0)","v":0}]
[820,null,null,null,null,{"$f":"IF(OR(MAX($I$2:I822)-I822=0,D822=0),\"\",MAX($I$2:I822)-I822)","v":""},"",0,10000,0,{"$f":"IF(B822>0,WEEKNUM(TEXT(Definice!$F$3,\"0000\")&\".\"&TEXT(J822,\"00\")&\".\"&RIGHT(TEXT(B822,\"0000\"),2)),0)","v":0}]
[821,null,null,null,null,{"$f":"IF(OR(MAX($I$2:I823)-I823=0,D823=0),\"\",MAX($I$2:I823)-I823)","v":""},"",0,10000,0,{"$f":"IF(B823>0,WEEKNUM(TEXT(Definice!$F$3,\"0000\")&\".\"&TEXT(J823,\"00\")&\".\"&RIGHT(TEXT(B823,\"0000\"),2)),0)","v":0}]
[822,null,null,null,null,{"$f":"IF(OR(MAX($I$2:I824)-I824=0,D824=0),\"\",MAX($I$2:I824)-I824)","v":""},"",0,10000,0,{"$f":"IF(B824>0,WEEKNUM(TEXT(Definice!$F$3,\"0000\")&\".\"&TEXT(J824,\"00\")&\".\"&RIGHT(TEXT(B824,\"0000\"),2)),0)","v":0}]
[823,null,null,null,null,{"$f":"IF(OR(MAX($I$2:I825)-I825=0,D825=0),\"\",MAX($I$2:I825)-I825)","v":""},"",0,10000,0,{"$f":"IF(B825>0,WEEKNUM(TEXT(Definice!$F$3,\"0000\")&\".\"&TEXT(J825,\"00\")&\".\"&RIGHT(TEXT(B825,\"0000\"),2)),0)","v":0}]
[824,null,null,null,null,{"$f":"IF(OR(MAX($I$2:I826)-I826=0,D826=0),\"\",MAX($I$2:I826)-I826)","v":""},"",0,10000,0,{"$f":"IF(B826>0,WEEKNUM(TEXT(Definice!$F$3,\"0000\")&\".\"&TEXT(J826,\"00\")&\".\"&RIGHT(TEXT(B826,\"0000\"),2)),0)","v":0}]
[825,null,null,null,null,{"$f":"IF(OR(MAX($I$2:I827)-I827=0,D827=0),\"\",MAX($I$2:I827)-I827)","v":""},"",0,10000,0,{"$f":"IF(B827>0,WEEKNUM(TEXT(Definice!$F$3,\"0000\")&\".\"&TEXT(J827,\"00\")&\".\"&RIGHT(TEXT(B827,\"0000\"),2)),0)","v":0}]
[826,null,null,null,null,{"$f":"IF(OR(MAX($I$2:I828)-I828=0,D828=0),\"\",MAX($I$2:I828)-I828)","v":""},"",0,10000,0,{"$f":"IF(B828>0,WEEKNUM(TEXT(Definice!$F$3,\"0000\")&\".\"&TEXT(J828,\"00\")&\".\"&RIGHT(TEXT(B828,\"0000\"),2)),0)","v":0}]
[827,null,null,null,null,{"$f":"IF(OR(MAX($I$2:I829)-I829=0,D829=0),\"\",MAX($I$2:I829)-I829)","v":""},"",0,10000,0,{"$f":"IF(B829>0,WEEKNUM(TEXT(Definice!$F$3,\"0000\")&\".\"&TEXT(J829,\"00\")&\".\"&RIGHT(TEXT(B829,\"0000\"),2)),0)","v":0}]
[828,null,null,null,null,{"$f":"IF(OR(MAX($I$2:I830)-I830=0,D830=0),\"\",MAX($I$2:I830)-I830)","v":""},"",0,10000,0,{"$f":"IF(B830>0,WEEKNUM(TEXT(Definice!$F$3,\"0000\")&\".\"&TEXT(J830,\"00\")&\".\"&RIGHT(TEXT(B830,\"0000\"),2)),0)","v":0}]
[829,null,null,null,null,{"$f":"IF(OR(MAX($I$2:I831)-I831=0,D831=0),\"\",MAX($I$2:I831)-I831)","v":""},"",0,10000,0,{"$f":"IF(B831>0,WEEKNUM(TEXT(Definice!$F$3,\"0000\")&\".\"&TEXT(J831,\"00\")&\".\"&RIGHT(TEXT(B831,\"0000\"),2)),0)","v":0}]
[830,null,null,null,null,{"$f":"IF(OR(MAX($I$2:I832)-I832=0,D832=0),\"\",MAX($I$2:I832)-I832)","v":""},"",0,10000,0,{"$f":"IF(B832>0,WEEKNUM(TEXT(Definice!$F$3,\"0000\")&\".\"&TEXT(J832,\"00\")&\".\"&RIGHT(TEXT(B832,\"0000\"),2)),0)","v":0}]
[831,null,null,null,null,{"$f":"IF(OR(MAX($I$2:I833)-I833=0,D833=0),\"\",MAX($I$2:I833)-I833)","v":""},"",0,10000,0,{"$f":"IF(B833>0,WEEKNUM(TEXT(Definice!$F$3,\"0000\")&\".\"&TEXT(J833,\"00\")&\".\"&RIGHT(TEXT(B833,\"0000\"),2)),0)","v":0}]
[832,null,null,null,null,{"$f":"IF(OR(MAX($I$2:I834)-I834=0,D834=0),\"\",MAX($I$2:I834)-I834)","v":""},"",0,10000,0,{"$f":"IF(B834>0,WEEKNUM(TEXT(Definice!$F$3,\"0000\")&\".\"&TEXT(J834,\"00\")&\".\"&RIGHT(TEXT(B834,\"0000\"),2)),0)","v":0}]
[833,null,null,null,null,{"$f":"IF(OR(MAX($I$2:I835)-I835=0,D835=0),\"\",MAX($I$2:I835)-I835)","v":""},"",0,10000,0,{"$f":"IF(B835>0,WEEKNUM(TEXT(Definice!$F$3,\"0000\")&\".\"&TEXT(J835,\"00\")&\".\"&RIGHT(TEXT(B835,\"0000\"),2)),0)","v":0}]
[834,null,null,null,null,{"$f":"IF(OR(MAX($I$2:I836)-I836=0,D836=0),\"\",MAX($I$2:I836)-I836)","v":""},"",0,10000,{"$f":"((INT(B836/100)/100)-INT(INT(B836/100)/100))*100","v":0},{"$f":"IF(B836>0,WEEKNUM(TEXT(Definice!$F$3,\"0000\")&\".\"&TEXT(J836,\"00\")&\".\"&RIGHT(TEXT(B836,\"0000\"),2)),0)","v":0}]
[835,null,null,null,null,{"$f":"IF(OR(MAX($I$2:I837)-I837=0,D837=0),\"\",MAX($I$2:I837)-I837)","v":""},{"$f":"IF(F837=\"\",\"\",F837/(H837+I836))","v":""},{"$f":"H836+E837","v":0},{"$f":"I836+E837","v":10000},0,{"$f":"IF(B837>0,WEEKNUM(TEXT(Definice!$F$3,\"0000\")&\".\"&TEXT(J837,\"00\")&\".\"&RIGHT(TEXT(B837,\"0000\"),2)),0)","v":0}]
[836,null,null,null,null,{"$f":"IF(OR(MAX($I$2:I838)-I838=0,D838=0),\"\",MAX($I$2:I838)-I838)","v":""},"",0,10000,0,{"$f":"IF(B838>0,WEEKNUM(TEXT(Definice!$F$3,\"0000\")&\".\"&TEXT(J838,\"00\")&\".\"&RIGHT(TEXT(B838,\"0000\"),2)),0)","v":0}]
[837,null,null,null,null,{"$f":"IF(OR(MAX($I$2:I839)-I839=0,D839=0),\"\",MAX($I$2:I839)-I839)","v":""},"",0,10000,0,{"$f":"IF(B839>0,WEEKNUM(TEXT(Definice!$F$3,\"0000\")&\".\"&TEXT(J839,\"00\")&\".\"&RIGHT(TEXT(B839,\"0000\"),2)),0)","v":0}]
[838,null,null,null,null,{"$f":"IF(OR(MAX($I$2:I840)-I840=0,D840=0),\"\",MAX($I$2:I840)-I840)","v":""},"",0,10000,0,{"$f":"IF(B840>0,WEEKNUM(TEXT(Definice!$F$3,\"0000\")&\".\"&TEXT(J840,\"00\")&\".\"&RIGHT(TEXT(B840,\"0000\"),2)),0)","v":0}]
[839,null,null,null,null,{"$f":"IF(OR(MAX($I$2:I841)-I841=0,D841=0),\"\",MAX($I$2:I841)-I841)","v":""},"",0,10000,0,{"$f":"IF(B841>0,WEEKNUM(TEXT(Definice!$F$3,\"0000\")&\".\"&TEXT(J841,\"00\")&\".\"&RIGHT(TEXT(B841,\"0000\"),2)),0)","v":0}]
[840,null,null,null,null,{"$f":"IF(OR(MAX($I$2:I842)-I842=0,D842=0),\"\",MAX($I$2:I842)-I842)","v":""},"",0,10000,0,{"$f":"IF(B842>0,WEEKNUM(TEXT(Definice!$F$3,\"0000\")&\".\"&TEXT(J842,\"00\")&\".\"&RIGHT(TEXT(B842,\"0000\"),2)),0)","v":0}]
[841,null,null,null,null,{"$f":"IF(OR(MAX($I$2:I843)-I843=0,D843=0),\"\",MAX($I$2:I843)-I843)","v":""},"",0,10000,0,{"$f":"IF(B843>0,WEEKNUM(TEXT(Definice!$F$3,\"0000\")&\".\"&TEXT(J843,\"00\")&\".\"&RIGHT(TEXT(B843,\"0000\"),2)),0)","v":0}]
[842,null,null,null,null,{"$f":"IF(OR(MAX($I$2:I844)-I844=0,D844=0),\"\",MAX($I$2:I844)-I844)","v":""},"",0,10000,0,{"$f":"IF(B844>0,WEEKNUM(TEXT(Definice!$F$3,\"0000\")&\".\"&TEXT(J844,\"00\")&\".\"&RIGHT(TEXT(B844,\"0000\"),2)),0)","v":0}]
[843,null,null,null,null,{"$f":"IF(OR(MAX($I$2:I845)-I845=0,D845=0),\"\",MAX($I$2:I845)-I845)","v":""},"",0,10000,0,{"$f":"IF(B845>0,WEEKNUM(TEXT(Definice!$F$3,\"0000\")&\".\"&TEXT(J845,\"00\")&\".\"&RIGHT(TEXT(B845,\"0000\"),2)),0)","v":0}]
[844,null,null,null,null,{"$f":"IF(OR(MAX($I$2:I846)-I846=0,D846=0),\"\",MAX($I$2:I846)-I846)","v":""},"",0,10000,0,{"$f":"IF(B846>0,WEEKNUM(TEXT(Definice!$F$3,\"0000\")&\".\"&TEXT(J846,\"00\")&\".\"&RIGHT(TEXT(B846,\"0000\"),2)),0)","v":0}]
[845,null,null,null,null,{"$f":"IF(OR(MAX($I$2:I847)-I847=0,D847=0),\"\",MAX($I$2:I847)-I847)","v":""},"",0,10000,0,{"$f":"IF(B847>0,WEEKNUM(TEXT(Definice!$F$3,\"0000\")&\".\"&TEXT(J847,\"00\")&\".\"&RIGHT(TEXT(B847,\"0000\"),2)),0)","v":0}]
[846,null,null,null,null,{"$f":"IF(OR(MAX($I$2:I848)-I848=0,D848=0),\"\",MAX($I$2:I848)-I848)","v":""},"",0,10000,0,{"$f":"IF(B848>0,WEEKNUM(TEXT(Definice!$F$3,\"0000\")&\".\"&TEXT(J848,\"00\")&\".\"&RIGHT(TEXT(B848,\"0000\"),2)),0)","v":0}]
[847,null,null,null,null,{"$f":"IF(OR(MAX($I$2:I849)-I849=0,D849=0),\"\",MAX($I$2:I849)-I849)","v":""},"",0,10000,0,{"$f":"IF(B849>0,WEEKNUM(TEXT(Definice!$F$3,\"0000\")&\".\"&TEXT(J849,\"00\")&\".\"&RIGHT(TEXT(B849,\"0000\"),2)),0)","v":0}]
[848,null,null,null,null,{"$f":"IF(OR(MAX($I$2:I850)-I850=0,D850=0),\"\",MAX($I$2:I850)-I850)","v":""},"",0,10000,0,{"$f":"IF(B850>0,WEEKNUM(TEXT(Definice!$F$3,\"0000\")&\".\"&TEXT(J850,\"00\")&\".\"&RIGHT(TEXT(B850,\"0000\"),2)),0)","v":0}]
[849,null,null,null,null,{"$f":"IF(OR(MAX($I$2:I851)-I851=0,D851=0),\"\",MAX($I$2:I851)-I851)","v":""},"",0,10000,0,{"$f":"IF(B851>0,WEEKNUM(TEXT(Definice!$F$3,\"0000\")&\".\"&TEXT(J851,\"00\")&\".\"&RIGHT(TEXT(B851,\"0000\"),2)),0)","v":0}]
[850,null,null,null,null,{"$f":"IF(OR(MAX($I$2:I852)-I852=0,D852=0),\"\",MAX($I$2:I852)-I852)","v":""},"",0,10000,0,{"$f":"IF(B852>0,WEEKNUM(TEXT(Definice!$F$3,\"0000\")&\".\"&TEXT(J852,\"00\")&\".\"&RIGHT(TEXT(B852,\"0000\"),2)),0)","v":0}]
[851,null,null,null,null,{"$f":"IF(OR(MAX($I$2:I853)-I853=0,D853=0),\"\",MAX($I$2:I853)-I853)","v":""},"",0,10000,0,{"$f":"IF(B853>0,WEEKNUM(TEXT(Definice!$F$3,\"0000\")&\".\"&TEXT(J853,\"00\")&\".\"&RIGHT(TEXT(B853,\"0000\"),2)),0)","v":0}]
[852,null,null,null,null,{"$f":"IF(OR(MAX($I$2:I854)-I854=0,D854=0),\"\",MAX($I$2:I854)-I854)","v":""},"",0,10000,0,{"$f":"IF(B854>0,WEEKNUM(TEXT(Definice!$F$3,\"0000\")&\".\"&TEXT(J854,\"00\")&\".\"&RIGHT(TEXT(B854,\"0000\"),2)),0)","v":0}]
[853,null,null,null,null,{"$f":"IF(OR(MAX($I$2:I855)-I855=0,D855=0),\"\",MAX($I$2:I855)-I855)","v":""},"",0,10000,0,{"$f":"IF(B855>0,WEEKNUM(TEXT(Definice!$F$3,\"0000\")&\".\"&TEXT(J855,\"00\")&\".\"&RIGHT(TEXT(B855,\"0000\"),2)),0)","v":0}]
[854,null,null,null,null,{"$f":"IF(OR(MAX($I$2:I856)-I856=0,D856=0),\"\",MAX($I$2:I856)-I856)","v":""},"",0,10000,0,{"$f":"IF(B856>0,WEEKNUM(TEXT(Definice!$F$3,\"0000\")&\".\"&TEXT(J856,\"00\")&\".\"&RIGHT(TEXT(B856,\"0000\"),2)),0)","v":0}]
[855,null,null,null,null,{"$f":"IF(OR(MAX($I$2:I857)-I857=0,D857=0),\"\",MAX($I$2:I857)-I857)","v":""},"",0,10000,0,{"$f":"IF(B857>0,WEEKNUM(TEXT(Definice!$F$3,\"0000\")&\".\"&TEXT(J857,\"00\")&\".\"&RIGHT(TEXT(B857,\"0000\"),2)),0)","v":0}]
[856,null,null,null,null,{"$f":"IF(OR(MAX($I$2:I858)-I858=0,D858=0),\"\",MAX($I$2:I858)-I858)","v":""},"",0,10000,0,{"$f":"IF(B858>0,WEEKNUM(TEXT(Definice!$F$3,\"0000\")&\".\"&TEXT(J858,\"00\")&\".\"&RIGHT(TEXT(B858,\"0000\"),2)),0)","v":0}]
[857,null,null,null,null,{"$f":"IF(OR(MAX($I$2:I859)-I859=0,D859=0),\"\",MAX($I$2:I859)-I859)","v":""},"",0,10000,0,{"$f":"IF(B859>0,WEEKNUM(TEXT(Definice!$F$3,\"0000\")&\".\"&TEXT(J859,\"00\")&\".\"&RIGHT(TEXT(B859,\"0000\"),2)),0)","v":0}]
[858,null,null,null,null,{"$f":"IF(OR(MAX($I$2:I860)-I860=0,D860=0),\"\",MAX($I$2:I860)-I860)","v":""},"",0,10000,0,{"$f":"IF(B860>0,WEEKNUM(TEXT(Definice!$F$3,\"0000\")&\".\"&TEXT(J860,\"00\")&\".\"&RIGHT(TEXT(B860,\"0000\"),2)),0)","v":0}]
[859,null,null,null,null,{"$f":"IF(OR(MAX($I$2:I861)-I861=0,D861=0),\"\",MAX($I$2:I861)-I861)","v":""},"",0,10000,0,{"$f":"IF(B861>0,WEEKNUM(TEXT(Definice!$F$3,\"0000\")&\".\"&TEXT(J861,\"00\")&\".\"&RIGHT(TEXT(B861,\"0000\"),2)),0)","v":0}]
[860,null,null,null,null,{"$f":"IF(OR(MAX($I$2:I862)-I862=0,D862=0),\"\",MAX($I$2:I862)-I862)","v":""},"",0,10000,0,{"$f":"IF(B862>0,WEEKNUM(TEXT(Definice!$F$3,\"0000\")&\".\"&TEXT(J862,\"00\")&\".\"&RIGHT(TEXT(B862,\"0000\"),2)),0)","v":0}]
[861,null,null,null,null,{"$f":"IF(OR(MAX($I$2:I863)-I863=0,D863=0),\"\",MAX($I$2:I863)-I863)","v":""},"",0,10000,0,{"$f":"IF(B863>0,WEEKNUM(TEXT(Definice!$F$3,\"0000\")&\".\"&TEXT(J863,\"00\")&\".\"&RIGHT(TEXT(B863,\"0000\"),2)),0)","v":0}]
[862,null,null,null,null,{"$f":"IF(OR(MAX($I$2:I864)-I864=0,D864=0),\"\",MAX($I$2:I864)-I864)","v":""},"",0,10000,0,{"$f":"IF(B864>0,WEEKNUM(TEXT(Definice!$F$3,\"0000\")&\".\"&TEXT(J864,\"00\")&\".\"&RIGHT(TEXT(B864,\"0000\"),2)),0)","v":0}]
[863,null,null,null,null,{"$f":"IF(OR(MAX($I$2:I865)-I865=0,D865=0),\"\",MAX($I$2:I865)-I865)","v":""},"",0,10000,0,{"$f":"IF(B865>0,WEEKNUM(TEXT(Definice!$F$3,\"0000\")&\".\"&TEXT(J865,\"00\")&\".\"&RIGHT(TEXT(B865,\"0000\"),2)),0)","v":0}]
[864,null,null,null,null,{"$f":"IF(OR(MAX($I$2:I866)-I866=0,D866=0),\"\",MAX($I$2:I866)-I866)","v":""},"",0,10000,0,{"$f":"IF(B866>0,WEEKNUM(TEXT(Definice!$F$3,\"0000\")&\".\"&TEXT(J866,\"00\")&\".\"&RIGHT(TEXT(B866,\"0000\"),2)),0)","v":0}]
[865,null,null,null,null,{"$f":"IF(OR(MAX($I$2:I867)-I867=0,D867=0),\"\",MAX($I$2:I867)-I867)","v":""},"",0,10000,0,{"$f":"IF(B867>0,WEEKNUM(TEXT(Definice!$F$3,\"0000\")&\".\"&TEXT(J867,\"00\")&\".\"&RIGHT(TEXT(B867,\"0000\"),2)),0)","v":0}]
[866,null,null,null,null,{"$f":"IF(OR(MAX($I$2:I868)-I868=0,D868=0),\"\",MAX($I$2:I868)-I868)","v":""},"",0,10000,0,{"$f":"IF(B868>0,WEEKNUM(TEXT(Definice!$F$3,\"0000\")&\".\"&TEXT(J868,\"00\")&\".\"&RIGHT(TEXT(B868,\"0000\"),2)),0)","v":0}]
[867,null,null,null,null,{"$f":"IF(OR(MAX($I$2:I869)-I869=0,D869=0),\"\",MAX($I$2:I869)-I869)","v":""},"",0,10000,0,{"$f":"IF(B869>0,WEEKNUM(TEXT(Definice!$F$3,\"0000\")&\".\"&TEXT(J869,\"00\")&\".\"&RIGHT(TEXT(B869,\"0000\"),2)),0)","v":0}]
[868,null,null,null,null,{"$f":"IF(OR(MAX($I$2:I870)-I870=0,D870=0),\"\",MAX($I$2:I870)-I870)","v":""},"",0,10000,0,{"$f":"IF(B870>0,WEEKNUM(TEXT(Definice!$F$3,\"0000\")&\".\"&TEXT(J870,\"00\")&\".\"&RIGHT(TEXT(B870,\"0000\"),2)),0)","v":0}]
[869,null,null,null,null,{"$f":"IF(OR(MAX($I$2:I871)-I871=0,D871=0),\"\",MAX($I$2:I871)-I871)","v":""},"",0,10000,0,{"$f":"IF(B871>0,WEEKNUM(TEXT(Definice!$F$3,\"0000\")&\".\"&TEXT(J871,\"00\")&\".\"&RIGHT(TEXT(B871,\"0000\"),2)),0)","v":0}]
[870,null,null,null,null,{"$f":"IF(OR(MAX($I$2:I872)-I872=0,D872=0),\"\",MAX($I$2:I872)-I872)","v":""},"",0,10000,0,{"$f":"IF(B872>0,WEEKNUM(TEXT(Definice!$F$3,\"0000\")&\".\"&TEXT(J872,\"00\")&\".\"&RIGHT(TEXT(B872,\"0000\"),2)),0)","v":0}]
[871,null,null,null,null,{"$f":"IF(OR(MAX($I$2:I873)-I873=0,D873=0),\"\",MAX($I$2:I873)-I873)","v":""},"",0,10000,0,{"$f":"IF(B873>0,WEEKNUM(TEXT(Definice!$F$3,\"0000\")&\".\"&TEXT(J873,\"00\")&\".\"&RIGHT(TEXT(B873,\"0000\"),2)),0)","v":0}]
[872,null,null,null,null,{"$f":"IF(OR(MAX($I$2:I874)-I874=0,D874=0),\"\",MAX($I$2:I874)-I874)","v":""},"",0,10000,0,{"$f":"IF(B874>0,WEEKNUM(TEXT(Definice!$F$3,\"0000\")&\".\"&TEXT(J874,\"00\")&\".\"&RIGHT(TEXT(B874,\"0000\"),2)),0)","v":0}]
[873,null,null,null,null,{"$f":"IF(OR(MAX($I$2:I875)-I875=0,D875=0),\"\",MAX($I$2:I875)-I875)","v":""},"",0,10000,0,{"$f":"IF(B875>0,WEEKNUM(TEXT(Definice!$F$3,\"0000\")&\".\"&TEXT(J875,\"00\")&\".\"&RIGHT(TEXT(B875,\"0000\"),2)),0)","v":0}]
[874,null,null,null,null,{"$f":"IF(OR(MAX($I$2:I876)-I876=0,D876=0),\"\",MAX($I$2:I876)-I876)","v":""},"",0,10000,0,{"$f":"IF(B876>0,WEEKNUM(TEXT(Definice!$F$3,\"0000\")&\".\"&TEXT(J876,\"00\")&\".\"&RIGHT(TEXT(B876,\"0000\"),2)),0)","v":0}]
[875,null,null,null,null,{"$f":"IF(OR(MAX($I$2:I877)-I877=0,D877=0),\"\",MAX($I$2:I877)-I877)","v":""},"",0,10000,0,{"$f":"IF(B877>0,WEEKNUM(TEXT(Definice!$F$3,\"0000\")&\".\"&TEXT(J877,\"00\")&\".\"&RIGHT(TEXT(B877,\"0000\"),2)),0)","v":0}]
[876,null,null,null,null,{"$f":"IF(OR(MAX($I$2:I878)-I878=0,D878=0),\"\",MAX($I$2:I878)-I878)","v":""},"",0,10000,0,{"$f":"IF(B878>0,WEEKNUM(TEXT(Definice!$F$3,\"0000\")&\".\"&TEXT(J878,\"00\")&\".\"&RIGHT(TEXT(B878,\"0000\"),2)),0)","v":0}]
[877,null,null,null,null,{"$f":"IF(OR(MAX($I$2:I879)-I879=0,D879=0),\"\",MAX($I$2:I879)-I879)","v":""},"",0,10000,0,{"$f":"IF(B879>0,WEEKNUM(TEXT(Definice!$F$3,\"0000\")&\".\"&TEXT(J879,\"00\")&\".\"&RIGHT(TEXT(B879,\"0000\"),2)),0)","v":0}]
[878,null,null,null,null,{"$f":"IF(OR(MAX($I$2:I880)-I880=0,D880=0),\"\",MAX($I$2:I880)-I880)","v":""},"",0,10000,0,{"$f":"IF(B880>0,WEEKNUM(TEXT(Definice!$F$3,\"0000\")&\".\"&TEXT(J880,\"00\")&\".\"&RIGHT(TEXT(B880,\"0000\"),2)),0)","v":0}]
[879,null,null,null,null,{"$f":"IF(OR(MAX($I$2:I881)-I881=0,D881=0),\"\",MAX($I$2:I881)-I881)","v":""},"",0,10000,0,{"$f":"IF(B881>0,WEEKNUM(TEXT(Definice!$F$3,\"0000\")&\".\"&TEXT(J881,\"00\")&\".\"&RIGHT(TEXT(B881,\"0000\"),2)),0)","v":0}]
[880,null,null,null,null,{"$f":"IF(OR(MAX($I$2:I882)-I882=0,D882=0),\"\",MAX($I$2:I882)-I882)","v":""},"",0,10000,0,{"$f":"IF(B882>0,WEEKNUM(TEXT(Definice!$F$3,\"0000\")&\".\"&TEXT(J882,\"00\")&\".\"&RIGHT(TEXT(B882,\"0000\"),2)),0)","v":0}]
[881,null,null,null,null,{"$f":"IF(OR(MAX($I$2:I883)-I883=0,D883=0),\"\",MAX($I$2:I883)-I883)","v":""},"",0,10000,0,{"$f":"IF(B883>0,WEEKNUM(TEXT(Definice!$F$3,\"0000\")&\".\"&TEXT(J883,\"00\")&\".\"&RIGHT(TEXT(B883,\"0000\"),2)),0)","v":0}]
[882,null,null,null,null,{"$f":"IF(OR(MAX($I$2:I884)-I884=0,D884=0),\"\",MAX($I$2:I884)-I884)","v":""},"",0,10000,0,{"$f":"IF(B884>0,WEEKNUM(TEXT(Definice!$F$3,\"0000\")&\".\"&TEXT(J884,\"00\")&\".\"&RIGHT(TEXT(B884,\"0000\"),2)),0)","v":0}]
[883,null,null,null,null,{"$f":"IF(OR(MAX($I$2:I885)-I885=0,D885=0),\"\",MAX($I$2:I885)-I885)","v":""},"",0,10000,0,{"$f":"IF(B885>0,WEEKNUM(TEXT(Definice!$F$3,\"0000\")&\".\"&TEXT(J885,\"00\")&\".\"&RIGHT(TEXT(B885,\"0000\"),2)),0)","v":0}]
[884,null,null,null,null,{"$f":"IF(OR(MAX($I$2:I886)-I886=0,D886=0),\"\",MAX($I$2:I886)-I886)","v":""},"",0,10000,0,{"$f":"IF(B886>0,WEEKNUM(TEXT(Definice!$F$3,\"0000\")&\".\"&TEXT(J886,\"00\")&\".\"&RIGHT(TEXT(B886,\"0000\"),2)),0)","v":0}]
[885,null,null,null,null,{"$f":"IF(OR(MAX($I$2:I887)-I887=0,D887=0),\"\",MAX($I$2:I887)-I887)","v":""},"",0,10000,0,{"$f":"IF(B887>0,WEEKNUM(TEXT(Definice!$F$3,\"0000\")&\".\"&TEXT(J887,\"00\")&\".\"&RIGHT(TEXT(B887,\"0000\"),2)),0)","v":0}]
[886,null,null,null,null,{"$f":"IF(OR(MAX($I$2:I888)-I888=0,D888=0),\"\",MAX($I$2:I888)-I888)","v":""},"",0,10000,0,{"$f":"IF(B888>0,WEEKNUM(TEXT(Definice!$F$3,\"0000\")&\".\"&TEXT(J888,\"00\")&\".\"&RIGHT(TEXT(B888,\"0000\"),2)),0)","v":0}]
[887,null,null,null,null,{"$f":"IF(OR(MAX($I$2:I889)-I889=0,D889=0),\"\",MAX($I$2:I889)-I889)","v":""},"",0,10000,0,{"$f":"IF(B889>0,WEEKNUM(TEXT(Definice!$F$3,\"0000\")&\".\"&TEXT(J889,\"00\")&\".\"&RIGHT(TEXT(B889,\"0000\"),2)),0)","v":0}]
[888,null,null,null,null,{"$f":"IF(OR(MAX($I$2:I890)-I890=0,D890=0),\"\",MAX($I$2:I890)-I890)","v":""},"",0,10000,0,{"$f":"IF(B890>0,WEEKNUM(TEXT(Definice!$F$3,\"0000\")&\".\"&TEXT(J890,\"00\")&\".\"&RIGHT(TEXT(B890,\"0000\"),2)),0)","v":0}]
[889,null,null,null,null,{"$f":"IF(OR(MAX($I$2:I891)-I891=0,D891=0),\"\",MAX($I$2:I891)-I891)","v":""},"",0,10000,0,{"$f":"IF(B891>0,WEEKNUM(TEXT(Definice!$F$3,\"0000\")&\".\"&TEXT(J891,\"00\")&\".\"&RIGHT(TEXT(B891,\"0000\"),2)),0)","v":0}]
[890,null,null,null,null,{"$f":"IF(OR(MAX($I$2:I892)-I892=0,D892=0),\"\",MAX($I$2:I892)-I892)","v":""},"",0,10000,0,{"$f":"IF(B892>0,WEEKNUM(TEXT(Definice!$F$3,\"0000\")&\".\"&TEXT(J892,\"00\")&\".\"&RIGHT(TEXT(B892,\"0000\"),2)),0)","v":0}]
[891,null,null,null,null,{"$f":"IF(OR(MAX($I$2:I893)-I893=0,D893=0),\"\",MAX($I$2:I893)-I893)","v":""},"",0,10000,0,{"$f":"IF(B893>0,WEEKNUM(TEXT(Definice!$F$3,\"0000\")&\".\"&TEXT(J893,\"00\")&\".\"&RIGHT(TEXT(B893,\"0000\"),2)),0)","v":0}]
[892,null,null,null,null,{"$f":"IF(OR(MAX($I$2:I894)-I894=0,D894=0),\"\",MAX($I$2:I894)-I894)","v":""},"",0,10000,0,{"$f":"IF(B894>0,WEEKNUM(TEXT(Definice!$F$3,\"0000\")&\".\"&TEXT(J894,\"00\")&\".\"&RIGHT(TEXT(B894,\"0000\"),2)),0)","v":0}]
[893,null,null,null,null,{"$f":"IF(OR(MAX($I$2:I895)-I895=0,D895=0),\"\",MAX($I$2:I895)-I895)","v":""},"",0,10000,0,{"$f":"IF(B895>0,WEEKNUM(TEXT(Definice!$F$3,\"0000\")&\".\"&TEXT(J895,\"00\")&\".\"&RIGHT(TEXT(B895,\"0000\"),2)),0)","v":0}]
[894,null,null,null,null,{"$f":"IF(OR(MAX($I$2:I896)-I896=0,D896=0),\"\",MAX($I$2:I896)-I896)","v":""},"",0,10000,0,{"$f":"IF(B896>0,WEEKNUM(TEXT(Definice!$F$3,\"0000\")&\".\"&TEXT(J896,\"00\")&\".\"&RIGHT(TEXT(B896,\"0000\"),2)),0)","v":0}]
[895,null,null,null,null,{"$f":"IF(OR(MAX($I$2:I897)-I897=0,D897=0),\"\",MAX($I$2:I897)-I897)","v":""},"",0,10000,0,{"$f":"IF(B897>0,WEEKNUM(TEXT(Definice!$F$3,\"0000\")&\".\"&TEXT(J897,\"00\")&\".\"&RIGHT(TEXT(B897,\"0000\"),2)),0)","v":0}]
[896,null,null,null,null,{"$f":"IF(OR(MAX($I$2:I898)-I898=0,D898=0),\"\",MAX($I$2:I898)-I898)","v":""},"",0,10000,0,{"$f":"IF(B898>0,WEEKNUM(TEXT(Definice!$F$3,\"0000\")&\".\"&TEXT(J898,\"00\")&\".\"&RIGHT(TEXT(B898,\"0000\"),2)),0)","v":0}]
[897,null,null,null,null,{"$f":"IF(OR(MAX($I$2:I899)-I899=0,D899=0),\"\",MAX($I$2:I899)-I899)","v":""},"",0,10000,0,{"$f":"IF(B899>0,WEEKNUM(TEXT(Definice!$F$3,\"0000\")&\".\"&TEXT(J899,\"00\")&\".\"&RIGHT(TEXT(B899,\"0000\"),2)),0)","v":0}]
[898,null,null,null,null,{"$f":"IF(OR(MAX($I$2:I900)-I900=0,D900=0),\"\",MAX($I$2:I900)-I900)","v":""},"",0,10000,{"$f":"((INT(B900/100)/100)-INT(INT(B900/100)/100))*100","v":0},{"$f":"IF(B900>0,WEEKNUM(TEXT(Definice!$F$3,\"0000\")&\".\"&TEXT(J900,\"00\")&\".\"&RIGHT(TEXT(B900,\"0000\"),2)),0)","v":0}]
[899,null,null,null,null,{"$f":"IF(OR(MAX($I$2:I901)-I901=0,D901=0),\"\",MAX($I$2:I901)-I901)","v":""},{"$f":"IF(F901=\"\",\"\",F901/(H901+I900))","v":""},{"$f":"H900+E901","v":0},{"$f":"I900+E901","v":10000},0,{"$f":"IF(B901>0,WEEKNUM(TEXT(Definice!$F$3,\"0000\")&\".\"&TEXT(J901,\"00\")&\".\"&RIGHT(TEXT(B901,\"0000\"),2)),0)","v":0}]
[900,null,null,null,null,{"$f":"IF(OR(MAX($I$2:I902)-I902=0,D902=0),\"\",MAX($I$2:I902)-I902)","v":""},"",0,10000,0,{"$f":"IF(B902>0,WEEKNUM(TEXT(Definice!$F$3,\"0000\")&\".\"&TEXT(J902,\"00\")&\".\"&RIGHT(TEXT(B902,\"0000\"),2)),0)","v":0}]
[901,null,null,null,null,{"$f":"IF(OR(MAX($I$2:I903)-I903=0,D903=0),\"\",MAX($I$2:I903)-I903)","v":""},"",0,10000,0,{"$f":"IF(B903>0,WEEKNUM(TEXT(Definice!$F$3,\"0000\")&\".\"&TEXT(J903,\"00\")&\".\"&RIGHT(TEXT(B903,\"0000\"),2)),0)","v":0}]
[902,null,null,null,null,{"$f":"IF(OR(MAX($I$2:I904)-I904=0,D904=0),\"\",MAX($I$2:I904)-I904)","v":""},"",0,10000,0,{"$f":"IF(B904>0,WEEKNUM(TEXT(Definice!$F$3,\"0000\")&\".\"&TEXT(J904,\"00\")&\".\"&RIGHT(TEXT(B904,\"0000\"),2)),0)","v":0}]
[903,null,null,null,null,{"$f":"IF(OR(MAX($I$2:I905)-I905=0,D905=0),\"\",MAX($I$2:I905)-I905)","v":""},"",0,10000,0,{"$f":"IF(B905>0,WEEKNUM(TEXT(Definice!$F$3,\"0000\")&\".\"&TEXT(J905,\"00\")&\".\"&RIGHT(TEXT(B905,\"0000\"),2)),0)","v":0}]
[904,null,null,null,null,{"$f":"IF(OR(MAX($I$2:I906)-I906=0,D906=0),\"\",MAX($I$2:I906)-I906)","v":""},"",0,10000,0,{"$f":"IF(B906>0,WEEKNUM(TEXT(Definice!$F$3,\"0000\")&\".\"&TEXT(J906,\"00\")&\".\"&RIGHT(TEXT(B906,\"0000\"),2)),0)","v":0}]
[905,null,null,null,null,{"$f":"IF(OR(MAX($I$2:I907)-I907=0,D907=0),\"\",MAX($I$2:I907)-I907)","v":""},"",0,10000,0,{"$f":"IF(B907>0,WEEKNUM(TEXT(Definice!$F$3,\"0000\")&\".\"&TEXT(J907,\"00\")&\".\"&RIGHT(TEXT(B907,\"0000\"),2)),0)","v":0}]
[906,null,null,null,null,{"$f":"IF(OR(MAX($I$2:I908)-I908=0,D908=0),\"\",MAX($I$2:I908)-I908)","v":""},"",0,10000,0,{"$f":"IF(B908>0,WEEKNUM(TEXT(Definice!$F$3,\"0000\")&\".\"&TEXT(J908,\"00\")&\".\"&RIGHT(TEXT(B908,\"0000\"),2)),0)","v":0}]
[907,null,null,null,null,{"$f":"IF(OR(MAX($I$2:I909)-I909=0,D909=0),\"\",MAX($I$2:I909)-I909)","v":""},"",0,10000,0,{"$f":"IF(B909>0,WEEKNUM(TEXT(Definice!$F$3,\"0000\")&\".\"&TEXT(J909,\"00\")&\".\"&RIGHT(TEXT(B909,\"0000\"),2)),0)","v":0}]
[908,null,null,null,null,{"$f":"IF(OR(MAX($I$2:I910)-I910=0,D910=0),\"\",MAX($I$2:I910)-I910)","v":""},"",0,10000,0,{"$f":"IF(B910>0,WEEKNUM(TEXT(Definice!$F$3,\"0000\")&\".\"&TEXT(J910,\"00\")&\".\"&RIGHT(TEXT(B910,\"0000\"),2)),0)","v":0}]
[909,null,null,null,null,{"$f":"IF(OR(MAX($I$2:I911)-I911=0,D911=0),\"\",MAX($I$2:I911)-I911)","v":""},"",0,10000,0,{"$f":"IF(B911>0,WEEKNUM(TEXT(Definice!$F$3,\"0000\")&\".\"&TEXT(J911,\"00\")&\".\"&RIGHT(TEXT(B911,\"0000\"),2)),0)","v":0}]
[910,null,null,null,null,{"$f":"IF(OR(MAX($I$2:I912)-I912=0,D912=0),\"\",MAX($I$2:I912)-I912)","v":""},"",0,10000,0,{"$f":"IF(B912>0,WEEKNUM(TEXT(Definice!$F$3,\"0000\")&\".\"&TEXT(J912,\"00\")&\".\"&RIGHT(TEXT(B912,\"0000\"),2)),0)","v":0}]
[911,null,null,null,null,{"$f":"IF(OR(MAX($I$2:I913)-I913=0,D913=0),\"\",MAX($I$2:I913)-I913)","v":""},"",0,10000,0,{"$f":"IF(B913>0,WEEKNUM(TEXT(Definice!$F$3,\"0000\")&\".\"&TEXT(J913,\"00\")&\".\"&RIGHT(TEXT(B913,\"0000\"),2)),0)","v":0}]
[912,null,null,null,null,{"$f":"IF(OR(MAX($I$2:I914)-I914=0,D914=0),\"\",MAX($I$2:I914)-I914)","v":""},"",0,10000,0,{"$f":"IF(B914>0,WEEKNUM(TEXT(Definice!$F$3,\"0000\")&\".\"&TEXT(J914,\"00\")&\".\"&RIGHT(TEXT(B914,\"0000\"),2)),0)","v":0}]
[913,null,null,null,null,{"$f":"IF(OR(MAX($I$2:I915)-I915=0,D915=0),\"\",MAX($I$2:I915)-I915)","v":""},"",0,10000,0,{"$f":"IF(B915>0,WEEKNUM(TEXT(Definice!$F$3,\"0000\")&\".\"&TEXT(J915,\"00\")&\".\"&RIGHT(TEXT(B915,\"0000\"),2)),0)","v":0}]
[914,null,null,null,null,{"$f":"IF(OR(MAX($I$2:I916)-I916=0,D916=0),\"\",MAX($I$2:I916)-I916)","v":""},"",0,10000,0,{"$f":"IF(B916>0,WEEKNUM(TEXT(Definice!$F$3,\"0000\")&\".\"&TEXT(J916,\"00\")&\".\"&RIGHT(TEXT(B916,\"0000\"),2)),0)","v":0}]
[915,null,null,null,null,{"$f":"IF(OR(MAX($I$2:I917)-I917=0,D917=0),\"\",MAX($I$2:I917)-I917)","v":""},"",0,10000,0,{"$f":"IF(B917>0,WEEKNUM(TEXT(Definice!$F$3,\"0000\")&\".\"&TEXT(J917,\"00\")&\".\"&RIGHT(TEXT(B917,\"0000\"),2)),0)","v":0}]
[916,null,null,null,null,{"$f":"IF(OR(MAX($I$2:I918)-I918=0,D918=0),\"\",MAX($I$2:I918)-I918)","v":""},"",0,10000,0,{"$f":"IF(B918>0,WEEKNUM(TEXT(Definice!$F$3,\"0000\")&\".\"&TEXT(J918,\"00\")&\".\"&RIGHT(TEXT(B918,\"0000\"),2)),0)","v":0}]
[917,null,null,null,null,{"$f":"IF(OR(MAX($I$2:I919)-I919=0,D919=0),\"\",MAX($I$2:I919)-I919)","v":""},"",0,10000,0,{"$f":"IF(B919>0,WEEKNUM(TEXT(Definice!$F$3,\"0000\")&\".\"&TEXT(J919,\"00\")&\".\"&RIGHT(TEXT(B919,\"0000\"),2)),0)","v":0}]
[918,null,null,null,null,{"$f":"IF(OR(MAX($I$2:I920)-I920=0,D920=0),\"\",MAX($I$2:I920)-I920)","v":""},"",0,10000,0,{"$f":"IF(B920>0,WEEKNUM(TEXT(Definice!$F$3,\"0000\")&\".\"&TEXT(J920,\"00\")&\".\"&RIGHT(TEXT(B920,\"0000\"),2)),0)","v":0}]
[919,null,null,null,null,{"$f":"IF(OR(MAX($I$2:I921)-I921=0,D921=0),\"\",MAX($I$2:I921)-I921)","v":""},"",0,10000,0,{"$f":"IF(B921>0,WEEKNUM(TEXT(Definice!$F$3,\"0000\")&\".\"&TEXT(J921,\"00\")&\".\"&RIGHT(TEXT(B921,\"0000\"),2)),0)","v":0}]
[920,null,null,null,null,{"$f":"IF(OR(MAX($I$2:I922)-I922=0,D922=0),\"\",MAX($I$2:I922)-I922)","v":""},"",0,10000,0,{"$f":"IF(B922>0,WEEKNUM(TEXT(Definice!$F$3,\"0000\")&\".\"&TEXT(J922,\"00\")&\".\"&RIGHT(TEXT(B922,\"0000\"),2)),0)","v":0}]
[921,null,null,null,null,{"$f":"IF(OR(MAX($I$2:I923)-I923=0,D923=0),\"\",MAX($I$2:I923)-I923)","v":""},"",0,10000,0,{"$f":"IF(B923>0,WEEKNUM(TEXT(Definice!$F$3,\"0000\")&\".\"&TEXT(J923,\"00\")&\".\"&RIGHT(TEXT(B923,\"0000\"),2)),0)","v":0}]
[922,null,null,null,null,{"$f":"IF(OR(MAX($I$2:I924)-I924=0,D924=0),\"\",MAX($I$2:I924)-I924)","v":""},"",0,10000,0,{"$f":"IF(B924>0,WEEKNUM(TEXT(Definice!$F$3,\"0000\")&\".\"&TEXT(J924,\"00\")&\".\"&RIGHT(TEXT(B924,\"0000\"),2)),0)","v":0}]
[923,null,null,null,null,{"$f":"IF(OR(MAX($I$2:I925)-I925=0,D925=0),\"\",MAX($I$2:I925)-I925)","v":""},"",0,10000,0,{"$f":"IF(B925>0,WEEKNUM(TEXT(Definice!$F$3,\"0000\")&\".\"&TEXT(J925,\"00\")&\".\"&RIGHT(TEXT(B925,\"0000\"),2)),0)","v":0}]
[924,null,null,null,null,{"$f":"IF(OR(MAX($I$2:I926)-I926=0,D926=0),\"\",MAX($I$2:I926)-I926)","v":""},"",0,10000,0,{"$f":"IF(B926>0,WEEKNUM(TEXT(Definice!$F$3,\"0000\")&\".\"&TEXT(J926,\"00\")&\".\"&RIGHT(TEXT(B926,\"0000\"),2)),0)","v":0}]
[925,null,null,null,null,{"$f":"IF(OR(MAX($I$2:I927)-I927=0,D927=0),\"\",MAX($I$2:I927)-I927)","v":""},"",0,10000,0,{"$f":"IF(B927>0,WEEKNUM(TEXT(Definice!$F$3,\"0000\")&\".\"&TEXT(J927,\"00\")&\".\"&RIGHT(TEXT(B927,\"0000\"),2)),0)","v":0}]
[926,null,null,null,null,{"$f":"IF(OR(MAX($I$2:I928)-I928=0,D928=0),\"\",MAX($I$2:I928)-I928)","v":""},"",0,10000,0,{"$f":"IF(B928>0,WEEKNUM(TEXT(Definice!$F$3,\"0000\")&\".\"&TEXT(J928,\"00\")&\".\"&RIGHT(TEXT(B928,\"0000\"),2)),0)","v":0}]
[927,null,null,null,null,{"$f":"IF(OR(MAX($I$2:I929)-I929=0,D929=0),\"\",MAX($I$2:I929)-I929)","v":""},"",0,10000,0,{"$f":"IF(B929>0,WEEKNUM(TEXT(Definice!$F$3,\"0000\")&\".\"&TEXT(J929,\"00\")&\".\"&RIGHT(TEXT(B929,\"0000\"),2)),0)","v":0}]
[928,null,null,null,null,{"$f":"IF(OR(MAX($I$2:I930)-I930=0,D930=0),\"\",MAX($I$2:I930)-I930)","v":""},"",0,10000,0,{"$f":"IF(B930>0,WEEKNUM(TEXT(Definice!$F$3,\"0000\")&\".\"&TEXT(J930,\"00\")&\".\"&RIGHT(TEXT(B930,\"0000\"),2)),0)","v":0}]
[929,null,null,null,null,{"$f":"IF(OR(MAX($I$2:I931)-I931=0,D931=0),\"\",MAX($I$2:I931)-I931)","v":""},"",0,10000,0,{"$f":"IF(B931>0,WEEKNUM(TEXT(Definice!$F$3,\"0000\")&\".\"&TEXT(J931,\"00\")&\".\"&RIGHT(TEXT(B931,\"0000\"),2)),0)","v":0}]
[930,null,null,null,null,{"$f":"IF(OR(MAX($I$2:I932)-I932=0,D932=0),\"\",MAX($I$2:I932)-I932)","v":""},"",0,10000,0,{"$f":"IF(B932>0,WEEKNUM(TEXT(Definice!$F$3,\"0000\")&\".\"&TEXT(J932,\"00\")&\".\"&RIGHT(TEXT(B932,\"0000\"),2)),0)","v":0}]
[931,null,null,null,null,{"$f":"IF(OR(MAX($I$2:I933)-I933=0,D933=0),\"\",MAX($I$2:I933)-I933)","v":""},"",0,10000,0,{"$f":"IF(B933>0,WEEKNUM(TEXT(Definice!$F$3,\"0000\")&\".\"&TEXT(J933,\"00\")&\".\"&RIGHT(TEXT(B933,\"0000\"),2)),0)","v":0}]
[932,null,null,null,null,{"$f":"IF(OR(MAX($I$2:I934)-I934=0,D934=0),\"\",MAX($I$2:I934)-I934)","v":""},"",0,10000,0,{"$f":"IF(B934>0,WEEKNUM(TEXT(Definice!$F$3,\"0000\")&\".\"&TEXT(J934,\"00\")&\".\"&RIGHT(TEXT(B934,\"0000\"),2)),0)","v":0}]
[933,null,null,null,null,{"$f":"IF(OR(MAX($I$2:I935)-I935=0,D935=0),\"\",MAX($I$2:I935)-I935)","v":""},"",0,10000,0,{"$f":"IF(B935>0,WEEKNUM(TEXT(Definice!$F$3,\"0000\")&\".\"&TEXT(J935,\"00\")&\".\"&RIGHT(TEXT(B935,\"0000\"),2)),0)","v":0}]
[934,null,null,null,null,{"$f":"IF(OR(MAX($I$2:I936)-I936=0,D936=0),\"\",MAX($I$2:I936)-I936)","v":""},"",0,10000,0,{"$f":"IF(B936>0,WEEKNUM(TEXT(Definice!$F$3,\"0000\")&\".\"&TEXT(J936,\"00\")&\".\"&RIGHT(TEXT(B936,\"0000\"),2)),0)","v":0}]
[935,null,null,null,null,{"$f":"IF(OR(MAX($I$2:I937)-I937=0,D937=0),\"\",MAX($I$2:I937)-I937)","v":""},"",0,10000,0,{"$f":"IF(B937>0,WEEKNUM(TEXT(Definice!$F$3,\"0000\")&\".\"&TEXT(J937,\"00\")&\".\"&RIGHT(TEXT(B937,\"0000\"),2)),0)","v":0}]
[936,null,null,null,null,{"$f":"IF(OR(MAX($I$2:I938)-I938=0,D938=0),\"\",MAX($I$2:I938)-I938)","v":""},"",0,10000,0,{"$f":"IF(B938>0,WEEKNUM(TEXT(Definice!$F$3,\"0000\")&\".\"&TEXT(J938,\"00\")&\".\"&RIGHT(TEXT(B938,\"0000\"),2)),0)","v":0}]
[937,null,null,null,null,{"$f":"IF(OR(MAX($I$2:I939)-I939=0,D939=0),\"\",MAX($I$2:I939)-I939)","v":""},"",0,10000,0,{"$f":"IF(B939>0,WEEKNUM(TEXT(Definice!$F$3,\"0000\")&\".\"&TEXT(J939,\"00\")&\".\"&RIGHT(TEXT(B939,\"0000\"),2)),0)","v":0}]
[938,null,null,null,null,{"$f":"IF(OR(MAX($I$2:I940)-I940=0,D940=0),\"\",MAX($I$2:I940)-I940)","v":""},"",0,10000,0,{"$f":"IF(B940>0,WEEKNUM(TEXT(Definice!$F$3,\"0000\")&\".\"&TEXT(J940,\"00\")&\".\"&RIGHT(TEXT(B940,\"0000\"),2)),0)","v":0}]
[939,null,null,null,null,{"$f":"IF(OR(MAX($I$2:I941)-I941=0,D941=0),\"\",MAX($I$2:I941)-I941)","v":""},"",0,10000,0,{"$f":"IF(B941>0,WEEKNUM(TEXT(Definice!$F$3,\"0000\")&\".\"&TEXT(J941,\"00\")&\".\"&RIGHT(TEXT(B941,\"0000\"),2)),0)","v":0}]
[940,null,null,null,null,{"$f":"IF(OR(MAX($I$2:I942)-I942=0,D942=0),\"\",MAX($I$2:I942)-I942)","v":""},"",0,10000,0,{"$f":"IF(B942>0,WEEKNUM(TEXT(Definice!$F$3,\"0000\")&\".\"&TEXT(J942,\"00\")&\".\"&RIGHT(TEXT(B942,\"0000\"),2)),0)","v":0}]
[941,null,null,null,null,{"$f":"IF(OR(MAX($I$2:I943)-I943=0,D943=0),\"\",MAX($I$2:I943)-I943)","v":""},"",0,10000,0,{"$f":"IF(B943>0,WEEKNUM(TEXT(Definice!$F$3,\"0000\")&\".\"&TEXT(J943,\"00\")&\".\"&RIGHT(TEXT(B943,\"0000\"),2)),0)","v":0}]
[942,null,null,null,null,{"$f":"IF(OR(MAX($I$2:I944)-I944=0,D944=0),\"\",MAX($I$2:I944)-I944)","v":""},"",0,10000,0,{"$f":"IF(B944>0,WEEKNUM(TEXT(Definice!$F$3,\"0000\")&\".\"&TEXT(J944,\"00\")&\".\"&RIGHT(TEXT(B944,\"0000\"),2)),0)","v":0}]
[943,null,null,null,null,{"$f":"IF(OR(MAX($I$2:I945)-I945=0,D945=0),\"\",MAX($I$2:I945)-I945)","v":""},"",0,10000,0,{"$f":"IF(B945>0,WEEKNUM(TEXT(Definice!$F$3,\"0000\")&\".\"&TEXT(J945,\"00\")&\".\"&RIGHT(TEXT(B945,\"0000\"),2)),0)","v":0}]
[944,null,null,null,null,{"$f":"IF(OR(MAX($I$2:I946)-I946=0,D946=0),\"\",MAX($I$2:I946)-I946)","v":""},"",0,10000,0,{"$f":"IF(B946>0,WEEKNUM(TEXT(Definice!$F$3,\"0000\")&\".\"&TEXT(J946,\"00\")&\".\"&RIGHT(TEXT(B946,\"0000\"),2)),0)","v":0}]
[945,null,null,null,null,{"$f":"IF(OR(MAX($I$2:I947)-I947=0,D947=0),\"\",MAX($I$2:I947)-I947)","v":""},"",0,10000,0,{"$f":"IF(B947>0,WEEKNUM(TEXT(Definice!$F$3,\"0000\")&\".\"&TEXT(J947,\"00\")&\".\"&RIGHT(TEXT(B947,\"0000\"),2)),0)","v":0}]
[946,null,null,null,null,{"$f":"IF(OR(MAX($I$2:I948)-I948=0,D948=0),\"\",MAX($I$2:I948)-I948)","v":""},"",0,10000,0,{"$f":"IF(B948>0,WEEKNUM(TEXT(Definice!$F$3,\"0000\")&\".\"&TEXT(J948,\"00\")&\".\"&RIGHT(TEXT(B948,\"0000\"),2)),0)","v":0}]
[947,null,null,null,null,{"$f":"IF(OR(MAX($I$2:I949)-I949=0,D949=0),\"\",MAX($I$2:I949)-I949)","v":""},"",0,10000,0,{"$f":"IF(B949>0,WEEKNUM(TEXT(Definice!$F$3,\"0000\")&\".\"&TEXT(J949,\"00\")&\".\"&RIGHT(TEXT(B949,\"0000\"),2)),0)","v":0}]
[948,null,null,null,null,{"$f":"IF(OR(MAX($I$2:I950)-I950=0,D950=0),\"\",MAX($I$2:I950)-I950)","v":""},"",0,10000,0,{"$f":"IF(B950>0,WEEKNUM(TEXT(Definice!$F$3,\"0000\")&\".\"&TEXT(J950,\"00\")&\".\"&RIGHT(TEXT(B950,\"0000\"),2)),0)","v":0}]
[949,null,null,null,null,{"$f":"IF(OR(MAX($I$2:I951)-I951=0,D951=0),\"\",MAX($I$2:I951)-I951)","v":""},"",0,10000,0,{"$f":"IF(B951>0,WEEKNUM(TEXT(Definice!$F$3,\"0000\")&\".\"&TEXT(J951,\"00\")&\".\"&RIGHT(TEXT(B951,\"0000\"),2)),0)","v":0}]
[950,null,null,null,null,{"$f":"IF(OR(MAX($I$2:I952)-I952=0,D952=0),\"\",MAX($I$2:I952)-I952)","v":""},"",0,10000,0,{"$f":"IF(B952>0,WEEKNUM(TEXT(Definice!$F$3,\"0000\")&\".\"&TEXT(J952,\"00\")&\".\"&RIGHT(TEXT(B952,\"0000\"),2)),0)","v":0}]
[951,null,null,null,null,{"$f":"IF(OR(MAX($I$2:I953)-I953=0,D953=0),\"\",MAX($I$2:I953)-I953)","v":""},"",0,10000,0,{"$f":"IF(B953>0,WEEKNUM(TEXT(Definice!$F$3,\"0000\")&\".\"&TEXT(J953,\"00\")&\".\"&RIGHT(TEXT(B953,\"0000\"),2)),0)","v":0}]
[952,null,null,null,null,{"$f":"IF(OR(MAX($I$2:I954)-I954=0,D954=0),\"\",MAX($I$2:I954)-I954)","v":""},"",0,10000,0,{"$f":"IF(B954>0,WEEKNUM(TEXT(Definice!$F$3,\"0000\")&\".\"&TEXT(J954,\"00\")&\".\"&RIGHT(TEXT(B954,\"0000\"),2)),0)","v":0}]
[953,null,null,null,null,{"$f":"IF(OR(MAX($I$2:I955)-I955=0,D955=0),\"\",MAX($I$2:I955)-I955)","v":""},"",0,10000,0,{"$f":"IF(B955>0,WEEKNUM(TEXT(Definice!$F$3,\"0000\")&\".\"&TEXT(J955,\"00\")&\".\"&RIGHT(TEXT(B955,\"0000\"),2)),0)","v":0}]
[954,null,null,null,null,{"$f":"IF(OR(MAX($I$2:I956)-I956=0,D956=0),\"\",MAX($I$2:I956)-I956)","v":""},"",0,10000,0,{"$f":"IF(B956>0,WEEKNUM(TEXT(Definice!$F$3,\"0000\")&\".\"&TEXT(J956,\"00\")&\".\"&RIGHT(TEXT(B956,\"0000\"),2)),0)","v":0}]
[955,null,null,null,null,{"$f":"IF(OR(MAX($I$2:I957)-I957=0,D957=0),\"\",MAX($I$2:I957)-I957)","v":""},"",0,10000,0,{"$f":"IF(B957>0,WEEKNUM(TEXT(Definice!$F$3,\"0000\")&\".\"&TEXT(J957,\"00\")&\".\"&RIGHT(TEXT(B957,\"0000\"),2)),0)","v":0}]
[956,null,null,null,null,{"$f":"IF(OR(MAX($I$2:I958)-I958=0,D958=0),\"\",MAX($I$2:I958)-I958)","v":""},"",0,10000,0,{"$f":"IF(B958>0,WEEKNUM(TEXT(Definice!$F$3,\"0000\")&\".\"&TEXT(J958,\"00\")&\".\"&RIGHT(TEXT(B958,\"0000\"),2)),0)","v":0}]
[957,null,null,null,null,{"$f":"IF(OR(MAX($I$2:I959)-I959=0,D959=0),\"\",MAX($I$2:I959)-I959)","v":""},"",0,10000,0,{"$f":"IF(B959>0,WEEKNUM(TEXT(Definice!$F$3,\"0000\")&\".\"&TEXT(J959,\"00\")&\".\"&RIGHT(TEXT(B959,\"0000\"),2)),0)","v":0}]
[958,null,null,null,null,{"$f":"IF(OR(MAX($I$2:I960)-I960=0,D960=0),\"\",MAX($I$2:I960)-I960)","v":""},"",0,10000,0,{"$f":"IF(B960>0,WEEKNUM(TEXT(Definice!$F$3,\"0000\")&\".\"&TEXT(J960,\"00\")&\".\"&RIGHT(TEXT(B960,\"0000\"),2)),0)","v":0}]
[959,null,null,null,null,{"$f":"IF(OR(MAX($I$2:I961)-I961=0,D961=0),\"\",MAX($I$2:I961)-I961)","v":""},"",0,10000,0,{"$f":"IF(B961>0,WEEKNUM(TEXT(Definice!$F$3,\"0000\")&\".\"&TEXT(J961,\"00\")&\".\"&RIGHT(TEXT(B961,\"0000\"),2)),0)","v":0}]
[960,null,null,null,null,{"$f":"IF(OR(MAX($I$2:I962)-I962=0,D962=0),\"\",MAX($I$2:I962)-I962)","v":""},"",0,10000,0,{"$f":"IF(B962>0,WEEKNUM(TEXT(Definice!$F$3,\"0000\")&\".\"&TEXT(J962,\"00\")&\".\"&RIGHT(TEXT(B962,\"0000\"),2)),0)","v":0}]
[961,null,null,null,null,{"$f":"IF(OR(MAX($I$2:I963)-I963=0,D963=0),\"\",MAX($I$2:I963)-I963)","v":""},"",0,10000,0,{"$f":"IF(B963>0,WEEKNUM(TEXT(Definice!$F$3,\"0000\")&\".\"&TEXT(J963,\"00\")&\".\"&RIGHT(TEXT(B963,\"0000\"),2)),0)","v":0}]
[962,null,null,null,null,{"$f":"IF(OR(MAX($I$2:I964)-I964=0,D964=0),\"\",MAX($I$2:I964)-I964)","v":""},"",0,10000,{"$f":"((INT(B964/100)/100)-INT(INT(B964/100)/100))*100","v":0},{"$f":"IF(B964>0,WEEKNUM(TEXT(Definice!$F$3,\"0000\")&\".\"&TEXT(J964,\"00\")&\".\"&RIGHT(TEXT(B964,\"0000\"),2)),0)","v":0}]
[963,null,null,null,null,{"$f":"IF(OR(MAX($I$2:I965)-I965=0,D965=0),\"\",MAX($I$2:I965)-I965)","v":""},{"$f":"IF(F965=\"\",\"\",F965/(H965+I964))","v":""},{"$f":"H964+E965","v":0},{"$f":"I964+E965","v":10000},0,{"$f":"IF(B965>0,WEEKNUM(TEXT(Definice!$F$3,\"0000\")&\".\"&TEXT(J965,\"00\")&\".\"&RIGHT(TEXT(B965,\"0000\"),2)),0)","v":0}]
[964,null,null,null,null,{"$f":"IF(OR(MAX($I$2:I966)-I966=0,D966=0),\"\",MAX($I$2:I966)-I966)","v":""},"",0,10000,0,{"$f":"IF(B966>0,WEEKNUM(TEXT(Definice!$F$3,\"0000\")&\".\"&TEXT(J966,\"00\")&\".\"&RIGHT(TEXT(B966,\"0000\"),2)),0)","v":0}]
[965,null,null,null,null,{"$f":"IF(OR(MAX($I$2:I967)-I967=0,D967=0),\"\",MAX($I$2:I967)-I967)","v":""},"",0,10000,0,{"$f":"IF(B967>0,WEEKNUM(TEXT(Definice!$F$3,\"0000\")&\".\"&TEXT(J967,\"00\")&\".\"&RIGHT(TEXT(B967,\"0000\"),2)),0)","v":0}]
[966,null,null,null,null,{"$f":"IF(OR(MAX($I$2:I968)-I968=0,D968=0),\"\",MAX($I$2:I968)-I968)","v":""},"",0,10000,0,{"$f":"IF(B968>0,WEEKNUM(TEXT(Definice!$F$3,\"0000\")&\".\"&TEXT(J968,\"00\")&\".\"&RIGHT(TEXT(B968,\"0000\"),2)),0)","v":0}]
[967,null,null,null,null,{"$f":"IF(OR(MAX($I$2:I969)-I969=0,D969=0),\"\",MAX($I$2:I969)-I969)","v":""},"",0,10000,0,{"$f":"IF(B969>0,WEEKNUM(TEXT(Definice!$F$3,\"0000\")&\".\"&TEXT(J969,\"00\")&\".\"&RIGHT(TEXT(B969,\"0000\"),2)),0)","v":0}]
[968,null,null,null,null,{"$f":"IF(OR(MAX($I$2:I970)-I970=0,D970=0),\"\",MAX($I$2:I970)-I970)","v":""},"",0,10000,0,{"$f":"IF(B970>0,WEEKNUM(TEXT(Definice!$F$3,\"0000\")&\".\"&TEXT(J970,\"00\")&\".\"&RIGHT(TEXT(B970,\"0000\"),2)),0)","v":0}]
[969,null,null,null,null,{"$f":"IF(OR(MAX($I$2:I971)-I971=0,D971=0),\"\",MAX($I$2:I971)-I971)","v":""},"",0,10000,0,{"$f":"IF(B971>0,WEEKNUM(TEXT(Definice!$F$3,\"0000\")&\".\"&TEXT(J971,\"00\")&\".\"&RIGHT(TEXT(B971,\"0000\"),2)),0)","v":0}]
[970,null,null,null,null,{"$f":"IF(OR(MAX($I$2:I972)-I972=0,D972=0),\"\",MAX($I$2:I972)-I972)","v":""},"",0,10000,0,{"$f":"IF(B972>0,WEEKNUM(TEXT(Definice!$F$3,\"0000\")&\".\"&TEXT(J972,\"00\")&\".\"&RIGHT(TEXT(B972,\"0000\"),2)),0)","v":0}]
[971,null,null,null,null,{"$f":"IF(OR(MAX($I$2:I973)-I973=0,D973=0),\"\",MAX($I$2:I973)-I973)","v":""},"",0,10000,0,{"$f":"IF(B973>0,WEEKNUM(TEXT(Definice!$F$3,\"0000\")&\".\"&TEXT(J973,\"00\")&\".\"&RIGHT(TEXT(B973,\"0000\"),2)),0)","v":0}]
[972,null,null,null,null,{"$f":"IF(OR(MAX($I$2:I974)-I974=0,D974=0),\"\",MAX($I$2:I974)-I974)","v":""},"",0,10000,0,{"$f":"IF(B974>0,WEEKNUM(TEXT(Definice!$F$3,\"0000\")&\".\"&TEXT(J974,\"00\")&\".\"&RIGHT(TEXT(B974,\"0000\"),2)),0)","v":0}]
[973,null,null,null,null,{"$f":"IF(OR(MAX($I$2:I975)-I975=0,D975=0),\"\",MAX($I$2:I975)-I975)","v":""},"",0,10000,0,{"$f":"IF(B975>0,WEEKNUM(TEXT(Definice!$F$3,\"0000\")&\".\"&TEXT(J975,\"00\")&\".\"&RIGHT(TEXT(B975,\"0000\"),2)),0)","v":0}]
[974,null,null,null,null,{"$f":"IF(OR(MAX($I$2:I976)-I976=0,D976=0),\"\",MAX($I$2:I976)-I976)","v":""},"",0,10000,0,{"$f":"IF(B976>0,WEEKNUM(TEXT(Definice!$F$3,\"0000\")&\".\"&TEXT(J976,\"00\")&\".\"&RIGHT(TEXT(B976,\"0000\"),2)),0)","v":0}]
[975,null,null,null,null,{"$f":"IF(OR(MAX($I$2:I977)-I977=0,D977=0),\"\",MAX($I$2:I977)-I977)","v":""},"",0,10000,0,{"$f":"IF(B977>0,WEEKNUM(TEXT(Definice!$F$3,\"0000\")&\".\"&TEXT(J977,\"00\")&\".\"&RIGHT(TEXT(B977,\"0000\"),2)),0)","v":0}]
[976,null,null,null,null,{"$f":"IF(OR(MAX($I$2:I978)-I978=0,D978=0),\"\",MAX($I$2:I978)-I978)","v":""},"",0,10000,0,{"$f":"IF(B978>0,WEEKNUM(TEXT(Definice!$F$3,\"0000\")&\".\"&TEXT(J978,\"00\")&\".\"&RIGHT(TEXT(B978,\"0000\"),2)),0)","v":0}]
[977,null,null,null,null,{"$f":"IF(OR(MAX($I$2:I979)-I979=0,D979=0),\"\",MAX($I$2:I979)-I979)","v":""},"",0,10000,0,{"$f":"IF(B979>0,WEEKNUM(TEXT(Definice!$F$3,\"0000\")&\".\"&TEXT(J979,\"00\")&\".\"&RIGHT(TEXT(B979,\"0000\"),2)),0)","v":0}]
[978,null,null,null,null,{"$f":"IF(OR(MAX($I$2:I980)-I980=0,D980=0),\"\",MAX($I$2:I980)-I980)","v":""},"",0,10000,0,{"$f":"IF(B980>0,WEEKNUM(TEXT(Definice!$F$3,\"0000\")&\".\"&TEXT(J980,\"00\")&\".\"&RIGHT(TEXT(B980,\"0000\"),2)),0)","v":0}]
[979,null,null,null,null,{"$f":"IF(OR(MAX($I$2:I981)-I981=0,D981=0),\"\",MAX($I$2:I981)-I981)","v":""},"",0,10000,0,{"$f":"IF(B981>0,WEEKNUM(TEXT(Definice!$F$3,\"0000\")&\".\"&TEXT(J981,\"00\")&\".\"&RIGHT(TEXT(B981,\"0000\"),2)),0)","v":0}]
[980,null,null,null,null,{"$f":"IF(OR(MAX($I$2:I982)-I982=0,D982=0),\"\",MAX($I$2:I982)-I982)","v":""},"",0,10000,0,{"$f":"IF(B982>0,WEEKNUM(TEXT(Definice!$F$3,\"0000\")&\".\"&TEXT(J982,\"00\")&\".\"&RIGHT(TEXT(B982,\"0000\"),2)),0)","v":0}]
[981,null,null,null,null,{"$f":"IF(OR(MAX($I$2:I983)-I983=0,D983=0),\"\",MAX($I$2:I983)-I983)","v":""},"",0,10000,0,{"$f":"IF(B983>0,WEEKNUM(TEXT(Definice!$F$3,\"0000\")&\".\"&TEXT(J983,\"00\")&\".\"&RIGHT(TEXT(B983,\"0000\"),2)),0)","v":0}]
[982,null,null,null,null,{"$f":"IF(OR(MAX($I$2:I984)-I984=0,D984=0),\"\",MAX($I$2:I984)-I984)","v":""},"",0,10000,0,{"$f":"IF(B984>0,WEEKNUM(TEXT(Definice!$F$3,\"0000\")&\".\"&TEXT(J984,\"00\")&\".\"&RIGHT(TEXT(B984,\"0000\"),2)),0)","v":0}]
[983,null,null,null,null,{"$f":"IF(OR(MAX($I$2:I985)-I985=0,D985=0),\"\",MAX($I$2:I985)-I985)","v":""},"",0,10000,0,{"$f":"IF(B985>0,WEEKNUM(TEXT(Definice!$F$3,\"0000\")&\".\"&TEXT(J985,\"00\")&\".\"&RIGHT(TEXT(B985,\"0000\"),2)),0)","v":0}]
[984,null,null,null,null,{"$f":"IF(OR(MAX($I$2:I986)-I986=0,D986=0),\"\",MAX($I$2:I986)-I986)","v":""},"",0,10000,0,{"$f":"IF(B986>0,WEEKNUM(TEXT(Definice!$F$3,\"0000\")&\".\"&TEXT(J986,\"00\")&\".\"&RIGHT(TEXT(B986,\"0000\"),2)),0)","v":0}]
[985,null,null,null,null,{"$f":"IF(OR(MAX($I$2:I987)-I987=0,D987=0),\"\",MAX($I$2:I987)-I987)","v":""},"",0,10000,0,{"$f":"IF(B987>0,WEEKNUM(TEXT(Definice!$F$3,\"0000\")&\".\"&TEXT(J987,\"00\")&\".\"&RIGHT(TEXT(B987,\"0000\"),2)),0)","v":0}]
[986,null,null,null,null,{"$f":"IF(OR(MAX($I$2:I988)-I988=0,D988=0),\"\",MAX($I$2:I988)-I988)","v":""},"",0,10000,0,{"$f":"IF(B988>0,WEEKNUM(TEXT(Definice!$F$3,\"0000\")&\".\"&TEXT(J988,\"00\")&\".\"&RIGHT(TEXT(B988,\"0000\"),2)),0)","v":0}]
[987,null,null,null,null,{"$f":"IF(OR(MAX($I$2:I989)-I989=0,D989=0),\"\",MAX($I$2:I989)-I989)","v":""},"",0,10000,0,{"$f":"IF(B989>0,WEEKNUM(TEXT(Definice!$F$3,\"0000\")&\".\"&TEXT(J989,\"00\")&\".\"&RIGHT(TEXT(B989,\"0000\"),2)),0)","v":0}]
[988,null,null,null,null,{"$f":"IF(OR(MAX($I$2:I990)-I990=0,D990=0),\"\",MAX($I$2:I990)-I990)","v":""},"",0,10000,0,{"$f":"IF(B990>0,WEEKNUM(TEXT(Definice!$F$3,\"0000\")&\".\"&TEXT(J990,\"00\")&\".\"&RIGHT(TEXT(B990,\"0000\"),2)),0)","v":0}]
[989,null,null,null,null,{"$f":"IF(OR(MAX($I$2:I991)-I991=0,D991=0),\"\",MAX($I$2:I991)-I991)","v":""},"",0,10000,0,{"$f":"IF(B991>0,WEEKNUM(TEXT(Definice!$F$3,\"0000\")&\".\"&TEXT(J991,\"00\")&\".\"&RIGHT(TEXT(B991,\"0000\"),2)),0)","v":0}]
[990,null,null,null,null,{"$f":"IF(OR(MAX($I$2:I992)-I992=0,D992=0),\"\",MAX($I$2:I992)-I992)","v":""},"",0,10000,0,{"$f":"IF(B992>0,WEEKNUM(TEXT(Definice!$F$3,\"0000\")&\".\"&TEXT(J992,\"00\")&\".\"&RIGHT(TEXT(B992,\"0000\"),2)),0)","v":0}]
[991,null,null,null,null,{"$f":"IF(OR(MAX($I$2:I993)-I993=0,D993=0),\"\",MAX($I$2:I993)-I993)","v":""},"",0,10000,0,{"$f":"IF(B993>0,WEEKNUM(TEXT(Definice!$F$3,\"0000\")&\".\"&TEXT(J993,\"00\")&\".\"&RIGHT(TEXT(B993,\"0000\"),2)),0)","v":0}]
[992,null,null,null,null,{"$f":"IF(OR(MAX($I$2:I994)-I994=0,D994=0),\"\",MAX($I$2:I994)-I994)","v":""},"",0,10000,0,{"$f":"IF(B994>0,WEEKNUM(TEXT(Definice!$F$3,\"0000\")&\".\"&TEXT(J994,\"00\")&\".\"&RIGHT(TEXT(B994,\"0000\"),2)),0)","v":0}]
[993,null,null,null,null,{"$f":"IF(OR(MAX($I$2:I995)-I995=0,D995=0),\"\",MAX($I$2:I995)-I995)","v":""},"",0,10000,0,{"$f":"IF(B995>0,WEEKNUM(TEXT(Definice!$F$3,\"0000\")&\".\"&TEXT(J995,\"00\")&\".\"&RIGHT(TEXT(B995,\"0000\"),2)),0)","v":0}]
[994,null,null,null,null,{"$f":"IF(OR(MAX($I$2:I996)-I996=0,D996=0),\"\",MAX($I$2:I996)-I996)","v":""},"",0,10000,0,{"$f":"IF(B996>0,WEEKNUM(TEXT(Definice!$F$3,\"0000\")&\".\"&TEXT(J996,\"00\")&\".\"&RIGHT(TEXT(B996,\"0000\"),2)),0)","v":0}]
[995,null,null,null,null,{"$f":"IF(OR(MAX($I$2:I997)-I997=0,D997=0),\"\",MAX($I$2:I997)-I997)","v":""},"",0,10000,0,{"$f":"IF(B997>0,WEEKNUM(TEXT(Definice!$F$3,\"0000\")&\".\"&TEXT(J997,\"00\")&\".\"&RIGHT(TEXT(B997,\"0000\"),2)),0)","v":0}]
[996,null,null,null,null,{"$f":"IF(OR(MAX($I$2:I998)-I998=0,D998=0),\"\",MAX($I$2:I998)-I998)","v":""},"",0,10000,0,{"$f":"IF(B998>0,WEEKNUM(TEXT(Definice!$F$3,\"0000\")&\".\"&TEXT(J998,\"00\")&\".\"&RIGHT(TEXT(B998,\"0000\"),2)),0)","v":0}]
[997,null,null,null,null,{"$f":"IF(OR(MAX($I$2:I999)-I999=0,D999=0),\"\",MAX($I$2:I999)-I999)","v":""},"",0,10000,0,{"$f":"IF(B999>0,WEEKNUM(TEXT(Definice!$F$3,\"0000\")&\".\"&TEXT(J999,\"00\")&\".\"&RIGHT(TEXT(B999,\"0000\"),2)),0)","v":0}]
[998,null,null,null,null,{"$f":"IF(OR(MAX($I$2:I1000)-I1000=0,D1000=0),\"\",MAX($I$2:I1000)-I1000)","v":""},"",0,10000,0,{"$f":"IF(B1000>0,WEEKNUM(TEXT(Definice!$F$3,\"0000\")&\".\"&TEXT(J1000,\"00\")&\".\"&RIGHT(TEXT(B1000,\"0000\"),2)),0)","v":0}]
[999,null,null,null,null,{"$f":"IF(OR(MAX($I$2:I1001)-I1001=0,D1001=0),\"\",MAX($I$2:I1001)-I1001)","v":""},"",0,10000,0,{"$f":"IF(B1001>0,WEEKNUM(TEXT(Definice!$F$3,\"0000\")&\".\"&TEXT(J1001,\"00\")&\".\"&RIGHT(TEXT(B1001,\"0000\"),2)),0)","v":0}]
[1000,null,null,null,null,{"$f":"IF(OR(MAX($I$2:I1002)-I1002=0,D1002=0),\"\",MAX($I$2:I1002)-I1002)","v":""},"",0,10000,0,{"$f":"IF(B1002>0,WEEKNUM(TEXT(Definice!$F$3,\"0000\")&\".\"&TEXT(J1002,\"00\")&\".\"&RIGHT(TEXT(B1002,\"0000\"),2)),0)","v":0}]
[1001,null,null,null,null,{"$f":"IF(OR(MAX($I$2:I1003)-I1003=0,D1003=0),\"\",MAX($I$2:I1003)-I1003)","v":""},"",0,10000,0,{"$f":"IF(B1003>0,WEEKNUM(TEXT(Definice!$F$3,\"0000\")&\".\"&TEXT(J1003,\"00\")&\".\"&RIGHT(TEXT(B1003,\"0000\"),2)),0)","v":0}]
[1002,null,null,null,null,{"$f":"IF(OR(MAX($I$2:I1004)-I1004=0,D1004=0),\"\",MAX($I$2:I1004)-I1004)","v":""},"",0,10000,0,{"$f":"IF(B1004>0,WEEKNUM(TEXT(Definice!$F$3,\"0000\")&\".\"&TEXT(J1004,\"00\")&\".\"&RIGHT(TEXT(B1004,\"0000\"),2)),0)","v":0}]
[1003,null,null,null,null,{"$f":"IF(OR(MAX($I$2:I1005)-I1005=0,D1005=0),\"\",MAX($I$2:I1005)-I1005)","v":""},"",0,10000,0,{"$f":"IF(B1005>0,WEEKNUM(TEXT(Definice!$F$3,\"0000\")&\".\"&TEXT(J1005,\"00\")&\".\"&RIGHT(TEXT(B1005,\"0000\"),2)),0)","v":0}]
[1004,null,null,null,null,{"$f":"IF(OR(MAX($I$2:I1006)-I1006=0,D1006=0),\"\",MAX($I$2:I1006)-I1006)","v":""},"",0,10000,0,{"$f":"IF(B1006>0,WEEKNUM(TEXT(Definice!$F$3,\"0000\")&\".\"&TEXT(J1006,\"00\")&\".\"&RIGHT(TEXT(B1006,\"0000\"),2)),0)","v":0}]
[1005,null,null,null,null,{"$f":"IF(OR(MAX($I$2:I1007)-I1007=0,D1007=0),\"\",MAX($I$2:I1007)-I1007)","v":""},"",0,10000,0,{"$f":"IF(B1007>0,WEEKNUM(TEXT(Definice!$F$3,\"0000\")&\".\"&TEXT(J1007,\"00\")&\".\"&RIGHT(TEXT(B1007,\"0000\"),2)),0)","v":0}]
[1006,null,null,null,null,{"$f":"IF(OR(MAX($I$2:I1008)-I1008=0,D1008=0),\"\",MAX($I$2:I1008)-I1008)","v":""},"",0,10000,0,{"$f":"IF(B1008>0,WEEKNUM(TEXT(Definice!$F$3,\"0000\")&\".\"&TEXT(J1008,\"00\")&\".\"&RIGHT(TEXT(B1008,\"0000\"),2)),0)","v":0}]
[1007,null,null,null,null,{"$f":"IF(OR(MAX($I$2:I1009)-I1009=0,D1009=0),\"\",MAX($I$2:I1009)-I1009)","v":""},"",0,10000,0,{"$f":"IF(B1009>0,WEEKNUM(TEXT(Definice!$F$3,\"0000\")&\".\"&TEXT(J1009,\"00\")&\".\"&RIGHT(TEXT(B1009,\"0000\"),2)),0)","v":0}]
[1008,null,null,null,null,{"$f":"IF(OR(MAX($I$2:I1010)-I1010=0,D1010=0),\"\",MAX($I$2:I1010)-I1010)","v":""},"",0,10000,0,{"$f":"IF(B1010>0,WEEKNUM(TEXT(Definice!$F$3,\"0000\")&\".\"&TEXT(J1010,\"00\")&\".\"&RIGHT(TEXT(B1010,\"0000\"),2)),0)","v":0}]
[1009,null,null,null,null,{"$f":"IF(OR(MAX($I$2:I1011)-I1011=0,D1011=0),\"\",MAX($I$2:I1011)-I1011)","v":""},"",0,10000,0,{"$f":"IF(B1011>0,WEEKNUM(TEXT(Definice!$F$3,\"0000\")&\".\"&TEXT(J1011,\"00\")&\".\"&RIGHT(TEXT(B1011,\"0000\"),2)),0)","v":0}]
[1010,null,null,null,null,{"$f":"IF(OR(MAX($I$2:I1012)-I1012=0,D1012=0),\"\",MAX($I$2:I1012)-I1012)","v":""},"",0,10000,0,{"$f":"IF(B1012>0,WEEKNUM(TEXT(Definice!$F$3,\"0000\")&\".\"&TEXT(J1012,\"00\")&\".\"&RIGHT(TEXT(B1012,\"0000\"),2)),0)","v":0}]
[1011,null,null,null,null,{"$f":"IF(OR(MAX($I$2:I1013)-I1013=0,D1013=0),\"\",MAX($I$2:I1013)-I1013)","v":""},"",0,10000,0,{"$f":"IF(B1013>0,WEEKNUM(TEXT(Definice!$F$3,\"0000\")&\".\"&TEXT(J1013,\"00\")&\".\"&RIGHT(TEXT(B1013,\"0000\"),2)),0)","v":0}]
[1012,null,null,null,null,{"$f":"IF(OR(MAX($I$2:I1014)-I1014=0,D1014=0),\"\",MAX($I$2:I1014)-I1014)","v":""},"",0,10000,0,{"$f":"IF(B1014>0,WEEKNUM(TEXT(Definice!$F$3,\"0000\")&\".\"&TEXT(J1014,\"00\")&\".\"&RIGHT(TEXT(B1014,\"0000\"),2)),0)","v":0}]
[1013,null,null,null,null,{"$f":"IF(OR(MAX($I$2:I1015)-I1015=0,D1015=0),\"\",MAX($I$2:I1015)-I1015)","v":""},"",0,10000,0,{"$f":"IF(B1015>0,WEEKNUM(TEXT(Definice!$F$3,\"0000\")&\".\"&TEXT(J1015,\"00\")&\".\"&RIGHT(TEXT(B1015,\"0000\"),2)),0)","v":0}]
[1014,null,null,null,null,{"$f":"IF(OR(MAX($I$2:I1016)-I1016=0,D1016=0),\"\",MAX($I$2:I1016)-I1016)","v":""},"",0,10000,0,{"$f":"IF(B1016>0,WEEKNUM(TEXT(Definice!$F$3,\"0000\")&\".\"&TEXT(J1016,\"00\")&\".\"&RIGHT(TEXT(B1016,\"0000\"),2)),0)","v":0}]
[1015,null,null,null,null,{"$f":"IF(OR(MAX($I$2:I1017)-I1017=0,D1017=0),\"\",MAX($I$2:I1017)-I1017)","v":""},"",0,10000,0,{"$f":"IF(B1017>0,WEEKNUM(TEXT(Definice!$F$3,\"0000\")&\".\"&TEXT(J1017,\"00\")&\".\"&RIGHT(TEXT(B1017,\"0000\"),2)),0)","v":0}]
[1016,null,null,null,null,{"$f":"IF(OR(MAX($I$2:I1018)-I1018=0,D1018=0),\"\",MAX($I$2:I1018)-I1018)","v":""},"",0,10000,0,{"$f":"IF(B1018>0,WEEKNUM(TEXT(Definice!$F$3,\"0000\")&\".\"&TEXT(J1018,\"00\")&\".\"&RIGHT(TEXT(B1018,\"0000\"),2)),0)","v":0}]
[1017,null,null,null,null,{"$f":"IF(OR(MAX($I$2:I1019)-I1019=0,D1019=0),\"\",MAX($I$2:I1019)-I1019)","v":""},"",0,10000,0,{"$f":"IF(B1019>0,WEEKNUM(TEXT(Definice!$F$3,\"0000\")&\".\"&TEXT(J1019,\"00\")&\".\"&RIGHT(TEXT(B1019,\"0000\"),2)),0)","v":0}]
[1018,null,null,null,null,{"$f":"IF(OR(MAX($I$2:I1020)-I1020=0,D1020=0),\"\",MAX($I$2:I1020)-I1020)","v":""},"",0,10000,0,{"$f":"IF(B1020>0,WEEKNUM(TEXT(Definice!$F$3,\"0000\")&\".\"&TEXT(J1020,\"00\")&\".\"&RIGHT(TEXT(B1020,\"0000\"),2)),0)","v":0}]
[1019,null,null,null,null,{"$f":"IF(OR(MAX($I$2:I1021)-I1021=0,D1021=0),\"\",MAX($I$2:I1021)-I1021)","v":""},"",0,10000,0,{"$f":"IF(B1021>0,WEEKNUM(TEXT(Definice!$F$3,\"0000\")&\".\"&TEXT(J1021,\"00\")&\".\"&RIGHT(TEXT(B1021,\"0000\"),2)),0)","v":0}]
[1020,null,null,null,null,{"$f":"IF(OR(MAX($I$2:I1022)-I1022=0,D1022=0),\"\",MAX($I$2:I1022)-I1022)","v":""},"",0,10000,0,{"$f":"IF(B1022>0,WEEKNUM(TEXT(Definice!$F$3,\"0000\")&\".\"&TEXT(J1022,\"00\")&\".\"&RIGHT(TEXT(B1022,\"0000\"),2)),0)","v":0}]
[1021,null,null,null,null,{"$f":"IF(OR(MAX($I$2:I1023)-I1023=0,D1023=0),\"\",MAX($I$2:I1023)-I1023)","v":""},"",0,10000,0,{"$f":"IF(B1023>0,WEEKNUM(TEXT(Definice!$F$3,\"0000\")&\".\"&TEXT(J1023,\"00\")&\".\"&RIGHT(TEXT(B1023,\"0000\"),2)),0)","v":0}]
[1022,null,null,null,null,{"$f":"IF(OR(MAX($I$2:I1024)-I1024=0,D1024=0),\"\",MAX($I$2:I1024)-I1024)","v":""},"",0,10000,0,{"$f":"IF(B1024>0,WEEKNUM(TEXT(Definice!$F$3,\"0000\")&\".\"&TEXT(J1024,\"00\")&\".\"&RIGHT(TEXT(B1024,\"0000\"),2)),0)","v":0}]
[1023,null,null,null,null,{"$f":"IF(OR(MAX($I$2:I1025)-I1025=0,D1025=0),\"\",MAX($I$2:I1025)-I1025)","v":""},"",0,10000,0,{"$f":"IF(B1025>0,WEEKNUM(TEXT(Definice!$F$3,\"0000\")&\".\"&TEXT(J1025,\"00\")&\".\"&RIGHT(TEXT(B1025,\"0000\"),2)),0)","v":0}]
[1024,null,null,null,null,{"$f":"IF(OR(MAX($I$2:I1026)-I1026=0,D1026=0),\"\",MAX($I$2:I1026)-I1026)","v":""},"",0,10000,0,{"$f":"IF(B1026>0,WEEKNUM(TEXT(Definice!$F$3,\"0000\")&\".\"&TEXT(J1026,\"00\")&\".\"&RIGHT(TEXT(B1026,\"0000\"),2)),0)","v":0}]
[1025,null,null,null,null,{"$f":"IF(OR(MAX($I$2:I1027)-I1027=0,D1027=0),\"\",MAX($I$2:I1027)-I1027)","v":""},"",0,10000,0,{"$f":"IF(B1027>0,WEEKNUM(TEXT(Definice!$F$3,\"0000\")&\".\"&TEXT(J1027,\"00\")&\".\"&RIGHT(TEXT(B1027,\"0000\"),2)),0)","v":0}]
[1026,null,null,null,null,{"$f":"IF(OR(MAX($I$2:I1028)-I1028=0,D1028=0),\"\",MAX($I$2:I1028)-I1028)","v":""},"",0,10000,{"$f":"((INT(B1028/100)/100)-INT(INT(B1028/100)/100))*100","v":0},{"$f":"IF(B1028>0,WEEKNUM(TEXT(Definice!$F$3,\"0000\")&\".\"&TEXT(J1028,\"00\")&\".\"&RIGHT(TEXT(B1028,\"0000\"),2)),0)","v":0}]
[1027,null,null,null,null,{"$f":"IF(OR(MAX($I$2:I1029)-I1029=0,D1029=0),\"\",MAX($I$2:I1029)-I1029)","v":""},{"$f":"IF(F1029=\"\",\"\",F1029/(H1029+I1028))","v":""},{"$f":"H1028+E1029","v":0},{"$f":"I1028+E1029","v":10000},0,{"$f":"IF(B1029>0,WEEKNUM(TEXT(Definice!$F$3,\"0000\")&\".\"&TEXT(J1029,\"00\")&\".\"&RIGHT(TEXT(B1029,\"0000\"),2)),0)","v":0}]
[1028,null,null,null,null,{"$f":"IF(OR(MAX($I$2:I1030)-I1030=0,D1030=0),\"\",MAX($I$2:I1030)-I1030)","v":""},"",0,10000,0,{"$f":"IF(B1030>0,WEEKNUM(TEXT(Definice!$F$3,\"0000\")&\".\"&TEXT(J1030,\"00\")&\".\"&RIGHT(TEXT(B1030,\"0000\"),2)),0)","v":0}]
[1029,null,null,null,null,{"$f":"IF(OR(MAX($I$2:I1031)-I1031=0,D1031=0),\"\",MAX($I$2:I1031)-I1031)","v":""},"",0,10000,0,{"$f":"IF(B1031>0,WEEKNUM(TEXT(Definice!$F$3,\"0000\")&\".\"&TEXT(J1031,\"00\")&\".\"&RIGHT(TEXT(B1031,\"0000\"),2)),0)","v":0}]
[1030,null,null,null,null,{"$f":"IF(OR(MAX($I$2:I1032)-I1032=0,D1032=0),\"\",MAX($I$2:I1032)-I1032)","v":""},"",0,10000,0,{"$f":"IF(B1032>0,WEEKNUM(TEXT(Definice!$F$3,\"0000\")&\".\"&TEXT(J1032,\"00\")&\".\"&RIGHT(TEXT(B1032,\"0000\"),2)),0)","v":0}]
[1031,null,null,null,null,{"$f":"IF(OR(MAX($I$2:I1033)-I1033=0,D1033=0),\"\",MAX($I$2:I1033)-I1033)","v":""},"",0,10000,0,{"$f":"IF(B1033>0,WEEKNUM(TEXT(Definice!$F$3,\"0000\")&\".\"&TEXT(J1033,\"00\")&\".\"&RIGHT(TEXT(B1033,\"0000\"),2)),0)","v":0}]
[1032,null,null,null,null,{"$f":"IF(OR(MAX($I$2:I1034)-I1034=0,D1034=0),\"\",MAX($I$2:I1034)-I1034)","v":""},"",0,10000,0,{"$f":"IF(B1034>0,WEEKNUM(TEXT(Definice!$F$3,\"0000\")&\".\"&TEXT(J1034,\"00\")&\".\"&RIGHT(TEXT(B1034,\"0000\"),2)),0)","v":0}]
[1033,null,null,null,null,{"$f":"IF(OR(MAX($I$2:I1035)-I1035=0,D1035=0),\"\",MAX($I$2:I1035)-I1035)","v":""},"",0,10000,0,{"$f":"IF(B1035>0,WEEKNUM(TEXT(Definice!$F$3,\"0000\")&\".\"&TEXT(J1035,\"00\")&\".\"&RIGHT(TEXT(B1035,\"0000\"),2)),0)","v":0}]
[1034,null,null,null,null,{"$f":"IF(OR(MAX($I$2:I1036)-I1036=0,D1036=0),\"\",MAX($I$2:I1036)-I1036)","v":""},"",0,10000,0,{"$f":"IF(B1036>0,WEEKNUM(TEXT(Definice!$F$3,\"0000\")&\".\"&TEXT(J1036,\"00\")&\".\"&RIGHT(TEXT(B1036,\"0000\"),2)),0)","v":0}]
[1035,null,null,null,null,{"$f":"IF(OR(MAX($I$2:I1037)-I1037=0,D1037=0),\"\",MAX($I$2:I1037)-I1037)","v":""},"",0,10000,0,{"$f":"IF(B1037>0,WEEKNUM(TEXT(Definice!$F$3,\"0000\")&\".\"&TEXT(J1037,\"00\")&\".\"&RIGHT(TEXT(B1037,\"0000\"),2)),0)","v":0}]
[1036,null,null,null,null,{"$f":"IF(OR(MAX($I$2:I1038)-I1038=0,D1038=0),\"\",MAX($I$2:I1038)-I1038)","v":""},"",0,10000,0,{"$f":"IF(B1038>0,WEEKNUM(TEXT(Definice!$F$3,\"0000\")&\".\"&TEXT(J1038,\"00\")&\".\"&RIGHT(TEXT(B1038,\"0000\"),2)),0)","v":0}]
[1037,null,null,null,null,{"$f":"IF(OR(MAX($I$2:I1039)-I1039=0,D1039=0),\"\",MAX($I$2:I1039)-I1039)","v":""},"",0,10000,0,{"$f":"IF(B1039>0,WEEKNUM(TEXT(Definice!$F$3,\"0000\")&\".\"&TEXT(J1039,\"00\")&\".\"&RIGHT(TEXT(B1039,\"0000\"),2)),0)","v":0}]
[1038,null,null,null,null,{"$f":"IF(OR(MAX($I$2:I1040)-I1040=0,D1040=0),\"\",MAX($I$2:I1040)-I1040)","v":""},"",0,10000,0,{"$f":"IF(B1040>0,WEEKNUM(TEXT(Definice!$F$3,\"0000\")&\".\"&TEXT(J1040,\"00\")&\".\"&RIGHT(TEXT(B1040,\"0000\"),2)),0)","v":0}]
[1039,null,null,null,null,{"$f":"IF(OR(MAX($I$2:I1041)-I1041=0,D1041=0),\"\",MAX($I$2:I1041)-I1041)","v":""},"",0,10000,0,{"$f":"IF(B1041>0,WEEKNUM(TEXT(Definice!$F$3,\"0000\")&\".\"&TEXT(J1041,\"00\")&\".\"&RIGHT(TEXT(B1041,\"0000\"),2)),0)","v":0}]
[1040,null,null,null,null,{"$f":"IF(OR(MAX($I$2:I1042)-I1042=0,D1042=0),\"\",MAX($I$2:I1042)-I1042)","v":""},"",0,10000,0,{"$f":"IF(B1042>0,WEEKNUM(TEXT(Definice!$F$3,\"0000\")&\".\"&TEXT(J1042,\"00\")&\".\"&RIGHT(TEXT(B1042,\"0000\"),2)),0)","v":0}]
[1041,null,null,null,null,{"$f":"IF(OR(MAX($I$2:I1043)-I1043=0,D1043=0),\"\",MAX($I$2:I1043)-I1043)","v":""},"",0,10000,0,{"$f":"IF(B1043>0,WEEKNUM(TEXT(Definice!$F$3,\"0000\")&\".\"&TEXT(J1043,\"00\")&\".\"&RIGHT(TEXT(B1043,\"0000\"),2)),0)","v":0}]
[1042,null,null,null,null,{"$f":"IF(OR(MAX($I$2:I1044)-I1044=0,D1044=0),\"\",MAX($I$2:I1044)-I1044)","v":""},"",0,10000,0,{"$f":"IF(B1044>0,WEEKNUM(TEXT(Definice!$F$3,\"0000\")&\".\"&TEXT(J1044,\"00\")&\".\"&RIGHT(TEXT(B1044,\"0000\"),2)),0)","v":0}]
[1043,null,null,null,null,{"$f":"IF(OR(MAX($I$2:I1045)-I1045=0,D1045=0),\"\",MAX($I$2:I1045)-I1045)","v":""},"",0,10000,0,{"$f":"IF(B1045>0,WEEKNUM(TEXT(Definice!$F$3,\"0000\")&\".\"&TEXT(J1045,\"00\")&\".\"&RIGHT(TEXT(B1045,\"0000\"),2)),0)","v":0}]
[1044,null,null,null,null,{"$f":"IF(OR(MAX($I$2:I1046)-I1046=0,D1046=0),\"\",MAX($I$2:I1046)-I1046)","v":""},"",0,10000,0,{"$f":"IF(B1046>0,WEEKNUM(TEXT(Definice!$F$3,\"0000\")&\".\"&TEXT(J1046,\"00\")&\".\"&RIGHT(TEXT(B1046,\"0000\"),2)),0)","v":0}]
[1045,null,null,null,null,{"$f":"IF(OR(MAX($I$2:I1047)-I1047=0,D1047=0),\"\",MAX($I$2:I1047)-I1047)","v":""},"",0,10000,0,{"$f":"IF(B1047>0,WEEKNUM(TEXT(Definice!$F$3,\"0000\")&\".\"&TEXT(J1047,\"00\")&\".\"&RIGHT(TEXT(B1047,\"0000\"),2)),0)","v":0}]
[1046,null,null,null,null,{"$f":"IF(OR(MAX($I$2:I1048)-I1048=0,D1048=0),\"\",MAX($I$2:I1048)-I1048)","v":""},"",0,10000,0,{"$f":"IF(B1048>0,WEEKNUM(TEXT(Definice!$F$3,\"0000\")&\".\"&TEXT(J1048,\"00\")&\".\"&RIGHT(TEXT(B1048,\"0000\"),2)),0)","v":0}]
[1047,null,null,null,null,{"$f":"IF(OR(MAX($I$2:I1049)-I1049=0,D1049=0),\"\",MAX($I$2:I1049)-I1049)","v":""},"",0,10000,0,{"$f":"IF(B1049>0,WEEKNUM(TEXT(Definice!$F$3,\"0000\")&\".\"&TEXT(J1049,\"00\")&\".\"&RIGHT(TEXT(B1049,\"0000\"),2)),0)","v":0}]
[1048,null,null,null,null,{"$f":"IF(OR(MAX($I$2:I1050)-I1050=0,D1050=0),\"\",MAX($I$2:I1050)-I1050)","v":""},"",0,10000,0,{"$f":"IF(B1050>0,WEEKNUM(TEXT(Definice!$F$3,\"0000\")&\".\"&TEXT(J1050,\"00\")&\".\"&RIGHT(TEXT(B1050,\"0000\"),2)),0)","v":0}]
[1049,null,null,null,null,{"$f":"IF(OR(MAX($I$2:I1051)-I1051=0,D1051=0),\"\",MAX($I$2:I1051)-I1051)","v":""},"",0,10000,0,{"$f":"IF(B1051>0,WEEKNUM(TEXT(Definice!$F$3,\"0000\")&\".\"&TEXT(J1051,\"00\")&\".\"&RIGHT(TEXT(B1051,\"0000\"),2)),0)","v":0}]
[1050,null,null,null,null,{"$f":"IF(OR(MAX($I$2:I1052)-I1052=0,D1052=0),\"\",MAX($I$2:I1052)-I1052)","v":""},"",0,10000,0,{"$f":"IF(B1052>0,WEEKNUM(TEXT(Definice!$F$3,\"0000\")&\".\"&TEXT(J1052,\"00\")&\".\"&RIGHT(TEXT(B1052,\"0000\"),2)),0)","v":0}]
[1051,null,null,null,null,{"$f":"IF(OR(MAX($I$2:I1053)-I1053=0,D1053=0),\"\",MAX($I$2:I1053)-I1053)","v":""},"",0,10000,0,{"$f":"IF(B1053>0,WEEKNUM(TEXT(Definice!$F$3,\"0000\")&\".\"&TEXT(J1053,\"00\")&\".\"&RIGHT(TEXT(B1053,\"0000\"),2)),0)","v":0}]
[1052,null,null,null,null,{"$f":"IF(OR(MAX($I$2:I1054)-I1054=0,D1054=0),\"\",MAX($I$2:I1054)-I1054)","v":""},"",0,10000,0,{"$f":"IF(B1054>0,WEEKNUM(TEXT(Definice!$F$3,\"0000\")&\".\"&TEXT(J1054,\"00\")&\".\"&RIGHT(TEXT(B1054,\"0000\"),2)),0)","v":0}]
[1053,null,null,null,null,{"$f":"IF(OR(MAX($I$2:I1055)-I1055=0,D1055=0),\"\",MAX($I$2:I1055)-I1055)","v":""},"",0,10000,0,{"$f":"IF(B1055>0,WEEKNUM(TEXT(Definice!$F$3,\"0000\")&\".\"&TEXT(J1055,\"00\")&\".\"&RIGHT(TEXT(B1055,\"0000\"),2)),0)","v":0}]
[1054,null,null,null,null,{"$f":"IF(OR(MAX($I$2:I1056)-I1056=0,D1056=0),\"\",MAX($I$2:I1056)-I1056)","v":""},"",0,10000,0,{"$f":"IF(B1056>0,WEEKNUM(TEXT(Definice!$F$3,\"0000\")&\".\"&TEXT(J1056,\"00\")&\".\"&RIGHT(TEXT(B1056,\"0000\"),2)),0)","v":0}]
[1055,null,null,null,null,{"$f":"IF(OR(MAX($I$2:I1057)-I1057=0,D1057=0),\"\",MAX($I$2:I1057)-I1057)","v":""},"",0,10000,0,{"$f":"IF(B1057>0,WEEKNUM(TEXT(Definice!$F$3,\"0000\")&\".\"&TEXT(J1057,\"00\")&\".\"&RIGHT(TEXT(B1057,\"0000\"),2)),0)","v":0}]
[1056,null,null,null,null,{"$f":"IF(OR(MAX($I$2:I1058)-I1058=0,D1058=0),\"\",MAX($I$2:I1058)-I1058)","v":""},"",0,10000,0,{"$f":"IF(B1058>0,WEEKNUM(TEXT(Definice!$F$3,\"0000\")&\".\"&TEXT(J1058,\"00\")&\".\"&RIGHT(TEXT(B1058,\"0000\"),2)),0)","v":0}]
[1057,null,null,null,null,{"$f":"IF(OR(MAX($I$2:I1059)-I1059=0,D1059=0),\"\",MAX($I$2:I1059)-I1059)","v":""},"",0,10000,0,{"$f":"IF(B1059>0,WEEKNUM(TEXT(Definice!$F$3,\"0000\")&\".\"&TEXT(J1059,\"00\")&\".\"&RIGHT(TEXT(B1059,\"0000\"),2)),0)","v":0}]
[1058,null,null,null,null,{"$f":"IF(OR(MAX($I$2:I1060)-I1060=0,D1060=0),\"\",MAX($I$2:I1060)-I1060)","v":""},"",0,10000,0,{"$f":"IF(B1060>0,WEEKNUM(TEXT(Definice!$F$3,\"0000\")&\".\"&TEXT(J1060,\"00\")&\".\"&RIGHT(TEXT(B1060,\"0000\"),2)),0)","v":0}]
[1059,null,null,null,null,{"$f":"IF(OR(MAX($I$2:I1061)-I1061=0,D1061=0),\"\",MAX($I$2:I1061)-I1061)","v":""},"",0,10000,0,{"$f":"IF(B1061>0,WEEKNUM(TEXT(Definice!$F$3,\"0000\")&\".\"&TEXT(J1061,\"00\")&\".\"&RIGHT(TEXT(B1061,\"0000\"),2)),0)","v":0}]
[1060,null,null,null,null,{"$f":"IF(OR(MAX($I$2:I1062)-I1062=0,D1062=0),\"\",MAX($I$2:I1062)-I1062)","v":""},"",0,10000,0,{"$f":"IF(B1062>0,WEEKNUM(TEXT(Definice!$F$3,\"0000\")&\".\"&TEXT(J1062,\"00\")&\".\"&RIGHT(TEXT(B1062,\"0000\"),2)),0)","v":0}]
[1061,null,null,null,null,{"$f":"IF(OR(MAX($I$2:I1063)-I1063=0,D1063=0),\"\",MAX($I$2:I1063)-I1063)","v":""},"",0,10000,0,{"$f":"IF(B1063>0,WEEKNUM(TEXT(Definice!$F$3,\"0000\")&\".\"&TEXT(J1063,\"00\")&\".\"&RIGHT(TEXT(B1063,\"0000\"),2)),0)","v":0}]
[1062,null,null,null,null,{"$f":"IF(OR(MAX($I$2:I1064)-I1064=0,D1064=0),\"\",MAX($I$2:I1064)-I1064)","v":""},"",0,10000,0,{"$f":"IF(B1064>0,WEEKNUM(TEXT(Definice!$F$3,\"0000\")&\".\"&TEXT(J1064,\"00\")&\".\"&RIGHT(TEXT(B1064,\"0000\"),2)),0)","v":0}]
[1063,null,null,null,null,{"$f":"IF(OR(MAX($I$2:I1065)-I1065=0,D1065=0),\"\",MAX($I$2:I1065)-I1065)","v":""},"",0,10000,0,{"$f":"IF(B1065>0,WEEKNUM(TEXT(Definice!$F$3,\"0000\")&\".\"&TEXT(J1065,\"00\")&\".\"&RIGHT(TEXT(B1065,\"0000\"),2)),0)","v":0}]
[1064,null,null,null,null,{"$f":"IF(OR(MAX($I$2:I1066)-I1066=0,D1066=0),\"\",MAX($I$2:I1066)-I1066)","v":""},"",0,10000,0,{"$f":"IF(B1066>0,WEEKNUM(TEXT(Definice!$F$3,\"0000\")&\".\"&TEXT(J1066,\"00\")&\".\"&RIGHT(TEXT(B1066,\"0000\"),2)),0)","v":0}]
[1065,null,null,null,null,{"$f":"IF(OR(MAX($I$2:I1067)-I1067=0,D1067=0),\"\",MAX($I$2:I1067)-I1067)","v":""},"",0,10000,0,{"$f":"IF(B1067>0,WEEKNUM(TEXT(Definice!$F$3,\"0000\")&\".\"&TEXT(J1067,\"00\")&\".\"&RIGHT(TEXT(B1067,\"0000\"),2)),0)","v":0}]
[1066,null,null,null,null,{"$f":"IF(OR(MAX($I$2:I1068)-I1068=0,D1068=0),\"\",MAX($I$2:I1068)-I1068)","v":""},"",0,10000,0,{"$f":"IF(B1068>0,WEEKNUM(TEXT(Definice!$F$3,\"0000\")&\".\"&TEXT(J1068,\"00\")&\".\"&RIGHT(TEXT(B1068,\"0000\"),2)),0)","v":0}]
[1067,null,null,null,null,{"$f":"IF(OR(MAX($I$2:I1069)-I1069=0,D1069=0),\"\",MAX($I$2:I1069)-I1069)","v":""},"",0,10000,0,{"$f":"IF(B1069>0,WEEKNUM(TEXT(Definice!$F$3,\"0000\")&\".\"&TEXT(J1069,\"00\")&\".\"&RIGHT(TEXT(B1069,\"0000\"),2)),0)","v":0}]
[1068,null,null,null,null,{"$f":"IF(OR(MAX($I$2:I1070)-I1070=0,D1070=0),\"\",MAX($I$2:I1070)-I1070)","v":""},"",0,10000,0,{"$f":"IF(B1070>0,WEEKNUM(TEXT(Definice!$F$3,\"0000\")&\".\"&TEXT(J1070,\"00\")&\".\"&RIGHT(TEXT(B1070,\"0000\"),2)),0)","v":0}]
[1069,null,null,null,null,{"$f":"IF(OR(MAX($I$2:I1071)-I1071=0,D1071=0),\"\",MAX($I$2:I1071)-I1071)","v":""},"",0,10000,0,{"$f":"IF(B1071>0,WEEKNUM(TEXT(Definice!$F$3,\"0000\")&\".\"&TEXT(J1071,\"00\")&\".\"&RIGHT(TEXT(B1071,\"0000\"),2)),0)","v":0}]
[1070,null,null,null,null,{"$f":"IF(OR(MAX($I$2:I1072)-I1072=0,D1072=0),\"\",MAX($I$2:I1072)-I1072)","v":""},"",0,10000,0,{"$f":"IF(B1072>0,WEEKNUM(TEXT(Definice!$F$3,\"0000\")&\".\"&TEXT(J1072,\"00\")&\".\"&RIGHT(TEXT(B1072,\"0000\"),2)),0)","v":0}]
[1071,null,null,null,null,{"$f":"IF(OR(MAX($I$2:I1073)-I1073=0,D1073=0),\"\",MAX($I$2:I1073)-I1073)","v":""},"",0,10000,0,{"$f":"IF(B1073>0,WEEKNUM(TEXT(Definice!$F$3,\"0000\")&\".\"&TEXT(J1073,\"00\")&\".\"&RIGHT(TEXT(B1073,\"0000\"),2)),0)","v":0}]
[1072,null,null,null,null,{"$f":"IF(OR(MAX($I$2:I1074)-I1074=0,D1074=0),\"\",MAX($I$2:I1074)-I1074)","v":""},"",0,10000,0,{"$f":"IF(B1074>0,WEEKNUM(TEXT(Definice!$F$3,\"0000\")&\".\"&TEXT(J1074,\"00\")&\".\"&RIGHT(TEXT(B1074,\"0000\"),2)),0)","v":0}]
[1073,null,null,null,null,{"$f":"IF(OR(MAX($I$2:I1075)-I1075=0,D1075=0),\"\",MAX($I$2:I1075)-I1075)","v":""},"",0,10000,0,{"$f":"IF(B1075>0,WEEKNUM(TEXT(Definice!$F$3,\"0000\")&\".\"&TEXT(J1075,\"00\")&\".\"&RIGHT(TEXT(B1075,\"0000\"),2)),0)","v":0}]
[1074,null,null,null,null,{"$f":"IF(OR(MAX($I$2:I1076)-I1076=0,D1076=0),\"\",MAX($I$2:I1076)-I1076)","v":""},"",0,10000,0,{"$f":"IF(B1076>0,WEEKNUM(TEXT(Definice!$F$3,\"0000\")&\".\"&TEXT(J1076,\"00\")&\".\"&RIGHT(TEXT(B1076,\"0000\"),2)),0)","v":0}]
[1075,null,null,null,null,{"$f":"IF(OR(MAX($I$2:I1077)-I1077=0,D1077=0),\"\",MAX($I$2:I1077)-I1077)","v":""},"",0,10000,0,{"$f":"IF(B1077>0,WEEKNUM(TEXT(Definice!$F$3,\"0000\")&\".\"&TEXT(J1077,\"00\")&\".\"&RIGHT(TEXT(B1077,\"0000\"),2)),0)","v":0}]
[1076,null,null,null,null,{"$f":"IF(OR(MAX($I$2:I1078)-I1078=0,D1078=0),\"\",MAX($I$2:I1078)-I1078)","v":""},"",0,10000,0,{"$f":"IF(B1078>0,WEEKNUM(TEXT(Definice!$F$3,\"0000\")&\".\"&TEXT(J1078,\"00\")&\".\"&RIGHT(TEXT(B1078,\"0000\"),2)),0)","v":0}]
[1077,null,null,null,null,{"$f":"IF(OR(MAX($I$2:I1079)-I1079=0,D1079=0),\"\",MAX($I$2:I1079)-I1079)","v":""},"",0,10000,0,{"$f":"IF(B1079>0,WEEKNUM(TEXT(Definice!$F$3,\"0000\")&\".\"&TEXT(J1079,\"00\")&\".\"&RIGHT(TEXT(B1079,\"0000\"),2)),0)","v":0}]
[1078,null,null,null,null,{"$f":"IF(OR(MAX($I$2:I1080)-I1080=0,D1080=0),\"\",MAX($I$2:I1080)-I1080)","v":""},"",0,10000,0,{"$f":"IF(B1080>0,WEEKNUM(TEXT(Definice!$F$3,\"0000\")&\".\"&TEXT(J1080,\"00\")&\".\"&RIGHT(TEXT(B1080,\"0000\"),2)),0)","v":0}]
[1079,null,null,null,null,{"$f":"IF(OR(MAX($I$2:I1081)-I1081=0,D1081=0),\"\",MAX($I$2:I1081)-I1081)","v":""},"",0,10000,0,{"$f":"IF(B1081>0,WEEKNUM(TEXT(Definice!$F$3,\"0000\")&\".\"&TEXT(J1081,\"00\")&\".\"&RIGHT(TEXT(B1081,\"0000\"),2)),0)","v":0}]
[1080,null,null,null,null,{"$f":"IF(OR(MAX($I$2:I1082)-I1082=0,D1082=0),\"\",MAX($I$2:I1082)-I1082)","v":""},"",0,10000,0,{"$f":"IF(B1082>0,WEEKNUM(TEXT(Definice!$F$3,\"0000\")&\".\"&TEXT(J1082,\"00\")&\".\"&RIGHT(TEXT(B1082,\"0000\"),2)),0)","v":0}]
[1081,null,null,null,null,{"$f":"IF(OR(MAX($I$2:I1083)-I1083=0,D1083=0),\"\",MAX($I$2:I1083)-I1083)","v":""},"",0,10000,0,{"$f":"IF(B1083>0,WEEKNUM(TEXT(Definice!$F$3,\"0000\")&\".\"&TEXT(J1083,\"00\")&\".\"&RIGHT(TEXT(B1083,\"0000\"),2)),0)","v":0}]
[1082,null,null,null,null,{"$f":"IF(OR(MAX($I$2:I1084)-I1084=0,D1084=0),\"\",MAX($I$2:I1084)-I1084)","v":""},"",0,10000,0,{"$f":"IF(B1084>0,WEEKNUM(TEXT(Definice!$F$3,\"0000\")&\".\"&TEXT(J1084,\"00\")&\".\"&RIGHT(TEXT(B1084,\"0000\"),2)),0)","v":0}]
[1083,null,null,null,null,{"$f":"IF(OR(MAX($I$2:I1085)-I1085=0,D1085=0),\"\",MAX($I$2:I1085)-I1085)","v":""},"",0,10000,0,{"$f":"IF(B1085>0,WEEKNUM(TEXT(Definice!$F$3,\"0000\")&\".\"&TEXT(J1085,\"00\")&\".\"&RIGHT(TEXT(B1085,\"0000\"),2)),0)","v":0}]
[1084,null,null,null,null,{"$f":"IF(OR(MAX($I$2:I1086)-I1086=0,D1086=0),\"\",MAX($I$2:I1086)-I1086)","v":""},"",0,10000,0,{"$f":"IF(B1086>0,WEEKNUM(TEXT(Definice!$F$3,\"0000\")&\".\"&TEXT(J1086,\"00\")&\".\"&RIGHT(TEXT(B1086,\"0000\"),2)),0)","v":0}]
[1085,null,null,null,null,{"$f":"IF(OR(MAX($I$2:I1087)-I1087=0,D1087=0),\"\",MAX($I$2:I1087)-I1087)","v":""},"",0,10000,0,{"$f":"IF(B1087>0,WEEKNUM(TEXT(Definice!$F$3,\"0000\")&\".\"&TEXT(J1087,\"00\")&\".\"&RIGHT(TEXT(B1087,\"0000\"),2)),0)","v":0}]
[1086,null,null,null,null,{"$f":"IF(OR(MAX($I$2:I1088)-I1088=0,D1088=0),\"\",MAX($I$2:I1088)-I1088)","v":""},"",0,10000,0,{"$f":"IF(B1088>0,WEEKNUM(TEXT(Definice!$F$3,\"0000\")&\".\"&TEXT(J1088,\"00\")&\".\"&RIGHT(TEXT(B1088,\"0000\"),2)),0)","v":0}]
[1087,null,null,null,null,{"$f":"IF(OR(MAX($I$2:I1089)-I1089=0,D1089=0),\"\",MAX($I$2:I1089)-I1089)","v":""},"",0,10000,0,{"$f":"IF(B1089>0,WEEKNUM(TEXT(Definice!$F$3,\"0000\")&\".\"&TEXT(J1089,\"00\")&\".\"&RIGHT(TEXT(B1089,\"0000\"),2)),0)","v":0}]
[1088,null,null,null,null,{"$f":"IF(OR(MAX($I$2:I1090)-I1090=0,D1090=0),\"\",MAX($I$2:I1090)-I1090)","v":""},"",0,10000,0,{"$f":"IF(B1090>0,WEEKNUM(TEXT(Definice!$F$3,\"0000\")&\".\"&TEXT(J1090,\"00\")&\".\"&RIGHT(TEXT(B1090,\"0000\"),2)),0)","v":0}]
[1089,null,null,null,null,{"$f":"IF(OR(MAX($I$2:I1091)-I1091=0,D1091=0),\"\",MAX($I$2:I1091)-I1091)","v":""},"",0,10000,0,{"$f":"IF(B1091>0,WEEKNUM(TEXT(Definice!$F$3,\"0000\")&\".\"&TEXT(J1091,\"00\")&\".\"&RIGHT(TEXT(B1091,\"0000\"),2)),0)","v":0}]
[1090,null,null,null,null,{"$f":"IF(OR(MAX($I$2:I1092)-I1092=0,D1092=0),\"\",MAX($I$2:I1092)-I1092)","v":""},"",0,10000,{"$f":"((INT(B1092/100)/100)-INT(INT(B1092/100)/100))*100","v":0},{"$f":"IF(B1092>0,WEEKNUM(TEXT(Definice!$F$3,\"0000\")&\".\"&TEXT(J1092,\"00\")&\".\"&RIGHT(TEXT(B1092,\"0000\"),2)),0)","v":0}]
[1091,null,null,null,null,{"$f":"IF(OR(MAX($I$2:I1093)-I1093=0,D1093=0),\"\",MAX($I$2:I1093)-I1093)","v":""},{"$f":"IF(F1093=\"\",\"\",F1093/(H1093+I1092))","v":""},{"$f":"H1092+E1093","v":0},{"$f":"I1092+E1093","v":10000},0,{"$f":"IF(B1093>0,WEEKNUM(TEXT(Definice!$F$3,\"0000\")&\".\"&TEXT(J1093,\"00\")&\".\"&RIGHT(TEXT(B1093,\"0000\"),2)),0)","v":0}]
[1092,null,null,null,null,{"$f":"IF(OR(MAX($I$2:I1094)-I1094=0,D1094=0),\"\",MAX($I$2:I1094)-I1094)","v":""},"",0,10000,0,{"$f":"IF(B1094>0,WEEKNUM(TEXT(Definice!$F$3,\"0000\")&\".\"&TEXT(J1094,\"00\")&\".\"&RIGHT(TEXT(B1094,\"0000\"),2)),0)","v":0}]
[1093,null,null,null,null,{"$f":"IF(OR(MAX($I$2:I1095)-I1095=0,D1095=0),\"\",MAX($I$2:I1095)-I1095)","v":""},"",0,10000,0,{"$f":"IF(B1095>0,WEEKNUM(TEXT(Definice!$F$3,\"0000\")&\".\"&TEXT(J1095,\"00\")&\".\"&RIGHT(TEXT(B1095,\"0000\"),2)),0)","v":0}]
[1094,null,null,null,null,{"$f":"IF(OR(MAX($I$2:I1096)-I1096=0,D1096=0),\"\",MAX($I$2:I1096)-I1096)","v":""},"",0,10000,0,{"$f":"IF(B1096>0,WEEKNUM(TEXT(Definice!$F$3,\"0000\")&\".\"&TEXT(J1096,\"00\")&\".\"&RIGHT(TEXT(B1096,\"0000\"),2)),0)","v":0}]
[1095,null,null,null,null,{"$f":"IF(OR(MAX($I$2:I1097)-I1097=0,D1097=0),\"\",MAX($I$2:I1097)-I1097)","v":""},"",0,10000,0,{"$f":"IF(B1097>0,WEEKNUM(TEXT(Definice!$F$3,\"0000\")&\".\"&TEXT(J1097,\"00\")&\".\"&RIGHT(TEXT(B1097,\"0000\"),2)),0)","v":0}]
[1096,null,null,null,null,{"$f":"IF(OR(MAX($I$2:I1098)-I1098=0,D1098=0),\"\",MAX($I$2:I1098)-I1098)","v":""},"",0,10000,0,{"$f":"IF(B1098>0,WEEKNUM(TEXT(Definice!$F$3,\"0000\")&\".\"&TEXT(J1098,\"00\")&\".\"&RIGHT(TEXT(B1098,\"0000\"),2)),0)","v":0}]
[1097,null,null,null,null,{"$f":"IF(OR(MAX($I$2:I1099)-I1099=0,D1099=0),\"\",MAX($I$2:I1099)-I1099)","v":""},"",0,10000,0,{"$f":"IF(B1099>0,WEEKNUM(TEXT(Definice!$F$3,\"0000\")&\".\"&TEXT(J1099,\"00\")&\".\"&RIGHT(TEXT(B1099,\"0000\"),2)),0)","v":0}]
[1098,null,null,null,null,{"$f":"IF(OR(MAX($I$2:I1100)-I1100=0,D1100=0),\"\",MAX($I$2:I1100)-I1100)","v":""},"",0,10000,0,{"$f":"IF(B1100>0,WEEKNUM(TEXT(Definice!$F$3,\"0000\")&\".\"&TEXT(J1100,\"00\")&\".\"&RIGHT(TEXT(B1100,\"0000\"),2)),0)","v":0}]
[1099,null,null,null,null,{"$f":"IF(OR(MAX($I$2:I1101)-I1101=0,D1101=0),\"\",MAX($I$2:I1101)-I1101)","v":""},"",0,10000,0,{"$f":"IF(B1101>0,WEEKNUM(TEXT(Definice!$F$3,\"0000\")&\".\"&TEXT(J1101,\"00\")&\".\"&RIGHT(TEXT(B1101,\"0000\"),2)),0)","v":0}]
[1100,null,null,null,null,{"$f":"IF(OR(MAX($I$2:I1102)-I1102=0,D1102=0),\"\",MAX($I$2:I1102)-I1102)","v":""},"",0,10000,0,{"$f":"IF(B1102>0,WEEKNUM(TEXT(Definice!$F$3,\"0000\")&\".\"&TEXT(J1102,\"00\")&\".\"&RIGHT(TEXT(B1102,\"0000\"),2)),0)","v":0}]
[1101,null,null,null,null,{"$f":"IF(OR(MAX($I$2:I1103)-I1103=0,D1103=0),\"\",MAX($I$2:I1103)-I1103)","v":""},"",0,10000,0,{"$f":"IF(B1103>0,WEEKNUM(TEXT(Definice!$F$3,\"0000\")&\".\"&TEXT(J1103,\"00\")&\".\"&RIGHT(TEXT(B1103,\"0000\"),2)),0)","v":0}]
[1102,null,null,null,null,{"$f":"IF(OR(MAX($I$2:I1104)-I1104=0,D1104=0),\"\",MAX($I$2:I1104)-I1104)","v":""},"",0,10000,0,{"$f":"IF(B1104>0,WEEKNUM(TEXT(Definice!$F$3,\"0000\")&\".\"&TEXT(J1104,\"00\")&\".\"&RIGHT(TEXT(B1104,\"0000\"),2)),0)","v":0}]
[1103,null,null,null,null,{"$f":"IF(OR(MAX($I$2:I1105)-I1105=0,D1105=0),\"\",MAX($I$2:I1105)-I1105)","v":""},"",0,10000,0,{"$f":"IF(B1105>0,WEEKNUM(TEXT(Definice!$F$3,\"0000\")&\".\"&TEXT(J1105,\"00\")&\".\"&RIGHT(TEXT(B1105,\"0000\"),2)),0)","v":0}]
[1104,null,null,null,null,{"$f":"IF(OR(MAX($I$2:I1106)-I1106=0,D1106=0),\"\",MAX($I$2:I1106)-I1106)","v":""},"",0,10000,0,{"$f":"IF(B1106>0,WEEKNUM(TEXT(Definice!$F$3,\"0000\")&\".\"&TEXT(J1106,\"00\")&\".\"&RIGHT(TEXT(B1106,\"0000\"),2)),0)","v":0}]
[1105,null,null,null,null,{"$f":"IF(OR(MAX($I$2:I1107)-I1107=0,D1107=0),\"\",MAX($I$2:I1107)-I1107)","v":""},"",0,10000,0,{"$f":"IF(B1107>0,WEEKNUM(TEXT(Definice!$F$3,\"0000\")&\".\"&TEXT(J1107,\"00\")&\".\"&RIGHT(TEXT(B1107,\"0000\"),2)),0)","v":0}]
[1106,null,null,null,null,{"$f":"IF(OR(MAX($I$2:I1108)-I1108=0,D1108=0),\"\",MAX($I$2:I1108)-I1108)","v":""},"",0,10000,0,{"$f":"IF(B1108>0,WEEKNUM(TEXT(Definice!$F$3,\"0000\")&\".\"&TEXT(J1108,\"00\")&\".\"&RIGHT(TEXT(B1108,\"0000\"),2)),0)","v":0}]
[1107,null,null,null,null,{"$f":"IF(OR(MAX($I$2:I1109)-I1109=0,D1109=0),\"\",MAX($I$2:I1109)-I1109)","v":""},"",0,10000,0,{"$f":"IF(B1109>0,WEEKNUM(TEXT(Definice!$F$3,\"0000\")&\".\"&TEXT(J1109,\"00\")&\".\"&RIGHT(TEXT(B1109,\"0000\"),2)),0)","v":0}]
[1108,null,null,null,null,{"$f":"IF(OR(MAX($I$2:I1110)-I1110=0,D1110=0),\"\",MAX($I$2:I1110)-I1110)","v":""},"",0,10000,0,{"$f":"IF(B1110>0,WEEKNUM(TEXT(Definice!$F$3,\"0000\")&\".\"&TEXT(J1110,\"00\")&\".\"&RIGHT(TEXT(B1110,\"0000\"),2)),0)","v":0}]
[1109,null,null,null,null,{"$f":"IF(OR(MAX($I$2:I1111)-I1111=0,D1111=0),\"\",MAX($I$2:I1111)-I1111)","v":""},"",0,10000,0,{"$f":"IF(B1111>0,WEEKNUM(TEXT(Definice!$F$3,\"0000\")&\".\"&TEXT(J1111,\"00\")&\".\"&RIGHT(TEXT(B1111,\"0000\"),2)),0)","v":0}]
[1110,null,null,null,null,{"$f":"IF(OR(MAX($I$2:I1112)-I1112=0,D1112=0),\"\",MAX($I$2:I1112)-I1112)","v":""},"",0,10000,0,{"$f":"IF(B1112>0,WEEKNUM(TEXT(Definice!$F$3,\"0000\")&\".\"&TEXT(J1112,\"00\")&\".\"&RIGHT(TEXT(B1112,\"0000\"),2)),0)","v":0}]
[1111,null,null,null,null,{"$f":"IF(OR(MAX($I$2:I1113)-I1113=0,D1113=0),\"\",MAX($I$2:I1113)-I1113)","v":""},"",0,10000,0,{"$f":"IF(B1113>0,WEEKNUM(TEXT(Definice!$F$3,\"0000\")&\".\"&TEXT(J1113,\"00\")&\".\"&RIGHT(TEXT(B1113,\"0000\"),2)),0)","v":0}]
[1112,null,null,null,null,{"$f":"IF(OR(MAX($I$2:I1114)-I1114=0,D1114=0),\"\",MAX($I$2:I1114)-I1114)","v":""},"",0,10000,0,{"$f":"IF(B1114>0,WEEKNUM(TEXT(Definice!$F$3,\"0000\")&\".\"&TEXT(J1114,\"00\")&\".\"&RIGHT(TEXT(B1114,\"0000\"),2)),0)","v":0}]
[1113,null,null,null,null,{"$f":"IF(OR(MAX($I$2:I1115)-I1115=0,D1115=0),\"\",MAX($I$2:I1115)-I1115)","v":""},"",0,10000,0,{"$f":"IF(B1115>0,WEEKNUM(TEXT(Definice!$F$3,\"0000\")&\".\"&TEXT(J1115,\"00\")&\".\"&RIGHT(TEXT(B1115,\"0000\"),2)),0)","v":0}]
[1114,null,null,null,null,{"$f":"IF(OR(MAX($I$2:I1116)-I1116=0,D1116=0),\"\",MAX($I$2:I1116)-I1116)","v":""},"",0,10000,0,{"$f":"IF(B1116>0,WEEKNUM(TEXT(Definice!$F$3,\"0000\")&\".\"&TEXT(J1116,\"00\")&\".\"&RIGHT(TEXT(B1116,\"0000\"),2)),0)","v":0}]
[1115,null,null,null,null,{"$f":"IF(OR(MAX($I$2:I1117)-I1117=0,D1117=0),\"\",MAX($I$2:I1117)-I1117)","v":""},"",0,10000,0,{"$f":"IF(B1117>0,WEEKNUM(TEXT(Definice!$F$3,\"0000\")&\".\"&TEXT(J1117,\"00\")&\".\"&RIGHT(TEXT(B1117,\"0000\"),2)),0)","v":0}]
[1116,null,null,null,null,{"$f":"IF(OR(MAX($I$2:I1118)-I1118=0,D1118=0),\"\",MAX($I$2:I1118)-I1118)","v":""},"",0,10000,0,{"$f":"IF(B1118>0,WEEKNUM(TEXT(Definice!$F$3,\"0000\")&\".\"&TEXT(J1118,\"00\")&\".\"&RIGHT(TEXT(B1118,\"0000\"),2)),0)","v":0}]
[1117,null,null,null,null,{"$f":"IF(OR(MAX($I$2:I1119)-I1119=0,D1119=0),\"\",MAX($I$2:I1119)-I1119)","v":""},"",0,10000,0,{"$f":"IF(B1119>0,WEEKNUM(TEXT(Definice!$F$3,\"0000\")&\".\"&TEXT(J1119,\"00\")&\".\"&RIGHT(TEXT(B1119,\"0000\"),2)),0)","v":0}]
[1118,null,null,null,null,{"$f":"IF(OR(MAX($I$2:I1120)-I1120=0,D1120=0),\"\",MAX($I$2:I1120)-I1120)","v":""},"",0,10000,0,{"$f":"IF(B1120>0,WEEKNUM(TEXT(Definice!$F$3,\"0000\")&\".\"&TEXT(J1120,\"00\")&\".\"&RIGHT(TEXT(B1120,\"0000\"),2)),0)","v":0}]
[1119,null,null,null,null,{"$f":"IF(OR(MAX($I$2:I1121)-I1121=0,D1121=0),\"\",MAX($I$2:I1121)-I1121)","v":""},"",0,10000,0,{"$f":"IF(B1121>0,WEEKNUM(TEXT(Definice!$F$3,\"0000\")&\".\"&TEXT(J1121,\"00\")&\".\"&RIGHT(TEXT(B1121,\"0000\"),2)),0)","v":0}]
[1120,null,null,null,null,{"$f":"IF(OR(MAX($I$2:I1122)-I1122=0,D1122=0),\"\",MAX($I$2:I1122)-I1122)","v":""},"",0,10000,0,{"$f":"IF(B1122>0,WEEKNUM(TEXT(Definice!$F$3,\"0000\")&\".\"&TEXT(J1122,\"00\")&\".\"&RIGHT(TEXT(B1122,\"0000\"),2)),0)","v":0}]
[1121,null,null,null,null,{"$f":"IF(OR(MAX($I$2:I1123)-I1123=0,D1123=0),\"\",MAX($I$2:I1123)-I1123)","v":""},"",0,10000,0,{"$f":"IF(B1123>0,WEEKNUM(TEXT(Definice!$F$3,\"0000\")&\".\"&TEXT(J1123,\"00\")&\".\"&RIGHT(TEXT(B1123,\"0000\"),2)),0)","v":0}]
[1122,null,null,null,null,{"$f":"IF(OR(MAX($I$2:I1124)-I1124=0,D1124=0),\"\",MAX($I$2:I1124)-I1124)","v":""},"",0,10000,0,{"$f":"IF(B1124>0,WEEKNUM(TEXT(Definice!$F$3,\"0000\")&\".\"&TEXT(J1124,\"00\")&\".\"&RIGHT(TEXT(B1124,\"0000\"),2)),0)","v":0}]
[1123,null,null,null,null,{"$f":"IF(OR(MAX($I$2:I1125)-I1125=0,D1125=0),\"\",MAX($I$2:I1125)-I1125)","v":""},"",0,10000,0,{"$f":"IF(B1125>0,WEEKNUM(TEXT(Definice!$F$3,\"0000\")&\".\"&TEXT(J1125,\"00\")&\".\"&RIGHT(TEXT(B1125,\"0000\"),2)),0)","v":0}]
[1124,null,null,null,null,{"$f":"IF(OR(MAX($I$2:I1126)-I1126=0,D1126=0),\"\",MAX($I$2:I1126)-I1126)","v":""},"",0,10000,0,{"$f":"IF(B1126>0,WEEKNUM(TEXT(Definice!$F$3,\"0000\")&\".\"&TEXT(J1126,\"00\")&\".\"&RIGHT(TEXT(B1126,\"0000\"),2)),0)","v":0}]
[1125,null,null,null,null,{"$f":"IF(OR(MAX($I$2:I1127)-I1127=0,D1127=0),\"\",MAX($I$2:I1127)-I1127)","v":""},"",0,10000,0,{"$f":"IF(B1127>0,WEEKNUM(TEXT(Definice!$F$3,\"0000\")&\".\"&TEXT(J1127,\"00\")&\".\"&RIGHT(TEXT(B1127,\"0000\"),2)),0)","v":0}]
[1126,null,null,null,null,{"$f":"IF(OR(MAX($I$2:I1128)-I1128=0,D1128=0),\"\",MAX($I$2:I1128)-I1128)","v":""},"",0,10000,0,{"$f":"IF(B1128>0,WEEKNUM(TEXT(Definice!$F$3,\"0000\")&\".\"&TEXT(J1128,\"00\")&\".\"&RIGHT(TEXT(B1128,\"0000\"),2)),0)","v":0}]
[1127,null,null,null,null,{"$f":"IF(OR(MAX($I$2:I1129)-I1129=0,D1129=0),\"\",MAX($I$2:I1129)-I1129)","v":""},"",0,10000,0,{"$f":"IF(B1129>0,WEEKNUM(TEXT(Definice!$F$3,\"0000\")&\".\"&TEXT(J1129,\"00\")&\".\"&RIGHT(TEXT(B1129,\"0000\"),2)),0)","v":0}]
[1128,null,null,null,null,{"$f":"IF(OR(MAX($I$2:I1130)-I1130=0,D1130=0),\"\",MAX($I$2:I1130)-I1130)","v":""},"",0,10000,0,{"$f":"IF(B1130>0,WEEKNUM(TEXT(Definice!$F$3,\"0000\")&\".\"&TEXT(J1130,\"00\")&\".\"&RIGHT(TEXT(B1130,\"0000\"),2)),0)","v":0}]
[1129,null,null,null,null,{"$f":"IF(OR(MAX($I$2:I1131)-I1131=0,D1131=0),\"\",MAX($I$2:I1131)-I1131)","v":""},"",0,10000,0,{"$f":"IF(B1131>0,WEEKNUM(TEXT(Definice!$F$3,\"0000\")&\".\"&TEXT(J1131,\"00\")&\".\"&RIGHT(TEXT(B1131,\"0000\"),2)),0)","v":0}]
[1130,null,null,null,null,{"$f":"IF(OR(MAX($I$2:I1132)-I1132=0,D1132=0),\"\",MAX($I$2:I1132)-I1132)","v":""},"",0,10000,0,{"$f":"IF(B1132>0,WEEKNUM(TEXT(Definice!$F$3,\"0000\")&\".\"&TEXT(J1132,\"00\")&\".\"&RIGHT(TEXT(B1132,\"0000\"),2)),0)","v":0}]
[1131,null,null,null,null,{"$f":"IF(OR(MAX($I$2:I1133)-I1133=0,D1133=0),\"\",MAX($I$2:I1133)-I1133)","v":""},"",0,10000,0,{"$f":"IF(B1133>0,WEEKNUM(TEXT(Definice!$F$3,\"0000\")&\".\"&TEXT(J1133,\"00\")&\".\"&RIGHT(TEXT(B1133,\"0000\"),2)),0)","v":0}]
[1132,null,null,null,null,{"$f":"IF(OR(MAX($I$2:I1134)-I1134=0,D1134=0),\"\",MAX($I$2:I1134)-I1134)","v":""},"",0,10000,0,{"$f":"IF(B1134>0,WEEKNUM(TEXT(Definice!$F$3,\"0000\")&\".\"&TEXT(J1134,\"00\")&\".\"&RIGHT(TEXT(B1134,\"0000\"),2)),0)","v":0}]
[1133,null,null,null,null,{"$f":"IF(OR(MAX($I$2:I1135)-I1135=0,D1135=0),\"\",MAX($I$2:I1135)-I1135)","v":""},"",0,10000,0,{"$f":"IF(B1135>0,WEEKNUM(TEXT(Definice!$F$3,\"0000\")&\".\"&TEXT(J1135,\"00\")&\".\"&RIGHT(TEXT(B1135,\"0000\"),2)),0)","v":0}]
[1134,null,null,null,null,{"$f":"IF(OR(MAX($I$2:I1136)-I1136=0,D1136=0),\"\",MAX($I$2:I1136)-I1136)","v":""},"",0,10000,0,{"$f":"IF(B1136>0,WEEKNUM(TEXT(Definice!$F$3,\"0000\")&\".\"&TEXT(J1136,\"00\")&\".\"&RIGHT(TEXT(B1136,\"0000\"),2)),0)","v":0}]
[1135,null,null,null,null,{"$f":"IF(OR(MAX($I$2:I1137)-I1137=0,D1137=0),\"\",MAX($I$2:I1137)-I1137)","v":""},"",0,10000,0,{"$f":"IF(B1137>0,WEEKNUM(TEXT(Definice!$F$3,\"0000\")&\".\"&TEXT(J1137,\"00\")&\".\"&RIGHT(TEXT(B1137,\"0000\"),2)),0)","v":0}]
[1136,null,null,null,null,{"$f":"IF(OR(MAX($I$2:I1138)-I1138=0,D1138=0),\"\",MAX($I$2:I1138)-I1138)","v":""},"",0,10000,0,{"$f":"IF(B1138>0,WEEKNUM(TEXT(Definice!$F$3,\"0000\")&\".\"&TEXT(J1138,\"00\")&\".\"&RIGHT(TEXT(B1138,\"0000\"),2)),0)","v":0}]
[1137,null,null,null,null,{"$f":"IF(OR(MAX($I$2:I1139)-I1139=0,D1139=0),\"\",MAX($I$2:I1139)-I1139)","v":""},"",0,10000,0,{"$f":"IF(B1139>0,WEEKNUM(TEXT(Definice!$F$3,\"0000\")&\".\"&TEXT(J1139,\"00\")&\".\"&RIGHT(TEXT(B1139,\"0000\"),2)),0)","v":0}]
[1138,null,null,null,null,{"$f":"IF(OR(MAX($I$2:I1140)-I1140=0,D1140=0),\"\",MAX($I$2:I1140)-I1140)","v":""},"",0,10000,0,{"$f":"IF(B1140>0,WEEKNUM(TEXT(Definice!$F$3,\"0000\")&\".\"&TEXT(J1140,\"00\")&\".\"&RIGHT(TEXT(B1140,\"0000\"),2)),0)","v":0}]
[1139,null,null,null,null,{"$f":"IF(OR(MAX($I$2:I1141)-I1141=0,D1141=0),\"\",MAX($I$2:I1141)-I1141)","v":""},"",0,10000,0,{"$f":"IF(B1141>0,WEEKNUM(TEXT(Definice!$F$3,\"0000\")&\".\"&TEXT(J1141,\"00\")&\".\"&RIGHT(TEXT(B1141,\"0000\"),2)),0)","v":0}]
[1140,null,null,null,null,{"$f":"IF(OR(MAX($I$2:I1142)-I1142=0,D1142=0),\"\",MAX($I$2:I1142)-I1142)","v":""},"",0,10000,0,{"$f":"IF(B1142>0,WEEKNUM(TEXT(Definice!$F$3,\"0000\")&\".\"&TEXT(J1142,\"00\")&\".\"&RIGHT(TEXT(B1142,\"0000\"),2)),0)","v":0}]
[1141,null,null,null,null,{"$f":"IF(OR(MAX($I$2:I1143)-I1143=0,D1143=0),\"\",MAX($I$2:I1143)-I1143)","v":""},"",0,10000,0,{"$f":"IF(B1143>0,WEEKNUM(TEXT(Definice!$F$3,\"0000\")&\".\"&TEXT(J1143,\"00\")&\".\"&RIGHT(TEXT(B1143,\"0000\"),2)),0)","v":0}]
[1142,null,null,null,null,{"$f":"IF(OR(MAX($I$2:I1144)-I1144=0,D1144=0),\"\",MAX($I$2:I1144)-I1144)","v":""},"",0,10000,0,{"$f":"IF(B1144>0,WEEKNUM(TEXT(Definice!$F$3,\"0000\")&\".\"&TEXT(J1144,\"00\")&\".\"&RIGHT(TEXT(B1144,\"0000\"),2)),0)","v":0}]
[1143,null,null,null,null,{"$f":"IF(OR(MAX($I$2:I1145)-I1145=0,D1145=0),\"\",MAX($I$2:I1145)-I1145)","v":""},"",0,10000,0,{"$f":"IF(B1145>0,WEEKNUM(TEXT(Definice!$F$3,\"0000\")&\".\"&TEXT(J1145,\"00\")&\".\"&RIGHT(TEXT(B1145,\"0000\"),2)),0)","v":0}]
[1144,null,null,null,null,{"$f":"IF(OR(MAX($I$2:I1146)-I1146=0,D1146=0),\"\",MAX($I$2:I1146)-I1146)","v":""},"",0,10000,0,{"$f":"IF(B1146>0,WEEKNUM(TEXT(Definice!$F$3,\"0000\")&\".\"&TEXT(J1146,\"00\")&\".\"&RIGHT(TEXT(B1146,\"0000\"),2)),0)","v":0}]
[1145,null,null,null,null,{"$f":"IF(OR(MAX($I$2:I1147)-I1147=0,D1147=0),\"\",MAX($I$2:I1147)-I1147)","v":""},"",0,10000,0,{"$f":"IF(B1147>0,WEEKNUM(TEXT(Definice!$F$3,\"0000\")&\".\"&TEXT(J1147,\"00\")&\".\"&RIGHT(TEXT(B1147,\"0000\"),2)),0)","v":0}]
[1146,null,null,null,null,{"$f":"IF(OR(MAX($I$2:I1148)-I1148=0,D1148=0),\"\",MAX($I$2:I1148)-I1148)","v":""},"",0,10000,0,{"$f":"IF(B1148>0,WEEKNUM(TEXT(Definice!$F$3,\"0000\")&\".\"&TEXT(J1148,\"00\")&\".\"&RIGHT(TEXT(B1148,\"0000\"),2)),0)","v":0}]
[1147,null,null,null,null,{"$f":"IF(OR(MAX($I$2:I1149)-I1149=0,D1149=0),\"\",MAX($I$2:I1149)-I1149)","v":""},"",0,10000,0,{"$f":"IF(B1149>0,WEEKNUM(TEXT(Definice!$F$3,\"0000\")&\".\"&TEXT(J1149,\"00\")&\".\"&RIGHT(TEXT(B1149,\"0000\"),2)),0)","v":0}]
[1148,null,null,null,null,{"$f":"IF(OR(MAX($I$2:I1150)-I1150=0,D1150=0),\"\",MAX($I$2:I1150)-I1150)","v":""},"",0,10000,0,{"$f":"IF(B1150>0,WEEKNUM(TEXT(Definice!$F$3,\"0000\")&\".\"&TEXT(J1150,\"00\")&\".\"&RIGHT(TEXT(B1150,\"0000\"),2)),0)","v":0}]
[1149,null,null,null,null,{"$f":"IF(OR(MAX($I$2:I1151)-I1151=0,D1151=0),\"\",MAX($I$2:I1151)-I1151)","v":""},"",0,10000,0,{"$f":"IF(B1151>0,WEEKNUM(TEXT(Definice!$F$3,\"0000\")&\".\"&TEXT(J1151,\"00\")&\".\"&RIGHT(TEXT(B1151,\"0000\"),2)),0)","v":0}]
[1150,null,null,null,null,{"$f":"IF(OR(MAX($I$2:I1152)-I1152=0,D1152=0),\"\",MAX($I$2:I1152)-I1152)","v":""},"",0,10000,0,{"$f":"IF(B1152>0,WEEKNUM(TEXT(Definice!$F$3,\"0000\")&\".\"&TEXT(J1152,\"00\")&\".\"&RIGHT(TEXT(B1152,\"0000\"),2)),0)","v":0}]
[1151,null,null,null,null,{"$f":"IF(OR(MAX($I$2:I1153)-I1153=0,D1153=0),\"\",MAX($I$2:I1153)-I1153)","v":""},"",0,10000,0,{"$f":"IF(B1153>0,WEEKNUM(TEXT(Definice!$F$3,\"0000\")&\".\"&TEXT(J1153,\"00\")&\".\"&RIGHT(TEXT(B1153,\"0000\"),2)),0)","v":0}]
[1152,null,null,null,null,{"$f":"IF(OR(MAX($I$2:I1154)-I1154=0,D1154=0),\"\",MAX($I$2:I1154)-I1154)","v":""},"",0,10000,0,{"$f":"IF(B1154>0,WEEKNUM(TEXT(Definice!$F$3,\"0000\")&\".\"&TEXT(J1154,\"00\")&\".\"&RIGHT(TEXT(B1154,\"0000\"),2)),0)","v":0}]
[1153,null,null,null,null,{"$f":"IF(OR(MAX($I$2:I1155)-I1155=0,D1155=0),\"\",MAX($I$2:I1155)-I1155)","v":""},"",0,10000,0,{"$f":"IF(B1155>0,WEEKNUM(TEXT(Definice!$F$3,\"0000\")&\".\"&TEXT(J1155,\"00\")&\".\"&RIGHT(TEXT(B1155,\"0000\"),2)),0)","v":0}]
[1154,null,null,null,null,{"$f":"IF(OR(MAX($I$2:I1156)-I1156=0,D1156=0),\"\",MAX($I$2:I1156)-I1156)","v":""},"",0,10000,{"$f":"((INT(B1156/100)/100)-INT(INT(B1156/100)/100))*100","v":0},{"$f":"IF(B1156>0,WEEKNUM(TEXT(Definice!$F$3,\"0000\")&\".\"&TEXT(J1156,\"00\")&\".\"&RIGHT(TEXT(B1156,\"0000\"),2)),0)","v":0}]
[1155,null,null,null,null,{"$f":"IF(OR(MAX($I$2:I1157)-I1157=0,D1157=0),\"\",MAX($I$2:I1157)-I1157)","v":""},{"$f":"IF(F1157=\"\",\"\",F1157/(H1157+I1156))","v":""},{"$f":"H1156+E1157","v":0},{"$f":"I1156+E1157","v":10000},0,{"$f":"IF(B1157>0,WEEKNUM(TEXT(Definice!$F$3,\"0000\")&\".\"&TEXT(J1157,\"00\")&\".\"&RIGHT(TEXT(B1157,\"0000\"),2)),0)","v":0}]
[1156,null,null,null,null,{"$f":"IF(OR(MAX($I$2:I1158)-I1158=0,D1158=0),\"\",MAX($I$2:I1158)-I1158)","v":""},"",0,10000,0,{"$f":"IF(B1158>0,WEEKNUM(TEXT(Definice!$F$3,\"0000\")&\".\"&TEXT(J1158,\"00\")&\".\"&RIGHT(TEXT(B1158,\"0000\"),2)),0)","v":0}]
[1157,null,null,null,null,{"$f":"IF(OR(MAX($I$2:I1159)-I1159=0,D1159=0),\"\",MAX($I$2:I1159)-I1159)","v":""},"",0,10000,0,{"$f":"IF(B1159>0,WEEKNUM(TEXT(Definice!$F$3,\"0000\")&\".\"&TEXT(J1159,\"00\")&\".\"&RIGHT(TEXT(B1159,\"0000\"),2)),0)","v":0}]
[1158,null,null,null,null,{"$f":"IF(OR(MAX($I$2:I1160)-I1160=0,D1160=0),\"\",MAX($I$2:I1160)-I1160)","v":""},"",0,10000,0,{"$f":"IF(B1160>0,WEEKNUM(TEXT(Definice!$F$3,\"0000\")&\".\"&TEXT(J1160,\"00\")&\".\"&RIGHT(TEXT(B1160,\"0000\"),2)),0)","v":0}]
[1159,null,null,null,null,{"$f":"IF(OR(MAX($I$2:I1161)-I1161=0,D1161=0),\"\",MAX($I$2:I1161)-I1161)","v":""},"",0,10000,0,{"$f":"IF(B1161>0,WEEKNUM(TEXT(Definice!$F$3,\"0000\")&\".\"&TEXT(J1161,\"00\")&\".\"&RIGHT(TEXT(B1161,\"0000\"),2)),0)","v":0}]
[1160,null,null,null,null,{"$f":"IF(OR(MAX($I$2:I1162)-I1162=0,D1162=0),\"\",MAX($I$2:I1162)-I1162)","v":""},"",0,10000,0,{"$f":"IF(B1162>0,WEEKNUM(TEXT(Definice!$F$3,\"0000\")&\".\"&TEXT(J1162,\"00\")&\".\"&RIGHT(TEXT(B1162,\"0000\"),2)),0)","v":0}]
[1161,null,null,null,null,{"$f":"IF(OR(MAX($I$2:I1163)-I1163=0,D1163=0),\"\",MAX($I$2:I1163)-I1163)","v":""},"",0,10000,0,{"$f":"IF(B1163>0,WEEKNUM(TEXT(Definice!$F$3,\"0000\")&\".\"&TEXT(J1163,\"00\")&\".\"&RIGHT(TEXT(B1163,\"0000\"),2)),0)","v":0}]
[1162,null,null,null,null,{"$f":"IF(OR(MAX($I$2:I1164)-I1164=0,D1164=0),\"\",MAX($I$2:I1164)-I1164)","v":""},"",0,10000,0,{"$f":"IF(B1164>0,WEEKNUM(TEXT(Definice!$F$3,\"0000\")&\".\"&TEXT(J1164,\"00\")&\".\"&RIGHT(TEXT(B1164,\"0000\"),2)),0)","v":0}]
[1163,null,null,null,null,{"$f":"IF(OR(MAX($I$2:I1165)-I1165=0,D1165=0),\"\",MAX($I$2:I1165)-I1165)","v":""},"",0,10000,0,{"$f":"IF(B1165>0,WEEKNUM(TEXT(Definice!$F$3,\"0000\")&\".\"&TEXT(J1165,\"00\")&\".\"&RIGHT(TEXT(B1165,\"0000\"),2)),0)","v":0}]
[1164,null,null,null,null,{"$f":"IF(OR(MAX($I$2:I1166)-I1166=0,D1166=0),\"\",MAX($I$2:I1166)-I1166)","v":""},"",0,10000,0,{"$f":"IF(B1166>0,WEEKNUM(TEXT(Definice!$F$3,\"0000\")&\".\"&TEXT(J1166,\"00\")&\".\"&RIGHT(TEXT(B1166,\"0000\"),2)),0)","v":0}]
[1165,null,null,null,null,{"$f":"IF(OR(MAX($I$2:I1167)-I1167=0,D1167=0),\"\",MAX($I$2:I1167)-I1167)","v":""},"",0,10000,0,{"$f":"IF(B1167>0,WEEKNUM(TEXT(Definice!$F$3,\"0000\")&\".\"&TEXT(J1167,\"00\")&\".\"&RIGHT(TEXT(B1167,\"0000\"),2)),0)","v":0}]
[1166,null,null,null,null,{"$f":"IF(OR(MAX($I$2:I1168)-I1168=0,D1168=0),\"\",MAX($I$2:I1168)-I1168)","v":""},"",0,10000,0,{"$f":"IF(B1168>0,WEEKNUM(TEXT(Definice!$F$3,\"0000\")&\".\"&TEXT(J1168,\"00\")&\".\"&RIGHT(TEXT(B1168,\"0000\"),2)),0)","v":0}]
[1167,null,null,null,null,{"$f":"IF(OR(MAX($I$2:I1169)-I1169=0,D1169=0),\"\",MAX($I$2:I1169)-I1169)","v":""},"",0,10000,0,{"$f":"IF(B1169>0,WEEKNUM(TEXT(Definice!$F$3,\"0000\")&\".\"&TEXT(J1169,\"00\")&\".\"&RIGHT(TEXT(B1169,\"0000\"),2)),0)","v":0}]
[1168,null,null,null,null,{"$f":"IF(OR(MAX($I$2:I1170)-I1170=0,D1170=0),\"\",MAX($I$2:I1170)-I1170)","v":""},"",0,10000,0,{"$f":"IF(B1170>0,WEEKNUM(TEXT(Definice!$F$3,\"0000\")&\".\"&TEXT(J1170,\"00\")&\".\"&RIGHT(TEXT(B1170,\"0000\"),2)),0)","v":0}]
[1169,null,null,null,null,{"$f":"IF(OR(MAX($I$2:I1171)-I1171=0,D1171=0),\"\",MAX($I$2:I1171)-I1171)","v":""},"",0,10000,0,{"$f":"IF(B1171>0,WEEKNUM(TEXT(Definice!$F$3,\"0000\")&\".\"&TEXT(J1171,\"00\")&\".\"&RIGHT(TEXT(B1171,\"0000\"),2)),0)","v":0}]
[1170,null,null,null,null,{"$f":"IF(OR(MAX($I$2:I1172)-I1172=0,D1172=0),\"\",MAX($I$2:I1172)-I1172)","v":""},"",0,10000,0,{"$f":"IF(B1172>0,WEEKNUM(TEXT(Definice!$F$3,\"0000\")&\".\"&TEXT(J1172,\"00\")&\".\"&RIGHT(TEXT(B1172,\"0000\"),2)),0)","v":0}]
[1171,null,null,null,null,{"$f":"IF(OR(MAX($I$2:I1173)-I1173=0,D1173=0),\"\",MAX($I$2:I1173)-I1173)","v":""},"",0,10000,0,{"$f":"IF(B1173>0,WEEKNUM(TEXT(Definice!$F$3,\"0000\")&\".\"&TEXT(J1173,\"00\")&\".\"&RIGHT(TEXT(B1173,\"0000\"),2)),0)","v":0}]
[1172,null,null,null,null,{"$f":"IF(OR(MAX($I$2:I1174)-I1174=0,D1174=0),\"\",MAX($I$2:I1174)-I1174)","v":""},"",0,10000,0,{"$f":"IF(B1174>0,WEEKNUM(TEXT(Definice!$F$3,\"0000\")&\".\"&TEXT(J1174,\"00\")&\".\"&RIGHT(TEXT(B1174,\"0000\"),2)),0)","v":0}]
[1173,null,null,null,null,{"$f":"IF(OR(MAX($I$2:I1175)-I1175=0,D1175=0),\"\",MAX($I$2:I1175)-I1175)","v":""},"",0,10000,0,{"$f":"IF(B1175>0,WEEKNUM(TEXT(Definice!$F$3,\"0000\")&\".\"&TEXT(J1175,\"00\")&\".\"&RIGHT(TEXT(B1175,\"0000\"),2)),0)","v":0}]
[1174,null,null,null,null,{"$f":"IF(OR(MAX($I$2:I1176)-I1176=0,D1176=0),\"\",MAX($I$2:I1176)-I1176)","v":""},"",0,10000,0,{"$f":"IF(B1176>0,WEEKNUM(TEXT(Definice!$F$3,\"0000\")&\".\"&TEXT(J1176,\"00\")&\".\"&RIGHT(TEXT(B1176,\"0000\"),2)),0)","v":0}]
[1175,null,null,null,null,{"$f":"IF(OR(MAX($I$2:I1177)-I1177=0,D1177=0),\"\",MAX($I$2:I1177)-I1177)","v":""},"",0,10000,0,{"$f":"IF(B1177>0,WEEKNUM(TEXT(Definice!$F$3,\"0000\")&\".\"&TEXT(J1177,\"00\")&\".\"&RIGHT(TEXT(B1177,\"0000\"),2)),0)","v":0}]
[1176,null,null,null,null,{"$f":"IF(OR(MAX($I$2:I1178)-I1178=0,D1178=0),\"\",MAX($I$2:I1178)-I1178)","v":""},"",0,10000,0,{"$f":"IF(B1178>0,WEEKNUM(TEXT(Definice!$F$3,\"0000\")&\".\"&TEXT(J1178,\"00\")&\".\"&RIGHT(TEXT(B1178,\"0000\"),2)),0)","v":0}]
[1177,null,null,null,null,{"$f":"IF(OR(MAX($I$2:I1179)-I1179=0,D1179=0),\"\",MAX($I$2:I1179)-I1179)","v":""},"",0,10000,0,{"$f":"IF(B1179>0,WEEKNUM(TEXT(Definice!$F$3,\"0000\")&\".\"&TEXT(J1179,\"00\")&\".\"&RIGHT(TEXT(B1179,\"0000\"),2)),0)","v":0}]
[1178,null,null,null,null,{"$f":"IF(OR(MAX($I$2:I1180)-I1180=0,D1180=0),\"\",MAX($I$2:I1180)-I1180)","v":""},"",0,10000,0,{"$f":"IF(B1180>0,WEEKNUM(TEXT(Definice!$F$3,\"0000\")&\".\"&TEXT(J1180,\"00\")&\".\"&RIGHT(TEXT(B1180,\"0000\"),2)),0)","v":0}]
[1179,null,null,null,null,{"$f":"IF(OR(MAX($I$2:I1181)-I1181=0,D1181=0),\"\",MAX($I$2:I1181)-I1181)","v":""},"",0,10000,0,{"$f":"IF(B1181>0,WEEKNUM(TEXT(Definice!$F$3,\"0000\")&\".\"&TEXT(J1181,\"00\")&\".\"&RIGHT(TEXT(B1181,\"0000\"),2)),0)","v":0}]
[1180,null,null,null,null,{"$f":"IF(OR(MAX($I$2:I1182)-I1182=0,D1182=0),\"\",MAX($I$2:I1182)-I1182)","v":""},"",0,10000,0,{"$f":"IF(B1182>0,WEEKNUM(TEXT(Definice!$F$3,\"0000\")&\".\"&TEXT(J1182,\"00\")&\".\"&RIGHT(TEXT(B1182,\"0000\"),2)),0)","v":0}]
[1181,null,null,null,null,{"$f":"IF(OR(MAX($I$2:I1183)-I1183=0,D1183=0),\"\",MAX($I$2:I1183)-I1183)","v":""},"",0,10000,0,{"$f":"IF(B1183>0,WEEKNUM(TEXT(Definice!$F$3,\"0000\")&\".\"&TEXT(J1183,\"00\")&\".\"&RIGHT(TEXT(B1183,\"0000\"),2)),0)","v":0}]
[1182,null,null,null,null,{"$f":"IF(OR(MAX($I$2:I1184)-I1184=0,D1184=0),\"\",MAX($I$2:I1184)-I1184)","v":""},"",0,10000,0,{"$f":"IF(B1184>0,WEEKNUM(TEXT(Definice!$F$3,\"0000\")&\".\"&TEXT(J1184,\"00\")&\".\"&RIGHT(TEXT(B1184,\"0000\"),2)),0)","v":0}]
[1183,null,null,null,null,{"$f":"IF(OR(MAX($I$2:I1185)-I1185=0,D1185=0),\"\",MAX($I$2:I1185)-I1185)","v":""},"",0,10000,0,{"$f":"IF(B1185>0,WEEKNUM(TEXT(Definice!$F$3,\"0000\")&\".\"&TEXT(J1185,\"00\")&\".\"&RIGHT(TEXT(B1185,\"0000\"),2)),0)","v":0}]
[1184,null,null,null,null,{"$f":"IF(OR(MAX($I$2:I1186)-I1186=0,D1186=0),\"\",MAX($I$2:I1186)-I1186)","v":""},"",0,10000,0,{"$f":"IF(B1186>0,WEEKNUM(TEXT(Definice!$F$3,\"0000\")&\".\"&TEXT(J1186,\"00\")&\".\"&RIGHT(TEXT(B1186,\"0000\"),2)),0)","v":0}]
[1185,null,null,null,null,{"$f":"IF(OR(MAX($I$2:I1187)-I1187=0,D1187=0),\"\",MAX($I$2:I1187)-I1187)","v":""},"",0,10000,0,{"$f":"IF(B1187>0,WEEKNUM(TEXT(Definice!$F$3,\"0000\")&\".\"&TEXT(J1187,\"00\")&\".\"&RIGHT(TEXT(B1187,\"0000\"),2)),0)","v":0}]
[1186,null,null,null,null,{"$f":"IF(OR(MAX($I$2:I1188)-I1188=0,D1188=0),\"\",MAX($I$2:I1188)-I1188)","v":""},"",0,10000,0,{"$f":"IF(B1188>0,WEEKNUM(TEXT(Definice!$F$3,\"0000\")&\".\"&TEXT(J1188,\"00\")&\".\"&RIGHT(TEXT(B1188,\"0000\"),2)),0)","v":0}]
[1187,null,null,null,null,{"$f":"IF(OR(MAX($I$2:I1189)-I1189=0,D1189=0),\"\",MAX($I$2:I1189)-I1189)","v":""},"",0,10000,0,{"$f":"IF(B1189>0,WEEKNUM(TEXT(Definice!$F$3,\"0000\")&\".\"&TEXT(J1189,\"00\")&\".\"&RIGHT(TEXT(B1189,\"0000\"),2)),0)","v":0}]
[1188,null,null,null,null,{"$f":"IF(OR(MAX($I$2:I1190)-I1190=0,D1190=0),\"\",MAX($I$2:I1190)-I1190)","v":""},"",0,10000,0,{"$f":"IF(B1190>0,WEEKNUM(TEXT(Definice!$F$3,\"0000\")&\".\"&TEXT(J1190,\"00\")&\".\"&RIGHT(TEXT(B1190,\"0000\"),2)),0)","v":0}]
[1189,null,null,null,null,{"$f":"IF(OR(MAX($I$2:I1191)-I1191=0,D1191=0),\"\",MAX($I$2:I1191)-I1191)","v":""},"",0,10000,0,{"$f":"IF(B1191>0,WEEKNUM(TEXT(Definice!$F$3,\"0000\")&\".\"&TEXT(J1191,\"00\")&\".\"&RIGHT(TEXT(B1191,\"0000\"),2)),0)","v":0}]
[1190,null,null,null,null,{"$f":"IF(OR(MAX($I$2:I1192)-I1192=0,D1192=0),\"\",MAX($I$2:I1192)-I1192)","v":""},"",0,10000,0,{"$f":"IF(B1192>0,WEEKNUM(TEXT(Definice!$F$3,\"0000\")&\".\"&TEXT(J1192,\"00\")&\".\"&RIGHT(TEXT(B1192,\"0000\"),2)),0)","v":0}]
[1191,null,null,null,null,{"$f":"IF(OR(MAX($I$2:I1193)-I1193=0,D1193=0),\"\",MAX($I$2:I1193)-I1193)","v":""},"",0,10000,0,{"$f":"IF(B1193>0,WEEKNUM(TEXT(Definice!$F$3,\"0000\")&\".\"&TEXT(J1193,\"00\")&\".\"&RIGHT(TEXT(B1193,\"0000\"),2)),0)","v":0}]
[1192,null,null,null,null,{"$f":"IF(OR(MAX($I$2:I1194)-I1194=0,D1194=0),\"\",MAX($I$2:I1194)-I1194)","v":""},"",0,10000,0,{"$f":"IF(B1194>0,WEEKNUM(TEXT(Definice!$F$3,\"0000\")&\".\"&TEXT(J1194,\"00\")&\".\"&RIGHT(TEXT(B1194,\"0000\"),2)),0)","v":0}]
[1193,null,null,null,null,{"$f":"IF(OR(MAX($I$2:I1195)-I1195=0,D1195=0),\"\",MAX($I$2:I1195)-I1195)","v":""},"",0,10000,0,{"$f":"IF(B1195>0,WEEKNUM(TEXT(Definice!$F$3,\"0000\")&\".\"&TEXT(J1195,\"00\")&\".\"&RIGHT(TEXT(B1195,\"0000\"),2)),0)","v":0}]
[1194,null,null,null,null,{"$f":"IF(OR(MAX($I$2:I1196)-I1196=0,D1196=0),\"\",MAX($I$2:I1196)-I1196)","v":""},"",0,10000,0,{"$f":"IF(B1196>0,WEEKNUM(TEXT(Definice!$F$3,\"0000\")&\".\"&TEXT(J1196,\"00\")&\".\"&RIGHT(TEXT(B1196,\"0000\"),2)),0)","v":0}]
[1195,null,null,null,null,{"$f":"IF(OR(MAX($I$2:I1197)-I1197=0,D1197=0),\"\",MAX($I$2:I1197)-I1197)","v":""},"",0,10000,0,{"$f":"IF(B1197>0,WEEKNUM(TEXT(Definice!$F$3,\"0000\")&\".\"&TEXT(J1197,\"00\")&\".\"&RIGHT(TEXT(B1197,\"0000\"),2)),0)","v":0}]
[1196,null,null,null,null,{"$f":"IF(OR(MAX($I$2:I1198)-I1198=0,D1198=0),\"\",MAX($I$2:I1198)-I1198)","v":""},"",0,10000,0,{"$f":"IF(B1198>0,WEEKNUM(TEXT(Definice!$F$3,\"0000\")&\".\"&TEXT(J1198,\"00\")&\".\"&RIGHT(TEXT(B1198,\"0000\"),2)),0)","v":0}]
[1197,null,null,null,null,{"$f":"IF(OR(MAX($I$2:I1199)-I1199=0,D1199=0),\"\",MAX($I$2:I1199)-I1199)","v":""},"",0,10000,0,{"$f":"IF(B1199>0,WEEKNUM(TEXT(Definice!$F$3,\"0000\")&\".\"&TEXT(J1199,\"00\")&\".\"&RIGHT(TEXT(B1199,\"0000\"),2)),0)","v":0}]
[1198,null,null,null,null,{"$f":"IF(OR(MAX($I$2:I1200)-I1200=0,D1200=0),\"\",MAX($I$2:I1200)-I1200)","v":""},"",0,10000,0,{"$f":"IF(B1200>0,WEEKNUM(TEXT(Definice!$F$3,\"0000\")&\".\"&TEXT(J1200,\"00\")&\".\"&RIGHT(TEXT(B1200,\"0000\"),2)),0)","v":0}]
[1199,null,null,null,null,{"$f":"IF(OR(MAX($I$2:I1201)-I1201=0,D1201=0),\"\",MAX($I$2:I1201)-I1201)","v":""},"",0,10000,0,{"$f":"IF(B1201>0,WEEKNUM(TEXT(Definice!$F$3,\"0000\")&\".\"&TEXT(J1201,\"00\")&\".\"&RIGHT(TEXT(B1201,\"0000\"),2)),0)","v":0}]
[1200,null,null,null,null,{"$f":"IF(OR(MAX($I$2:I1202)-I1202=0,D1202=0),\"\",MAX($I$2:I1202)-I1202)","v":""},"",0,10000,0,{"$f":"IF(B1202>0,WEEKNUM(TEXT(Definice!$F$3,\"0000\")&\".\"&TEXT(J1202,\"00\")&\".\"&RIGHT(TEXT(B1202,\"0000\"),2)),0)","v":0}]
[1201,null,null,null,null,{"$f":"IF(OR(MAX($I$2:I1203)-I1203=0,D1203=0),\"\",MAX($I$2:I1203)-I1203)","v":""},"",0,10000,0,{"$f":"IF(B1203>0,WEEKNUM(TEXT(Definice!$F$3,\"0000\")&\".\"&TEXT(J1203,\"00\")&\".\"&RIGHT(TEXT(B1203,\"0000\"),2)),0)","v":0}]
[1202,null,null,null,null,{"$f":"IF(OR(MAX($I$2:I1204)-I1204=0,D1204=0),\"\",MAX($I$2:I1204)-I1204)","v":""},"",0,10000,0,{"$f":"IF(B1204>0,WEEKNUM(TEXT(Definice!$F$3,\"0000\")&\".\"&TEXT(J1204,\"00\")&\".\"&RIGHT(TEXT(B1204,\"0000\"),2)),0)","v":0}]
[1203,null,null,null,null,{"$f":"IF(OR(MAX($I$2:I1205)-I1205=0,D1205=0),\"\",MAX($I$2:I1205)-I1205)","v":""},"",0,10000,0,{"$f":"IF(B1205>0,WEEKNUM(TEXT(Definice!$F$3,\"0000\")&\".\"&TEXT(J1205,\"00\")&\".\"&RIGHT(TEXT(B1205,\"0000\"),2)),0)","v":0}]
[1204,null,null,null,null,{"$f":"IF(OR(MAX($I$2:I1206)-I1206=0,D1206=0),\"\",MAX($I$2:I1206)-I1206)","v":""},"",0,10000,0,{"$f":"IF(B1206>0,WEEKNUM(TEXT(Definice!$F$3,\"0000\")&\".\"&TEXT(J1206,\"00\")&\".\"&RIGHT(TEXT(B1206,\"0000\"),2)),0)","v":0}]
[1205,null,null,null,null,{"$f":"IF(OR(MAX($I$2:I1207)-I1207=0,D1207=0),\"\",MAX($I$2:I1207)-I1207)","v":""},"",0,10000,0,{"$f":"IF(B1207>0,WEEKNUM(TEXT(Definice!$F$3,\"0000\")&\".\"&TEXT(J1207,\"00\")&\".\"&RIGHT(TEXT(B1207,\"0000\"),2)),0)","v":0}]
[1206,null,null,null,null,{"$f":"IF(OR(MAX($I$2:I1208)-I1208=0,D1208=0),\"\",MAX($I$2:I1208)-I1208)","v":""},"",0,10000,0,{"$f":"IF(B1208>0,WEEKNUM(TEXT(Definice!$F$3,\"0000\")&\".\"&TEXT(J1208,\"00\")&\".\"&RIGHT(TEXT(B1208,\"0000\"),2)),0)","v":0}]
[1207,null,null,null,null,{"$f":"IF(OR(MAX($I$2:I1209)-I1209=0,D1209=0),\"\",MAX($I$2:I1209)-I1209)","v":""},"",0,10000,0,{"$f":"IF(B1209>0,WEEKNUM(TEXT(Definice!$F$3,\"0000\")&\".\"&TEXT(J1209,\"00\")&\".\"&RIGHT(TEXT(B1209,\"0000\"),2)),0)","v":0}]
[1208,null,null,null,null,{"$f":"IF(OR(MAX($I$2:I1210)-I1210=0,D1210=0),\"\",MAX($I$2:I1210)-I1210)","v":""},"",0,10000,0,{"$f":"IF(B1210>0,WEEKNUM(TEXT(Definice!$F$3,\"0000\")&\".\"&TEXT(J1210,\"00\")&\".\"&RIGHT(TEXT(B1210,\"0000\"),2)),0)","v":0}]
[1209,null,null,null,null,{"$f":"IF(OR(MAX($I$2:I1211)-I1211=0,D1211=0),\"\",MAX($I$2:I1211)-I1211)","v":""},"",0,10000,0,{"$f":"IF(B1211>0,WEEKNUM(TEXT(Definice!$F$3,\"0000\")&\".\"&TEXT(J1211,\"00\")&\".\"&RIGHT(TEXT(B1211,\"0000\"),2)),0)","v":0}]
[1210,null,null,null,null,{"$f":"IF(OR(MAX($I$2:I1212)-I1212=0,D1212=0),\"\",MAX($I$2:I1212)-I1212)","v":""},"",0,10000,0,{"$f":"IF(B1212>0,WEEKNUM(TEXT(Definice!$F$3,\"0000\")&\".\"&TEXT(J1212,\"00\")&\".\"&RIGHT(TEXT(B1212,\"0000\"),2)),0)","v":0}]
[1211,null,null,null,null,{"$f":"IF(OR(MAX($I$2:I1213)-I1213=0,D1213=0),\"\",MAX($I$2:I1213)-I1213)","v":""},"",0,10000,0,{"$f":"IF(B1213>0,WEEKNUM(TEXT(Definice!$F$3,\"0000\")&\".\"&TEXT(J1213,\"00\")&\".\"&RIGHT(TEXT(B1213,\"0000\"),2)),0)","v":0}]
[1212,null,null,null,null,{"$f":"IF(OR(MAX($I$2:I1214)-I1214=0,D1214=0),\"\",MAX($I$2:I1214)-I1214)","v":""},"",0,10000,0,{"$f":"IF(B1214>0,WEEKNUM(TEXT(Definice!$F$3,\"0000\")&\".\"&TEXT(J1214,\"00\")&\".\"&RIGHT(TEXT(B1214,\"0000\"),2)),0)","v":0}]
[1213,null,null,null,null,{"$f":"IF(OR(MAX($I$2:I1215)-I1215=0,D1215=0),\"\",MAX($I$2:I1215)-I1215)","v":""},"",0,10000,0,{"$f":"IF(B1215>0,WEEKNUM(TEXT(Definice!$F$3,\"0000\")&\".\"&TEXT(J1215,\"00\")&\".\"&RIGHT(TEXT(B1215,\"0000\"),2)),0)","v":0}]
[1214,null,null,null,null,{"$f":"IF(OR(MAX($I$2:I1216)-I1216=0,D1216=0),\"\",MAX($I$2:I1216)-I1216)","v":""},"",0,10000,0,{"$f":"IF(B1216>0,WEEKNUM(TEXT(Definice!$F$3,\"0000\")&\".\"&TEXT(J1216,\"00\")&\".\"&RIGHT(TEXT(B1216,\"0000\"),2)),0)","v":0}]
[1215,null,null,null,null,{"$f":"IF(OR(MAX($I$2:I1217)-I1217=0,D1217=0),\"\",MAX($I$2:I1217)-I1217)","v":""},"",0,10000,0,{"$f":"IF(B1217>0,WEEKNUM(TEXT(Definice!$F$3,\"0000\")&\".\"&TEXT(J1217,\"00\")&\".\"&RIGHT(TEXT(B1217,\"0000\"),2)),0)","v":0}]
[1216,null,null,null,null,{"$f":"IF(OR(MAX($I$2:I1218)-I1218=0,D1218=0),\"\",MAX($I$2:I1218)-I1218)","v":""},"",0,10000,0,{"$f":"IF(B1218>0,WEEKNUM(TEXT(Definice!$F$3,\"0000\")&\".\"&TEXT(J1218,\"00\")&\".\"&RIGHT(TEXT(B1218,\"0000\"),2)),0)","v":0}]
[1217,null,null,null,null,{"$f":"IF(OR(MAX($I$2:I1219)-I1219=0,D1219=0),\"\",MAX($I$2:I1219)-I1219)","v":""},"",0,10000,0,{"$f":"IF(B1219>0,WEEKNUM(TEXT(Definice!$F$3,\"0000\")&\".\"&TEXT(J1219,\"00\")&\".\"&RIGHT(TEXT(B1219,\"0000\"),2)),0)","v":0}]
[1218,null,null,null,null,{"$f":"IF(OR(MAX($I$2:I1220)-I1220=0,D1220=0),\"\",MAX($I$2:I1220)-I1220)","v":""},"",0,10000,{"$f":"((INT(B1220/100)/100)-INT(INT(B1220/100)/100))*100","v":0},{"$f":"IF(B1220>0,WEEKNUM(TEXT(Definice!$F$3,\"0000\")&\".\"&TEXT(J1220,\"00\")&\".\"&RIGHT(TEXT(B1220,\"0000\"),2)),0)","v":0}]
[1219,null,null,null,null,{"$f":"IF(OR(MAX($I$2:I1221)-I1221=0,D1221=0),\"\",MAX($I$2:I1221)-I1221)","v":""},{"$f":"IF(F1221=\"\",\"\",F1221/(H1221+I1220))","v":""},{"$f":"H1220+E1221","v":0},{"$f":"I1220+E1221","v":10000},0,{"$f":"IF(B1221>0,WEEKNUM(TEXT(Definice!$F$3,\"0000\")&\".\"&TEXT(J1221,\"00\")&\".\"&RIGHT(TEXT(B1221,\"0000\"),2)),0)","v":0}]
[1220,null,null,null,null,{"$f":"IF(OR(MAX($I$2:I1222)-I1222=0,D1222=0),\"\",MAX($I$2:I1222)-I1222)","v":""},"",0,10000,0,{"$f":"IF(B1222>0,WEEKNUM(TEXT(Definice!$F$3,\"0000\")&\".\"&TEXT(J1222,\"00\")&\".\"&RIGHT(TEXT(B1222,\"0000\"),2)),0)","v":0}]
[1221,null,null,null,null,{"$f":"IF(OR(MAX($I$2:I1223)-I1223=0,D1223=0),\"\",MAX($I$2:I1223)-I1223)","v":""},"",0,10000,0,{"$f":"IF(B1223>0,WEEKNUM(TEXT(Definice!$F$3,\"0000\")&\".\"&TEXT(J1223,\"00\")&\".\"&RIGHT(TEXT(B1223,\"0000\"),2)),0)","v":0}]
[1222,null,null,null,null,{"$f":"IF(OR(MAX($I$2:I1224)-I1224=0,D1224=0),\"\",MAX($I$2:I1224)-I1224)","v":""},"",0,10000,0,{"$f":"IF(B1224>0,WEEKNUM(TEXT(Definice!$F$3,\"0000\")&\".\"&TEXT(J1224,\"00\")&\".\"&RIGHT(TEXT(B1224,\"0000\"),2)),0)","v":0}]
[1223,null,null,null,null,{"$f":"IF(OR(MAX($I$2:I1225)-I1225=0,D1225=0),\"\",MAX($I$2:I1225)-I1225)","v":""},"",0,10000,0,{"$f":"IF(B1225>0,WEEKNUM(TEXT(Definice!$F$3,\"0000\")&\".\"&TEXT(J1225,\"00\")&\".\"&RIGHT(TEXT(B1225,\"0000\"),2)),0)","v":0}]
[1224,null,null,null,null,{"$f":"IF(OR(MAX($I$2:I1226)-I1226=0,D1226=0),\"\",MAX($I$2:I1226)-I1226)","v":""},"",0,10000,0,{"$f":"IF(B1226>0,WEEKNUM(TEXT(Definice!$F$3,\"0000\")&\".\"&TEXT(J1226,\"00\")&\".\"&RIGHT(TEXT(B1226,\"0000\"),2)),0)","v":0}]
[1225,null,null,null,null,{"$f":"IF(OR(MAX($I$2:I1227)-I1227=0,D1227=0),\"\",MAX($I$2:I1227)-I1227)","v":""},"",0,10000,0,{"$f":"IF(B1227>0,WEEKNUM(TEXT(Definice!$F$3,\"0000\")&\".\"&TEXT(J1227,\"00\")&\".\"&RIGHT(TEXT(B1227,\"0000\"),2)),0)","v":0}]
[1226,null,null,null,null,{"$f":"IF(OR(MAX($I$2:I1228)-I1228=0,D1228=0),\"\",MAX($I$2:I1228)-I1228)","v":""},"",0,10000,0,{"$f":"IF(B1228>0,WEEKNUM(TEXT(Definice!$F$3,\"0000\")&\".\"&TEXT(J1228,\"00\")&\".\"&RIGHT(TEXT(B1228,\"0000\"),2)),0)","v":0}]
[1227,null,null,null,null,{"$f":"IF(OR(MAX($I$2:I1229)-I1229=0,D1229=0),\"\",MAX($I$2:I1229)-I1229)","v":""},"",0,10000,0,{"$f":"IF(B1229>0,WEEKNUM(TEXT(Definice!$F$3,\"0000\")&\".\"&TEXT(J1229,\"00\")&\".\"&RIGHT(TEXT(B1229,\"0000\"),2)),0)","v":0}]
[1228,null,null,null,null,{"$f":"IF(OR(MAX($I$2:I1230)-I1230=0,D1230=0),\"\",MAX($I$2:I1230)-I1230)","v":""},"",0,10000,0,{"$f":"IF(B1230>0,WEEKNUM(TEXT(Definice!$F$3,\"0000\")&\".\"&TEXT(J1230,\"00\")&\".\"&RIGHT(TEXT(B1230,\"0000\"),2)),0)","v":0}]
[1229,null,null,null,null,{"$f":"IF(OR(MAX($I$2:I1231)-I1231=0,D1231=0),\"\",MAX($I$2:I1231)-I1231)","v":""},"",0,10000,0,{"$f":"IF(B1231>0,WEEKNUM(TEXT(Definice!$F$3,\"0000\")&\".\"&TEXT(J1231,\"00\")&\".\"&RIGHT(TEXT(B1231,\"0000\"),2)),0)","v":0}]
[1230,null,null,null,null,{"$f":"IF(OR(MAX($I$2:I1232)-I1232=0,D1232=0),\"\",MAX($I$2:I1232)-I1232)","v":""},"",0,10000,0,{"$f":"IF(B1232>0,WEEKNUM(TEXT(Definice!$F$3,\"0000\")&\".\"&TEXT(J1232,\"00\")&\".\"&RIGHT(TEXT(B1232,\"0000\"),2)),0)","v":0}]
[1231,null,null,null,null,{"$f":"IF(OR(MAX($I$2:I1233)-I1233=0,D1233=0),\"\",MAX($I$2:I1233)-I1233)","v":""},"",0,10000,0,{"$f":"IF(B1233>0,WEEKNUM(TEXT(Definice!$F$3,\"0000\")&\".\"&TEXT(J1233,\"00\")&\".\"&RIGHT(TEXT(B1233,\"0000\"),2)),0)","v":0}]
[1232,null,null,null,null,{"$f":"IF(OR(MAX($I$2:I1234)-I1234=0,D1234=0),\"\",MAX($I$2:I1234)-I1234)","v":""},"",0,10000,0,{"$f":"IF(B1234>0,WEEKNUM(TEXT(Definice!$F$3,\"0000\")&\".\"&TEXT(J1234,\"00\")&\".\"&RIGHT(TEXT(B1234,\"0000\"),2)),0)","v":0}]
[1233,null,null,null,null,{"$f":"IF(OR(MAX($I$2:I1235)-I1235=0,D1235=0),\"\",MAX($I$2:I1235)-I1235)","v":""},"",0,10000,0,{"$f":"IF(B1235>0,WEEKNUM(TEXT(Definice!$F$3,\"0000\")&\".\"&TEXT(J1235,\"00\")&\".\"&RIGHT(TEXT(B1235,\"0000\"),2)),0)","v":0}]
[1234,null,null,null,null,{"$f":"IF(OR(MAX($I$2:I1236)-I1236=0,D1236=0),\"\",MAX($I$2:I1236)-I1236)","v":""},"",0,10000,0,{"$f":"IF(B1236>0,WEEKNUM(TEXT(Definice!$F$3,\"0000\")&\".\"&TEXT(J1236,\"00\")&\".\"&RIGHT(TEXT(B1236,\"0000\"),2)),0)","v":0}]
[1235,null,null,null,null,{"$f":"IF(OR(MAX($I$2:I1237)-I1237=0,D1237=0),\"\",MAX($I$2:I1237)-I1237)","v":""},"",0,10000,0,{"$f":"IF(B1237>0,WEEKNUM(TEXT(Definice!$F$3,\"0000\")&\".\"&TEXT(J1237,\"00\")&\".\"&RIGHT(TEXT(B1237,\"0000\"),2)),0)","v":0}]
[1236,null,null,null,null,{"$f":"IF(OR(MAX($I$2:I1238)-I1238=0,D1238=0),\"\",MAX($I$2:I1238)-I1238)","v":""},"",0,10000,0,{"$f":"IF(B1238>0,WEEKNUM(TEXT(Definice!$F$3,\"0000\")&\".\"&TEXT(J1238,\"00\")&\".\"&RIGHT(TEXT(B1238,\"0000\"),2)),0)","v":0}]
[1237,null,null,null,null,{"$f":"IF(OR(MAX($I$2:I1239)-I1239=0,D1239=0),\"\",MAX($I$2:I1239)-I1239)","v":""},"",0,10000,0,{"$f":"IF(B1239>0,WEEKNUM(TEXT(Definice!$F$3,\"0000\")&\".\"&TEXT(J1239,\"00\")&\".\"&RIGHT(TEXT(B1239,\"0000\"),2)),0)","v":0}]
[1238,null,null,null,null,{"$f":"IF(OR(MAX($I$2:I1240)-I1240=0,D1240=0),\"\",MAX($I$2:I1240)-I1240)","v":""},"",0,10000,0,{"$f":"IF(B1240>0,WEEKNUM(TEXT(Definice!$F$3,\"0000\")&\".\"&TEXT(J1240,\"00\")&\".\"&RIGHT(TEXT(B1240,\"0000\"),2)),0)","v":0}]
[1239,null,null,null,null,{"$f":"IF(OR(MAX($I$2:I1241)-I1241=0,D1241=0),\"\",MAX($I$2:I1241)-I1241)","v":""},"",0,10000,0,{"$f":"IF(B1241>0,WEEKNUM(TEXT(Definice!$F$3,\"0000\")&\".\"&TEXT(J1241,\"00\")&\".\"&RIGHT(TEXT(B1241,\"0000\"),2)),0)","v":0}]
[1240,null,null,null,null,{"$f":"IF(OR(MAX($I$2:I1242)-I1242=0,D1242=0),\"\",MAX($I$2:I1242)-I1242)","v":""},"",0,10000,0,{"$f":"IF(B1242>0,WEEKNUM(TEXT(Definice!$F$3,\"0000\")&\".\"&TEXT(J1242,\"00\")&\".\"&RIGHT(TEXT(B1242,\"0000\"),2)),0)","v":0}]
[1241,null,null,null,null,{"$f":"IF(OR(MAX($I$2:I1243)-I1243=0,D1243=0),\"\",MAX($I$2:I1243)-I1243)","v":""},"",0,10000,0,{"$f":"IF(B1243>0,WEEKNUM(TEXT(Definice!$F$3,\"0000\")&\".\"&TEXT(J1243,\"00\")&\".\"&RIGHT(TEXT(B1243,\"0000\"),2)),0)","v":0}]
[1242,null,null,null,null,{"$f":"IF(OR(MAX($I$2:I1244)-I1244=0,D1244=0),\"\",MAX($I$2:I1244)-I1244)","v":""},"",0,10000,0,{"$f":"IF(B1244>0,WEEKNUM(TEXT(Definice!$F$3,\"0000\")&\".\"&TEXT(J1244,\"00\")&\".\"&RIGHT(TEXT(B1244,\"0000\"),2)),0)","v":0}]
[1243,null,null,null,null,{"$f":"IF(OR(MAX($I$2:I1245)-I1245=0,D1245=0),\"\",MAX($I$2:I1245)-I1245)","v":""},"",0,10000,0,{"$f":"IF(B1245>0,WEEKNUM(TEXT(Definice!$F$3,\"0000\")&\".\"&TEXT(J1245,\"00\")&\".\"&RIGHT(TEXT(B1245,\"0000\"),2)),0)","v":0}]
[1244,null,null,null,null,{"$f":"IF(OR(MAX($I$2:I1246)-I1246=0,D1246=0),\"\",MAX($I$2:I1246)-I1246)","v":""},"",0,10000,0,{"$f":"IF(B1246>0,WEEKNUM(TEXT(Definice!$F$3,\"0000\")&\".\"&TEXT(J1246,\"00\")&\".\"&RIGHT(TEXT(B1246,\"0000\"),2)),0)","v":0}]
[1245,null,null,null,null,{"$f":"IF(OR(MAX($I$2:I1247)-I1247=0,D1247=0),\"\",MAX($I$2:I1247)-I1247)","v":""},"",0,10000,0,{"$f":"IF(B1247>0,WEEKNUM(TEXT(Definice!$F$3,\"0000\")&\".\"&TEXT(J1247,\"00\")&\".\"&RIGHT(TEXT(B1247,\"0000\"),2)),0)","v":0}]
[1246,null,null,null,null,{"$f":"IF(OR(MAX($I$2:I1248)-I1248=0,D1248=0),\"\",MAX($I$2:I1248)-I1248)","v":""},"",0,10000,0,{"$f":"IF(B1248>0,WEEKNUM(TEXT(Definice!$F$3,\"0000\")&\".\"&TEXT(J1248,\"00\")&\".\"&RIGHT(TEXT(B1248,\"0000\"),2)),0)","v":0}]
[1247,null,null,null,null,{"$f":"IF(OR(MAX($I$2:I1249)-I1249=0,D1249=0),\"\",MAX($I$2:I1249)-I1249)","v":""},"",0,10000,0,{"$f":"IF(B1249>0,WEEKNUM(TEXT(Definice!$F$3,\"0000\")&\".\"&TEXT(J1249,\"00\")&\".\"&RIGHT(TEXT(B1249,\"0000\"),2)),0)","v":0}]
[1248,null,null,null,null,{"$f":"IF(OR(MAX($I$2:I1250)-I1250=0,D1250=0),\"\",MAX($I$2:I1250)-I1250)","v":""},"",0,10000,0,{"$f":"IF(B1250>0,WEEKNUM(TEXT(Definice!$F$3,\"0000\")&\".\"&TEXT(J1250,\"00\")&\".\"&RIGHT(TEXT(B1250,\"0000\"),2)),0)","v":0}]
[1249,null,null,null,null,{"$f":"IF(OR(MAX($I$2:I1251)-I1251=0,D1251=0),\"\",MAX($I$2:I1251)-I1251)","v":""},"",0,10000,0,{"$f":"IF(B1251>0,WEEKNUM(TEXT(Definice!$F$3,\"0000\")&\".\"&TEXT(J1251,\"00\")&\".\"&RIGHT(TEXT(B1251,\"0000\"),2)),0)","v":0}]
[1250,null,null,null,null,{"$f":"IF(OR(MAX($I$2:I1252)-I1252=0,D1252=0),\"\",MAX($I$2:I1252)-I1252)","v":""},"",0,10000,0,{"$f":"IF(B1252>0,WEEKNUM(TEXT(Definice!$F$3,\"0000\")&\".\"&TEXT(J1252,\"00\")&\".\"&RIGHT(TEXT(B1252,\"0000\"),2)),0)","v":0}]
[1251,null,null,null,null,{"$f":"IF(OR(MAX($I$2:I1253)-I1253=0,D1253=0),\"\",MAX($I$2:I1253)-I1253)","v":""},"",0,10000,0,{"$f":"IF(B1253>0,WEEKNUM(TEXT(Definice!$F$3,\"0000\")&\".\"&TEXT(J1253,\"00\")&\".\"&RIGHT(TEXT(B1253,\"0000\"),2)),0)","v":0}]
[1252,null,null,null,null,{"$f":"IF(OR(MAX($I$2:I1254)-I1254=0,D1254=0),\"\",MAX($I$2:I1254)-I1254)","v":""},"",0,10000,0,{"$f":"IF(B1254>0,WEEKNUM(TEXT(Definice!$F$3,\"0000\")&\".\"&TEXT(J1254,\"00\")&\".\"&RIGHT(TEXT(B1254,\"0000\"),2)),0)","v":0}]
[1253,null,null,null,null,{"$f":"IF(OR(MAX($I$2:I1255)-I1255=0,D1255=0),\"\",MAX($I$2:I1255)-I1255)","v":""},"",0,10000,0,{"$f":"IF(B1255>0,WEEKNUM(TEXT(Definice!$F$3,\"0000\")&\".\"&TEXT(J1255,\"00\")&\".\"&RIGHT(TEXT(B1255,\"0000\"),2)),0)","v":0}]
[1254,null,null,null,null,{"$f":"IF(OR(MAX($I$2:I1256)-I1256=0,D1256=0),\"\",MAX($I$2:I1256)-I1256)","v":""},"",0,10000,0,{"$f":"IF(B1256>0,WEEKNUM(TEXT(Definice!$F$3,\"0000\")&\".\"&TEXT(J1256,\"00\")&\".\"&RIGHT(TEXT(B1256,\"0000\"),2)),0)","v":0}]
[1255,null,null,null,null,{"$f":"IF(OR(MAX($I$2:I1257)-I1257=0,D1257=0),\"\",MAX($I$2:I1257)-I1257)","v":""},"",0,10000,0,{"$f":"IF(B1257>0,WEEKNUM(TEXT(Definice!$F$3,\"0000\")&\".\"&TEXT(J1257,\"00\")&\".\"&RIGHT(TEXT(B1257,\"0000\"),2)),0)","v":0}]
[1256,null,null,null,null,{"$f":"IF(OR(MAX($I$2:I1258)-I1258=0,D1258=0),\"\",MAX($I$2:I1258)-I1258)","v":""},"",0,10000,0,{"$f":"IF(B1258>0,WEEKNUM(TEXT(Definice!$F$3,\"0000\")&\".\"&TEXT(J1258,\"00\")&\".\"&RIGHT(TEXT(B1258,\"0000\"),2)),0)","v":0}]
[1257,null,null,null,null,{"$f":"IF(OR(MAX($I$2:I1259)-I1259=0,D1259=0),\"\",MAX($I$2:I1259)-I1259)","v":""},"",0,10000,0,{"$f":"IF(B1259>0,WEEKNUM(TEXT(Definice!$F$3,\"0000\")&\".\"&TEXT(J1259,\"00\")&\".\"&RIGHT(TEXT(B1259,\"0000\"),2)),0)","v":0}]
[1258,null,null,null,null,{"$f":"IF(OR(MAX($I$2:I1260)-I1260=0,D1260=0),\"\",MAX($I$2:I1260)-I1260)","v":""},"",0,10000,0,{"$f":"IF(B1260>0,WEEKNUM(TEXT(Definice!$F$3,\"0000\")&\".\"&TEXT(J1260,\"00\")&\".\"&RIGHT(TEXT(B1260,\"0000\"),2)),0)","v":0}]
[1259,null,null,null,null,{"$f":"IF(OR(MAX($I$2:I1261)-I1261=0,D1261=0),\"\",MAX($I$2:I1261)-I1261)","v":""},"",0,10000,0,{"$f":"IF(B1261>0,WEEKNUM(TEXT(Definice!$F$3,\"0000\")&\".\"&TEXT(J1261,\"00\")&\".\"&RIGHT(TEXT(B1261,\"0000\"),2)),0)","v":0}]
[1260,null,null,null,null,{"$f":"IF(OR(MAX($I$2:I1262)-I1262=0,D1262=0),\"\",MAX($I$2:I1262)-I1262)","v":""},"",0,10000,0,{"$f":"IF(B1262>0,WEEKNUM(TEXT(Definice!$F$3,\"0000\")&\".\"&TEXT(J1262,\"00\")&\".\"&RIGHT(TEXT(B1262,\"0000\"),2)),0)","v":0}]
[1261,null,null,null,null,{"$f":"IF(OR(MAX($I$2:I1263)-I1263=0,D1263=0),\"\",MAX($I$2:I1263)-I1263)","v":""},"",0,10000,0,{"$f":"IF(B1263>0,WEEKNUM(TEXT(Definice!$F$3,\"0000\")&\".\"&TEXT(J1263,\"00\")&\".\"&RIGHT(TEXT(B1263,\"0000\"),2)),0)","v":0}]
[1262,null,null,null,null,{"$f":"IF(OR(MAX($I$2:I1264)-I1264=0,D1264=0),\"\",MAX($I$2:I1264)-I1264)","v":""},"",0,10000,0,{"$f":"IF(B1264>0,WEEKNUM(TEXT(Definice!$F$3,\"0000\")&\".\"&TEXT(J1264,\"00\")&\".\"&RIGHT(TEXT(B1264,\"0000\"),2)),0)","v":0}]
[1263,null,null,null,null,{"$f":"IF(OR(MAX($I$2:I1265)-I1265=0,D1265=0),\"\",MAX($I$2:I1265)-I1265)","v":""},"",0,10000,0,{"$f":"IF(B1265>0,WEEKNUM(TEXT(Definice!$F$3,\"0000\")&\".\"&TEXT(J1265,\"00\")&\".\"&RIGHT(TEXT(B1265,\"0000\"),2)),0)","v":0}]
[1264,null,null,null,null,{"$f":"IF(OR(MAX($I$2:I1266)-I1266=0,D1266=0),\"\",MAX($I$2:I1266)-I1266)","v":""},"",0,10000,0,{"$f":"IF(B1266>0,WEEKNUM(TEXT(Definice!$F$3,\"0000\")&\".\"&TEXT(J1266,\"00\")&\".\"&RIGHT(TEXT(B1266,\"0000\"),2)),0)","v":0}]
[1265,null,null,null,null,{"$f":"IF(OR(MAX($I$2:I1267)-I1267=0,D1267=0),\"\",MAX($I$2:I1267)-I1267)","v":""},"",0,10000,0,{"$f":"IF(B1267>0,WEEKNUM(TEXT(Definice!$F$3,\"0000\")&\".\"&TEXT(J1267,\"00\")&\".\"&RIGHT(TEXT(B1267,\"0000\"),2)),0)","v":0}]
[1266,null,null,null,null,{"$f":"IF(OR(MAX($I$2:I1268)-I1268=0,D1268=0),\"\",MAX($I$2:I1268)-I1268)","v":""},"",0,10000,0,{"$f":"IF(B1268>0,WEEKNUM(TEXT(Definice!$F$3,\"0000\")&\".\"&TEXT(J1268,\"00\")&\".\"&RIGHT(TEXT(B1268,\"0000\"),2)),0)","v":0}]
[1267,null,null,null,null,{"$f":"IF(OR(MAX($I$2:I1269)-I1269=0,D1269=0),\"\",MAX($I$2:I1269)-I1269)","v":""},"",0,10000,0,{"$f":"IF(B1269>0,WEEKNUM(TEXT(Definice!$F$3,\"0000\")&\".\"&TEXT(J1269,\"00\")&\".\"&RIGHT(TEXT(B1269,\"0000\"),2)),0)","v":0}]
[1268,null,null,null,null,{"$f":"IF(OR(MAX($I$2:I1270)-I1270=0,D1270=0),\"\",MAX($I$2:I1270)-I1270)","v":""},"",0,10000,0,{"$f":"IF(B1270>0,WEEKNUM(TEXT(Definice!$F$3,\"0000\")&\".\"&TEXT(J1270,\"00\")&\".\"&RIGHT(TEXT(B1270,\"0000\"),2)),0)","v":0}]
[1269,null,null,null,null,{"$f":"IF(OR(MAX($I$2:I1271)-I1271=0,D1271=0),\"\",MAX($I$2:I1271)-I1271)","v":""},"",0,10000,0,{"$f":"IF(B1271>0,WEEKNUM(TEXT(Definice!$F$3,\"0000\")&\".\"&TEXT(J1271,\"00\")&\".\"&RIGHT(TEXT(B1271,\"0000\"),2)),0)","v":0}]
[1270,null,null,null,null,{"$f":"IF(OR(MAX($I$2:I1272)-I1272=0,D1272=0),\"\",MAX($I$2:I1272)-I1272)","v":""},"",0,10000,0,{"$f":"IF(B1272>0,WEEKNUM(TEXT(Definice!$F$3,\"0000\")&\".\"&TEXT(J1272,\"00\")&\".\"&RIGHT(TEXT(B1272,\"0000\"),2)),0)","v":0}]
[1271,null,null,null,null,{"$f":"IF(OR(MAX($I$2:I1273)-I1273=0,D1273=0),\"\",MAX($I$2:I1273)-I1273)","v":""},"",0,10000,0,{"$f":"IF(B1273>0,WEEKNUM(TEXT(Definice!$F$3,\"0000\")&\".\"&TEXT(J1273,\"00\")&\".\"&RIGHT(TEXT(B1273,\"0000\"),2)),0)","v":0}]
[1272,null,null,null,null,{"$f":"IF(OR(MAX($I$2:I1274)-I1274=0,D1274=0),\"\",MAX($I$2:I1274)-I1274)","v":""},"",0,10000,0,{"$f":"IF(B1274>0,WEEKNUM(TEXT(Definice!$F$3,\"0000\")&\".\"&TEXT(J1274,\"00\")&\".\"&RIGHT(TEXT(B1274,\"0000\"),2)),0)","v":0}]
[1273,null,null,null,null,{"$f":"IF(OR(MAX($I$2:I1275)-I1275=0,D1275=0),\"\",MAX($I$2:I1275)-I1275)","v":""},"",0,10000,0,{"$f":"IF(B1275>0,WEEKNUM(TEXT(Definice!$F$3,\"0000\")&\".\"&TEXT(J1275,\"00\")&\".\"&RIGHT(TEXT(B1275,\"0000\"),2)),0)","v":0}]
[1274,null,null,null,null,{"$f":"IF(OR(MAX($I$2:I1276)-I1276=0,D1276=0),\"\",MAX($I$2:I1276)-I1276)","v":""},"",0,10000,0,{"$f":"IF(B1276>0,WEEKNUM(TEXT(Definice!$F$3,\"0000\")&\".\"&TEXT(J1276,\"00\")&\".\"&RIGHT(TEXT(B1276,\"0000\"),2)),0)","v":0}]
[1275,null,null,null,null,{"$f":"IF(OR(MAX($I$2:I1277)-I1277=0,D1277=0),\"\",MAX($I$2:I1277)-I1277)","v":""},"",0,10000,0,{"$f":"IF(B1277>0,WEEKNUM(TEXT(Definice!$F$3,\"0000\")&\".\"&TEXT(J1277,\"00\")&\".\"&RIGHT(TEXT(B1277,\"0000\"),2)),0)","v":0}]
[1276,null,null,null,null,{"$f":"IF(OR(MAX($I$2:I1278)-I1278=0,D1278=0),\"\",MAX($I$2:I1278)-I1278)","v":""},"",0,10000,0,{"$f":"IF(B1278>0,WEEKNUM(TEXT(Definice!$F$3,\"0000\")&\".\"&TEXT(J1278,\"00\")&\".\"&RIGHT(TEXT(B1278,\"0000\"),2)),0)","v":0}]
[1277,null,null,null,null,{"$f":"IF(OR(MAX($I$2:I1279)-I1279=0,D1279=0),\"\",MAX($I$2:I1279)-I1279)","v":""},"",0,10000,0,{"$f":"IF(B1279>0,WEEKNUM(TEXT(Definice!$F$3,\"0000\")&\".\"&TEXT(J1279,\"00\")&\".\"&RIGHT(TEXT(B1279,\"0000\"),2)),0)","v":0}]
[1278,null,null,null,null,{"$f":"IF(OR(MAX($I$2:I1280)-I1280=0,D1280=0),\"\",MAX($I$2:I1280)-I1280)","v":""},"",0,10000,0,{"$f":"IF(B1280>0,WEEKNUM(TEXT(Definice!$F$3,\"0000\")&\".\"&TEXT(J1280,\"00\")&\".\"&RIGHT(TEXT(B1280,\"0000\"),2)),0)","v":0}]
[1279,null,null,null,null,{"$f":"IF(OR(MAX($I$2:I1281)-I1281=0,D1281=0),\"\",MAX($I$2:I1281)-I1281)","v":""},"",0,10000,0,{"$f":"IF(B1281>0,WEEKNUM(TEXT(Definice!$F$3,\"0000\")&\".\"&TEXT(J1281,\"00\")&\".\"&RIGHT(TEXT(B1281,\"0000\"),2)),0)","v":0}]
[1280,null,null,null,null,{"$f":"IF(OR(MAX($I$2:I1282)-I1282=0,D1282=0),\"\",MAX($I$2:I1282)-I1282)","v":""},"",0,10000,0,{"$f":"IF(B1282>0,WEEKNUM(TEXT(Definice!$F$3,\"0000\")&\".\"&TEXT(J1282,\"00\")&\".\"&RIGHT(TEXT(B1282,\"0000\"),2)),0)","v":0}]
[1281,null,null,null,null,{"$f":"IF(OR(MAX($I$2:I1283)-I1283=0,D1283=0),\"\",MAX($I$2:I1283)-I1283)","v":""},"",0,10000,0,{"$f":"IF(B1283>0,WEEKNUM(TEXT(Definice!$F$3,\"0000\")&\".\"&TEXT(J1283,\"00\")&\".\"&RIGHT(TEXT(B1283,\"0000\"),2)),0)","v":0}]
[1282,null,null,null,null,{"$f":"IF(OR(MAX($I$2:I1284)-I1284=0,D1284=0),\"\",MAX($I$2:I1284)-I1284)","v":""},"",0,10000,{"$f":"((INT(B1284/100)/100)-INT(INT(B1284/100)/100))*100","v":0},{"$f":"IF(B1284>0,WEEKNUM(TEXT(Definice!$F$3,\"0000\")&\".\"&TEXT(J1284,\"00\")&\".\"&RIGHT(TEXT(B1284,\"0000\"),2)),0)","v":0}]
[1283,null,null,null,null,{"$f":"IF(OR(MAX($I$2:I1285)-I1285=0,D1285=0),\"\",MAX($I$2:I1285)-I1285)","v":""},{"$f":"IF(F1285=\"\",\"\",F1285/(H1285+I1284))","v":""},{"$f":"H1284+E1285","v":0},{"$f":"I1284+E1285","v":10000},0,{"$f":"IF(B1285>0,WEEKNUM(TEXT(Definice!$F$3,\"0000\")&\".\"&TEXT(J1285,\"00\")&\".\"&RIGHT(TEXT(B1285,\"0000\"),2)),0)","v":0}]
[1284,null,null,null,null,{"$f":"IF(OR(MAX($I$2:I1286)-I1286=0,D1286=0),\"\",MAX($I$2:I1286)-I1286)","v":""},"",0,10000,0,{"$f":"IF(B1286>0,WEEKNUM(TEXT(Definice!$F$3,\"0000\")&\".\"&TEXT(J1286,\"00\")&\".\"&RIGHT(TEXT(B1286,\"0000\"),2)),0)","v":0}]
[1285,null,null,null,null,{"$f":"IF(OR(MAX($I$2:I1287)-I1287=0,D1287=0),\"\",MAX($I$2:I1287)-I1287)","v":""},"",0,10000,0,{"$f":"IF(B1287>0,WEEKNUM(TEXT(Definice!$F$3,\"0000\")&\".\"&TEXT(J1287,\"00\")&\".\"&RIGHT(TEXT(B1287,\"0000\"),2)),0)","v":0}]
[1286,null,null,null,null,{"$f":"IF(OR(MAX($I$2:I1288)-I1288=0,D1288=0),\"\",MAX($I$2:I1288)-I1288)","v":""},"",0,10000,0,{"$f":"IF(B1288>0,WEEKNUM(TEXT(Definice!$F$3,\"0000\")&\".\"&TEXT(J1288,\"00\")&\".\"&RIGHT(TEXT(B1288,\"0000\"),2)),0)","v":0}]
[1287,null,null,null,null,{"$f":"IF(OR(MAX($I$2:I1289)-I1289=0,D1289=0),\"\",MAX($I$2:I1289)-I1289)","v":""},"",0,10000,0,{"$f":"IF(B1289>0,WEEKNUM(TEXT(Definice!$F$3,\"0000\")&\".\"&TEXT(J1289,\"00\")&\".\"&RIGHT(TEXT(B1289,\"0000\"),2)),0)","v":0}]
[1288,null,null,null,null,{"$f":"IF(OR(MAX($I$2:I1290)-I1290=0,D1290=0),\"\",MAX($I$2:I1290)-I1290)","v":""},"",0,10000,0,{"$f":"IF(B1290>0,WEEKNUM(TEXT(Definice!$F$3,\"0000\")&\".\"&TEXT(J1290,\"00\")&\".\"&RIGHT(TEXT(B1290,\"0000\"),2)),0)","v":0}]
[1289,null,null,null,null,{"$f":"IF(OR(MAX($I$2:I1291)-I1291=0,D1291=0),\"\",MAX($I$2:I1291)-I1291)","v":""},"",0,10000,0,{"$f":"IF(B1291>0,WEEKNUM(TEXT(Definice!$F$3,\"0000\")&\".\"&TEXT(J1291,\"00\")&\".\"&RIGHT(TEXT(B1291,\"0000\"),2)),0)","v":0}]
[1290,null,null,null,null,{"$f":"IF(OR(MAX($I$2:I1292)-I1292=0,D1292=0),\"\",MAX($I$2:I1292)-I1292)","v":""},"",0,10000,0,{"$f":"IF(B1292>0,WEEKNUM(TEXT(Definice!$F$3,\"0000\")&\".\"&TEXT(J1292,\"00\")&\".\"&RIGHT(TEXT(B1292,\"0000\"),2)),0)","v":0}]
[1291,null,null,null,null,{"$f":"IF(OR(MAX($I$2:I1293)-I1293=0,D1293=0),\"\",MAX($I$2:I1293)-I1293)","v":""},"",0,10000,0,{"$f":"IF(B1293>0,WEEKNUM(TEXT(Definice!$F$3,\"0000\")&\".\"&TEXT(J1293,\"00\")&\".\"&RIGHT(TEXT(B1293,\"0000\"),2)),0)","v":0}]
[1292,null,null,null,null,{"$f":"IF(OR(MAX($I$2:I1294)-I1294=0,D1294=0),\"\",MAX($I$2:I1294)-I1294)","v":""},"",0,10000,0,{"$f":"IF(B1294>0,WEEKNUM(TEXT(Definice!$F$3,\"0000\")&\".\"&TEXT(J1294,\"00\")&\".\"&RIGHT(TEXT(B1294,\"0000\"),2)),0)","v":0}]
[1293,null,null,null,null,{"$f":"IF(OR(MAX($I$2:I1295)-I1295=0,D1295=0),\"\",MAX($I$2:I1295)-I1295)","v":""},"",0,10000,0,{"$f":"IF(B1295>0,WEEKNUM(TEXT(Definice!$F$3,\"0000\")&\".\"&TEXT(J1295,\"00\")&\".\"&RIGHT(TEXT(B1295,\"0000\"),2)),0)","v":0}]
[1294,null,null,null,null,{"$f":"IF(OR(MAX($I$2:I1296)-I1296=0,D1296=0),\"\",MAX($I$2:I1296)-I1296)","v":""},"",0,10000,0,{"$f":"IF(B1296>0,WEEKNUM(TEXT(Definice!$F$3,\"0000\")&\".\"&TEXT(J1296,\"00\")&\".\"&RIGHT(TEXT(B1296,\"0000\"),2)),0)","v":0}]
[1295,null,null,null,null,{"$f":"IF(OR(MAX($I$2:I1297)-I1297=0,D1297=0),\"\",MAX($I$2:I1297)-I1297)","v":""},"",0,10000,0,{"$f":"IF(B1297>0,WEEKNUM(TEXT(Definice!$F$3,\"0000\")&\".\"&TEXT(J1297,\"00\")&\".\"&RIGHT(TEXT(B1297,\"0000\"),2)),0)","v":0}]
[1296,null,null,null,null,{"$f":"IF(OR(MAX($I$2:I1298)-I1298=0,D1298=0),\"\",MAX($I$2:I1298)-I1298)","v":""},"",0,10000,0,{"$f":"IF(B1298>0,WEEKNUM(TEXT(Definice!$F$3,\"0000\")&\".\"&TEXT(J1298,\"00\")&\".\"&RIGHT(TEXT(B1298,\"0000\"),2)),0)","v":0}]
[1297,null,null,null,null,{"$f":"IF(OR(MAX($I$2:I1299)-I1299=0,D1299=0),\"\",MAX($I$2:I1299)-I1299)","v":""},"",0,10000,0,{"$f":"IF(B1299>0,WEEKNUM(TEXT(Definice!$F$3,\"0000\")&\".\"&TEXT(J1299,\"00\")&\".\"&RIGHT(TEXT(B1299,\"0000\"),2)),0)","v":0}]
[1298,null,null,null,null,{"$f":"IF(OR(MAX($I$2:I1300)-I1300=0,D1300=0),\"\",MAX($I$2:I1300)-I1300)","v":""},"",0,10000,0,{"$f":"IF(B1300>0,WEEKNUM(TEXT(Definice!$F$3,\"0000\")&\".\"&TEXT(J1300,\"00\")&\".\"&RIGHT(TEXT(B1300,\"0000\"),2)),0)","v":0}]
[1299,null,null,null,null,{"$f":"IF(OR(MAX($I$2:I1301)-I1301=0,D1301=0),\"\",MAX($I$2:I1301)-I1301)","v":""},"",0,10000,0,{"$f":"IF(B1301>0,WEEKNUM(TEXT(Definice!$F$3,\"0000\")&\".\"&TEXT(J1301,\"00\")&\".\"&RIGHT(TEXT(B1301,\"0000\"),2)),0)","v":0}]
[1300,null,null,null,null,{"$f":"IF(OR(MAX($I$2:I1302)-I1302=0,D1302=0),\"\",MAX($I$2:I1302)-I1302)","v":""},"",0,10000,0,{"$f":"IF(B1302>0,WEEKNUM(TEXT(Definice!$F$3,\"0000\")&\".\"&TEXT(J1302,\"00\")&\".\"&RIGHT(TEXT(B1302,\"0000\"),2)),0)","v":0}]
[1301,null,null,null,null,{"$f":"IF(OR(MAX($I$2:I1303)-I1303=0,D1303=0),\"\",MAX($I$2:I1303)-I1303)","v":""},"",0,10000,0,{"$f":"IF(B1303>0,WEEKNUM(TEXT(Definice!$F$3,\"0000\")&\".\"&TEXT(J1303,\"00\")&\".\"&RIGHT(TEXT(B1303,\"0000\"),2)),0)","v":0}]
[1302,null,null,null,null,{"$f":"IF(OR(MAX($I$2:I1304)-I1304=0,D1304=0),\"\",MAX($I$2:I1304)-I1304)","v":""},"",0,10000,0,{"$f":"IF(B1304>0,WEEKNUM(TEXT(Definice!$F$3,\"0000\")&\".\"&TEXT(J1304,\"00\")&\".\"&RIGHT(TEXT(B1304,\"0000\"),2)),0)","v":0}]
[1303,null,null,null,null,{"$f":"IF(OR(MAX($I$2:I1305)-I1305=0,D1305=0),\"\",MAX($I$2:I1305)-I1305)","v":""},"",0,10000,0,{"$f":"IF(B1305>0,WEEKNUM(TEXT(Definice!$F$3,\"0000\")&\".\"&TEXT(J1305,\"00\")&\".\"&RIGHT(TEXT(B1305,\"0000\"),2)),0)","v":0}]
[1304,null,null,null,null,{"$f":"IF(OR(MAX($I$2:I1306)-I1306=0,D1306=0),\"\",MAX($I$2:I1306)-I1306)","v":""},"",0,10000,0,{"$f":"IF(B1306>0,WEEKNUM(TEXT(Definice!$F$3,\"0000\")&\".\"&TEXT(J1306,\"00\")&\".\"&RIGHT(TEXT(B1306,\"0000\"),2)),0)","v":0}]
[1305,null,null,null,null,{"$f":"IF(OR(MAX($I$2:I1307)-I1307=0,D1307=0),\"\",MAX($I$2:I1307)-I1307)","v":""},"",0,10000,0,{"$f":"IF(B1307>0,WEEKNUM(TEXT(Definice!$F$3,\"0000\")&\".\"&TEXT(J1307,\"00\")&\".\"&RIGHT(TEXT(B1307,\"0000\"),2)),0)","v":0}]
[1306,null,null,null,null,{"$f":"IF(OR(MAX($I$2:I1308)-I1308=0,D1308=0),\"\",MAX($I$2:I1308)-I1308)","v":""},"",0,10000,0,{"$f":"IF(B1308>0,WEEKNUM(TEXT(Definice!$F$3,\"0000\")&\".\"&TEXT(J1308,\"00\")&\".\"&RIGHT(TEXT(B1308,\"0000\"),2)),0)","v":0}]
[1307,null,null,null,null,{"$f":"IF(OR(MAX($I$2:I1309)-I1309=0,D1309=0),\"\",MAX($I$2:I1309)-I1309)","v":""},"",0,10000,0,{"$f":"IF(B1309>0,WEEKNUM(TEXT(Definice!$F$3,\"0000\")&\".\"&TEXT(J1309,\"00\")&\".\"&RIGHT(TEXT(B1309,\"0000\"),2)),0)","v":0}]
[1308,null,null,null,null,{"$f":"IF(OR(MAX($I$2:I1310)-I1310=0,D1310=0),\"\",MAX($I$2:I1310)-I1310)","v":""},"",0,10000,0,{"$f":"IF(B1310>0,WEEKNUM(TEXT(Definice!$F$3,\"0000\")&\".\"&TEXT(J1310,\"00\")&\".\"&RIGHT(TEXT(B1310,\"0000\"),2)),0)","v":0}]
[1309,null,null,null,null,{"$f":"IF(OR(MAX($I$2:I1311)-I1311=0,D1311=0),\"\",MAX($I$2:I1311)-I1311)","v":""},"",0,10000,0,{"$f":"IF(B1311>0,WEEKNUM(TEXT(Definice!$F$3,\"0000\")&\".\"&TEXT(J1311,\"00\")&\".\"&RIGHT(TEXT(B1311,\"0000\"),2)),0)","v":0}]
[1310,null,null,null,null,{"$f":"IF(OR(MAX($I$2:I1312)-I1312=0,D1312=0),\"\",MAX($I$2:I1312)-I1312)","v":""},"",0,10000,0,{"$f":"IF(B1312>0,WEEKNUM(TEXT(Definice!$F$3,\"0000\")&\".\"&TEXT(J1312,\"00\")&\".\"&RIGHT(TEXT(B1312,\"0000\"),2)),0)","v":0}]
[1311,null,null,null,null,{"$f":"IF(OR(MAX($I$2:I1313)-I1313=0,D1313=0),\"\",MAX($I$2:I1313)-I1313)","v":""},"",0,10000,0,{"$f":"IF(B1313>0,WEEKNUM(TEXT(Definice!$F$3,\"0000\")&\".\"&TEXT(J1313,\"00\")&\".\"&RIGHT(TEXT(B1313,\"0000\"),2)),0)","v":0}]
[1312,null,null,null,null,{"$f":"IF(OR(MAX($I$2:I1314)-I1314=0,D1314=0),\"\",MAX($I$2:I1314)-I1314)","v":""},"",0,10000,0,{"$f":"IF(B1314>0,WEEKNUM(TEXT(Definice!$F$3,\"0000\")&\".\"&TEXT(J1314,\"00\")&\".\"&RIGHT(TEXT(B1314,\"0000\"),2)),0)","v":0}]
[1313,null,null,null,null,{"$f":"IF(OR(MAX($I$2:I1315)-I1315=0,D1315=0),\"\",MAX($I$2:I1315)-I1315)","v":""},"",0,10000,0,{"$f":"IF(B1315>0,WEEKNUM(TEXT(Definice!$F$3,\"0000\")&\".\"&TEXT(J1315,\"00\")&\".\"&RIGHT(TEXT(B1315,\"0000\"),2)),0)","v":0}]
[1314,null,null,null,null,{"$f":"IF(OR(MAX($I$2:I1316)-I1316=0,D1316=0),\"\",MAX($I$2:I1316)-I1316)","v":""},"",0,10000,0,{"$f":"IF(B1316>0,WEEKNUM(TEXT(Definice!$F$3,\"0000\")&\".\"&TEXT(J1316,\"00\")&\".\"&RIGHT(TEXT(B1316,\"0000\"),2)),0)","v":0}]
[1315,null,null,null,null,{"$f":"IF(OR(MAX($I$2:I1317)-I1317=0,D1317=0),\"\",MAX($I$2:I1317)-I1317)","v":""},"",0,10000,0,{"$f":"IF(B1317>0,WEEKNUM(TEXT(Definice!$F$3,\"0000\")&\".\"&TEXT(J1317,\"00\")&\".\"&RIGHT(TEXT(B1317,\"0000\"),2)),0)","v":0}]
[1316,null,null,null,null,{"$f":"IF(OR(MAX($I$2:I1318)-I1318=0,D1318=0),\"\",MAX($I$2:I1318)-I1318)","v":""},"",0,10000,0,{"$f":"IF(B1318>0,WEEKNUM(TEXT(Definice!$F$3,\"0000\")&\".\"&TEXT(J1318,\"00\")&\".\"&RIGHT(TEXT(B1318,\"0000\"),2)),0)","v":0}]
[1317,null,null,null,null,{"$f":"IF(OR(MAX($I$2:I1319)-I1319=0,D1319=0),\"\",MAX($I$2:I1319)-I1319)","v":""},"",0,10000,0,{"$f":"IF(B1319>0,WEEKNUM(TEXT(Definice!$F$3,\"0000\")&\".\"&TEXT(J1319,\"00\")&\".\"&RIGHT(TEXT(B1319,\"0000\"),2)),0)","v":0}]
[1318,null,null,null,null,{"$f":"IF(OR(MAX($I$2:I1320)-I1320=0,D1320=0),\"\",MAX($I$2:I1320)-I1320)","v":""},"",0,10000,0,{"$f":"IF(B1320>0,WEEKNUM(TEXT(Definice!$F$3,\"0000\")&\".\"&TEXT(J1320,\"00\")&\".\"&RIGHT(TEXT(B1320,\"0000\"),2)),0)","v":0}]
[1319,null,null,null,null,{"$f":"IF(OR(MAX($I$2:I1321)-I1321=0,D1321=0),\"\",MAX($I$2:I1321)-I1321)","v":""},"",0,10000,0,{"$f":"IF(B1321>0,WEEKNUM(TEXT(Definice!$F$3,\"0000\")&\".\"&TEXT(J1321,\"00\")&\".\"&RIGHT(TEXT(B1321,\"0000\"),2)),0)","v":0}]
[1320,null,null,null,null,{"$f":"IF(OR(MAX($I$2:I1322)-I1322=0,D1322=0),\"\",MAX($I$2:I1322)-I1322)","v":""},"",0,10000,0,{"$f":"IF(B1322>0,WEEKNUM(TEXT(Definice!$F$3,\"0000\")&\".\"&TEXT(J1322,\"00\")&\".\"&RIGHT(TEXT(B1322,\"0000\"),2)),0)","v":0}]
[1321,null,null,null,null,{"$f":"IF(OR(MAX($I$2:I1323)-I1323=0,D1323=0),\"\",MAX($I$2:I1323)-I1323)","v":""},"",0,10000,0,{"$f":"IF(B1323>0,WEEKNUM(TEXT(Definice!$F$3,\"0000\")&\".\"&TEXT(J1323,\"00\")&\".\"&RIGHT(TEXT(B1323,\"0000\"),2)),0)","v":0}]
[1322,null,null,null,null,{"$f":"IF(OR(MAX($I$2:I1324)-I1324=0,D1324=0),\"\",MAX($I$2:I1324)-I1324)","v":""},"",0,10000,0,{"$f":"IF(B1324>0,WEEKNUM(TEXT(Definice!$F$3,\"0000\")&\".\"&TEXT(J1324,\"00\")&\".\"&RIGHT(TEXT(B1324,\"0000\"),2)),0)","v":0}]
[1323,null,null,null,null,{"$f":"IF(OR(MAX($I$2:I1325)-I1325=0,D1325=0),\"\",MAX($I$2:I1325)-I1325)","v":""},"",0,10000,0,{"$f":"IF(B1325>0,WEEKNUM(TEXT(Definice!$F$3,\"0000\")&\".\"&TEXT(J1325,\"00\")&\".\"&RIGHT(TEXT(B1325,\"0000\"),2)),0)","v":0}]
[1324,null,null,null,null,{"$f":"IF(OR(MAX($I$2:I1326)-I1326=0,D1326=0),\"\",MAX($I$2:I1326)-I1326)","v":""},"",0,10000,0,{"$f":"IF(B1326>0,WEEKNUM(TEXT(Definice!$F$3,\"0000\")&\".\"&TEXT(J1326,\"00\")&\".\"&RIGHT(TEXT(B1326,\"0000\"),2)),0)","v":0}]
[1325,null,null,null,null,{"$f":"IF(OR(MAX($I$2:I1327)-I1327=0,D1327=0),\"\",MAX($I$2:I1327)-I1327)","v":""},"",0,10000,0,{"$f":"IF(B1327>0,WEEKNUM(TEXT(Definice!$F$3,\"0000\")&\".\"&TEXT(J1327,\"00\")&\".\"&RIGHT(TEXT(B1327,\"0000\"),2)),0)","v":0}]
[1326,null,null,null,null,{"$f":"IF(OR(MAX($I$2:I1328)-I1328=0,D1328=0),\"\",MAX($I$2:I1328)-I1328)","v":""},"",0,10000,0,{"$f":"IF(B1328>0,WEEKNUM(TEXT(Definice!$F$3,\"0000\")&\".\"&TEXT(J1328,\"00\")&\".\"&RIGHT(TEXT(B1328,\"0000\"),2)),0)","v":0}]
[1327,null,null,null,null,{"$f":"IF(OR(MAX($I$2:I1329)-I1329=0,D1329=0),\"\",MAX($I$2:I1329)-I1329)","v":""},"",0,10000,0,{"$f":"IF(B1329>0,WEEKNUM(TEXT(Definice!$F$3,\"0000\")&\".\"&TEXT(J1329,\"00\")&\".\"&RIGHT(TEXT(B1329,\"0000\"),2)),0)","v":0}]
[1328,null,null,null,null,{"$f":"IF(OR(MAX($I$2:I1330)-I1330=0,D1330=0),\"\",MAX($I$2:I1330)-I1330)","v":""},"",0,10000,0,{"$f":"IF(B1330>0,WEEKNUM(TEXT(Definice!$F$3,\"0000\")&\".\"&TEXT(J1330,\"00\")&\".\"&RIGHT(TEXT(B1330,\"0000\"),2)),0)","v":0}]
[1329,null,null,null,null,{"$f":"IF(OR(MAX($I$2:I1331)-I1331=0,D1331=0),\"\",MAX($I$2:I1331)-I1331)","v":""},"",0,10000,0,{"$f":"IF(B1331>0,WEEKNUM(TEXT(Definice!$F$3,\"0000\")&\".\"&TEXT(J1331,\"00\")&\".\"&RIGHT(TEXT(B1331,\"0000\"),2)),0)","v":0}]
[1330,null,null,null,null,{"$f":"IF(OR(MAX($I$2:I1332)-I1332=0,D1332=0),\"\",MAX($I$2:I1332)-I1332)","v":""},"",0,10000,0,{"$f":"IF(B1332>0,WEEKNUM(TEXT(Definice!$F$3,\"0000\")&\".\"&TEXT(J1332,\"00\")&\".\"&RIGHT(TEXT(B1332,\"0000\"),2)),0)","v":0}]
[1331,null,null,null,null,{"$f":"IF(OR(MAX($I$2:I1333)-I1333=0,D1333=0),\"\",MAX($I$2:I1333)-I1333)","v":""},"",0,10000,0,{"$f":"IF(B1333>0,WEEKNUM(TEXT(Definice!$F$3,\"0000\")&\".\"&TEXT(J1333,\"00\")&\".\"&RIGHT(TEXT(B1333,\"0000\"),2)),0)","v":0}]
[1332,null,null,null,null,{"$f":"IF(OR(MAX($I$2:I1334)-I1334=0,D1334=0),\"\",MAX($I$2:I1334)-I1334)","v":""},"",0,10000,0,{"$f":"IF(B1334>0,WEEKNUM(TEXT(Definice!$F$3,\"0000\")&\".\"&TEXT(J1334,\"00\")&\".\"&RIGHT(TEXT(B1334,\"0000\"),2)),0)","v":0}]
[1333,null,null,null,null,{"$f":"IF(OR(MAX($I$2:I1335)-I1335=0,D1335=0),\"\",MAX($I$2:I1335)-I1335)","v":""},"",0,10000,0,{"$f":"IF(B1335>0,WEEKNUM(TEXT(Definice!$F$3,\"0000\")&\".\"&TEXT(J1335,\"00\")&\".\"&RIGHT(TEXT(B1335,\"0000\"),2)),0)","v":0}]
[1334,null,null,null,null,{"$f":"IF(OR(MAX($I$2:I1336)-I1336=0,D1336=0),\"\",MAX($I$2:I1336)-I1336)","v":""},"",0,10000,0,{"$f":"IF(B1336>0,WEEKNUM(TEXT(Definice!$F$3,\"0000\")&\".\"&TEXT(J1336,\"00\")&\".\"&RIGHT(TEXT(B1336,\"0000\"),2)),0)","v":0}]
[1335,null,null,null,null,{"$f":"IF(OR(MAX($I$2:I1337)-I1337=0,D1337=0),\"\",MAX($I$2:I1337)-I1337)","v":""},"",0,10000,0,{"$f":"IF(B1337>0,WEEKNUM(TEXT(Definice!$F$3,\"0000\")&\".\"&TEXT(J1337,\"00\")&\".\"&RIGHT(TEXT(B1337,\"0000\"),2)),0)","v":0}]
[1336,null,null,null,null,{"$f":"IF(OR(MAX($I$2:I1338)-I1338=0,D1338=0),\"\",MAX($I$2:I1338)-I1338)","v":""},"",0,10000,0,{"$f":"IF(B1338>0,WEEKNUM(TEXT(Definice!$F$3,\"0000\")&\".\"&TEXT(J1338,\"00\")&\".\"&RIGHT(TEXT(B1338,\"0000\"),2)),0)","v":0}]
[1337,null,null,null,null,{"$f":"IF(OR(MAX($I$2:I1339)-I1339=0,D1339=0),\"\",MAX($I$2:I1339)-I1339)","v":""},"",0,10000,0,{"$f":"IF(B1339>0,WEEKNUM(TEXT(Definice!$F$3,\"0000\")&\".\"&TEXT(J1339,\"00\")&\".\"&RIGHT(TEXT(B1339,\"0000\"),2)),0)","v":0}]
[1338,null,null,null,null,{"$f":"IF(OR(MAX($I$2:I1340)-I1340=0,D1340=0),\"\",MAX($I$2:I1340)-I1340)","v":""},"",0,10000,0,{"$f":"IF(B1340>0,WEEKNUM(TEXT(Definice!$F$3,\"0000\")&\".\"&TEXT(J1340,\"00\")&\".\"&RIGHT(TEXT(B1340,\"0000\"),2)),0)","v":0}]
[1339,null,null,null,null,{"$f":"IF(OR(MAX($I$2:I1341)-I1341=0,D1341=0),\"\",MAX($I$2:I1341)-I1341)","v":""},"",0,10000,0,{"$f":"IF(B1341>0,WEEKNUM(TEXT(Definice!$F$3,\"0000\")&\".\"&TEXT(J1341,\"00\")&\".\"&RIGHT(TEXT(B1341,\"0000\"),2)),0)","v":0}]
[1340,null,null,null,null,{"$f":"IF(OR(MAX($I$2:I1342)-I1342=0,D1342=0),\"\",MAX($I$2:I1342)-I1342)","v":""},"",0,10000,0,{"$f":"IF(B1342>0,WEEKNUM(TEXT(Definice!$F$3,\"0000\")&\".\"&TEXT(J1342,\"00\")&\".\"&RIGHT(TEXT(B1342,\"0000\"),2)),0)","v":0}]
[1341,null,null,null,null,{"$f":"IF(OR(MAX($I$2:I1343)-I1343=0,D1343=0),\"\",MAX($I$2:I1343)-I1343)","v":""},"",0,10000,0,{"$f":"IF(B1343>0,WEEKNUM(TEXT(Definice!$F$3,\"0000\")&\".\"&TEXT(J1343,\"00\")&\".\"&RIGHT(TEXT(B1343,\"0000\"),2)),0)","v":0}]
[1342,null,null,null,null,{"$f":"IF(OR(MAX($I$2:I1344)-I1344=0,D1344=0),\"\",MAX($I$2:I1344)-I1344)","v":""},"",0,10000,0,{"$f":"IF(B1344>0,WEEKNUM(TEXT(Definice!$F$3,\"0000\")&\".\"&TEXT(J1344,\"00\")&\".\"&RIGHT(TEXT(B1344,\"0000\"),2)),0)","v":0}]
[1343,null,null,null,null,{"$f":"IF(OR(MAX($I$2:I1345)-I1345=0,D1345=0),\"\",MAX($I$2:I1345)-I1345)","v":""},"",0,10000,0,{"$f":"IF(B1345>0,WEEKNUM(TEXT(Definice!$F$3,\"0000\")&\".\"&TEXT(J1345,\"00\")&\".\"&RIGHT(TEXT(B1345,\"0000\"),2)),0)","v":0}]
[1344,null,null,null,null,{"$f":"IF(OR(MAX($I$2:I1346)-I1346=0,D1346=0),\"\",MAX($I$2:I1346)-I1346)","v":""},"",0,10000,0,{"$f":"IF(B1346>0,WEEKNUM(TEXT(Definice!$F$3,\"0000\")&\".\"&TEXT(J1346,\"00\")&\".\"&RIGHT(TEXT(B1346,\"0000\"),2)),0)","v":0}]
[1345,null,null,null,null,{"$f":"IF(OR(MAX($I$2:I1347)-I1347=0,D1347=0),\"\",MAX($I$2:I1347)-I1347)","v":""},"",0,10000,0,{"$f":"IF(B1347>0,WEEKNUM(TEXT(Definice!$F$3,\"0000\")&\".\"&TEXT(J1347,\"00\")&\".\"&RIGHT(TEXT(B1347,\"0000\"),2)),0)","v":0}]
[1346,null,null,null,null,{"$f":"IF(OR(MAX($I$2:I1348)-I1348=0,D1348=0),\"\",MAX($I$2:I1348)-I1348)","v":""},"",0,10000,{"$f":"((INT(B1348/100)/100)-INT(INT(B1348/100)/100))*100","v":0},{"$f":"IF(B1348>0,WEEKNUM(TEXT(Definice!$F$3,\"0000\")&\".\"&TEXT(J1348,\"00\")&\".\"&RIGHT(TEXT(B1348,\"0000\"),2)),0)","v":0}]
[1347,null,null,null,null,{"$f":"IF(OR(MAX($I$2:I1349)-I1349=0,D1349=0),\"\",MAX($I$2:I1349)-I1349)","v":""},{"$f":"IF(F1349=\"\",\"\",F1349/(H1349+I1348))","v":""},{"$f":"H1348+E1349","v":0},{"$f":"I1348+E1349","v":10000},0,{"$f":"IF(B1349>0,WEEKNUM(TEXT(Definice!$F$3,\"0000\")&\".\"&TEXT(J1349,\"00\")&\".\"&RIGHT(TEXT(B1349,\"0000\"),2)),0)","v":0}]
[1348,null,null,null,null,{"$f":"IF(OR(MAX($I$2:I1350)-I1350=0,D1350=0),\"\",MAX($I$2:I1350)-I1350)","v":""},"",0,10000,0,{"$f":"IF(B1350>0,WEEKNUM(TEXT(Definice!$F$3,\"0000\")&\".\"&TEXT(J1350,\"00\")&\".\"&RIGHT(TEXT(B1350,\"0000\"),2)),0)","v":0}]
[1349,null,null,null,null,{"$f":"IF(OR(MAX($I$2:I1351)-I1351=0,D1351=0),\"\",MAX($I$2:I1351)-I1351)","v":""},"",0,10000,0,{"$f":"IF(B1351>0,WEEKNUM(TEXT(Definice!$F$3,\"0000\")&\".\"&TEXT(J1351,\"00\")&\".\"&RIGHT(TEXT(B1351,\"0000\"),2)),0)","v":0}]
[1350,null,null,null,null,{"$f":"IF(OR(MAX($I$2:I1352)-I1352=0,D1352=0),\"\",MAX($I$2:I1352)-I1352)","v":""},"",0,10000,0,{"$f":"IF(B1352>0,WEEKNUM(TEXT(Definice!$F$3,\"0000\")&\".\"&TEXT(J1352,\"00\")&\".\"&RIGHT(TEXT(B1352,\"0000\"),2)),0)","v":0}]
[1351,null,null,null,null,{"$f":"IF(OR(MAX($I$2:I1353)-I1353=0,D1353=0),\"\",MAX($I$2:I1353)-I1353)","v":""},"",0,10000,0,{"$f":"IF(B1353>0,WEEKNUM(TEXT(Definice!$F$3,\"0000\")&\".\"&TEXT(J1353,\"00\")&\".\"&RIGHT(TEXT(B1353,\"0000\"),2)),0)","v":0}]
[1352,null,null,null,null,{"$f":"IF(OR(MAX($I$2:I1354)-I1354=0,D1354=0),\"\",MAX($I$2:I1354)-I1354)","v":""},"",0,10000,0,{"$f":"IF(B1354>0,WEEKNUM(TEXT(Definice!$F$3,\"0000\")&\".\"&TEXT(J1354,\"00\")&\".\"&RIGHT(TEXT(B1354,\"0000\"),2)),0)","v":0}]
[1353,null,null,null,null,{"$f":"IF(OR(MAX($I$2:I1355)-I1355=0,D1355=0),\"\",MAX($I$2:I1355)-I1355)","v":""},"",0,10000,0,{"$f":"IF(B1355>0,WEEKNUM(TEXT(Definice!$F$3,\"0000\")&\".\"&TEXT(J1355,\"00\")&\".\"&RIGHT(TEXT(B1355,\"0000\"),2)),0)","v":0}]
[1354,null,null,null,null,{"$f":"IF(OR(MAX($I$2:I1356)-I1356=0,D1356=0),\"\",MAX($I$2:I1356)-I1356)","v":""},"",0,10000,0,{"$f":"IF(B1356>0,WEEKNUM(TEXT(Definice!$F$3,\"0000\")&\".\"&TEXT(J1356,\"00\")&\".\"&RIGHT(TEXT(B1356,\"0000\"),2)),0)","v":0}]
[1355,null,null,null,null,{"$f":"IF(OR(MAX($I$2:I1357)-I1357=0,D1357=0),\"\",MAX($I$2:I1357)-I1357)","v":""},"",0,10000,0,{"$f":"IF(B1357>0,WEEKNUM(TEXT(Definice!$F$3,\"0000\")&\".\"&TEXT(J1357,\"00\")&\".\"&RIGHT(TEXT(B1357,\"0000\"),2)),0)","v":0}]
[1356,null,null,null,null,{"$f":"IF(OR(MAX($I$2:I1358)-I1358=0,D1358=0),\"\",MAX($I$2:I1358)-I1358)","v":""},"",0,10000,0,{"$f":"IF(B1358>0,WEEKNUM(TEXT(Definice!$F$3,\"0000\")&\".\"&TEXT(J1358,\"00\")&\".\"&RIGHT(TEXT(B1358,\"0000\"),2)),0)","v":0}]
[1357,null,null,null,null,{"$f":"IF(OR(MAX($I$2:I1359)-I1359=0,D1359=0),\"\",MAX($I$2:I1359)-I1359)","v":""},"",0,10000,0,{"$f":"IF(B1359>0,WEEKNUM(TEXT(Definice!$F$3,\"0000\")&\".\"&TEXT(J1359,\"00\")&\".\"&RIGHT(TEXT(B1359,\"0000\"),2)),0)","v":0}]
[1358,null,null,null,null,{"$f":"IF(OR(MAX($I$2:I1360)-I1360=0,D1360=0),\"\",MAX($I$2:I1360)-I1360)","v":""},"",0,10000,0,{"$f":"IF(B1360>0,WEEKNUM(TEXT(Definice!$F$3,\"0000\")&\".\"&TEXT(J1360,\"00\")&\".\"&RIGHT(TEXT(B1360,\"0000\"),2)),0)","v":0}]
[1359,null,null,null,null,{"$f":"IF(OR(MAX($I$2:I1361)-I1361=0,D1361=0),\"\",MAX($I$2:I1361)-I1361)","v":""},"",0,10000,0,{"$f":"IF(B1361>0,WEEKNUM(TEXT(Definice!$F$3,\"0000\")&\".\"&TEXT(J1361,\"00\")&\".\"&RIGHT(TEXT(B1361,\"0000\"),2)),0)","v":0}]
[1360,null,null,null,null,{"$f":"IF(OR(MAX($I$2:I1362)-I1362=0,D1362=0),\"\",MAX($I$2:I1362)-I1362)","v":""},"",0,10000,0,{"$f":"IF(B1362>0,WEEKNUM(TEXT(Definice!$F$3,\"0000\")&\".\"&TEXT(J1362,\"00\")&\".\"&RIGHT(TEXT(B1362,\"0000\"),2)),0)","v":0}]
[1361,null,null,null,null,{"$f":"IF(OR(MAX($I$2:I1363)-I1363=0,D1363=0),\"\",MAX($I$2:I1363)-I1363)","v":""},"",0,10000,0,{"$f":"IF(B1363>0,WEEKNUM(TEXT(Definice!$F$3,\"0000\")&\".\"&TEXT(J1363,\"00\")&\".\"&RIGHT(TEXT(B1363,\"0000\"),2)),0)","v":0}]
[1362,null,null,null,null,{"$f":"IF(OR(MAX($I$2:I1364)-I1364=0,D1364=0),\"\",MAX($I$2:I1364)-I1364)","v":""},"",0,10000,0,{"$f":"IF(B1364>0,WEEKNUM(TEXT(Definice!$F$3,\"0000\")&\".\"&TEXT(J1364,\"00\")&\".\"&RIGHT(TEXT(B1364,\"0000\"),2)),0)","v":0}]
[1363,null,null,null,null,{"$f":"IF(OR(MAX($I$2:I1365)-I1365=0,D1365=0),\"\",MAX($I$2:I1365)-I1365)","v":""},"",0,10000,0,{"$f":"IF(B1365>0,WEEKNUM(TEXT(Definice!$F$3,\"0000\")&\".\"&TEXT(J1365,\"00\")&\".\"&RIGHT(TEXT(B1365,\"0000\"),2)),0)","v":0}]
[1364,null,null,null,null,{"$f":"IF(OR(MAX($I$2:I1366)-I1366=0,D1366=0),\"\",MAX($I$2:I1366)-I1366)","v":""},"",0,10000,0,{"$f":"IF(B1366>0,WEEKNUM(TEXT(Definice!$F$3,\"0000\")&\".\"&TEXT(J1366,\"00\")&\".\"&RIGHT(TEXT(B1366,\"0000\"),2)),0)","v":0}]
[1365,null,null,null,null,{"$f":"IF(OR(MAX($I$2:I1367)-I1367=0,D1367=0),\"\",MAX($I$2:I1367)-I1367)","v":""},"",0,10000,0,{"$f":"IF(B1367>0,WEEKNUM(TEXT(Definice!$F$3,\"0000\")&\".\"&TEXT(J1367,\"00\")&\".\"&RIGHT(TEXT(B1367,\"0000\"),2)),0)","v":0}]
[1366,null,null,null,null,{"$f":"IF(OR(MAX($I$2:I1368)-I1368=0,D1368=0),\"\",MAX($I$2:I1368)-I1368)","v":""},"",0,10000,0,{"$f":"IF(B1368>0,WEEKNUM(TEXT(Definice!$F$3,\"0000\")&\".\"&TEXT(J1368,\"00\")&\".\"&RIGHT(TEXT(B1368,\"0000\"),2)),0)","v":0}]
[1367,null,null,null,null,{"$f":"IF(OR(MAX($I$2:I1369)-I1369=0,D1369=0),\"\",MAX($I$2:I1369)-I1369)","v":""},"",0,10000,0,{"$f":"IF(B1369>0,WEEKNUM(TEXT(Definice!$F$3,\"0000\")&\".\"&TEXT(J1369,\"00\")&\".\"&RIGHT(TEXT(B1369,\"0000\"),2)),0)","v":0}]
[1368,null,null,null,null,{"$f":"IF(OR(MAX($I$2:I1370)-I1370=0,D1370=0),\"\",MAX($I$2:I1370)-I1370)","v":""},"",0,10000,0,{"$f":"IF(B1370>0,WEEKNUM(TEXT(Definice!$F$3,\"0000\")&\".\"&TEXT(J1370,\"00\")&\".\"&RIGHT(TEXT(B1370,\"0000\"),2)),0)","v":0}]
[1369,null,null,null,null,{"$f":"IF(OR(MAX($I$2:I1371)-I1371=0,D1371=0),\"\",MAX($I$2:I1371)-I1371)","v":""},"",0,10000,0,{"$f":"IF(B1371>0,WEEKNUM(TEXT(Definice!$F$3,\"0000\")&\".\"&TEXT(J1371,\"00\")&\".\"&RIGHT(TEXT(B1371,\"0000\"),2)),0)","v":0}]
[1370,null,null,null,null,{"$f":"IF(OR(MAX($I$2:I1372)-I1372=0,D1372=0),\"\",MAX($I$2:I1372)-I1372)","v":""},"",0,10000,0,{"$f":"IF(B1372>0,WEEKNUM(TEXT(Definice!$F$3,\"0000\")&\".\"&TEXT(J1372,\"00\")&\".\"&RIGHT(TEXT(B1372,\"0000\"),2)),0)","v":0}]
[1371,null,null,null,null,{"$f":"IF(OR(MAX($I$2:I1373)-I1373=0,D1373=0),\"\",MAX($I$2:I1373)-I1373)","v":""},"",0,10000,0,{"$f":"IF(B1373>0,WEEKNUM(TEXT(Definice!$F$3,\"0000\")&\".\"&TEXT(J1373,\"00\")&\".\"&RIGHT(TEXT(B1373,\"0000\"),2)),0)","v":0}]
[1372,null,null,null,null,{"$f":"IF(OR(MAX($I$2:I1374)-I1374=0,D1374=0),\"\",MAX($I$2:I1374)-I1374)","v":""},"",0,10000,0,{"$f":"IF(B1374>0,WEEKNUM(TEXT(Definice!$F$3,\"0000\")&\".\"&TEXT(J1374,\"00\")&\".\"&RIGHT(TEXT(B1374,\"0000\"),2)),0)","v":0}]
[1373,null,null,null,null,{"$f":"IF(OR(MAX($I$2:I1375)-I1375=0,D1375=0),\"\",MAX($I$2:I1375)-I1375)","v":""},"",0,10000,0,{"$f":"IF(B1375>0,WEEKNUM(TEXT(Definice!$F$3,\"0000\")&\".\"&TEXT(J1375,\"00\")&\".\"&RIGHT(TEXT(B1375,\"0000\"),2)),0)","v":0}]
[1374,null,null,null,null,{"$f":"IF(OR(MAX($I$2:I1376)-I1376=0,D1376=0),\"\",MAX($I$2:I1376)-I1376)","v":""},"",0,10000,0,{"$f":"IF(B1376>0,WEEKNUM(TEXT(Definice!$F$3,\"0000\")&\".\"&TEXT(J1376,\"00\")&\".\"&RIGHT(TEXT(B1376,\"0000\"),2)),0)","v":0}]
[1375,null,null,null,null,{"$f":"IF(OR(MAX($I$2:I1377)-I1377=0,D1377=0),\"\",MAX($I$2:I1377)-I1377)","v":""},"",0,10000,0,{"$f":"IF(B1377>0,WEEKNUM(TEXT(Definice!$F$3,\"0000\")&\".\"&TEXT(J1377,\"00\")&\".\"&RIGHT(TEXT(B1377,\"0000\"),2)),0)","v":0}]
[1376,null,null,null,null,{"$f":"IF(OR(MAX($I$2:I1378)-I1378=0,D1378=0),\"\",MAX($I$2:I1378)-I1378)","v":""},"",0,10000,0,{"$f":"IF(B1378>0,WEEKNUM(TEXT(Definice!$F$3,\"0000\")&\".\"&TEXT(J1378,\"00\")&\".\"&RIGHT(TEXT(B1378,\"0000\"),2)),0)","v":0}]
[1377,null,null,null,null,{"$f":"IF(OR(MAX($I$2:I1379)-I1379=0,D1379=0),\"\",MAX($I$2:I1379)-I1379)","v":""},"",0,10000,0,{"$f":"IF(B1379>0,WEEKNUM(TEXT(Definice!$F$3,\"0000\")&\".\"&TEXT(J1379,\"00\")&\".\"&RIGHT(TEXT(B1379,\"0000\"),2)),0)","v":0}]
[1378,null,null,null,null,{"$f":"IF(OR(MAX($I$2:I1380)-I1380=0,D1380=0),\"\",MAX($I$2:I1380)-I1380)","v":""},"",0,10000,0,{"$f":"IF(B1380>0,WEEKNUM(TEXT(Definice!$F$3,\"0000\")&\".\"&TEXT(J1380,\"00\")&\".\"&RIGHT(TEXT(B1380,\"0000\"),2)),0)","v":0}]
[1379,null,null,null,null,{"$f":"IF(OR(MAX($I$2:I1381)-I1381=0,D1381=0),\"\",MAX($I$2:I1381)-I1381)","v":""},"",0,10000,0,{"$f":"IF(B1381>0,WEEKNUM(TEXT(Definice!$F$3,\"0000\")&\".\"&TEXT(J1381,\"00\")&\".\"&RIGHT(TEXT(B1381,\"0000\"),2)),0)","v":0}]
[1380,null,null,null,null,{"$f":"IF(OR(MAX($I$2:I1382)-I1382=0,D1382=0),\"\",MAX($I$2:I1382)-I1382)","v":""},"",0,10000,0,{"$f":"IF(B1382>0,WEEKNUM(TEXT(Definice!$F$3,\"0000\")&\".\"&TEXT(J1382,\"00\")&\".\"&RIGHT(TEXT(B1382,\"0000\"),2)),0)","v":0}]
[1381,null,null,null,null,{"$f":"IF(OR(MAX($I$2:I1383)-I1383=0,D1383=0),\"\",MAX($I$2:I1383)-I1383)","v":""},"",0,10000,0,{"$f":"IF(B1383>0,WEEKNUM(TEXT(Definice!$F$3,\"0000\")&\".\"&TEXT(J1383,\"00\")&\".\"&RIGHT(TEXT(B1383,\"0000\"),2)),0)","v":0}]
[1382,null,null,null,null,{"$f":"IF(OR(MAX($I$2:I1384)-I1384=0,D1384=0),\"\",MAX($I$2:I1384)-I1384)","v":""},"",0,10000,0,{"$f":"IF(B1384>0,WEEKNUM(TEXT(Definice!$F$3,\"0000\")&\".\"&TEXT(J1384,\"00\")&\".\"&RIGHT(TEXT(B1384,\"0000\"),2)),0)","v":0}]
[1383,null,null,null,null,{"$f":"IF(OR(MAX($I$2:I1385)-I1385=0,D1385=0),\"\",MAX($I$2:I1385)-I1385)","v":""},"",0,10000,0,{"$f":"IF(B1385>0,WEEKNUM(TEXT(Definice!$F$3,\"0000\")&\".\"&TEXT(J1385,\"00\")&\".\"&RIGHT(TEXT(B1385,\"0000\"),2)),0)","v":0}]
[1384,null,null,null,null,{"$f":"IF(OR(MAX($I$2:I1386)-I1386=0,D1386=0),\"\",MAX($I$2:I1386)-I1386)","v":""},"",0,10000,0,{"$f":"IF(B1386>0,WEEKNUM(TEXT(Definice!$F$3,\"0000\")&\".\"&TEXT(J1386,\"00\")&\".\"&RIGHT(TEXT(B1386,\"0000\"),2)),0)","v":0}]
[1385,null,null,null,null,{"$f":"IF(OR(MAX($I$2:I1387)-I1387=0,D1387=0),\"\",MAX($I$2:I1387)-I1387)","v":""},"",0,10000,0,{"$f":"IF(B1387>0,WEEKNUM(TEXT(Definice!$F$3,\"0000\")&\".\"&TEXT(J1387,\"00\")&\".\"&RIGHT(TEXT(B1387,\"0000\"),2)),0)","v":0}]
[1386,null,null,null,null,{"$f":"IF(OR(MAX($I$2:I1388)-I1388=0,D1388=0),\"\",MAX($I$2:I1388)-I1388)","v":""},"",0,10000,0,{"$f":"IF(B1388>0,WEEKNUM(TEXT(Definice!$F$3,\"0000\")&\".\"&TEXT(J1388,\"00\")&\".\"&RIGHT(TEXT(B1388,\"0000\"),2)),0)","v":0}]
[1387,null,null,null,null,{"$f":"IF(OR(MAX($I$2:I1389)-I1389=0,D1389=0),\"\",MAX($I$2:I1389)-I1389)","v":""},"",0,10000,0,{"$f":"IF(B1389>0,WEEKNUM(TEXT(Definice!$F$3,\"0000\")&\".\"&TEXT(J1389,\"00\")&\".\"&RIGHT(TEXT(B1389,\"0000\"),2)),0)","v":0}]
[1388,null,null,null,null,{"$f":"IF(OR(MAX($I$2:I1390)-I1390=0,D1390=0),\"\",MAX($I$2:I1390)-I1390)","v":""},"",0,10000,0,{"$f":"IF(B1390>0,WEEKNUM(TEXT(Definice!$F$3,\"0000\")&\".\"&TEXT(J1390,\"00\")&\".\"&RIGHT(TEXT(B1390,\"0000\"),2)),0)","v":0}]
[1389,null,null,null,null,{"$f":"IF(OR(MAX($I$2:I1391)-I1391=0,D1391=0),\"\",MAX($I$2:I1391)-I1391)","v":""},"",0,10000,0,{"$f":"IF(B1391>0,WEEKNUM(TEXT(Definice!$F$3,\"0000\")&\".\"&TEXT(J1391,\"00\")&\".\"&RIGHT(TEXT(B1391,\"0000\"),2)),0)","v":0}]
[1390,null,null,null,null,{"$f":"IF(OR(MAX($I$2:I1392)-I1392=0,D1392=0),\"\",MAX($I$2:I1392)-I1392)","v":""},"",0,10000,0,{"$f":"IF(B1392>0,WEEKNUM(TEXT(Definice!$F$3,\"0000\")&\".\"&TEXT(J1392,\"00\")&\".\"&RIGHT(TEXT(B1392,\"0000\"),2)),0)","v":0}]
[1391,null,null,null,null,{"$f":"IF(OR(MAX($I$2:I1393)-I1393=0,D1393=0),\"\",MAX($I$2:I1393)-I1393)","v":""},"",0,10000,0,{"$f":"IF(B1393>0,WEEKNUM(TEXT(Definice!$F$3,\"0000\")&\".\"&TEXT(J1393,\"00\")&\".\"&RIGHT(TEXT(B1393,\"0000\"),2)),0)","v":0}]
[1392,null,null,null,null,{"$f":"IF(OR(MAX($I$2:I1394)-I1394=0,D1394=0),\"\",MAX($I$2:I1394)-I1394)","v":""},"",0,10000,0,{"$f":"IF(B1394>0,WEEKNUM(TEXT(Definice!$F$3,\"0000\")&\".\"&TEXT(J1394,\"00\")&\".\"&RIGHT(TEXT(B1394,\"0000\"),2)),0)","v":0}]
[1393,null,null,null,null,{"$f":"IF(OR(MAX($I$2:I1395)-I1395=0,D1395=0),\"\",MAX($I$2:I1395)-I1395)","v":""},"",0,10000,0,{"$f":"IF(B1395>0,WEEKNUM(TEXT(Definice!$F$3,\"0000\")&\".\"&TEXT(J1395,\"00\")&\".\"&RIGHT(TEXT(B1395,\"0000\"),2)),0)","v":0}]
[1394,null,null,null,null,{"$f":"IF(OR(MAX($I$2:I1396)-I1396=0,D1396=0),\"\",MAX($I$2:I1396)-I1396)","v":""},"",0,10000,0,{"$f":"IF(B1396>0,WEEKNUM(TEXT(Definice!$F$3,\"0000\")&\".\"&TEXT(J1396,\"00\")&\".\"&RIGHT(TEXT(B1396,\"0000\"),2)),0)","v":0}]
[1395,null,null,null,null,{"$f":"IF(OR(MAX($I$2:I1397)-I1397=0,D1397=0),\"\",MAX($I$2:I1397)-I1397)","v":""},"",0,10000,0,{"$f":"IF(B1397>0,WEEKNUM(TEXT(Definice!$F$3,\"0000\")&\".\"&TEXT(J1397,\"00\")&\".\"&RIGHT(TEXT(B1397,\"0000\"),2)),0)","v":0}]
[1396,null,null,null,null,{"$f":"IF(OR(MAX($I$2:I1398)-I1398=0,D1398=0),\"\",MAX($I$2:I1398)-I1398)","v":""},"",0,10000,0,{"$f":"IF(B1398>0,WEEKNUM(TEXT(Definice!$F$3,\"0000\")&\".\"&TEXT(J1398,\"00\")&\".\"&RIGHT(TEXT(B1398,\"0000\"),2)),0)","v":0}]
[1397,null,null,null,null,{"$f":"IF(OR(MAX($I$2:I1399)-I1399=0,D1399=0),\"\",MAX($I$2:I1399)-I1399)","v":""},"",0,10000,0,{"$f":"IF(B1399>0,WEEKNUM(TEXT(Definice!$F$3,\"0000\")&\".\"&TEXT(J1399,\"00\")&\".\"&RIGHT(TEXT(B1399,\"0000\"),2)),0)","v":0}]
[1398,null,null,null,null,{"$f":"IF(OR(MAX($I$2:I1400)-I1400=0,D1400=0),\"\",MAX($I$2:I1400)-I1400)","v":""},"",0,10000,0,{"$f":"IF(B1400>0,WEEKNUM(TEXT(Definice!$F$3,\"0000\")&\".\"&TEXT(J1400,\"00\")&\".\"&RIGHT(TEXT(B1400,\"0000\"),2)),0)","v":0}]
[1399,null,null,null,null,{"$f":"IF(OR(MAX($I$2:I1401)-I1401=0,D1401=0),\"\",MAX($I$2:I1401)-I1401)","v":""},"",0,10000,0,{"$f":"IF(B1401>0,WEEKNUM(TEXT(Definice!$F$3,\"0000\")&\".\"&TEXT(J1401,\"00\")&\".\"&RIGHT(TEXT(B1401,\"0000\"),2)),0)","v":0}]
[1400,null,null,null,null,{"$f":"IF(OR(MAX($I$2:I1402)-I1402=0,D1402=0),\"\",MAX($I$2:I1402)-I1402)","v":""},"",0,10000,0,{"$f":"IF(B1402>0,WEEKNUM(TEXT(Definice!$F$3,\"0000\")&\".\"&TEXT(J1402,\"00\")&\".\"&RIGHT(TEXT(B1402,\"0000\"),2)),0)","v":0}]
[1401,null,null,null,null,{"$f":"IF(OR(MAX($I$2:I1403)-I1403=0,D1403=0),\"\",MAX($I$2:I1403)-I1403)","v":""},"",0,10000,0,{"$f":"IF(B1403>0,WEEKNUM(TEXT(Definice!$F$3,\"0000\")&\".\"&TEXT(J1403,\"00\")&\".\"&RIGHT(TEXT(B1403,\"0000\"),2)),0)","v":0}]
[1402,null,null,null,null,{"$f":"IF(OR(MAX($I$2:I1404)-I1404=0,D1404=0),\"\",MAX($I$2:I1404)-I1404)","v":""},"",0,10000,0,{"$f":"IF(B1404>0,WEEKNUM(TEXT(Definice!$F$3,\"0000\")&\".\"&TEXT(J1404,\"00\")&\".\"&RIGHT(TEXT(B1404,\"0000\"),2)),0)","v":0}]
[1403,null,null,null,null,{"$f":"IF(OR(MAX($I$2:I1405)-I1405=0,D1405=0),\"\",MAX($I$2:I1405)-I1405)","v":""},"",0,10000,0,{"$f":"IF(B1405>0,WEEKNUM(TEXT(Definice!$F$3,\"0000\")&\".\"&TEXT(J1405,\"00\")&\".\"&RIGHT(TEXT(B1405,\"0000\"),2)),0)","v":0}]
[1404,null,null,null,null,{"$f":"IF(OR(MAX($I$2:I1406)-I1406=0,D1406=0),\"\",MAX($I$2:I1406)-I1406)","v":""},"",0,10000,0,{"$f":"IF(B1406>0,WEEKNUM(TEXT(Definice!$F$3,\"0000\")&\".\"&TEXT(J1406,\"00\")&\".\"&RIGHT(TEXT(B1406,\"0000\"),2)),0)","v":0}]
[1405,null,null,null,null,{"$f":"IF(OR(MAX($I$2:I1407)-I1407=0,D1407=0),\"\",MAX($I$2:I1407)-I1407)","v":""},"",0,10000,0,{"$f":"IF(B1407>0,WEEKNUM(TEXT(Definice!$F$3,\"0000\")&\".\"&TEXT(J1407,\"00\")&\".\"&RIGHT(TEXT(B1407,\"0000\"),2)),0)","v":0}]
[1406,null,null,null,null,{"$f":"IF(OR(MAX($I$2:I1408)-I1408=0,D1408=0),\"\",MAX($I$2:I1408)-I1408)","v":""},"",0,10000,0,{"$f":"IF(B1408>0,WEEKNUM(TEXT(Definice!$F$3,\"0000\")&\".\"&TEXT(J1408,\"00\")&\".\"&RIGHT(TEXT(B1408,\"0000\"),2)),0)","v":0}]
[1407,null,null,null,null,{"$f":"IF(OR(MAX($I$2:I1409)-I1409=0,D1409=0),\"\",MAX($I$2:I1409)-I1409)","v":""},"",0,10000,0,{"$f":"IF(B1409>0,WEEKNUM(TEXT(Definice!$F$3,\"0000\")&\".\"&TEXT(J1409,\"00\")&\".\"&RIGHT(TEXT(B1409,\"0000\"),2)),0)","v":0}]
[1408,null,null,null,null,{"$f":"IF(OR(MAX($I$2:I1410)-I1410=0,D1410=0),\"\",MAX($I$2:I1410)-I1410)","v":""},"",0,10000,0,{"$f":"IF(B1410>0,WEEKNUM(TEXT(Definice!$F$3,\"0000\")&\".\"&TEXT(J1410,\"00\")&\".\"&RIGHT(TEXT(B1410,\"0000\"),2)),0)","v":0}]
[1409,null,null,null,null,{"$f":"IF(OR(MAX($I$2:I1411)-I1411=0,D1411=0),\"\",MAX($I$2:I1411)-I1411)","v":""},"",0,10000,0,{"$f":"IF(B1411>0,WEEKNUM(TEXT(Definice!$F$3,\"0000\")&\".\"&TEXT(J1411,\"00\")&\".\"&RIGHT(TEXT(B1411,\"0000\"),2)),0)","v":0}]
[1410,null,null,null,null,{"$f":"IF(OR(MAX($I$2:I1412)-I1412=0,D1412=0),\"\",MAX($I$2:I1412)-I1412)","v":""},"",0,10000,{"$f":"((INT(B1412/100)/100)-INT(INT(B1412/100)/100))*100","v":0},{"$f":"IF(B1412>0,WEEKNUM(TEXT(Definice!$F$3,\"0000\")&\".\"&TEXT(J1412,\"00\")&\".\"&RIGHT(TEXT(B1412,\"0000\"),2)),0)","v":0}]
[1411,null,null,null,null,{"$f":"IF(OR(MAX($I$2:I1413)-I1413=0,D1413=0),\"\",MAX($I$2:I1413)-I1413)","v":""},{"$f":"IF(F1413=\"\",\"\",F1413/(H1413+I1412))","v":""},{"$f":"H1412+E1413","v":0},{"$f":"I1412+E1413","v":10000},0,{"$f":"IF(B1413>0,WEEKNUM(TEXT(Definice!$F$3,\"0000\")&\".\"&TEXT(J1413,\"00\")&\".\"&RIGHT(TEXT(B1413,\"0000\"),2)),0)","v":0}]
[1412,null,null,null,null,{"$f":"IF(OR(MAX($I$2:I1414)-I1414=0,D1414=0),\"\",MAX($I$2:I1414)-I1414)","v":""},"",0,10000,0,{"$f":"IF(B1414>0,WEEKNUM(TEXT(Definice!$F$3,\"0000\")&\".\"&TEXT(J1414,\"00\")&\".\"&RIGHT(TEXT(B1414,\"0000\"),2)),0)","v":0}]
[1413,null,null,null,null,{"$f":"IF(OR(MAX($I$2:I1415)-I1415=0,D1415=0),\"\",MAX($I$2:I1415)-I1415)","v":""},"",0,10000,0,{"$f":"IF(B1415>0,WEEKNUM(TEXT(Definice!$F$3,\"0000\")&\".\"&TEXT(J1415,\"00\")&\".\"&RIGHT(TEXT(B1415,\"0000\"),2)),0)","v":0}]
[1414,null,null,null,null,{"$f":"IF(OR(MAX($I$2:I1416)-I1416=0,D1416=0),\"\",MAX($I$2:I1416)-I1416)","v":""},"",0,10000,0,{"$f":"IF(B1416>0,WEEKNUM(TEXT(Definice!$F$3,\"0000\")&\".\"&TEXT(J1416,\"00\")&\".\"&RIGHT(TEXT(B1416,\"0000\"),2)),0)","v":0}]
[1415,null,null,null,null,{"$f":"IF(OR(MAX($I$2:I1417)-I1417=0,D1417=0),\"\",MAX($I$2:I1417)-I1417)","v":""},"",0,10000,0,{"$f":"IF(B1417>0,WEEKNUM(TEXT(Definice!$F$3,\"0000\")&\".\"&TEXT(J1417,\"00\")&\".\"&RIGHT(TEXT(B1417,\"0000\"),2)),0)","v":0}]
[1416,null,null,null,null,{"$f":"IF(OR(MAX($I$2:I1418)-I1418=0,D1418=0),\"\",MAX($I$2:I1418)-I1418)","v":""},"",0,10000,0,{"$f":"IF(B1418>0,WEEKNUM(TEXT(Definice!$F$3,\"0000\")&\".\"&TEXT(J1418,\"00\")&\".\"&RIGHT(TEXT(B1418,\"0000\"),2)),0)","v":0}]
[1417,null,null,null,null,{"$f":"IF(OR(MAX($I$2:I1419)-I1419=0,D1419=0),\"\",MAX($I$2:I1419)-I1419)","v":""},"",0,10000,0,{"$f":"IF(B1419>0,WEEKNUM(TEXT(Definice!$F$3,\"0000\")&\".\"&TEXT(J1419,\"00\")&\".\"&RIGHT(TEXT(B1419,\"0000\"),2)),0)","v":0}]
[1418,null,null,null,null,{"$f":"IF(OR(MAX($I$2:I1420)-I1420=0,D1420=0),\"\",MAX($I$2:I1420)-I1420)","v":""},"",0,10000,0,{"$f":"IF(B1420>0,WEEKNUM(TEXT(Definice!$F$3,\"0000\")&\".\"&TEXT(J1420,\"00\")&\".\"&RIGHT(TEXT(B1420,\"0000\"),2)),0)","v":0}]
[1419,null,null,null,null,{"$f":"IF(OR(MAX($I$2:I1421)-I1421=0,D1421=0),\"\",MAX($I$2:I1421)-I1421)","v":""},"",0,10000,0,{"$f":"IF(B1421>0,WEEKNUM(TEXT(Definice!$F$3,\"0000\")&\".\"&TEXT(J1421,\"00\")&\".\"&RIGHT(TEXT(B1421,\"0000\"),2)),0)","v":0}]
[1420,null,null,null,null,{"$f":"IF(OR(MAX($I$2:I1422)-I1422=0,D1422=0),\"\",MAX($I$2:I1422)-I1422)","v":""},"",0,10000,0,{"$f":"IF(B1422>0,WEEKNUM(TEXT(Definice!$F$3,\"0000\")&\".\"&TEXT(J1422,\"00\")&\".\"&RIGHT(TEXT(B1422,\"0000\"),2)),0)","v":0}]
[1421,null,null,null,null,{"$f":"IF(OR(MAX($I$2:I1423)-I1423=0,D1423=0),\"\",MAX($I$2:I1423)-I1423)","v":""},"",0,10000,0,{"$f":"IF(B1423>0,WEEKNUM(TEXT(Definice!$F$3,\"0000\")&\".\"&TEXT(J1423,\"00\")&\".\"&RIGHT(TEXT(B1423,\"0000\"),2)),0)","v":0}]
[1422,null,null,null,null,{"$f":"IF(OR(MAX($I$2:I1424)-I1424=0,D1424=0),\"\",MAX($I$2:I1424)-I1424)","v":""},"",0,10000,0,{"$f":"IF(B1424>0,WEEKNUM(TEXT(Definice!$F$3,\"0000\")&\".\"&TEXT(J1424,\"00\")&\".\"&RIGHT(TEXT(B1424,\"0000\"),2)),0)","v":0}]
[1423,null,null,null,null,{"$f":"IF(OR(MAX($I$2:I1425)-I1425=0,D1425=0),\"\",MAX($I$2:I1425)-I1425)","v":""},"",0,10000,0,{"$f":"IF(B1425>0,WEEKNUM(TEXT(Definice!$F$3,\"0000\")&\".\"&TEXT(J1425,\"00\")&\".\"&RIGHT(TEXT(B1425,\"0000\"),2)),0)","v":0}]
[1424,null,null,null,null,{"$f":"IF(OR(MAX($I$2:I1426)-I1426=0,D1426=0),\"\",MAX($I$2:I1426)-I1426)","v":""},"",0,10000,0,{"$f":"IF(B1426>0,WEEKNUM(TEXT(Definice!$F$3,\"0000\")&\".\"&TEXT(J1426,\"00\")&\".\"&RIGHT(TEXT(B1426,\"0000\"),2)),0)","v":0}]
[1425,null,null,null,null,{"$f":"IF(OR(MAX($I$2:I1427)-I1427=0,D1427=0),\"\",MAX($I$2:I1427)-I1427)","v":""},"",0,10000,0,{"$f":"IF(B1427>0,WEEKNUM(TEXT(Definice!$F$3,\"0000\")&\".\"&TEXT(J1427,\"00\")&\".\"&RIGHT(TEXT(B1427,\"0000\"),2)),0)","v":0}]
[1426,null,null,null,null,{"$f":"IF(OR(MAX($I$2:I1428)-I1428=0,D1428=0),\"\",MAX($I$2:I1428)-I1428)","v":""},"",0,10000,0,{"$f":"IF(B1428>0,WEEKNUM(TEXT(Definice!$F$3,\"0000\")&\".\"&TEXT(J1428,\"00\")&\".\"&RIGHT(TEXT(B1428,\"0000\"),2)),0)","v":0}]
[1427,null,null,null,null,{"$f":"IF(OR(MAX($I$2:I1429)-I1429=0,D1429=0),\"\",MAX($I$2:I1429)-I1429)","v":""},"",0,10000,0,{"$f":"IF(B1429>0,WEEKNUM(TEXT(Definice!$F$3,\"0000\")&\".\"&TEXT(J1429,\"00\")&\".\"&RIGHT(TEXT(B1429,\"0000\"),2)),0)","v":0}]
[1428,null,null,null,null,{"$f":"IF(OR(MAX($I$2:I1430)-I1430=0,D1430=0),\"\",MAX($I$2:I1430)-I1430)","v":""},"",0,10000,0,{"$f":"IF(B1430>0,WEEKNUM(TEXT(Definice!$F$3,\"0000\")&\".\"&TEXT(J1430,\"00\")&\".\"&RIGHT(TEXT(B1430,\"0000\"),2)),0)","v":0}]
[1429,null,null,null,null,{"$f":"IF(OR(MAX($I$2:I1431)-I1431=0,D1431=0),\"\",MAX($I$2:I1431)-I1431)","v":""},"",0,10000,0,{"$f":"IF(B1431>0,WEEKNUM(TEXT(Definice!$F$3,\"0000\")&\".\"&TEXT(J1431,\"00\")&\".\"&RIGHT(TEXT(B1431,\"0000\"),2)),0)","v":0}]
[1430,null,null,null,null,{"$f":"IF(OR(MAX($I$2:I1432)-I1432=0,D1432=0),\"\",MAX($I$2:I1432)-I1432)","v":""},"",0,10000,0,{"$f":"IF(B1432>0,WEEKNUM(TEXT(Definice!$F$3,\"0000\")&\".\"&TEXT(J1432,\"00\")&\".\"&RIGHT(TEXT(B1432,\"0000\"),2)),0)","v":0}]
[1431,null,null,null,null,{"$f":"IF(OR(MAX($I$2:I1433)-I1433=0,D1433=0),\"\",MAX($I$2:I1433)-I1433)","v":""},"",0,10000,0,{"$f":"IF(B1433>0,WEEKNUM(TEXT(Definice!$F$3,\"0000\")&\".\"&TEXT(J1433,\"00\")&\".\"&RIGHT(TEXT(B1433,\"0000\"),2)),0)","v":0}]
[1432,null,null,null,null,{"$f":"IF(OR(MAX($I$2:I1434)-I1434=0,D1434=0),\"\",MAX($I$2:I1434)-I1434)","v":""},"",0,10000,0,{"$f":"IF(B1434>0,WEEKNUM(TEXT(Definice!$F$3,\"0000\")&\".\"&TEXT(J1434,\"00\")&\".\"&RIGHT(TEXT(B1434,\"0000\"),2)),0)","v":0}]
[1433,null,null,null,null,{"$f":"IF(OR(MAX($I$2:I1435)-I1435=0,D1435=0),\"\",MAX($I$2:I1435)-I1435)","v":""},"",0,10000,0,{"$f":"IF(B1435>0,WEEKNUM(TEXT(Definice!$F$3,\"0000\")&\".\"&TEXT(J1435,\"00\")&\".\"&RIGHT(TEXT(B1435,\"0000\"),2)),0)","v":0}]
[1434,null,null,null,null,{"$f":"IF(OR(MAX($I$2:I1436)-I1436=0,D1436=0),\"\",MAX($I$2:I1436)-I1436)","v":""},"",0,10000,0,{"$f":"IF(B1436>0,WEEKNUM(TEXT(Definice!$F$3,\"0000\")&\".\"&TEXT(J1436,\"00\")&\".\"&RIGHT(TEXT(B1436,\"0000\"),2)),0)","v":0}]
[1435,null,null,null,null,{"$f":"IF(OR(MAX($I$2:I1437)-I1437=0,D1437=0),\"\",MAX($I$2:I1437)-I1437)","v":""},"",0,10000,0,{"$f":"IF(B1437>0,WEEKNUM(TEXT(Definice!$F$3,\"0000\")&\".\"&TEXT(J1437,\"00\")&\".\"&RIGHT(TEXT(B1437,\"0000\"),2)),0)","v":0}]
[1436,null,null,null,null,{"$f":"IF(OR(MAX($I$2:I1438)-I1438=0,D1438=0),\"\",MAX($I$2:I1438)-I1438)","v":""},"",0,10000,0,{"$f":"IF(B1438>0,WEEKNUM(TEXT(Definice!$F$3,\"0000\")&\".\"&TEXT(J1438,\"00\")&\".\"&RIGHT(TEXT(B1438,\"0000\"),2)),0)","v":0}]
[1437,null,null,null,null,{"$f":"IF(OR(MAX($I$2:I1439)-I1439=0,D1439=0),\"\",MAX($I$2:I1439)-I1439)","v":""},"",0,10000,0,{"$f":"IF(B1439>0,WEEKNUM(TEXT(Definice!$F$3,\"0000\")&\".\"&TEXT(J1439,\"00\")&\".\"&RIGHT(TEXT(B1439,\"0000\"),2)),0)","v":0}]
[1438,null,null,null,null,{"$f":"IF(OR(MAX($I$2:I1440)-I1440=0,D1440=0),\"\",MAX($I$2:I1440)-I1440)","v":""},"",0,10000,0,{"$f":"IF(B1440>0,WEEKNUM(TEXT(Definice!$F$3,\"0000\")&\".\"&TEXT(J1440,\"00\")&\".\"&RIGHT(TEXT(B1440,\"0000\"),2)),0)","v":0}]
[1439,null,null,null,null,{"$f":"IF(OR(MAX($I$2:I1441)-I1441=0,D1441=0),\"\",MAX($I$2:I1441)-I1441)","v":""},"",0,10000,0,{"$f":"IF(B1441>0,WEEKNUM(TEXT(Definice!$F$3,\"0000\")&\".\"&TEXT(J1441,\"00\")&\".\"&RIGHT(TEXT(B1441,\"0000\"),2)),0)","v":0}]
[1440,null,null,null,null,{"$f":"IF(OR(MAX($I$2:I1442)-I1442=0,D1442=0),\"\",MAX($I$2:I1442)-I1442)","v":""},"",0,10000,0,{"$f":"IF(B1442>0,WEEKNUM(TEXT(Definice!$F$3,\"0000\")&\".\"&TEXT(J1442,\"00\")&\".\"&RIGHT(TEXT(B1442,\"0000\"),2)),0)","v":0}]
[1441,null,null,null,null,{"$f":"IF(OR(MAX($I$2:I1443)-I1443=0,D1443=0),\"\",MAX($I$2:I1443)-I1443)","v":""},"",0,10000,0,{"$f":"IF(B1443>0,WEEKNUM(TEXT(Definice!$F$3,\"0000\")&\".\"&TEXT(J1443,\"00\")&\".\"&RIGHT(TEXT(B1443,\"0000\"),2)),0)","v":0}]
[1442,null,null,null,null,{"$f":"IF(OR(MAX($I$2:I1444)-I1444=0,D1444=0),\"\",MAX($I$2:I1444)-I1444)","v":""},"",0,10000,0,{"$f":"IF(B1444>0,WEEKNUM(TEXT(Definice!$F$3,\"0000\")&\".\"&TEXT(J1444,\"00\")&\".\"&RIGHT(TEXT(B1444,\"0000\"),2)),0)","v":0}]
[1443,null,null,null,null,{"$f":"IF(OR(MAX($I$2:I1445)-I1445=0,D1445=0),\"\",MAX($I$2:I1445)-I1445)","v":""},"",0,10000,0,{"$f":"IF(B1445>0,WEEKNUM(TEXT(Definice!$F$3,\"0000\")&\".\"&TEXT(J1445,\"00\")&\".\"&RIGHT(TEXT(B1445,\"0000\"),2)),0)","v":0}]
[1444,null,null,null,null,{"$f":"IF(OR(MAX($I$2:I1446)-I1446=0,D1446=0),\"\",MAX($I$2:I1446)-I1446)","v":""},"",0,10000,0,{"$f":"IF(B1446>0,WEEKNUM(TEXT(Definice!$F$3,\"0000\")&\".\"&TEXT(J1446,\"00\")&\".\"&RIGHT(TEXT(B1446,\"0000\"),2)),0)","v":0}]
[1445,null,null,null,null,{"$f":"IF(OR(MAX($I$2:I1447)-I1447=0,D1447=0),\"\",MAX($I$2:I1447)-I1447)","v":""},"",0,10000,0,{"$f":"IF(B1447>0,WEEKNUM(TEXT(Definice!$F$3,\"0000\")&\".\"&TEXT(J1447,\"00\")&\".\"&RIGHT(TEXT(B1447,\"0000\"),2)),0)","v":0}]
[1446,null,null,null,null,{"$f":"IF(OR(MAX($I$2:I1448)-I1448=0,D1448=0),\"\",MAX($I$2:I1448)-I1448)","v":""},"",0,10000,0,{"$f":"IF(B1448>0,WEEKNUM(TEXT(Definice!$F$3,\"0000\")&\".\"&TEXT(J1448,\"00\")&\".\"&RIGHT(TEXT(B1448,\"0000\"),2)),0)","v":0}]
[1447,null,null,null,null,{"$f":"IF(OR(MAX($I$2:I1449)-I1449=0,D1449=0),\"\",MAX($I$2:I1449)-I1449)","v":""},"",0,10000,0,{"$f":"IF(B1449>0,WEEKNUM(TEXT(Definice!$F$3,\"0000\")&\".\"&TEXT(J1449,\"00\")&\".\"&RIGHT(TEXT(B1449,\"0000\"),2)),0)","v":0}]
[1448,null,null,null,null,{"$f":"IF(OR(MAX($I$2:I1450)-I1450=0,D1450=0),\"\",MAX($I$2:I1450)-I1450)","v":""},"",0,10000,0,{"$f":"IF(B1450>0,WEEKNUM(TEXT(Definice!$F$3,\"0000\")&\".\"&TEXT(J1450,\"00\")&\".\"&RIGHT(TEXT(B1450,\"0000\"),2)),0)","v":0}]
[1449,null,null,null,null,{"$f":"IF(OR(MAX($I$2:I1451)-I1451=0,D1451=0),\"\",MAX($I$2:I1451)-I1451)","v":""},"",0,10000,0,{"$f":"IF(B1451>0,WEEKNUM(TEXT(Definice!$F$3,\"0000\")&\".\"&TEXT(J1451,\"00\")&\".\"&RIGHT(TEXT(B1451,\"0000\"),2)),0)","v":0}]
[1450,null,null,null,null,{"$f":"IF(OR(MAX($I$2:I1452)-I1452=0,D1452=0),\"\",MAX($I$2:I1452)-I1452)","v":""},"",0,10000,0,{"$f":"IF(B1452>0,WEEKNUM(TEXT(Definice!$F$3,\"0000\")&\".\"&TEXT(J1452,\"00\")&\".\"&RIGHT(TEXT(B1452,\"0000\"),2)),0)","v":0}]
[1451,null,null,null,null,{"$f":"IF(OR(MAX($I$2:I1453)-I1453=0,D1453=0),\"\",MAX($I$2:I1453)-I1453)","v":""},"",0,10000,0,{"$f":"IF(B1453>0,WEEKNUM(TEXT(Definice!$F$3,\"0000\")&\".\"&TEXT(J1453,\"00\")&\".\"&RIGHT(TEXT(B1453,\"0000\"),2)),0)","v":0}]
[1452,null,null,null,null,{"$f":"IF(OR(MAX($I$2:I1454)-I1454=0,D1454=0),\"\",MAX($I$2:I1454)-I1454)","v":""},"",0,10000,0,{"$f":"IF(B1454>0,WEEKNUM(TEXT(Definice!$F$3,\"0000\")&\".\"&TEXT(J1454,\"00\")&\".\"&RIGHT(TEXT(B1454,\"0000\"),2)),0)","v":0}]
[1453,null,null,null,null,{"$f":"IF(OR(MAX($I$2:I1455)-I1455=0,D1455=0),\"\",MAX($I$2:I1455)-I1455)","v":""},"",0,10000,0,{"$f":"IF(B1455>0,WEEKNUM(TEXT(Definice!$F$3,\"0000\")&\".\"&TEXT(J1455,\"00\")&\".\"&RIGHT(TEXT(B1455,\"0000\"),2)),0)","v":0}]
[1454,null,null,null,null,{"$f":"IF(OR(MAX($I$2:I1456)-I1456=0,D1456=0),\"\",MAX($I$2:I1456)-I1456)","v":""},"",0,10000,0,{"$f":"IF(B1456>0,WEEKNUM(TEXT(Definice!$F$3,\"0000\")&\".\"&TEXT(J1456,\"00\")&\".\"&RIGHT(TEXT(B1456,\"0000\"),2)),0)","v":0}]
[1455,null,null,null,null,{"$f":"IF(OR(MAX($I$2:I1457)-I1457=0,D1457=0),\"\",MAX($I$2:I1457)-I1457)","v":""},"",0,10000,0,{"$f":"IF(B1457>0,WEEKNUM(TEXT(Definice!$F$3,\"0000\")&\".\"&TEXT(J1457,\"00\")&\".\"&RIGHT(TEXT(B1457,\"0000\"),2)),0)","v":0}]
[1456,null,null,null,null,{"$f":"IF(OR(MAX($I$2:I1458)-I1458=0,D1458=0),\"\",MAX($I$2:I1458)-I1458)","v":""},"",0,10000,0,{"$f":"IF(B1458>0,WEEKNUM(TEXT(Definice!$F$3,\"0000\")&\".\"&TEXT(J1458,\"00\")&\".\"&RIGHT(TEXT(B1458,\"0000\"),2)),0)","v":0}]
[1457,null,null,null,null,{"$f":"IF(OR(MAX($I$2:I1459)-I1459=0,D1459=0),\"\",MAX($I$2:I1459)-I1459)","v":""},"",0,10000,0,{"$f":"IF(B1459>0,WEEKNUM(TEXT(Definice!$F$3,\"0000\")&\".\"&TEXT(J1459,\"00\")&\".\"&RIGHT(TEXT(B1459,\"0000\"),2)),0)","v":0}]
[1458,null,null,null,null,{"$f":"IF(OR(MAX($I$2:I1460)-I1460=0,D1460=0),\"\",MAX($I$2:I1460)-I1460)","v":""},"",0,10000,0,{"$f":"IF(B1460>0,WEEKNUM(TEXT(Definice!$F$3,\"0000\")&\".\"&TEXT(J1460,\"00\")&\".\"&RIGHT(TEXT(B1460,\"0000\"),2)),0)","v":0}]
[1459,null,null,null,null,{"$f":"IF(OR(MAX($I$2:I1461)-I1461=0,D1461=0),\"\",MAX($I$2:I1461)-I1461)","v":""},"",0,10000,0,{"$f":"IF(B1461>0,WEEKNUM(TEXT(Definice!$F$3,\"0000\")&\".\"&TEXT(J1461,\"00\")&\".\"&RIGHT(TEXT(B1461,\"0000\"),2)),0)","v":0}]
[1460,null,null,null,null,{"$f":"IF(OR(MAX($I$2:I1462)-I1462=0,D1462=0),\"\",MAX($I$2:I1462)-I1462)","v":""},"",0,10000,0,{"$f":"IF(B1462>0,WEEKNUM(TEXT(Definice!$F$3,\"0000\")&\".\"&TEXT(J1462,\"00\")&\".\"&RIGHT(TEXT(B1462,\"0000\"),2)),0)","v":0}]
[1461,null,null,null,null,{"$f":"IF(OR(MAX($I$2:I1463)-I1463=0,D1463=0),\"\",MAX($I$2:I1463)-I1463)","v":""},"",0,10000,0,{"$f":"IF(B1463>0,WEEKNUM(TEXT(Definice!$F$3,\"0000\")&\".\"&TEXT(J1463,\"00\")&\".\"&RIGHT(TEXT(B1463,\"0000\"),2)),0)","v":0}]
[1462,null,null,null,null,{"$f":"IF(OR(MAX($I$2:I1464)-I1464=0,D1464=0),\"\",MAX($I$2:I1464)-I1464)","v":""},"",0,10000,0,{"$f":"IF(B1464>0,WEEKNUM(TEXT(Definice!$F$3,\"0000\")&\".\"&TEXT(J1464,\"00\")&\".\"&RIGHT(TEXT(B1464,\"0000\"),2)),0)","v":0}]
[1463,null,null,null,null,{"$f":"IF(OR(MAX($I$2:I1465)-I1465=0,D1465=0),\"\",MAX($I$2:I1465)-I1465)","v":""},"",0,10000,0,{"$f":"IF(B1465>0,WEEKNUM(TEXT(Definice!$F$3,\"0000\")&\".\"&TEXT(J1465,\"00\")&\".\"&RIGHT(TEXT(B1465,\"0000\"),2)),0)","v":0}]
[1464,null,null,null,null,{"$f":"IF(OR(MAX($I$2:I1466)-I1466=0,D1466=0),\"\",MAX($I$2:I1466)-I1466)","v":""},"",0,10000,0,{"$f":"IF(B1466>0,WEEKNUM(TEXT(Definice!$F$3,\"0000\")&\".\"&TEXT(J1466,\"00\")&\".\"&RIGHT(TEXT(B1466,\"0000\"),2)),0)","v":0}]
[1465,null,null,null,null,{"$f":"IF(OR(MAX($I$2:I1467)-I1467=0,D1467=0),\"\",MAX($I$2:I1467)-I1467)","v":""},"",0,10000,0,{"$f":"IF(B1467>0,WEEKNUM(TEXT(Definice!$F$3,\"0000\")&\".\"&TEXT(J1467,\"00\")&\".\"&RIGHT(TEXT(B1467,\"0000\"),2)),0)","v":0}]
[1466,null,null,null,null,{"$f":"IF(OR(MAX($I$2:I1468)-I1468=0,D1468=0),\"\",MAX($I$2:I1468)-I1468)","v":""},"",0,10000,0,{"$f":"IF(B1468>0,WEEKNUM(TEXT(Definice!$F$3,\"0000\")&\".\"&TEXT(J1468,\"00\")&\".\"&RIGHT(TEXT(B1468,\"0000\"),2)),0)","v":0}]
[1467,null,null,null,null,{"$f":"IF(OR(MAX($I$2:I1469)-I1469=0,D1469=0),\"\",MAX($I$2:I1469)-I1469)","v":""},"",0,10000,0,{"$f":"IF(B1469>0,WEEKNUM(TEXT(Definice!$F$3,\"0000\")&\".\"&TEXT(J1469,\"00\")&\".\"&RIGHT(TEXT(B1469,\"0000\"),2)),0)","v":0}]
[1468,null,null,null,null,{"$f":"IF(OR(MAX($I$2:I1470)-I1470=0,D1470=0),\"\",MAX($I$2:I1470)-I1470)","v":""},"",0,10000,0,{"$f":"IF(B1470>0,WEEKNUM(TEXT(Definice!$F$3,\"0000\")&\".\"&TEXT(J1470,\"00\")&\".\"&RIGHT(TEXT(B1470,\"0000\"),2)),0)","v":0}]
[1469,null,null,null,null,{"$f":"IF(OR(MAX($I$2:I1471)-I1471=0,D1471=0),\"\",MAX($I$2:I1471)-I1471)","v":""},"",0,10000,0,{"$f":"IF(B1471>0,WEEKNUM(TEXT(Definice!$F$3,\"0000\")&\".\"&TEXT(J1471,\"00\")&\".\"&RIGHT(TEXT(B1471,\"0000\"),2)),0)","v":0}]
[1470,null,null,null,null,{"$f":"IF(OR(MAX($I$2:I1472)-I1472=0,D1472=0),\"\",MAX($I$2:I1472)-I1472)","v":""},"",0,10000,0,{"$f":"IF(B1472>0,WEEKNUM(TEXT(Definice!$F$3,\"0000\")&\".\"&TEXT(J1472,\"00\")&\".\"&RIGHT(TEXT(B1472,\"0000\"),2)),0)","v":0}]
[1471,null,null,null,null,{"$f":"IF(OR(MAX($I$2:I1473)-I1473=0,D1473=0),\"\",MAX($I$2:I1473)-I1473)","v":""},"",0,10000,0,{"$f":"IF(B1473>0,WEEKNUM(TEXT(Definice!$F$3,\"0000\")&\".\"&TEXT(J1473,\"00\")&\".\"&RIGHT(TEXT(B1473,\"0000\"),2)),0)","v":0}]
[1472,null,null,null,null,{"$f":"IF(OR(MAX($I$2:I1474)-I1474=0,D1474=0),\"\",MAX($I$2:I1474)-I1474)","v":""},"",0,10000,0,{"$f":"IF(B1474>0,WEEKNUM(TEXT(Definice!$F$3,\"0000\")&\".\"&TEXT(J1474,\"00\")&\".\"&RIGHT(TEXT(B1474,\"0000\"),2)),0)","v":0}]
[1473,null,null,null,null,{"$f":"IF(OR(MAX($I$2:I1475)-I1475=0,D1475=0),\"\",MAX($I$2:I1475)-I1475)","v":""},"",0,10000,0,{"$f":"IF(B1475>0,WEEKNUM(TEXT(Definice!$F$3,\"0000\")&\".\"&TEXT(J1475,\"00\")&\".\"&RIGHT(TEXT(B1475,\"0000\"),2)),0)","v":0}]
[1474,null,null,null,null,{"$f":"IF(OR(MAX($I$2:I1476)-I1476=0,D1476=0),\"\",MAX($I$2:I1476)-I1476)","v":""},"",0,10000,{"$f":"((INT(B1476/100)/100)-INT(INT(B1476/100)/100))*100","v":0},{"$f":"IF(B1476>0,WEEKNUM(TEXT(Definice!$F$3,\"0000\")&\".\"&TEXT(J1476,\"00\")&\".\"&RIGHT(TEXT(B1476,\"0000\"),2)),0)","v":0}]
[1475,null,null,null,null,{"$f":"IF(OR(MAX($I$2:I1477)-I1477=0,D1477=0),\"\",MAX($I$2:I1477)-I1477)","v":""},{"$f":"IF(F1477=\"\",\"\",F1477/(H1477+I1476))","v":""},{"$f":"H1476+E1477","v":0},{"$f":"I1476+E1477","v":10000},0,{"$f":"IF(B1477>0,WEEKNUM(TEXT(Definice!$F$3,\"0000\")&\".\"&TEXT(J1477,\"00\")&\".\"&RIGHT(TEXT(B1477,\"0000\"),2)),0)","v":0}]
[1476,null,null,null,null,{"$f":"IF(OR(MAX($I$2:I1478)-I1478=0,D1478=0),\"\",MAX($I$2:I1478)-I1478)","v":""},"",0,10000,0,{"$f":"IF(B1478>0,WEEKNUM(TEXT(Definice!$F$3,\"0000\")&\".\"&TEXT(J1478,\"00\")&\".\"&RIGHT(TEXT(B1478,\"0000\"),2)),0)","v":0}]
[1477,null,null,null,null,{"$f":"IF(OR(MAX($I$2:I1479)-I1479=0,D1479=0),\"\",MAX($I$2:I1479)-I1479)","v":""},"",0,10000,0,{"$f":"IF(B1479>0,WEEKNUM(TEXT(Definice!$F$3,\"0000\")&\".\"&TEXT(J1479,\"00\")&\".\"&RIGHT(TEXT(B1479,\"0000\"),2)),0)","v":0}]
[1478,null,null,null,null,{"$f":"IF(OR(MAX($I$2:I1480)-I1480=0,D1480=0),\"\",MAX($I$2:I1480)-I1480)","v":""},"",0,10000,0,{"$f":"IF(B1480>0,WEEKNUM(TEXT(Definice!$F$3,\"0000\")&\".\"&TEXT(J1480,\"00\")&\".\"&RIGHT(TEXT(B1480,\"0000\"),2)),0)","v":0}]
[1479,null,null,null,null,{"$f":"IF(OR(MAX($I$2:I1481)-I1481=0,D1481=0),\"\",MAX($I$2:I1481)-I1481)","v":""},"",0,10000,0,{"$f":"IF(B1481>0,WEEKNUM(TEXT(Definice!$F$3,\"0000\")&\".\"&TEXT(J1481,\"00\")&\".\"&RIGHT(TEXT(B1481,\"0000\"),2)),0)","v":0}]
[1480,null,null,null,null,{"$f":"IF(OR(MAX($I$2:I1482)-I1482=0,D1482=0),\"\",MAX($I$2:I1482)-I1482)","v":""},"",0,10000,0,{"$f":"IF(B1482>0,WEEKNUM(TEXT(Definice!$F$3,\"0000\")&\".\"&TEXT(J1482,\"00\")&\".\"&RIGHT(TEXT(B1482,\"0000\"),2)),0)","v":0}]
[1481,null,null,null,null,{"$f":"IF(OR(MAX($I$2:I1483)-I1483=0,D1483=0),\"\",MAX($I$2:I1483)-I1483)","v":""},"",0,10000,0,{"$f":"IF(B1483>0,WEEKNUM(TEXT(Definice!$F$3,\"0000\")&\".\"&TEXT(J1483,\"00\")&\".\"&RIGHT(TEXT(B1483,\"0000\"),2)),0)","v":0}]
[1482,null,null,null,null,{"$f":"IF(OR(MAX($I$2:I1484)-I1484=0,D1484=0),\"\",MAX($I$2:I1484)-I1484)","v":""},"",0,10000,0,{"$f":"IF(B1484>0,WEEKNUM(TEXT(Definice!$F$3,\"0000\")&\".\"&TEXT(J1484,\"00\")&\".\"&RIGHT(TEXT(B1484,\"0000\"),2)),0)","v":0}]
[1483,null,null,null,null,{"$f":"IF(OR(MAX($I$2:I1485)-I1485=0,D1485=0),\"\",MAX($I$2:I1485)-I1485)","v":""},"",0,10000,0,{"$f":"IF(B1485>0,WEEKNUM(TEXT(Definice!$F$3,\"0000\")&\".\"&TEXT(J1485,\"00\")&\".\"&RIGHT(TEXT(B1485,\"0000\"),2)),0)","v":0}]
[1484,null,null,null,null,{"$f":"IF(OR(MAX($I$2:I1486)-I1486=0,D1486=0),\"\",MAX($I$2:I1486)-I1486)","v":""},"",0,10000,0,{"$f":"IF(B1486>0,WEEKNUM(TEXT(Definice!$F$3,\"0000\")&\".\"&TEXT(J1486,\"00\")&\".\"&RIGHT(TEXT(B1486,\"0000\"),2)),0)","v":0}]
[1485,null,null,null,null,{"$f":"IF(OR(MAX($I$2:I1487)-I1487=0,D1487=0),\"\",MAX($I$2:I1487)-I1487)","v":""},"",0,10000,0,{"$f":"IF(B1487>0,WEEKNUM(TEXT(Definice!$F$3,\"0000\")&\".\"&TEXT(J1487,\"00\")&\".\"&RIGHT(TEXT(B1487,\"0000\"),2)),0)","v":0}]
[1486,null,null,null,null,{"$f":"IF(OR(MAX($I$2:I1488)-I1488=0,D1488=0),\"\",MAX($I$2:I1488)-I1488)","v":""},"",0,10000,0,{"$f":"IF(B1488>0,WEEKNUM(TEXT(Definice!$F$3,\"0000\")&\".\"&TEXT(J1488,\"00\")&\".\"&RIGHT(TEXT(B1488,\"0000\"),2)),0)","v":0}]
[1487,null,null,null,null,{"$f":"IF(OR(MAX($I$2:I1489)-I1489=0,D1489=0),\"\",MAX($I$2:I1489)-I1489)","v":""},"",0,10000,0,{"$f":"IF(B1489>0,WEEKNUM(TEXT(Definice!$F$3,\"0000\")&\".\"&TEXT(J1489,\"00\")&\".\"&RIGHT(TEXT(B1489,\"0000\"),2)),0)","v":0}]
[1488,null,null,null,null,{"$f":"IF(OR(MAX($I$2:I1490)-I1490=0,D1490=0),\"\",MAX($I$2:I1490)-I1490)","v":""},"",0,10000,0,{"$f":"IF(B1490>0,WEEKNUM(TEXT(Definice!$F$3,\"0000\")&\".\"&TEXT(J1490,\"00\")&\".\"&RIGHT(TEXT(B1490,\"0000\"),2)),0)","v":0}]
[1489,null,null,null,null,{"$f":"IF(OR(MAX($I$2:I1491)-I1491=0,D1491=0),\"\",MAX($I$2:I1491)-I1491)","v":""},"",0,10000,0,{"$f":"IF(B1491>0,WEEKNUM(TEXT(Definice!$F$3,\"0000\")&\".\"&TEXT(J1491,\"00\")&\".\"&RIGHT(TEXT(B1491,\"0000\"),2)),0)","v":0}]
[1490,null,null,null,null,{"$f":"IF(OR(MAX($I$2:I1492)-I1492=0,D1492=0),\"\",MAX($I$2:I1492)-I1492)","v":""},"",0,10000,0,{"$f":"IF(B1492>0,WEEKNUM(TEXT(Definice!$F$3,\"0000\")&\".\"&TEXT(J1492,\"00\")&\".\"&RIGHT(TEXT(B1492,\"0000\"),2)),0)","v":0}]
[1491,null,null,null,null,{"$f":"IF(OR(MAX($I$2:I1493)-I1493=0,D1493=0),\"\",MAX($I$2:I1493)-I1493)","v":""},"",0,10000,0,{"$f":"IF(B1493>0,WEEKNUM(TEXT(Definice!$F$3,\"0000\")&\".\"&TEXT(J1493,\"00\")&\".\"&RIGHT(TEXT(B1493,\"0000\"),2)),0)","v":0}]
[1492,null,null,null,null,{"$f":"IF(OR(MAX($I$2:I1494)-I1494=0,D1494=0),\"\",MAX($I$2:I1494)-I1494)","v":""},"",0,10000,0,{"$f":"IF(B1494>0,WEEKNUM(TEXT(Definice!$F$3,\"0000\")&\".\"&TEXT(J1494,\"00\")&\".\"&RIGHT(TEXT(B1494,\"0000\"),2)),0)","v":0}]
[1493,null,null,null,null,{"$f":"IF(OR(MAX($I$2:I1495)-I1495=0,D1495=0),\"\",MAX($I$2:I1495)-I1495)","v":""},"",0,10000,0,{"$f":"IF(B1495>0,WEEKNUM(TEXT(Definice!$F$3,\"0000\")&\".\"&TEXT(J1495,\"00\")&\".\"&RIGHT(TEXT(B1495,\"0000\"),2)),0)","v":0}]
[1494,null,null,null,null,{"$f":"IF(OR(MAX($I$2:I1496)-I1496=0,D1496=0),\"\",MAX($I$2:I1496)-I1496)","v":""},"",0,10000,0,{"$f":"IF(B1496>0,WEEKNUM(TEXT(Definice!$F$3,\"0000\")&\".\"&TEXT(J1496,\"00\")&\".\"&RIGHT(TEXT(B1496,\"0000\"),2)),0)","v":0}]
[1495,null,null,null,null,{"$f":"IF(OR(MAX($I$2:I1497)-I1497=0,D1497=0),\"\",MAX($I$2:I1497)-I1497)","v":""},"",0,10000,0,{"$f":"IF(B1497>0,WEEKNUM(TEXT(Definice!$F$3,\"0000\")&\".\"&TEXT(J1497,\"00\")&\".\"&RIGHT(TEXT(B1497,\"0000\"),2)),0)","v":0}]
[1496,null,null,null,null,{"$f":"IF(OR(MAX($I$2:I1498)-I1498=0,D1498=0),\"\",MAX($I$2:I1498)-I1498)","v":""},"",0,10000,0,{"$f":"IF(B1498>0,WEEKNUM(TEXT(Definice!$F$3,\"0000\")&\".\"&TEXT(J1498,\"00\")&\".\"&RIGHT(TEXT(B1498,\"0000\"),2)),0)","v":0}]
[1497,null,null,null,null,{"$f":"IF(OR(MAX($I$2:I1499)-I1499=0,D1499=0),\"\",MAX($I$2:I1499)-I1499)","v":""},"",0,10000,0,{"$f":"IF(B1499>0,WEEKNUM(TEXT(Definice!$F$3,\"0000\")&\".\"&TEXT(J1499,\"00\")&\".\"&RIGHT(TEXT(B1499,\"0000\"),2)),0)","v":0}]
[1498,null,null,null,null,{"$f":"IF(OR(MAX($I$2:I1500)-I1500=0,D1500=0),\"\",MAX($I$2:I1500)-I1500)","v":""},"",0,10000,0,{"$f":"IF(B1500>0,WEEKNUM(TEXT(Definice!$F$3,\"0000\")&\".\"&TEXT(J1500,\"00\")&\".\"&RIGHT(TEXT(B1500,\"0000\"),2)),0)","v":0}]
[1499,null,null,null,null,{"$f":"IF(OR(MAX($I$2:I1501)-I1501=0,D1501=0),\"\",MAX($I$2:I1501)-I1501)","v":""},"",0,10000,0,{"$f":"IF(B1501>0,WEEKNUM(TEXT(Definice!$F$3,\"0000\")&\".\"&TEXT(J1501,\"00\")&\".\"&RIGHT(TEXT(B1501,\"0000\"),2)),0)","v":0}]
[1500,null,null,null,null,{"$f":"IF(OR(MAX($I$2:I1502)-I1502=0,D1502=0),\"\",MAX($I$2:I1502)-I1502)","v":""},"",0,10000,0,{"$f":"IF(B1502>0,WEEKNUM(TEXT(Definice!$F$3,\"0000\")&\".\"&TEXT(J1502,\"00\")&\".\"&RIGHT(TEXT(B1502,\"0000\"),2)),0)","v":0}]
[1501,null,null,null,null,{"$f":"IF(OR(MAX($I$2:I1503)-I1503=0,D1503=0),\"\",MAX($I$2:I1503)-I1503)","v":""},"",0,10000,0,{"$f":"IF(B1503>0,WEEKNUM(TEXT(Definice!$F$3,\"0000\")&\".\"&TEXT(J1503,\"00\")&\".\"&RIGHT(TEXT(B1503,\"0000\"),2)),0)","v":0}]
[1502,null,null,null,null,{"$f":"IF(OR(MAX($I$2:I1504)-I1504=0,D1504=0),\"\",MAX($I$2:I1504)-I1504)","v":""},"",0,10000,0,{"$f":"IF(B1504>0,WEEKNUM(TEXT(Definice!$F$3,\"0000\")&\".\"&TEXT(J1504,\"00\")&\".\"&RIGHT(TEXT(B1504,\"0000\"),2)),0)","v":0}]
[1503,null,null,null,null,{"$f":"IF(OR(MAX($I$2:I1505)-I1505=0,D1505=0),\"\",MAX($I$2:I1505)-I1505)","v":""},"",0,10000,0,{"$f":"IF(B1505>0,WEEKNUM(TEXT(Definice!$F$3,\"0000\")&\".\"&TEXT(J1505,\"00\")&\".\"&RIGHT(TEXT(B1505,\"0000\"),2)),0)","v":0}]
[1504,null,null,null,null,{"$f":"IF(OR(MAX($I$2:I1506)-I1506=0,D1506=0),\"\",MAX($I$2:I1506)-I1506)","v":""},"",0,10000,0,{"$f":"IF(B1506>0,WEEKNUM(TEXT(Definice!$F$3,\"0000\")&\".\"&TEXT(J1506,\"00\")&\".\"&RIGHT(TEXT(B1506,\"0000\"),2)),0)","v":0}]
[1505,null,null,null,null,{"$f":"IF(OR(MAX($I$2:I1507)-I1507=0,D1507=0),\"\",MAX($I$2:I1507)-I1507)","v":""},"",0,10000,0,{"$f":"IF(B1507>0,WEEKNUM(TEXT(Definice!$F$3,\"0000\")&\".\"&TEXT(J1507,\"00\")&\".\"&RIGHT(TEXT(B1507,\"0000\"),2)),0)","v":0}]
[1506,null,null,null,null,{"$f":"IF(OR(MAX($I$2:I1508)-I1508=0,D1508=0),\"\",MAX($I$2:I1508)-I1508)","v":""},"",0,10000,0,{"$f":"IF(B1508>0,WEEKNUM(TEXT(Definice!$F$3,\"0000\")&\".\"&TEXT(J1508,\"00\")&\".\"&RIGHT(TEXT(B1508,\"0000\"),2)),0)","v":0}]
[1507,null,null,null,null,{"$f":"IF(OR(MAX($I$2:I1509)-I1509=0,D1509=0),\"\",MAX($I$2:I1509)-I1509)","v":""},"",0,10000,0,{"$f":"IF(B1509>0,WEEKNUM(TEXT(Definice!$F$3,\"0000\")&\".\"&TEXT(J1509,\"00\")&\".\"&RIGHT(TEXT(B1509,\"0000\"),2)),0)","v":0}]
[1508,null,null,null,null,{"$f":"IF(OR(MAX($I$2:I1510)-I1510=0,D1510=0),\"\",MAX($I$2:I1510)-I1510)","v":""},"",0,10000,0,{"$f":"IF(B1510>0,WEEKNUM(TEXT(Definice!$F$3,\"0000\")&\".\"&TEXT(J1510,\"00\")&\".\"&RIGHT(TEXT(B1510,\"0000\"),2)),0)","v":0}]
[1509,null,null,null,null,{"$f":"IF(OR(MAX($I$2:I1511)-I1511=0,D1511=0),\"\",MAX($I$2:I1511)-I1511)","v":""},"",0,10000,0,{"$f":"IF(B1511>0,WEEKNUM(TEXT(Definice!$F$3,\"0000\")&\".\"&TEXT(J1511,\"00\")&\".\"&RIGHT(TEXT(B1511,\"0000\"),2)),0)","v":0}]
[1510,null,null,null,null,{"$f":"IF(OR(MAX($I$2:I1512)-I1512=0,D1512=0),\"\",MAX($I$2:I1512)-I1512)","v":""},"",0,10000,0,{"$f":"IF(B1512>0,WEEKNUM(TEXT(Definice!$F$3,\"0000\")&\".\"&TEXT(J1512,\"00\")&\".\"&RIGHT(TEXT(B1512,\"0000\"),2)),0)","v":0}]
[1511,null,null,null,null,{"$f":"IF(OR(MAX($I$2:I1513)-I1513=0,D1513=0),\"\",MAX($I$2:I1513)-I1513)","v":""},"",0,10000,0,{"$f":"IF(B1513>0,WEEKNUM(TEXT(Definice!$F$3,\"0000\")&\".\"&TEXT(J1513,\"00\")&\".\"&RIGHT(TEXT(B1513,\"0000\"),2)),0)","v":0}]
[1512,null,null,null,null,{"$f":"IF(OR(MAX($I$2:I1514)-I1514=0,D1514=0),\"\",MAX($I$2:I1514)-I1514)","v":""},"",0,10000,0,{"$f":"IF(B1514>0,WEEKNUM(TEXT(Definice!$F$3,\"0000\")&\".\"&TEXT(J1514,\"00\")&\".\"&RIGHT(TEXT(B1514,\"0000\"),2)),0)","v":0}]
[1513,null,null,null,null,{"$f":"IF(OR(MAX($I$2:I1515)-I1515=0,D1515=0),\"\",MAX($I$2:I1515)-I1515)","v":""},"",0,10000,0,{"$f":"IF(B1515>0,WEEKNUM(TEXT(Definice!$F$3,\"0000\")&\".\"&TEXT(J1515,\"00\")&\".\"&RIGHT(TEXT(B1515,\"0000\"),2)),0)","v":0}]
[1514,null,null,null,null,{"$f":"IF(OR(MAX($I$2:I1516)-I1516=0,D1516=0),\"\",MAX($I$2:I1516)-I1516)","v":""},"",0,10000,0,{"$f":"IF(B1516>0,WEEKNUM(TEXT(Definice!$F$3,\"0000\")&\".\"&TEXT(J1516,\"00\")&\".\"&RIGHT(TEXT(B1516,\"0000\"),2)),0)","v":0}]
[1515,null,null,null,null,{"$f":"IF(OR(MAX($I$2:I1517)-I1517=0,D1517=0),\"\",MAX($I$2:I1517)-I1517)","v":""},"",0,10000,0,{"$f":"IF(B1517>0,WEEKNUM(TEXT(Definice!$F$3,\"0000\")&\".\"&TEXT(J1517,\"00\")&\".\"&RIGHT(TEXT(B1517,\"0000\"),2)),0)","v":0}]
[1516,null,null,null,null,{"$f":"IF(OR(MAX($I$2:I1518)-I1518=0,D1518=0),\"\",MAX($I$2:I1518)-I1518)","v":""},"",0,10000,0,{"$f":"IF(B1518>0,WEEKNUM(TEXT(Definice!$F$3,\"0000\")&\".\"&TEXT(J1518,\"00\")&\".\"&RIGHT(TEXT(B1518,\"0000\"),2)),0)","v":0}]
[1517,null,null,null,null,{"$f":"IF(OR(MAX($I$2:I1519)-I1519=0,D1519=0),\"\",MAX($I$2:I1519)-I1519)","v":""},"",0,10000,0,{"$f":"IF(B1519>0,WEEKNUM(TEXT(Definice!$F$3,\"0000\")&\".\"&TEXT(J1519,\"00\")&\".\"&RIGHT(TEXT(B1519,\"0000\"),2)),0)","v":0}]
[1518,null,null,null,null,{"$f":"IF(OR(MAX($I$2:I1520)-I1520=0,D1520=0),\"\",MAX($I$2:I1520)-I1520)","v":""},"",0,10000,0,{"$f":"IF(B1520>0,WEEKNUM(TEXT(Definice!$F$3,\"0000\")&\".\"&TEXT(J1520,\"00\")&\".\"&RIGHT(TEXT(B1520,\"0000\"),2)),0)","v":0}]
[1519,null,null,null,null,{"$f":"IF(OR(MAX($I$2:I1521)-I1521=0,D1521=0),\"\",MAX($I$2:I1521)-I1521)","v":""},"",0,10000,0,{"$f":"IF(B1521>0,WEEKNUM(TEXT(Definice!$F$3,\"0000\")&\".\"&TEXT(J1521,\"00\")&\".\"&RIGHT(TEXT(B1521,\"0000\"),2)),0)","v":0}]
[1520,null,null,null,null,{"$f":"IF(OR(MAX($I$2:I1522)-I1522=0,D1522=0),\"\",MAX($I$2:I1522)-I1522)","v":""},"",0,10000,0,{"$f":"IF(B1522>0,WEEKNUM(TEXT(Definice!$F$3,\"0000\")&\".\"&TEXT(J1522,\"00\")&\".\"&RIGHT(TEXT(B1522,\"0000\"),2)),0)","v":0}]
[1521,null,null,null,null,{"$f":"IF(OR(MAX($I$2:I1523)-I1523=0,D1523=0),\"\",MAX($I$2:I1523)-I1523)","v":""},"",0,10000,0,{"$f":"IF(B1523>0,WEEKNUM(TEXT(Definice!$F$3,\"0000\")&\".\"&TEXT(J1523,\"00\")&\".\"&RIGHT(TEXT(B1523,\"0000\"),2)),0)","v":0}]
[1522,null,null,null,null,{"$f":"IF(OR(MAX($I$2:I1524)-I1524=0,D1524=0),\"\",MAX($I$2:I1524)-I1524)","v":""},"",0,10000,0,{"$f":"IF(B1524>0,WEEKNUM(TEXT(Definice!$F$3,\"0000\")&\".\"&TEXT(J1524,\"00\")&\".\"&RIGHT(TEXT(B1524,\"0000\"),2)),0)","v":0}]
[1523,null,null,null,null,{"$f":"IF(OR(MAX($I$2:I1525)-I1525=0,D1525=0),\"\",MAX($I$2:I1525)-I1525)","v":""},"",0,10000,0,{"$f":"IF(B1525>0,WEEKNUM(TEXT(Definice!$F$3,\"0000\")&\".\"&TEXT(J1525,\"00\")&\".\"&RIGHT(TEXT(B1525,\"0000\"),2)),0)","v":0}]
[1524,null,null,null,null,{"$f":"IF(OR(MAX($I$2:I1526)-I1526=0,D1526=0),\"\",MAX($I$2:I1526)-I1526)","v":""},"",0,10000,0,{"$f":"IF(B1526>0,WEEKNUM(TEXT(Definice!$F$3,\"0000\")&\".\"&TEXT(J1526,\"00\")&\".\"&RIGHT(TEXT(B1526,\"0000\"),2)),0)","v":0}]
[1525,null,null,null,null,{"$f":"IF(OR(MAX($I$2:I1527)-I1527=0,D1527=0),\"\",MAX($I$2:I1527)-I1527)","v":""},"",0,10000,0,{"$f":"IF(B1527>0,WEEKNUM(TEXT(Definice!$F$3,\"0000\")&\".\"&TEXT(J1527,\"00\")&\".\"&RIGHT(TEXT(B1527,\"0000\"),2)),0)","v":0}]
[1526,null,null,null,null,{"$f":"IF(OR(MAX($I$2:I1528)-I1528=0,D1528=0),\"\",MAX($I$2:I1528)-I1528)","v":""},"",0,10000,0,{"$f":"IF(B1528>0,WEEKNUM(TEXT(Definice!$F$3,\"0000\")&\".\"&TEXT(J1528,\"00\")&\".\"&RIGHT(TEXT(B1528,\"0000\"),2)),0)","v":0}]
[1527,null,null,null,null,{"$f":"IF(OR(MAX($I$2:I1529)-I1529=0,D1529=0),\"\",MAX($I$2:I1529)-I1529)","v":""},"",0,10000,0,{"$f":"IF(B1529>0,WEEKNUM(TEXT(Definice!$F$3,\"0000\")&\".\"&TEXT(J1529,\"00\")&\".\"&RIGHT(TEXT(B1529,\"0000\"),2)),0)","v":0}]
[1528,null,null,null,null,{"$f":"IF(OR(MAX($I$2:I1530)-I1530=0,D1530=0),\"\",MAX($I$2:I1530)-I1530)","v":""},"",0,10000,0,{"$f":"IF(B1530>0,WEEKNUM(TEXT(Definice!$F$3,\"0000\")&\".\"&TEXT(J1530,\"00\")&\".\"&RIGHT(TEXT(B1530,\"0000\"),2)),0)","v":0}]
[1529,null,null,null,null,{"$f":"IF(OR(MAX($I$2:I1531)-I1531=0,D1531=0),\"\",MAX($I$2:I1531)-I1531)","v":""},"",0,10000,0,{"$f":"IF(B1531>0,WEEKNUM(TEXT(Definice!$F$3,\"0000\")&\".\"&TEXT(J1531,\"00\")&\".\"&RIGHT(TEXT(B1531,\"0000\"),2)),0)","v":0}]
[1530,null,null,null,null,{"$f":"IF(OR(MAX($I$2:I1532)-I1532=0,D1532=0),\"\",MAX($I$2:I1532)-I1532)","v":""},"",0,10000,0,{"$f":"IF(B1532>0,WEEKNUM(TEXT(Definice!$F$3,\"0000\")&\".\"&TEXT(J1532,\"00\")&\".\"&RIGHT(TEXT(B1532,\"0000\"),2)),0)","v":0}]
[1531,null,null,null,null,{"$f":"IF(OR(MAX($I$2:I1533)-I1533=0,D1533=0),\"\",MAX($I$2:I1533)-I1533)","v":""},"",0,10000,0,{"$f":"IF(B1533>0,WEEKNUM(TEXT(Definice!$F$3,\"0000\")&\".\"&TEXT(J1533,\"00\")&\".\"&RIGHT(TEXT(B1533,\"0000\"),2)),0)","v":0}]
[1532,null,null,null,null,{"$f":"IF(OR(MAX($I$2:I1534)-I1534=0,D1534=0),\"\",MAX($I$2:I1534)-I1534)","v":""},"",0,10000,0,{"$f":"IF(B1534>0,WEEKNUM(TEXT(Definice!$F$3,\"0000\")&\".\"&TEXT(J1534,\"00\")&\".\"&RIGHT(TEXT(B1534,\"0000\"),2)),0)","v":0}]
[1533,null,null,null,null,{"$f":"IF(OR(MAX($I$2:I1535)-I1535=0,D1535=0),\"\",MAX($I$2:I1535)-I1535)","v":""},"",0,10000,0,{"$f":"IF(B1535>0,WEEKNUM(TEXT(Definice!$F$3,\"0000\")&\".\"&TEXT(J1535,\"00\")&\".\"&RIGHT(TEXT(B1535,\"0000\"),2)),0)","v":0}]
[1534,null,null,null,null,{"$f":"IF(OR(MAX($I$2:I1536)-I1536=0,D1536=0),\"\",MAX($I$2:I1536)-I1536)","v":""},"",0,10000,0,{"$f":"IF(B1536>0,WEEKNUM(TEXT(Definice!$F$3,\"0000\")&\".\"&TEXT(J1536,\"00\")&\".\"&RIGHT(TEXT(B1536,\"0000\"),2)),0)","v":0}]
[1535,null,null,null,null,{"$f":"IF(OR(MAX($I$2:I1537)-I1537=0,D1537=0),\"\",MAX($I$2:I1537)-I1537)","v":""},"",0,10000,0,{"$f":"IF(B1537>0,WEEKNUM(TEXT(Definice!$F$3,\"0000\")&\".\"&TEXT(J1537,\"00\")&\".\"&RIGHT(TEXT(B1537,\"0000\"),2)),0)","v":0}]
[1536,null,null,null,null,{"$f":"IF(OR(MAX($I$2:I1538)-I1538=0,D1538=0),\"\",MAX($I$2:I1538)-I1538)","v":""},"",0,10000,0,{"$f":"IF(B1538>0,WEEKNUM(TEXT(Definice!$F$3,\"0000\")&\".\"&TEXT(J1538,\"00\")&\".\"&RIGHT(TEXT(B1538,\"0000\"),2)),0)","v":0}]
[1537,null,null,null,null,{"$f":"IF(OR(MAX($I$2:I1539)-I1539=0,D1539=0),\"\",MAX($I$2:I1539)-I1539)","v":""},"",0,10000,0,{"$f":"IF(B1539>0,WEEKNUM(TEXT(Definice!$F$3,\"0000\")&\".\"&TEXT(J1539,\"00\")&\".\"&RIGHT(TEXT(B1539,\"0000\"),2)),0)","v":0}]
[1538,null,null,null,null,{"$f":"IF(OR(MAX($I$2:I1540)-I1540=0,D1540=0),\"\",MAX($I$2:I1540)-I1540)","v":""},"",0,10000,{"$f":"((INT(B1540/100)/100)-INT(INT(B1540/100)/100))*100","v":0},{"$f":"IF(B1540>0,WEEKNUM(TEXT(Definice!$F$3,\"0000\")&\".\"&TEXT(J1540,\"00\")&\".\"&RIGHT(TEXT(B1540,\"0000\"),2)),0)","v":0}]
[1539,null,null,null,null,{"$f":"IF(OR(MAX($I$2:I1541)-I1541=0,D1541=0),\"\",MAX($I$2:I1541)-I1541)","v":""},{"$f":"IF(F1541=\"\",\"\",F1541/(H1541+I1540))","v":""},{"$f":"H1540+E1541","v":0},{"$f":"I1540+E1541","v":10000},0,{"$f":"IF(B1541>0,WEEKNUM(TEXT(Definice!$F$3,\"0000\")&\".\"&TEXT(J1541,\"00\")&\".\"&RIGHT(TEXT(B1541,\"0000\"),2)),0)","v":0}]
[1540,null,null,null,null,{"$f":"IF(OR(MAX($I$2:I1542)-I1542=0,D1542=0),\"\",MAX($I$2:I1542)-I1542)","v":""},"",0,10000,0,{"$f":"IF(B1542>0,WEEKNUM(TEXT(Definice!$F$3,\"0000\")&\".\"&TEXT(J1542,\"00\")&\".\"&RIGHT(TEXT(B1542,\"0000\"),2)),0)","v":0}]
[1541,null,null,null,null,{"$f":"IF(OR(MAX($I$2:I1543)-I1543=0,D1543=0),\"\",MAX($I$2:I1543)-I1543)","v":""},"",0,10000,0,{"$f":"IF(B1543>0,WEEKNUM(TEXT(Definice!$F$3,\"0000\")&\".\"&TEXT(J1543,\"00\")&\".\"&RIGHT(TEXT(B1543,\"0000\"),2)),0)","v":0}]
[1542,null,null,null,null,{"$f":"IF(OR(MAX($I$2:I1544)-I1544=0,D1544=0),\"\",MAX($I$2:I1544)-I1544)","v":""},"",0,10000,0,{"$f":"IF(B1544>0,WEEKNUM(TEXT(Definice!$F$3,\"0000\")&\".\"&TEXT(J1544,\"00\")&\".\"&RIGHT(TEXT(B1544,\"0000\"),2)),0)","v":0}]
[1543,null,null,null,null,{"$f":"IF(OR(MAX($I$2:I1545)-I1545=0,D1545=0),\"\",MAX($I$2:I1545)-I1545)","v":""},"",0,10000,0,{"$f":"IF(B1545>0,WEEKNUM(TEXT(Definice!$F$3,\"0000\")&\".\"&TEXT(J1545,\"00\")&\".\"&RIGHT(TEXT(B1545,\"0000\"),2)),0)","v":0}]
[1544,null,null,null,null,{"$f":"IF(OR(MAX($I$2:I1546)-I1546=0,D1546=0),\"\",MAX($I$2:I1546)-I1546)","v":""},"",0,10000,0,{"$f":"IF(B1546>0,WEEKNUM(TEXT(Definice!$F$3,\"0000\")&\".\"&TEXT(J1546,\"00\")&\".\"&RIGHT(TEXT(B1546,\"0000\"),2)),0)","v":0}]
[1545,null,null,null,null,{"$f":"IF(OR(MAX($I$2:I1547)-I1547=0,D1547=0),\"\",MAX($I$2:I1547)-I1547)","v":""},"",0,10000,0,{"$f":"IF(B1547>0,WEEKNUM(TEXT(Definice!$F$3,\"0000\")&\".\"&TEXT(J1547,\"00\")&\".\"&RIGHT(TEXT(B1547,\"0000\"),2)),0)","v":0}]
[1546,null,null,null,null,{"$f":"IF(OR(MAX($I$2:I1548)-I1548=0,D1548=0),\"\",MAX($I$2:I1548)-I1548)","v":""},"",0,10000,0,{"$f":"IF(B1548>0,WEEKNUM(TEXT(Definice!$F$3,\"0000\")&\".\"&TEXT(J1548,\"00\")&\".\"&RIGHT(TEXT(B1548,\"0000\"),2)),0)","v":0}]
[1547,null,null,null,null,{"$f":"IF(OR(MAX($I$2:I1549)-I1549=0,D1549=0),\"\",MAX($I$2:I1549)-I1549)","v":""},"",0,10000,0,{"$f":"IF(B1549>0,WEEKNUM(TEXT(Definice!$F$3,\"0000\")&\".\"&TEXT(J1549,\"00\")&\".\"&RIGHT(TEXT(B1549,\"0000\"),2)),0)","v":0}]
[1548,null,null,null,null,{"$f":"IF(OR(MAX($I$2:I1550)-I1550=0,D1550=0),\"\",MAX($I$2:I1550)-I1550)","v":""},"",0,10000,0,{"$f":"IF(B1550>0,WEEKNUM(TEXT(Definice!$F$3,\"0000\")&\".\"&TEXT(J1550,\"00\")&\".\"&RIGHT(TEXT(B1550,\"0000\"),2)),0)","v":0}]
[1549,null,null,null,null,{"$f":"IF(OR(MAX($I$2:I1551)-I1551=0,D1551=0),\"\",MAX($I$2:I1551)-I1551)","v":""},"",0,10000,0,{"$f":"IF(B1551>0,WEEKNUM(TEXT(Definice!$F$3,\"0000\")&\".\"&TEXT(J1551,\"00\")&\".\"&RIGHT(TEXT(B1551,\"0000\"),2)),0)","v":0}]
[1550,null,null,null,null,{"$f":"IF(OR(MAX($I$2:I1552)-I1552=0,D1552=0),\"\",MAX($I$2:I1552)-I1552)","v":""},"",0,10000,0,{"$f":"IF(B1552>0,WEEKNUM(TEXT(Definice!$F$3,\"0000\")&\".\"&TEXT(J1552,\"00\")&\".\"&RIGHT(TEXT(B1552,\"0000\"),2)),0)","v":0}]
[1551,null,null,null,null,{"$f":"IF(OR(MAX($I$2:I1553)-I1553=0,D1553=0),\"\",MAX($I$2:I1553)-I1553)","v":""},"",0,10000,0,{"$f":"IF(B1553>0,WEEKNUM(TEXT(Definice!$F$3,\"0000\")&\".\"&TEXT(J1553,\"00\")&\".\"&RIGHT(TEXT(B1553,\"0000\"),2)),0)","v":0}]
[1552,null,null,null,null,{"$f":"IF(OR(MAX($I$2:I1554)-I1554=0,D1554=0),\"\",MAX($I$2:I1554)-I1554)","v":""},"",0,10000,0,{"$f":"IF(B1554>0,WEEKNUM(TEXT(Definice!$F$3,\"0000\")&\".\"&TEXT(J1554,\"00\")&\".\"&RIGHT(TEXT(B1554,\"0000\"),2)),0)","v":0}]
[1553,null,null,null,null,{"$f":"IF(OR(MAX($I$2:I1555)-I1555=0,D1555=0),\"\",MAX($I$2:I1555)-I1555)","v":""},"",0,10000,0,{"$f":"IF(B1555>0,WEEKNUM(TEXT(Definice!$F$3,\"0000\")&\".\"&TEXT(J1555,\"00\")&\".\"&RIGHT(TEXT(B1555,\"0000\"),2)),0)","v":0}]
[1554,null,null,null,null,{"$f":"IF(OR(MAX($I$2:I1556)-I1556=0,D1556=0),\"\",MAX($I$2:I1556)-I1556)","v":""},"",0,10000,0,{"$f":"IF(B1556>0,WEEKNUM(TEXT(Definice!$F$3,\"0000\")&\".\"&TEXT(J1556,\"00\")&\".\"&RIGHT(TEXT(B1556,\"0000\"),2)),0)","v":0}]
[1555,null,null,null,null,{"$f":"IF(OR(MAX($I$2:I1557)-I1557=0,D1557=0),\"\",MAX($I$2:I1557)-I1557)","v":""},"",0,10000,0,{"$f":"IF(B1557>0,WEEKNUM(TEXT(Definice!$F$3,\"0000\")&\".\"&TEXT(J1557,\"00\")&\".\"&RIGHT(TEXT(B1557,\"0000\"),2)),0)","v":0}]
[1556,null,null,null,null,{"$f":"IF(OR(MAX($I$2:I1558)-I1558=0,D1558=0),\"\",MAX($I$2:I1558)-I1558)","v":""},"",0,10000,0,{"$f":"IF(B1558>0,WEEKNUM(TEXT(Definice!$F$3,\"0000\")&\".\"&TEXT(J1558,\"00\")&\".\"&RIGHT(TEXT(B1558,\"0000\"),2)),0)","v":0}]
[1557,null,null,null,null,{"$f":"IF(OR(MAX($I$2:I1559)-I1559=0,D1559=0),\"\",MAX($I$2:I1559)-I1559)","v":""},"",0,10000,0,{"$f":"IF(B1559>0,WEEKNUM(TEXT(Definice!$F$3,\"0000\")&\".\"&TEXT(J1559,\"00\")&\".\"&RIGHT(TEXT(B1559,\"0000\"),2)),0)","v":0}]
[1558,null,null,null,null,{"$f":"IF(OR(MAX($I$2:I1560)-I1560=0,D1560=0),\"\",MAX($I$2:I1560)-I1560)","v":""},"",0,10000,0,{"$f":"IF(B1560>0,WEEKNUM(TEXT(Definice!$F$3,\"0000\")&\".\"&TEXT(J1560,\"00\")&\".\"&RIGHT(TEXT(B1560,\"0000\"),2)),0)","v":0}]
[1559,null,null,null,null,{"$f":"IF(OR(MAX($I$2:I1561)-I1561=0,D1561=0),\"\",MAX($I$2:I1561)-I1561)","v":""},"",0,10000,0,{"$f":"IF(B1561>0,WEEKNUM(TEXT(Definice!$F$3,\"0000\")&\".\"&TEXT(J1561,\"00\")&\".\"&RIGHT(TEXT(B1561,\"0000\"),2)),0)","v":0}]
[1560,null,null,null,null,{"$f":"IF(OR(MAX($I$2:I1562)-I1562=0,D1562=0),\"\",MAX($I$2:I1562)-I1562)","v":""},"",0,10000,0,{"$f":"IF(B1562>0,WEEKNUM(TEXT(Definice!$F$3,\"0000\")&\".\"&TEXT(J1562,\"00\")&\".\"&RIGHT(TEXT(B1562,\"0000\"),2)),0)","v":0}]
[1561,null,null,null,null,{"$f":"IF(OR(MAX($I$2:I1563)-I1563=0,D1563=0),\"\",MAX($I$2:I1563)-I1563)","v":""},"",0,10000,0,{"$f":"IF(B1563>0,WEEKNUM(TEXT(Definice!$F$3,\"0000\")&\".\"&TEXT(J1563,\"00\")&\".\"&RIGHT(TEXT(B1563,\"0000\"),2)),0)","v":0}]
[1562,null,null,null,null,{"$f":"IF(OR(MAX($I$2:I1564)-I1564=0,D1564=0),\"\",MAX($I$2:I1564)-I1564)","v":""},"",0,10000,0,{"$f":"IF(B1564>0,WEEKNUM(TEXT(Definice!$F$3,\"0000\")&\".\"&TEXT(J1564,\"00\")&\".\"&RIGHT(TEXT(B1564,\"0000\"),2)),0)","v":0}]
[1563,null,null,null,null,{"$f":"IF(OR(MAX($I$2:I1565)-I1565=0,D1565=0),\"\",MAX($I$2:I1565)-I1565)","v":""},"",0,10000,0,{"$f":"IF(B1565>0,WEEKNUM(TEXT(Definice!$F$3,\"0000\")&\".\"&TEXT(J1565,\"00\")&\".\"&RIGHT(TEXT(B1565,\"0000\"),2)),0)","v":0}]
[1564,null,null,null,null,{"$f":"IF(OR(MAX($I$2:I1566)-I1566=0,D1566=0),\"\",MAX($I$2:I1566)-I1566)","v":""},"",0,10000,0,{"$f":"IF(B1566>0,WEEKNUM(TEXT(Definice!$F$3,\"0000\")&\".\"&TEXT(J1566,\"00\")&\".\"&RIGHT(TEXT(B1566,\"0000\"),2)),0)","v":0}]
[1565,null,null,null,null,{"$f":"IF(OR(MAX($I$2:I1567)-I1567=0,D1567=0),\"\",MAX($I$2:I1567)-I1567)","v":""},"",0,10000,0,{"$f":"IF(B1567>0,WEEKNUM(TEXT(Definice!$F$3,\"0000\")&\".\"&TEXT(J1567,\"00\")&\".\"&RIGHT(TEXT(B1567,\"0000\"),2)),0)","v":0}]
[1566,null,null,null,null,{"$f":"IF(OR(MAX($I$2:I1568)-I1568=0,D1568=0),\"\",MAX($I$2:I1568)-I1568)","v":""},"",0,10000,0,{"$f":"IF(B1568>0,WEEKNUM(TEXT(Definice!$F$3,\"0000\")&\".\"&TEXT(J1568,\"00\")&\".\"&RIGHT(TEXT(B1568,\"0000\"),2)),0)","v":0}]
[1567,null,null,null,null,{"$f":"IF(OR(MAX($I$2:I1569)-I1569=0,D1569=0),\"\",MAX($I$2:I1569)-I1569)","v":""},"",0,10000,0,{"$f":"IF(B1569>0,WEEKNUM(TEXT(Definice!$F$3,\"0000\")&\".\"&TEXT(J1569,\"00\")&\".\"&RIGHT(TEXT(B1569,\"0000\"),2)),0)","v":0}]
[1568,null,null,null,null,{"$f":"IF(OR(MAX($I$2:I1570)-I1570=0,D1570=0),\"\",MAX($I$2:I1570)-I1570)","v":""},"",0,10000,0,{"$f":"IF(B1570>0,WEEKNUM(TEXT(Definice!$F$3,\"0000\")&\".\"&TEXT(J1570,\"00\")&\".\"&RIGHT(TEXT(B1570,\"0000\"),2)),0)","v":0}]
[1569,null,null,null,null,{"$f":"IF(OR(MAX($I$2:I1571)-I1571=0,D1571=0),\"\",MAX($I$2:I1571)-I1571)","v":""},"",0,10000,0,{"$f":"IF(B1571>0,WEEKNUM(TEXT(Definice!$F$3,\"0000\")&\".\"&TEXT(J1571,\"00\")&\".\"&RIGHT(TEXT(B1571,\"0000\"),2)),0)","v":0}]
[1570,null,null,null,null,{"$f":"IF(OR(MAX($I$2:I1572)-I1572=0,D1572=0),\"\",MAX($I$2:I1572)-I1572)","v":""},"",0,10000,0,{"$f":"IF(B1572>0,WEEKNUM(TEXT(Definice!$F$3,\"0000\")&\".\"&TEXT(J1572,\"00\")&\".\"&RIGHT(TEXT(B1572,\"0000\"),2)),0)","v":0}]
[1571,null,null,null,null,{"$f":"IF(OR(MAX($I$2:I1573)-I1573=0,D1573=0),\"\",MAX($I$2:I1573)-I1573)","v":""},"",0,10000,0,{"$f":"IF(B1573>0,WEEKNUM(TEXT(Definice!$F$3,\"0000\")&\".\"&TEXT(J1573,\"00\")&\".\"&RIGHT(TEXT(B1573,\"0000\"),2)),0)","v":0}]
[1572,null,null,null,null,{"$f":"IF(OR(MAX($I$2:I1574)-I1574=0,D1574=0),\"\",MAX($I$2:I1574)-I1574)","v":""},"",0,10000,0,{"$f":"IF(B1574>0,WEEKNUM(TEXT(Definice!$F$3,\"0000\")&\".\"&TEXT(J1574,\"00\")&\".\"&RIGHT(TEXT(B1574,\"0000\"),2)),0)","v":0}]
[1573,null,null,null,null,{"$f":"IF(OR(MAX($I$2:I1575)-I1575=0,D1575=0),\"\",MAX($I$2:I1575)-I1575)","v":""},"",0,10000,0,{"$f":"IF(B1575>0,WEEKNUM(TEXT(Definice!$F$3,\"0000\")&\".\"&TEXT(J1575,\"00\")&\".\"&RIGHT(TEXT(B1575,\"0000\"),2)),0)","v":0}]
[1574,null,null,null,null,{"$f":"IF(OR(MAX($I$2:I1576)-I1576=0,D1576=0),\"\",MAX($I$2:I1576)-I1576)","v":""},"",0,10000,0,{"$f":"IF(B1576>0,WEEKNUM(TEXT(Definice!$F$3,\"0000\")&\".\"&TEXT(J1576,\"00\")&\".\"&RIGHT(TEXT(B1576,\"0000\"),2)),0)","v":0}]
[1575,null,null,null,null,{"$f":"IF(OR(MAX($I$2:I1577)-I1577=0,D1577=0),\"\",MAX($I$2:I1577)-I1577)","v":""},"",0,10000,0,{"$f":"IF(B1577>0,WEEKNUM(TEXT(Definice!$F$3,\"0000\")&\".\"&TEXT(J1577,\"00\")&\".\"&RIGHT(TEXT(B1577,\"0000\"),2)),0)","v":0}]
[1576,null,null,null,null,{"$f":"IF(OR(MAX($I$2:I1578)-I1578=0,D1578=0),\"\",MAX($I$2:I1578)-I1578)","v":""},"",0,10000,0,{"$f":"IF(B1578>0,WEEKNUM(TEXT(Definice!$F$3,\"0000\")&\".\"&TEXT(J1578,\"00\")&\".\"&RIGHT(TEXT(B1578,\"0000\"),2)),0)","v":0}]
[1577,null,null,null,null,{"$f":"IF(OR(MAX($I$2:I1579)-I1579=0,D1579=0),\"\",MAX($I$2:I1579)-I1579)","v":""},"",0,10000,0,{"$f":"IF(B1579>0,WEEKNUM(TEXT(Definice!$F$3,\"0000\")&\".\"&TEXT(J1579,\"00\")&\".\"&RIGHT(TEXT(B1579,\"0000\"),2)),0)","v":0}]
[1578,null,null,null,null,{"$f":"IF(OR(MAX($I$2:I1580)-I1580=0,D1580=0),\"\",MAX($I$2:I1580)-I1580)","v":""},"",0,10000,0,{"$f":"IF(B1580>0,WEEKNUM(TEXT(Definice!$F$3,\"0000\")&\".\"&TEXT(J1580,\"00\")&\".\"&RIGHT(TEXT(B1580,\"0000\"),2)),0)","v":0}]
[1579,null,null,null,null,{"$f":"IF(OR(MAX($I$2:I1581)-I1581=0,D1581=0),\"\",MAX($I$2:I1581)-I1581)","v":""},"",0,10000,0,{"$f":"IF(B1581>0,WEEKNUM(TEXT(Definice!$F$3,\"0000\")&\".\"&TEXT(J1581,\"00\")&\".\"&RIGHT(TEXT(B1581,\"0000\"),2)),0)","v":0}]
[1580,null,null,null,null,{"$f":"IF(OR(MAX($I$2:I1582)-I1582=0,D1582=0),\"\",MAX($I$2:I1582)-I1582)","v":""},"",0,10000,0,{"$f":"IF(B1582>0,WEEKNUM(TEXT(Definice!$F$3,\"0000\")&\".\"&TEXT(J1582,\"00\")&\".\"&RIGHT(TEXT(B1582,\"0000\"),2)),0)","v":0}]
[1581,null,null,null,null,{"$f":"IF(OR(MAX($I$2:I1583)-I1583=0,D1583=0),\"\",MAX($I$2:I1583)-I1583)","v":""},"",0,10000,0,{"$f":"IF(B1583>0,WEEKNUM(TEXT(Definice!$F$3,\"0000\")&\".\"&TEXT(J1583,\"00\")&\".\"&RIGHT(TEXT(B1583,\"0000\"),2)),0)","v":0}]
[1582,null,null,null,null,{"$f":"IF(OR(MAX($I$2:I1584)-I1584=0,D1584=0),\"\",MAX($I$2:I1584)-I1584)","v":""},"",0,10000,0,{"$f":"IF(B1584>0,WEEKNUM(TEXT(Definice!$F$3,\"0000\")&\".\"&TEXT(J1584,\"00\")&\".\"&RIGHT(TEXT(B1584,\"0000\"),2)),0)","v":0}]
[1583,null,null,null,null,{"$f":"IF(OR(MAX($I$2:I1585)-I1585=0,D1585=0),\"\",MAX($I$2:I1585)-I1585)","v":""},"",0,10000,0,{"$f":"IF(B1585>0,WEEKNUM(TEXT(Definice!$F$3,\"0000\")&\".\"&TEXT(J1585,\"00\")&\".\"&RIGHT(TEXT(B1585,\"0000\"),2)),0)","v":0}]
[1584,null,null,null,null,{"$f":"IF(OR(MAX($I$2:I1586)-I1586=0,D1586=0),\"\",MAX($I$2:I1586)-I1586)","v":""},"",0,10000,0,{"$f":"IF(B1586>0,WEEKNUM(TEXT(Definice!$F$3,\"0000\")&\".\"&TEXT(J1586,\"00\")&\".\"&RIGHT(TEXT(B1586,\"0000\"),2)),0)","v":0}]
[1585,null,null,null,null,{"$f":"IF(OR(MAX($I$2:I1587)-I1587=0,D1587=0),\"\",MAX($I$2:I1587)-I1587)","v":""},"",0,10000,0,{"$f":"IF(B1587>0,WEEKNUM(TEXT(Definice!$F$3,\"0000\")&\".\"&TEXT(J1587,\"00\")&\".\"&RIGHT(TEXT(B1587,\"0000\"),2)),0)","v":0}]
[1586,null,null,null,null,{"$f":"IF(OR(MAX($I$2:I1588)-I1588=0,D1588=0),\"\",MAX($I$2:I1588)-I1588)","v":""},"",0,10000,0,{"$f":"IF(B1588>0,WEEKNUM(TEXT(Definice!$F$3,\"0000\")&\".\"&TEXT(J1588,\"00\")&\".\"&RIGHT(TEXT(B1588,\"0000\"),2)),0)","v":0}]
[1587,null,null,null,null,{"$f":"IF(OR(MAX($I$2:I1589)-I1589=0,D1589=0),\"\",MAX($I$2:I1589)-I1589)","v":""},"",0,10000,0,{"$f":"IF(B1589>0,WEEKNUM(TEXT(Definice!$F$3,\"0000\")&\".\"&TEXT(J1589,\"00\")&\".\"&RIGHT(TEXT(B1589,\"0000\"),2)),0)","v":0}]
[1588,null,null,null,null,{"$f":"IF(OR(MAX($I$2:I1590)-I1590=0,D1590=0),\"\",MAX($I$2:I1590)-I1590)","v":""},"",0,10000,0,{"$f":"IF(B1590>0,WEEKNUM(TEXT(Definice!$F$3,\"0000\")&\".\"&TEXT(J1590,\"00\")&\".\"&RIGHT(TEXT(B1590,\"0000\"),2)),0)","v":0}]
[1589,null,null,null,null,{"$f":"IF(OR(MAX($I$2:I1591)-I1591=0,D1591=0),\"\",MAX($I$2:I1591)-I1591)","v":""},"",0,10000,0,{"$f":"IF(B1591>0,WEEKNUM(TEXT(Definice!$F$3,\"0000\")&\".\"&TEXT(J1591,\"00\")&\".\"&RIGHT(TEXT(B1591,\"0000\"),2)),0)","v":0}]
[1590,null,null,null,null,{"$f":"IF(OR(MAX($I$2:I1592)-I1592=0,D1592=0),\"\",MAX($I$2:I1592)-I1592)","v":""},"",0,10000,0,{"$f":"IF(B1592>0,WEEKNUM(TEXT(Definice!$F$3,\"0000\")&\".\"&TEXT(J1592,\"00\")&\".\"&RIGHT(TEXT(B1592,\"0000\"),2)),0)","v":0}]
[1591,null,null,null,null,{"$f":"IF(OR(MAX($I$2:I1593)-I1593=0,D1593=0),\"\",MAX($I$2:I1593)-I1593)","v":""},"",0,10000,0,{"$f":"IF(B1593>0,WEEKNUM(TEXT(Definice!$F$3,\"0000\")&\".\"&TEXT(J1593,\"00\")&\".\"&RIGHT(TEXT(B1593,\"0000\"),2)),0)","v":0}]
[1592,null,null,null,null,{"$f":"IF(OR(MAX($I$2:I1594)-I1594=0,D1594=0),\"\",MAX($I$2:I1594)-I1594)","v":""},"",0,10000,0,{"$f":"IF(B1594>0,WEEKNUM(TEXT(Definice!$F$3,\"0000\")&\".\"&TEXT(J1594,\"00\")&\".\"&RIGHT(TEXT(B1594,\"0000\"),2)),0)","v":0}]
[1593,null,null,null,null,{"$f":"IF(OR(MAX($I$2:I1595)-I1595=0,D1595=0),\"\",MAX($I$2:I1595)-I1595)","v":""},"",0,10000,0,{"$f":"IF(B1595>0,WEEKNUM(TEXT(Definice!$F$3,\"0000\")&\".\"&TEXT(J1595,\"00\")&\".\"&RIGHT(TEXT(B1595,\"0000\"),2)),0)","v":0}]
[1594,null,null,null,null,{"$f":"IF(OR(MAX($I$2:I1596)-I1596=0,D1596=0),\"\",MAX($I$2:I1596)-I1596)","v":""},"",0,10000,0,{"$f":"IF(B1596>0,WEEKNUM(TEXT(Definice!$F$3,\"0000\")&\".\"&TEXT(J1596,\"00\")&\".\"&RIGHT(TEXT(B1596,\"0000\"),2)),0)","v":0}]
[1595,null,null,null,null,{"$f":"IF(OR(MAX($I$2:I1597)-I1597=0,D1597=0),\"\",MAX($I$2:I1597)-I1597)","v":""},"",0,10000,0,{"$f":"IF(B1597>0,WEEKNUM(TEXT(Definice!$F$3,\"0000\")&\".\"&TEXT(J1597,\"00\")&\".\"&RIGHT(TEXT(B1597,\"0000\"),2)),0)","v":0}]
[1596,null,null,null,null,{"$f":"IF(OR(MAX($I$2:I1598)-I1598=0,D1598=0),\"\",MAX($I$2:I1598)-I1598)","v":""},"",0,10000,0,{"$f":"IF(B1598>0,WEEKNUM(TEXT(Definice!$F$3,\"0000\")&\".\"&TEXT(J1598,\"00\")&\".\"&RIGHT(TEXT(B1598,\"0000\"),2)),0)","v":0}]
[1597,null,null,null,null,{"$f":"IF(OR(MAX($I$2:I1599)-I1599=0,D1599=0),\"\",MAX($I$2:I1599)-I1599)","v":""},"",0,10000,0,{"$f":"IF(B1599>0,WEEKNUM(TEXT(Definice!$F$3,\"0000\")&\".\"&TEXT(J1599,\"00\")&\".\"&RIGHT(TEXT(B1599,\"0000\"),2)),0)","v":0}]
[1598,null,null,null,null,{"$f":"IF(OR(MAX($I$2:I1600)-I1600=0,D1600=0),\"\",MAX($I$2:I1600)-I1600)","v":""},"",0,10000,0,{"$f":"IF(B1600>0,WEEKNUM(TEXT(Definice!$F$3,\"0000\")&\".\"&TEXT(J1600,\"00\")&\".\"&RIGHT(TEXT(B1600,\"0000\"),2)),0)","v":0}]
[1599,null,null,null,null,{"$f":"IF(OR(MAX($I$2:I1601)-I1601=0,D1601=0),\"\",MAX($I$2:I1601)-I1601)","v":""},"",0,10000,0,{"$f":"IF(B1601>0,WEEKNUM(TEXT(Definice!$F$3,\"0000\")&\".\"&TEXT(J1601,\"00\")&\".\"&RIGHT(TEXT(B1601,\"0000\"),2)),0)","v":0}]
[1600,null,null,null,null,{"$f":"IF(OR(MAX($I$2:I1602)-I1602=0,D1602=0),\"\",MAX($I$2:I1602)-I1602)","v":""},"",0,10000,0,{"$f":"IF(B1602>0,WEEKNUM(TEXT(Definice!$F$3,\"0000\")&\".\"&TEXT(J1602,\"00\")&\".\"&RIGHT(TEXT(B1602,\"0000\"),2)),0)","v":0}]
[1601,null,null,null,null,{"$f":"IF(OR(MAX($I$2:I1603)-I1603=0,D1603=0),\"\",MAX($I$2:I1603)-I1603)","v":""},"",0,10000,0,{"$f":"IF(B1603>0,WEEKNUM(TEXT(Definice!$F$3,\"0000\")&\".\"&TEXT(J1603,\"00\")&\".\"&RIGHT(TEXT(B1603,\"0000\"),2)),0)","v":0}]
[1602,null,null,null,null,{"$f":"IF(OR(MAX($I$2:I1604)-I1604=0,D1604=0),\"\",MAX($I$2:I1604)-I1604)","v":""},"",0,10000,{"$f":"((INT(B1604/100)/100)-INT(INT(B1604/100)/100))*100","v":0},{"$f":"IF(B1604>0,WEEKNUM(TEXT(Definice!$F$3,\"0000\")&\".\"&TEXT(J1604,\"00\")&\".\"&RIGHT(TEXT(B1604,\"0000\"),2)),0)","v":0}]
[1603,null,null,null,null,{"$f":"IF(OR(MAX($I$2:I1605)-I1605=0,D1605=0),\"\",MAX($I$2:I1605)-I1605)","v":""},{"$f":"IF(F1605=\"\",\"\",F1605/(H1605+I1604))","v":""},{"$f":"H1604+E1605","v":0},{"$f":"I1604+E1605","v":10000},0,{"$f":"IF(B1605>0,WEEKNUM(TEXT(Definice!$F$3,\"0000\")&\".\"&TEXT(J1605,\"00\")&\".\"&RIGHT(TEXT(B1605,\"0000\"),2)),0)","v":0}]
[1604,null,null,null,null,{"$f":"IF(OR(MAX($I$2:I1606)-I1606=0,D1606=0),\"\",MAX($I$2:I1606)-I1606)","v":""},"",0,10000,0,{"$f":"IF(B1606>0,WEEKNUM(TEXT(Definice!$F$3,\"0000\")&\".\"&TEXT(J1606,\"00\")&\".\"&RIGHT(TEXT(B1606,\"0000\"),2)),0)","v":0}]
[1605,null,null,null,null,{"$f":"IF(OR(MAX($I$2:I1607)-I1607=0,D1607=0),\"\",MAX($I$2:I1607)-I1607)","v":""},"",0,10000,0,{"$f":"IF(B1607>0,WEEKNUM(TEXT(Definice!$F$3,\"0000\")&\".\"&TEXT(J1607,\"00\")&\".\"&RIGHT(TEXT(B1607,\"0000\"),2)),0)","v":0}]
[1606,null,null,null,null,{"$f":"IF(OR(MAX($I$2:I1608)-I1608=0,D1608=0),\"\",MAX($I$2:I1608)-I1608)","v":""},"",0,10000,0,{"$f":"IF(B1608>0,WEEKNUM(TEXT(Definice!$F$3,\"0000\")&\".\"&TEXT(J1608,\"00\")&\".\"&RIGHT(TEXT(B1608,\"0000\"),2)),0)","v":0}]
[1607,null,null,null,null,{"$f":"IF(OR(MAX($I$2:I1609)-I1609=0,D1609=0),\"\",MAX($I$2:I1609)-I1609)","v":""},"",0,10000,0,{"$f":"IF(B1609>0,WEEKNUM(TEXT(Definice!$F$3,\"0000\")&\".\"&TEXT(J1609,\"00\")&\".\"&RIGHT(TEXT(B1609,\"0000\"),2)),0)","v":0}]
[1608,null,null,null,null,{"$f":"IF(OR(MAX($I$2:I1610)-I1610=0,D1610=0),\"\",MAX($I$2:I1610)-I1610)","v":""},"",0,10000,0,{"$f":"IF(B1610>0,WEEKNUM(TEXT(Definice!$F$3,\"0000\")&\".\"&TEXT(J1610,\"00\")&\".\"&RIGHT(TEXT(B1610,\"0000\"),2)),0)","v":0}]
[1609,null,null,null,null,{"$f":"IF(OR(MAX($I$2:I1611)-I1611=0,D1611=0),\"\",MAX($I$2:I1611)-I1611)","v":""},"",0,10000,0,{"$f":"IF(B1611>0,WEEKNUM(TEXT(Definice!$F$3,\"0000\")&\".\"&TEXT(J1611,\"00\")&\".\"&RIGHT(TEXT(B1611,\"0000\"),2)),0)","v":0}]
[1610,null,null,null,null,{"$f":"IF(OR(MAX($I$2:I1612)-I1612=0,D1612=0),\"\",MAX($I$2:I1612)-I1612)","v":""},"",0,10000,0,{"$f":"IF(B1612>0,WEEKNUM(TEXT(Definice!$F$3,\"0000\")&\".\"&TEXT(J1612,\"00\")&\".\"&RIGHT(TEXT(B1612,\"0000\"),2)),0)","v":0}]
[1611,null,null,null,null,{"$f":"IF(OR(MAX($I$2:I1613)-I1613=0,D1613=0),\"\",MAX($I$2:I1613)-I1613)","v":""},"",0,10000,0,{"$f":"IF(B1613>0,WEEKNUM(TEXT(Definice!$F$3,\"0000\")&\".\"&TEXT(J1613,\"00\")&\".\"&RIGHT(TEXT(B1613,\"0000\"),2)),0)","v":0}]
[1612,null,null,null,null,{"$f":"IF(OR(MAX($I$2:I1614)-I1614=0,D1614=0),\"\",MAX($I$2:I1614)-I1614)","v":""},"",0,10000,0,{"$f":"IF(B1614>0,WEEKNUM(TEXT(Definice!$F$3,\"0000\")&\".\"&TEXT(J1614,\"00\")&\".\"&RIGHT(TEXT(B1614,\"0000\"),2)),0)","v":0}]
[1613,null,null,null,null,{"$f":"IF(OR(MAX($I$2:I1615)-I1615=0,D1615=0),\"\",MAX($I$2:I1615)-I1615)","v":""},"",0,10000,0,{"$f":"IF(B1615>0,WEEKNUM(TEXT(Definice!$F$3,\"0000\")&\".\"&TEXT(J1615,\"00\")&\".\"&RIGHT(TEXT(B1615,\"0000\"),2)),0)","v":0}]
[1614,null,null,null,null,{"$f":"IF(OR(MAX($I$2:I1616)-I1616=0,D1616=0),\"\",MAX($I$2:I1616)-I1616)","v":""},"",0,10000,0,{"$f":"IF(B1616>0,WEEKNUM(TEXT(Definice!$F$3,\"0000\")&\".\"&TEXT(J1616,\"00\")&\".\"&RIGHT(TEXT(B1616,\"0000\"),2)),0)","v":0}]
[1615,null,null,null,null,{"$f":"IF(OR(MAX($I$2:I1617)-I1617=0,D1617=0),\"\",MAX($I$2:I1617)-I1617)","v":""},"",0,10000,0,{"$f":"IF(B1617>0,WEEKNUM(TEXT(Definice!$F$3,\"0000\")&\".\"&TEXT(J1617,\"00\")&\".\"&RIGHT(TEXT(B1617,\"0000\"),2)),0)","v":0}]
[1616,null,null,null,null,{"$f":"IF(OR(MAX($I$2:I1618)-I1618=0,D1618=0),\"\",MAX($I$2:I1618)-I1618)","v":""},"",0,10000,0,{"$f":"IF(B1618>0,WEEKNUM(TEXT(Definice!$F$3,\"0000\")&\".\"&TEXT(J1618,\"00\")&\".\"&RIGHT(TEXT(B1618,\"0000\"),2)),0)","v":0}]
[1617,null,null,null,null,{"$f":"IF(OR(MAX($I$2:I1619)-I1619=0,D1619=0),\"\",MAX($I$2:I1619)-I1619)","v":""},"",0,10000,0,{"$f":"IF(B1619>0,WEEKNUM(TEXT(Definice!$F$3,\"0000\")&\".\"&TEXT(J1619,\"00\")&\".\"&RIGHT(TEXT(B1619,\"0000\"),2)),0)","v":0}]
[1618,null,null,null,null,{"$f":"IF(OR(MAX($I$2:I1620)-I1620=0,D1620=0),\"\",MAX($I$2:I1620)-I1620)","v":""},"",0,10000,0,{"$f":"IF(B1620>0,WEEKNUM(TEXT(Definice!$F$3,\"0000\")&\".\"&TEXT(J1620,\"00\")&\".\"&RIGHT(TEXT(B1620,\"0000\"),2)),0)","v":0}]
[1619,null,null,null,null,{"$f":"IF(OR(MAX($I$2:I1621)-I1621=0,D1621=0),\"\",MAX($I$2:I1621)-I1621)","v":""},"",0,10000,0,{"$f":"IF(B1621>0,WEEKNUM(TEXT(Definice!$F$3,\"0000\")&\".\"&TEXT(J1621,\"00\")&\".\"&RIGHT(TEXT(B1621,\"0000\"),2)),0)","v":0}]
[1620,null,null,null,null,{"$f":"IF(OR(MAX($I$2:I1622)-I1622=0,D1622=0),\"\",MAX($I$2:I1622)-I1622)","v":""},"",0,10000,0,{"$f":"IF(B1622>0,WEEKNUM(TEXT(Definice!$F$3,\"0000\")&\".\"&TEXT(J1622,\"00\")&\".\"&RIGHT(TEXT(B1622,\"0000\"),2)),0)","v":0}]
[1621,null,null,null,null,{"$f":"IF(OR(MAX($I$2:I1623)-I1623=0,D1623=0),\"\",MAX($I$2:I1623)-I1623)","v":""},"",0,10000,0,{"$f":"IF(B1623>0,WEEKNUM(TEXT(Definice!$F$3,\"0000\")&\".\"&TEXT(J1623,\"00\")&\".\"&RIGHT(TEXT(B1623,\"0000\"),2)),0)","v":0}]
[1622,null,null,null,null,{"$f":"IF(OR(MAX($I$2:I1624)-I1624=0,D1624=0),\"\",MAX($I$2:I1624)-I1624)","v":""},"",0,10000,0,{"$f":"IF(B1624>0,WEEKNUM(TEXT(Definice!$F$3,\"0000\")&\".\"&TEXT(J1624,\"00\")&\".\"&RIGHT(TEXT(B1624,\"0000\"),2)),0)","v":0}]
[1623,null,null,null,null,{"$f":"IF(OR(MAX($I$2:I1625)-I1625=0,D1625=0),\"\",MAX($I$2:I1625)-I1625)","v":""},"",0,10000,0,{"$f":"IF(B1625>0,WEEKNUM(TEXT(Definice!$F$3,\"0000\")&\".\"&TEXT(J1625,\"00\")&\".\"&RIGHT(TEXT(B1625,\"0000\"),2)),0)","v":0}]
[1624,null,null,null,null,{"$f":"IF(OR(MAX($I$2:I1626)-I1626=0,D1626=0),\"\",MAX($I$2:I1626)-I1626)","v":""},"",0,10000,0,{"$f":"IF(B1626>0,WEEKNUM(TEXT(Definice!$F$3,\"0000\")&\".\"&TEXT(J1626,\"00\")&\".\"&RIGHT(TEXT(B1626,\"0000\"),2)),0)","v":0}]
[1625,null,null,null,null,{"$f":"IF(OR(MAX($I$2:I1627)-I1627=0,D1627=0),\"\",MAX($I$2:I1627)-I1627)","v":""},"",0,10000,0,{"$f":"IF(B1627>0,WEEKNUM(TEXT(Definice!$F$3,\"0000\")&\".\"&TEXT(J1627,\"00\")&\".\"&RIGHT(TEXT(B1627,\"0000\"),2)),0)","v":0}]
[1626,null,null,null,null,{"$f":"IF(OR(MAX($I$2:I1628)-I1628=0,D1628=0),\"\",MAX($I$2:I1628)-I1628)","v":""},"",0,10000,0,{"$f":"IF(B1628>0,WEEKNUM(TEXT(Definice!$F$3,\"0000\")&\".\"&TEXT(J1628,\"00\")&\".\"&RIGHT(TEXT(B1628,\"0000\"),2)),0)","v":0}]
[1627,null,null,null,null,{"$f":"IF(OR(MAX($I$2:I1629)-I1629=0,D1629=0),\"\",MAX($I$2:I1629)-I1629)","v":""},"",0,10000,0,{"$f":"IF(B1629>0,WEEKNUM(TEXT(Definice!$F$3,\"0000\")&\".\"&TEXT(J1629,\"00\")&\".\"&RIGHT(TEXT(B1629,\"0000\"),2)),0)","v":0}]
[1628,null,null,null,null,{"$f":"IF(OR(MAX($I$2:I1630)-I1630=0,D1630=0),\"\",MAX($I$2:I1630)-I1630)","v":""},"",0,10000,0,{"$f":"IF(B1630>0,WEEKNUM(TEXT(Definice!$F$3,\"0000\")&\".\"&TEXT(J1630,\"00\")&\".\"&RIGHT(TEXT(B1630,\"0000\"),2)),0)","v":0}]
[1629,null,null,null,null,{"$f":"IF(OR(MAX($I$2:I1631)-I1631=0,D1631=0),\"\",MAX($I$2:I1631)-I1631)","v":""},"",0,10000,0,{"$f":"IF(B1631>0,WEEKNUM(TEXT(Definice!$F$3,\"0000\")&\".\"&TEXT(J1631,\"00\")&\".\"&RIGHT(TEXT(B1631,\"0000\"),2)),0)","v":0}]
[1630,null,null,null,null,{"$f":"IF(OR(MAX($I$2:I1632)-I1632=0,D1632=0),\"\",MAX($I$2:I1632)-I1632)","v":""},"",0,10000,0,{"$f":"IF(B1632>0,WEEKNUM(TEXT(Definice!$F$3,\"0000\")&\".\"&TEXT(J1632,\"00\")&\".\"&RIGHT(TEXT(B1632,\"0000\"),2)),0)","v":0}]
[1631,null,null,null,null,{"$f":"IF(OR(MAX($I$2:I1633)-I1633=0,D1633=0),\"\",MAX($I$2:I1633)-I1633)","v":""},"",0,10000,0,{"$f":"IF(B1633>0,WEEKNUM(TEXT(Definice!$F$3,\"0000\")&\".\"&TEXT(J1633,\"00\")&\".\"&RIGHT(TEXT(B1633,\"0000\"),2)),0)","v":0}]
[1632,null,null,null,null,{"$f":"IF(OR(MAX($I$2:I1634)-I1634=0,D1634=0),\"\",MAX($I$2:I1634)-I1634)","v":""},"",0,10000,0,{"$f":"IF(B1634>0,WEEKNUM(TEXT(Definice!$F$3,\"0000\")&\".\"&TEXT(J1634,\"00\")&\".\"&RIGHT(TEXT(B1634,\"0000\"),2)),0)","v":0}]
[1633,null,null,null,null,{"$f":"IF(OR(MAX($I$2:I1635)-I1635=0,D1635=0),\"\",MAX($I$2:I1635)-I1635)","v":""},"",0,10000,0,{"$f":"IF(B1635>0,WEEKNUM(TEXT(Definice!$F$3,\"0000\")&\".\"&TEXT(J1635,\"00\")&\".\"&RIGHT(TEXT(B1635,\"0000\"),2)),0)","v":0}]
[1634,null,null,null,null,{"$f":"IF(OR(MAX($I$2:I1636)-I1636=0,D1636=0),\"\",MAX($I$2:I1636)-I1636)","v":""},"",0,10000,0,{"$f":"IF(B1636>0,WEEKNUM(TEXT(Definice!$F$3,\"0000\")&\".\"&TEXT(J1636,\"00\")&\".\"&RIGHT(TEXT(B1636,\"0000\"),2)),0)","v":0}]
[1635,null,null,null,null,{"$f":"IF(OR(MAX($I$2:I1637)-I1637=0,D1637=0),\"\",MAX($I$2:I1637)-I1637)","v":""},"",0,10000,0,{"$f":"IF(B1637>0,WEEKNUM(TEXT(Definice!$F$3,\"0000\")&\".\"&TEXT(J1637,\"00\")&\".\"&RIGHT(TEXT(B1637,\"0000\"),2)),0)","v":0}]
[1636,null,null,null,null,{"$f":"IF(OR(MAX($I$2:I1638)-I1638=0,D1638=0),\"\",MAX($I$2:I1638)-I1638)","v":""},"",0,10000,0,{"$f":"IF(B1638>0,WEEKNUM(TEXT(Definice!$F$3,\"0000\")&\".\"&TEXT(J1638,\"00\")&\".\"&RIGHT(TEXT(B1638,\"0000\"),2)),0)","v":0}]
[1637,null,null,null,null,{"$f":"IF(OR(MAX($I$2:I1639)-I1639=0,D1639=0),\"\",MAX($I$2:I1639)-I1639)","v":""},"",0,10000,0,{"$f":"IF(B1639>0,WEEKNUM(TEXT(Definice!$F$3,\"0000\")&\".\"&TEXT(J1639,\"00\")&\".\"&RIGHT(TEXT(B1639,\"0000\"),2)),0)","v":0}]
[1638,null,null,null,null,{"$f":"IF(OR(MAX($I$2:I1640)-I1640=0,D1640=0),\"\",MAX($I$2:I1640)-I1640)","v":""},"",0,10000,0,{"$f":"IF(B1640>0,WEEKNUM(TEXT(Definice!$F$3,\"0000\")&\".\"&TEXT(J1640,\"00\")&\".\"&RIGHT(TEXT(B1640,\"0000\"),2)),0)","v":0}]
[1639,null,null,null,null,{"$f":"IF(OR(MAX($I$2:I1641)-I1641=0,D1641=0),\"\",MAX($I$2:I1641)-I1641)","v":""},"",0,10000,0,{"$f":"IF(B1641>0,WEEKNUM(TEXT(Definice!$F$3,\"0000\")&\".\"&TEXT(J1641,\"00\")&\".\"&RIGHT(TEXT(B1641,\"0000\"),2)),0)","v":0}]
[1640,null,null,null,null,{"$f":"IF(OR(MAX($I$2:I1642)-I1642=0,D1642=0),\"\",MAX($I$2:I1642)-I1642)","v":""},"",0,10000,0,{"$f":"IF(B1642>0,WEEKNUM(TEXT(Definice!$F$3,\"0000\")&\".\"&TEXT(J1642,\"00\")&\".\"&RIGHT(TEXT(B1642,\"0000\"),2)),0)","v":0}]
[1641,null,null,null,null,{"$f":"IF(OR(MAX($I$2:I1643)-I1643=0,D1643=0),\"\",MAX($I$2:I1643)-I1643)","v":""},"",0,10000,0,{"$f":"IF(B1643>0,WEEKNUM(TEXT(Definice!$F$3,\"0000\")&\".\"&TEXT(J1643,\"00\")&\".\"&RIGHT(TEXT(B1643,\"0000\"),2)),0)","v":0}]
[1642,null,null,null,null,{"$f":"IF(OR(MAX($I$2:I1644)-I1644=0,D1644=0),\"\",MAX($I$2:I1644)-I1644)","v":""},"",0,10000,0,{"$f":"IF(B1644>0,WEEKNUM(TEXT(Definice!$F$3,\"0000\")&\".\"&TEXT(J1644,\"00\")&\".\"&RIGHT(TEXT(B1644,\"0000\"),2)),0)","v":0}]
[1643,null,null,null,null,{"$f":"IF(OR(MAX($I$2:I1645)-I1645=0,D1645=0),\"\",MAX($I$2:I1645)-I1645)","v":""},"",0,10000,0,{"$f":"IF(B1645>0,WEEKNUM(TEXT(Definice!$F$3,\"0000\")&\".\"&TEXT(J1645,\"00\")&\".\"&RIGHT(TEXT(B1645,\"0000\"),2)),0)","v":0}]
[1644,null,null,null,null,{"$f":"IF(OR(MAX($I$2:I1646)-I1646=0,D1646=0),\"\",MAX($I$2:I1646)-I1646)","v":""},"",0,10000,0,{"$f":"IF(B1646>0,WEEKNUM(TEXT(Definice!$F$3,\"0000\")&\".\"&TEXT(J1646,\"00\")&\".\"&RIGHT(TEXT(B1646,\"0000\"),2)),0)","v":0}]
[1645,null,null,null,null,{"$f":"IF(OR(MAX($I$2:I1647)-I1647=0,D1647=0),\"\",MAX($I$2:I1647)-I1647)","v":""},"",0,10000,0,{"$f":"IF(B1647>0,WEEKNUM(TEXT(Definice!$F$3,\"0000\")&\".\"&TEXT(J1647,\"00\")&\".\"&RIGHT(TEXT(B1647,\"0000\"),2)),0)","v":0}]
[1646,null,null,null,null,{"$f":"IF(OR(MAX($I$2:I1648)-I1648=0,D1648=0),\"\",MAX($I$2:I1648)-I1648)","v":""},"",0,10000,0,{"$f":"IF(B1648>0,WEEKNUM(TEXT(Definice!$F$3,\"0000\")&\".\"&TEXT(J1648,\"00\")&\".\"&RIGHT(TEXT(B1648,\"0000\"),2)),0)","v":0}]
[1647,null,null,null,null,{"$f":"IF(OR(MAX($I$2:I1649)-I1649=0,D1649=0),\"\",MAX($I$2:I1649)-I1649)","v":""},"",0,10000,0,{"$f":"IF(B1649>0,WEEKNUM(TEXT(Definice!$F$3,\"0000\")&\".\"&TEXT(J1649,\"00\")&\".\"&RIGHT(TEXT(B1649,\"0000\"),2)),0)","v":0}]
[1648,null,null,null,null,{"$f":"IF(OR(MAX($I$2:I1650)-I1650=0,D1650=0),\"\",MAX($I$2:I1650)-I1650)","v":""},"",0,10000,0,{"$f":"IF(B1650>0,WEEKNUM(TEXT(Definice!$F$3,\"0000\")&\".\"&TEXT(J1650,\"00\")&\".\"&RIGHT(TEXT(B1650,\"0000\"),2)),0)","v":0}]
[1649,null,null,null,null,{"$f":"IF(OR(MAX($I$2:I1651)-I1651=0,D1651=0),\"\",MAX($I$2:I1651)-I1651)","v":""},"",0,10000,0,{"$f":"IF(B1651>0,WEEKNUM(TEXT(Definice!$F$3,\"0000\")&\".\"&TEXT(J1651,\"00\")&\".\"&RIGHT(TEXT(B1651,\"0000\"),2)),0)","v":0}]
[1650,null,null,null,null,{"$f":"IF(OR(MAX($I$2:I1652)-I1652=0,D1652=0),\"\",MAX($I$2:I1652)-I1652)","v":""},"",0,10000,0,{"$f":"IF(B1652>0,WEEKNUM(TEXT(Definice!$F$3,\"0000\")&\".\"&TEXT(J1652,\"00\")&\".\"&RIGHT(TEXT(B1652,\"0000\"),2)),0)","v":0}]
[1651,null,null,null,null,{"$f":"IF(OR(MAX($I$2:I1653)-I1653=0,D1653=0),\"\",MAX($I$2:I1653)-I1653)","v":""},"",0,10000,0,{"$f":"IF(B1653>0,WEEKNUM(TEXT(Definice!$F$3,\"0000\")&\".\"&TEXT(J1653,\"00\")&\".\"&RIGHT(TEXT(B1653,\"0000\"),2)),0)","v":0}]
[1652,null,null,null,null,{"$f":"IF(OR(MAX($I$2:I1654)-I1654=0,D1654=0),\"\",MAX($I$2:I1654)-I1654)","v":""},"",0,10000,0,{"$f":"IF(B1654>0,WEEKNUM(TEXT(Definice!$F$3,\"0000\")&\".\"&TEXT(J1654,\"00\")&\".\"&RIGHT(TEXT(B1654,\"0000\"),2)),0)","v":0}]
[1653,null,null,null,null,{"$f":"IF(OR(MAX($I$2:I1655)-I1655=0,D1655=0),\"\",MAX($I$2:I1655)-I1655)","v":""},"",0,10000,0,{"$f":"IF(B1655>0,WEEKNUM(TEXT(Definice!$F$3,\"0000\")&\".\"&TEXT(J1655,\"00\")&\".\"&RIGHT(TEXT(B1655,\"0000\"),2)),0)","v":0}]
[1654,null,null,null,null,{"$f":"IF(OR(MAX($I$2:I1656)-I1656=0,D1656=0),\"\",MAX($I$2:I1656)-I1656)","v":""},"",0,10000,0,{"$f":"IF(B1656>0,WEEKNUM(TEXT(Definice!$F$3,\"0000\")&\".\"&TEXT(J1656,\"00\")&\".\"&RIGHT(TEXT(B1656,\"0000\"),2)),0)","v":0}]
[1655,null,null,null,null,{"$f":"IF(OR(MAX($I$2:I1657)-I1657=0,D1657=0),\"\",MAX($I$2:I1657)-I1657)","v":""},"",0,10000,0,{"$f":"IF(B1657>0,WEEKNUM(TEXT(Definice!$F$3,\"0000\")&\".\"&TEXT(J1657,\"00\")&\".\"&RIGHT(TEXT(B1657,\"0000\"),2)),0)","v":0}]
[1656,null,null,null,null,{"$f":"IF(OR(MAX($I$2:I1658)-I1658=0,D1658=0),\"\",MAX($I$2:I1658)-I1658)","v":""},"",0,10000,0,{"$f":"IF(B1658>0,WEEKNUM(TEXT(Definice!$F$3,\"0000\")&\".\"&TEXT(J1658,\"00\")&\".\"&RIGHT(TEXT(B1658,\"0000\"),2)),0)","v":0}]
[1657,null,null,null,null,{"$f":"IF(OR(MAX($I$2:I1659)-I1659=0,D1659=0),\"\",MAX($I$2:I1659)-I1659)","v":""},"",0,10000,0,{"$f":"IF(B1659>0,WEEKNUM(TEXT(Definice!$F$3,\"0000\")&\".\"&TEXT(J1659,\"00\")&\".\"&RIGHT(TEXT(B1659,\"0000\"),2)),0)","v":0}]
[1658,null,null,null,null,{"$f":"IF(OR(MAX($I$2:I1660)-I1660=0,D1660=0),\"\",MAX($I$2:I1660)-I1660)","v":""},"",0,10000,0,{"$f":"IF(B1660>0,WEEKNUM(TEXT(Definice!$F$3,\"0000\")&\".\"&TEXT(J1660,\"00\")&\".\"&RIGHT(TEXT(B1660,\"0000\"),2)),0)","v":0}]
[1659,null,null,null,null,{"$f":"IF(OR(MAX($I$2:I1661)-I1661=0,D1661=0),\"\",MAX($I$2:I1661)-I1661)","v":""},"",0,10000,0,{"$f":"IF(B1661>0,WEEKNUM(TEXT(Definice!$F$3,\"0000\")&\".\"&TEXT(J1661,\"00\")&\".\"&RIGHT(TEXT(B1661,\"0000\"),2)),0)","v":0}]
[1660,null,null,null,null,{"$f":"IF(OR(MAX($I$2:I1662)-I1662=0,D1662=0),\"\",MAX($I$2:I1662)-I1662)","v":""},"",0,10000,0,{"$f":"IF(B1662>0,WEEKNUM(TEXT(Definice!$F$3,\"0000\")&\".\"&TEXT(J1662,\"00\")&\".\"&RIGHT(TEXT(B1662,\"0000\"),2)),0)","v":0}]
[1661,null,null,null,null,{"$f":"IF(OR(MAX($I$2:I1663)-I1663=0,D1663=0),\"\",MAX($I$2:I1663)-I1663)","v":""},"",0,10000,0,{"$f":"IF(B1663>0,WEEKNUM(TEXT(Definice!$F$3,\"0000\")&\".\"&TEXT(J1663,\"00\")&\".\"&RIGHT(TEXT(B1663,\"0000\"),2)),0)","v":0}]
[1662,null,null,null,null,{"$f":"IF(OR(MAX($I$2:I1664)-I1664=0,D1664=0),\"\",MAX($I$2:I1664)-I1664)","v":""},"",0,10000,0,{"$f":"IF(B1664>0,WEEKNUM(TEXT(Definice!$F$3,\"0000\")&\".\"&TEXT(J1664,\"00\")&\".\"&RIGHT(TEXT(B1664,\"0000\"),2)),0)","v":0}]
[1663,null,null,null,null,{"$f":"IF(OR(MAX($I$2:I1665)-I1665=0,D1665=0),\"\",MAX($I$2:I1665)-I1665)","v":""},"",0,10000,0,{"$f":"IF(B1665>0,WEEKNUM(TEXT(Definice!$F$3,\"0000\")&\".\"&TEXT(J1665,\"00\")&\".\"&RIGHT(TEXT(B1665,\"0000\"),2)),0)","v":0}]
[1664,null,null,null,null,{"$f":"IF(OR(MAX($I$2:I1666)-I1666=0,D1666=0),\"\",MAX($I$2:I1666)-I1666)","v":""},"",0,10000,0,{"$f":"IF(B1666>0,WEEKNUM(TEXT(Definice!$F$3,\"0000\")&\".\"&TEXT(J1666,\"00\")&\".\"&RIGHT(TEXT(B1666,\"0000\"),2)),0)","v":0}]
[1665,null,null,null,null,{"$f":"IF(OR(MAX($I$2:I1667)-I1667=0,D1667=0),\"\",MAX($I$2:I1667)-I1667)","v":""},"",0,10000,0,{"$f":"IF(B1667>0,WEEKNUM(TEXT(Definice!$F$3,\"0000\")&\".\"&TEXT(J1667,\"00\")&\".\"&RIGHT(TEXT(B1667,\"0000\"),2)),0)","v":0}]
[1666,null,null,null,null,{"$f":"IF(OR(MAX($I$2:I1668)-I1668=0,D1668=0),\"\",MAX($I$2:I1668)-I1668)","v":""},"",0,10000,{"$f":"((INT(B1668/100)/100)-INT(INT(B1668/100)/100))*100","v":0},{"$f":"IF(B1668>0,WEEKNUM(TEXT(Definice!$F$3,\"0000\")&\".\"&TEXT(J1668,\"00\")&\".\"&RIGHT(TEXT(B1668,\"0000\"),2)),0)","v":0}]
[1667,null,null,null,null,{"$f":"IF(OR(MAX($I$2:I1669)-I1669=0,D1669=0),\"\",MAX($I$2:I1669)-I1669)","v":""},{"$f":"IF(F1669=\"\",\"\",F1669/(H1669+I1668))","v":""},{"$f":"H1668+E1669","v":0},{"$f":"I1668+E1669","v":10000},0,{"$f":"IF(B1669>0,WEEKNUM(TEXT(Definice!$F$3,\"0000\")&\".\"&TEXT(J1669,\"00\")&\".\"&RIGHT(TEXT(B1669,\"0000\"),2)),0)","v":0}]
[1668,null,null,null,null,{"$f":"IF(OR(MAX($I$2:I1670)-I1670=0,D1670=0),\"\",MAX($I$2:I1670)-I1670)","v":""},"",0,10000,0,{"$f":"IF(B1670>0,WEEKNUM(TEXT(Definice!$F$3,\"0000\")&\".\"&TEXT(J1670,\"00\")&\".\"&RIGHT(TEXT(B1670,\"0000\"),2)),0)","v":0}]
[1669,null,null,null,null,{"$f":"IF(OR(MAX($I$2:I1671)-I1671=0,D1671=0),\"\",MAX($I$2:I1671)-I1671)","v":""},"",0,10000,0,{"$f":"IF(B1671>0,WEEKNUM(TEXT(Definice!$F$3,\"0000\")&\".\"&TEXT(J1671,\"00\")&\".\"&RIGHT(TEXT(B1671,\"0000\"),2)),0)","v":0}]
[1670,null,null,null,null,{"$f":"IF(OR(MAX($I$2:I1672)-I1672=0,D1672=0),\"\",MAX($I$2:I1672)-I1672)","v":""},"",0,10000,0,{"$f":"IF(B1672>0,WEEKNUM(TEXT(Definice!$F$3,\"0000\")&\".\"&TEXT(J1672,\"00\")&\".\"&RIGHT(TEXT(B1672,\"0000\"),2)),0)","v":0}]
[1671,null,null,null,null,{"$f":"IF(OR(MAX($I$2:I1673)-I1673=0,D1673=0),\"\",MAX($I$2:I1673)-I1673)","v":""},"",0,10000,0,{"$f":"IF(B1673>0,WEEKNUM(TEXT(Definice!$F$3,\"0000\")&\".\"&TEXT(J1673,\"00\")&\".\"&RIGHT(TEXT(B1673,\"0000\"),2)),0)","v":0}]
[1672,null,null,null,null,{"$f":"IF(OR(MAX($I$2:I1674)-I1674=0,D1674=0),\"\",MAX($I$2:I1674)-I1674)","v":""},"",0,10000,0,{"$f":"IF(B1674>0,WEEKNUM(TEXT(Definice!$F$3,\"0000\")&\".\"&TEXT(J1674,\"00\")&\".\"&RIGHT(TEXT(B1674,\"0000\"),2)),0)","v":0}]
[1673,null,null,null,null,{"$f":"IF(OR(MAX($I$2:I1675)-I1675=0,D1675=0),\"\",MAX($I$2:I1675)-I1675)","v":""},"",0,10000,0,{"$f":"IF(B1675>0,WEEKNUM(TEXT(Definice!$F$3,\"0000\")&\".\"&TEXT(J1675,\"00\")&\".\"&RIGHT(TEXT(B1675,\"0000\"),2)),0)","v":0}]
[1674,null,null,null,null,{"$f":"IF(OR(MAX($I$2:I1676)-I1676=0,D1676=0),\"\",MAX($I$2:I1676)-I1676)","v":""},"",0,10000,0,{"$f":"IF(B1676>0,WEEKNUM(TEXT(Definice!$F$3,\"0000\")&\".\"&TEXT(J1676,\"00\")&\".\"&RIGHT(TEXT(B1676,\"0000\"),2)),0)","v":0}]
[1675,null,null,null,null,{"$f":"IF(OR(MAX($I$2:I1677)-I1677=0,D1677=0),\"\",MAX($I$2:I1677)-I1677)","v":""},"",0,10000,0,{"$f":"IF(B1677>0,WEEKNUM(TEXT(Definice!$F$3,\"0000\")&\".\"&TEXT(J1677,\"00\")&\".\"&RIGHT(TEXT(B1677,\"0000\"),2)),0)","v":0}]
[1676,null,null,null,null,{"$f":"IF(OR(MAX($I$2:I1678)-I1678=0,D1678=0),\"\",MAX($I$2:I1678)-I1678)","v":""},"",0,10000,0,{"$f":"IF(B1678>0,WEEKNUM(TEXT(Definice!$F$3,\"0000\")&\".\"&TEXT(J1678,\"00\")&\".\"&RIGHT(TEXT(B1678,\"0000\"),2)),0)","v":0}]
[1677,null,null,null,null,{"$f":"IF(OR(MAX($I$2:I1679)-I1679=0,D1679=0),\"\",MAX($I$2:I1679)-I1679)","v":""},"",0,10000,0,{"$f":"IF(B1679>0,WEEKNUM(TEXT(Definice!$F$3,\"0000\")&\".\"&TEXT(J1679,\"00\")&\".\"&RIGHT(TEXT(B1679,\"0000\"),2)),0)","v":0}]
[1678,null,null,null,null,{"$f":"IF(OR(MAX($I$2:I1680)-I1680=0,D1680=0),\"\",MAX($I$2:I1680)-I1680)","v":""},"",0,10000,0,{"$f":"IF(B1680>0,WEEKNUM(TEXT(Definice!$F$3,\"0000\")&\".\"&TEXT(J1680,\"00\")&\".\"&RIGHT(TEXT(B1680,\"0000\"),2)),0)","v":0}]
[1679,null,null,null,null,{"$f":"IF(OR(MAX($I$2:I1681)-I1681=0,D1681=0),\"\",MAX($I$2:I1681)-I1681)","v":""},"",0,10000,0,{"$f":"IF(B1681>0,WEEKNUM(TEXT(Definice!$F$3,\"0000\")&\".\"&TEXT(J1681,\"00\")&\".\"&RIGHT(TEXT(B1681,\"0000\"),2)),0)","v":0}]
[1680,null,null,null,null,{"$f":"IF(OR(MAX($I$2:I1682)-I1682=0,D1682=0),\"\",MAX($I$2:I1682)-I1682)","v":""},"",0,10000,0,{"$f":"IF(B1682>0,WEEKNUM(TEXT(Definice!$F$3,\"0000\")&\".\"&TEXT(J1682,\"00\")&\".\"&RIGHT(TEXT(B1682,\"0000\"),2)),0)","v":0}]
[1681,null,null,null,null,{"$f":"IF(OR(MAX($I$2:I1683)-I1683=0,D1683=0),\"\",MAX($I$2:I1683)-I1683)","v":""},"",0,10000,0,{"$f":"IF(B1683>0,WEEKNUM(TEXT(Definice!$F$3,\"0000\")&\".\"&TEXT(J1683,\"00\")&\".\"&RIGHT(TEXT(B1683,\"0000\"),2)),0)","v":0}]
[1682,null,null,null,null,{"$f":"IF(OR(MAX($I$2:I1684)-I1684=0,D1684=0),\"\",MAX($I$2:I1684)-I1684)","v":""},"",0,10000,0,{"$f":"IF(B1684>0,WEEKNUM(TEXT(Definice!$F$3,\"0000\")&\".\"&TEXT(J1684,\"00\")&\".\"&RIGHT(TEXT(B1684,\"0000\"),2)),0)","v":0}]
[1683,null,null,null,null,{"$f":"IF(OR(MAX($I$2:I1685)-I1685=0,D1685=0),\"\",MAX($I$2:I1685)-I1685)","v":""},"",0,10000,0,{"$f":"IF(B1685>0,WEEKNUM(TEXT(Definice!$F$3,\"0000\")&\".\"&TEXT(J1685,\"00\")&\".\"&RIGHT(TEXT(B1685,\"0000\"),2)),0)","v":0}]
[1684,null,null,null,null,{"$f":"IF(OR(MAX($I$2:I1686)-I1686=0,D1686=0),\"\",MAX($I$2:I1686)-I1686)","v":""},"",0,10000,0,{"$f":"IF(B1686>0,WEEKNUM(TEXT(Definice!$F$3,\"0000\")&\".\"&TEXT(J1686,\"00\")&\".\"&RIGHT(TEXT(B1686,\"0000\"),2)),0)","v":0}]
[1685,null,null,null,null,{"$f":"IF(OR(MAX($I$2:I1687)-I1687=0,D1687=0),\"\",MAX($I$2:I1687)-I1687)","v":""},"",0,10000,0,{"$f":"IF(B1687>0,WEEKNUM(TEXT(Definice!$F$3,\"0000\")&\".\"&TEXT(J1687,\"00\")&\".\"&RIGHT(TEXT(B1687,\"0000\"),2)),0)","v":0}]
[1686,null,null,null,null,{"$f":"IF(OR(MAX($I$2:I1688)-I1688=0,D1688=0),\"\",MAX($I$2:I1688)-I1688)","v":""},"",0,10000,0,{"$f":"IF(B1688>0,WEEKNUM(TEXT(Definice!$F$3,\"0000\")&\".\"&TEXT(J1688,\"00\")&\".\"&RIGHT(TEXT(B1688,\"0000\"),2)),0)","v":0}]
[1687,null,null,null,null,{"$f":"IF(OR(MAX($I$2:I1689)-I1689=0,D1689=0),\"\",MAX($I$2:I1689)-I1689)","v":""},"",0,10000,0,{"$f":"IF(B1689>0,WEEKNUM(TEXT(Definice!$F$3,\"0000\")&\".\"&TEXT(J1689,\"00\")&\".\"&RIGHT(TEXT(B1689,\"0000\"),2)),0)","v":0}]
[1688,null,null,null,null,{"$f":"IF(OR(MAX($I$2:I1690)-I1690=0,D1690=0),\"\",MAX($I$2:I1690)-I1690)","v":""},"",0,10000,0,{"$f":"IF(B1690>0,WEEKNUM(TEXT(Definice!$F$3,\"0000\")&\".\"&TEXT(J1690,\"00\")&\".\"&RIGHT(TEXT(B1690,\"0000\"),2)),0)","v":0}]
[1689,null,null,null,null,{"$f":"IF(OR(MAX($I$2:I1691)-I1691=0,D1691=0),\"\",MAX($I$2:I1691)-I1691)","v":""},"",0,10000,0,{"$f":"IF(B1691>0,WEEKNUM(TEXT(Definice!$F$3,\"0000\")&\".\"&TEXT(J1691,\"00\")&\".\"&RIGHT(TEXT(B1691,\"0000\"),2)),0)","v":0}]
[1690,null,null,null,null,{"$f":"IF(OR(MAX($I$2:I1692)-I1692=0,D1692=0),\"\",MAX($I$2:I1692)-I1692)","v":""},"",0,10000,0,{"$f":"IF(B1692>0,WEEKNUM(TEXT(Definice!$F$3,\"0000\")&\".\"&TEXT(J1692,\"00\")&\".\"&RIGHT(TEXT(B1692,\"0000\"),2)),0)","v":0}]
[1691,null,null,null,null,{"$f":"IF(OR(MAX($I$2:I1693)-I1693=0,D1693=0),\"\",MAX($I$2:I1693)-I1693)","v":""},"",0,10000,0,{"$f":"IF(B1693>0,WEEKNUM(TEXT(Definice!$F$3,\"0000\")&\".\"&TEXT(J1693,\"00\")&\".\"&RIGHT(TEXT(B1693,\"0000\"),2)),0)","v":0}]
[1692,null,null,null,null,{"$f":"IF(OR(MAX($I$2:I1694)-I1694=0,D1694=0),\"\",MAX($I$2:I1694)-I1694)","v":""},"",0,10000,0,{"$f":"IF(B1694>0,WEEKNUM(TEXT(Definice!$F$3,\"0000\")&\".\"&TEXT(J1694,\"00\")&\".\"&RIGHT(TEXT(B1694,\"0000\"),2)),0)","v":0}]
[1693,null,null,null,null,{"$f":"IF(OR(MAX($I$2:I1695)-I1695=0,D1695=0),\"\",MAX($I$2:I1695)-I1695)","v":""},"",0,10000,0,{"$f":"IF(B1695>0,WEEKNUM(TEXT(Definice!$F$3,\"0000\")&\".\"&TEXT(J1695,\"00\")&\".\"&RIGHT(TEXT(B1695,\"0000\"),2)),0)","v":0}]
[1694,null,null,null,null,{"$f":"IF(OR(MAX($I$2:I1696)-I1696=0,D1696=0),\"\",MAX($I$2:I1696)-I1696)","v":""},"",0,10000,0,{"$f":"IF(B1696>0,WEEKNUM(TEXT(Definice!$F$3,\"0000\")&\".\"&TEXT(J1696,\"00\")&\".\"&RIGHT(TEXT(B1696,\"0000\"),2)),0)","v":0}]
[1695,null,null,null,null,{"$f":"IF(OR(MAX($I$2:I1697)-I1697=0,D1697=0),\"\",MAX($I$2:I1697)-I1697)","v":""},"",0,10000,0,{"$f":"IF(B1697>0,WEEKNUM(TEXT(Definice!$F$3,\"0000\")&\".\"&TEXT(J1697,\"00\")&\".\"&RIGHT(TEXT(B1697,\"0000\"),2)),0)","v":0}]
[1696,null,null,null,null,{"$f":"IF(OR(MAX($I$2:I1698)-I1698=0,D1698=0),\"\",MAX($I$2:I1698)-I1698)","v":""},"",0,10000,0,{"$f":"IF(B1698>0,WEEKNUM(TEXT(Definice!$F$3,\"0000\")&\".\"&TEXT(J1698,\"00\")&\".\"&RIGHT(TEXT(B1698,\"0000\"),2)),0)","v":0}]
[1697,null,null,null,null,{"$f":"IF(OR(MAX($I$2:I1699)-I1699=0,D1699=0),\"\",MAX($I$2:I1699)-I1699)","v":""},"",0,10000,0,{"$f":"IF(B1699>0,WEEKNUM(TEXT(Definice!$F$3,\"0000\")&\".\"&TEXT(J1699,\"00\")&\".\"&RIGHT(TEXT(B1699,\"0000\"),2)),0)","v":0}]
[1698,null,null,null,null,{"$f":"IF(OR(MAX($I$2:I1700)-I1700=0,D1700=0),\"\",MAX($I$2:I1700)-I1700)","v":""},"",0,10000,0,{"$f":"IF(B1700>0,WEEKNUM(TEXT(Definice!$F$3,\"0000\")&\".\"&TEXT(J1700,\"00\")&\".\"&RIGHT(TEXT(B1700,\"0000\"),2)),0)","v":0}]
[1699,null,null,null,null,{"$f":"IF(OR(MAX($I$2:I1701)-I1701=0,D1701=0),\"\",MAX($I$2:I1701)-I1701)","v":""},"",0,10000,0,{"$f":"IF(B1701>0,WEEKNUM(TEXT(Definice!$F$3,\"0000\")&\".\"&TEXT(J1701,\"00\")&\".\"&RIGHT(TEXT(B1701,\"0000\"),2)),0)","v":0}]
[1700,null,null,null,null,{"$f":"IF(OR(MAX($I$2:I1702)-I1702=0,D1702=0),\"\",MAX($I$2:I1702)-I1702)","v":""},"",0,10000,0,{"$f":"IF(B1702>0,WEEKNUM(TEXT(Definice!$F$3,\"0000\")&\".\"&TEXT(J1702,\"00\")&\".\"&RIGHT(TEXT(B1702,\"0000\"),2)),0)","v":0}]
[1701,null,null,null,null,{"$f":"IF(OR(MAX($I$2:I1703)-I1703=0,D1703=0),\"\",MAX($I$2:I1703)-I1703)","v":""},"",0,10000,0,{"$f":"IF(B1703>0,WEEKNUM(TEXT(Definice!$F$3,\"0000\")&\".\"&TEXT(J1703,\"00\")&\".\"&RIGHT(TEXT(B1703,\"0000\"),2)),0)","v":0}]
[1702,null,null,null,null,{"$f":"IF(OR(MAX($I$2:I1704)-I1704=0,D1704=0),\"\",MAX($I$2:I1704)-I1704)","v":""},"",0,10000,0,{"$f":"IF(B1704>0,WEEKNUM(TEXT(Definice!$F$3,\"0000\")&\".\"&TEXT(J1704,\"00\")&\".\"&RIGHT(TEXT(B1704,\"0000\"),2)),0)","v":0}]
[1703,null,null,null,null,{"$f":"IF(OR(MAX($I$2:I1705)-I1705=0,D1705=0),\"\",MAX($I$2:I1705)-I1705)","v":""},"",0,10000,0,{"$f":"IF(B1705>0,WEEKNUM(TEXT(Definice!$F$3,\"0000\")&\".\"&TEXT(J1705,\"00\")&\".\"&RIGHT(TEXT(B1705,\"0000\"),2)),0)","v":0}]
[1704,null,null,null,null,{"$f":"IF(OR(MAX($I$2:I1706)-I1706=0,D1706=0),\"\",MAX($I$2:I1706)-I1706)","v":""},"",0,10000,0,{"$f":"IF(B1706>0,WEEKNUM(TEXT(Definice!$F$3,\"0000\")&\".\"&TEXT(J1706,\"00\")&\".\"&RIGHT(TEXT(B1706,\"0000\"),2)),0)","v":0}]
[1705,null,null,null,null,{"$f":"IF(OR(MAX($I$2:I1707)-I1707=0,D1707=0),\"\",MAX($I$2:I1707)-I1707)","v":""},"",0,10000,0,{"$f":"IF(B1707>0,WEEKNUM(TEXT(Definice!$F$3,\"0000\")&\".\"&TEXT(J1707,\"00\")&\".\"&RIGHT(TEXT(B1707,\"0000\"),2)),0)","v":0}]
[1706,null,null,null,null,{"$f":"IF(OR(MAX($I$2:I1708)-I1708=0,D1708=0),\"\",MAX($I$2:I1708)-I1708)","v":""},"",0,10000,0,{"$f":"IF(B1708>0,WEEKNUM(TEXT(Definice!$F$3,\"0000\")&\".\"&TEXT(J1708,\"00\")&\".\"&RIGHT(TEXT(B1708,\"0000\"),2)),0)","v":0}]
[1707,null,null,null,null,{"$f":"IF(OR(MAX($I$2:I1709)-I1709=0,D1709=0),\"\",MAX($I$2:I1709)-I1709)","v":""},"",0,10000,0,{"$f":"IF(B1709>0,WEEKNUM(TEXT(Definice!$F$3,\"0000\")&\".\"&TEXT(J1709,\"00\")&\".\"&RIGHT(TEXT(B1709,\"0000\"),2)),0)","v":0}]
[1708,null,null,null,null,{"$f":"IF(OR(MAX($I$2:I1710)-I1710=0,D1710=0),\"\",MAX($I$2:I1710)-I1710)","v":""},"",0,10000,0,{"$f":"IF(B1710>0,WEEKNUM(TEXT(Definice!$F$3,\"0000\")&\".\"&TEXT(J1710,\"00\")&\".\"&RIGHT(TEXT(B1710,\"0000\"),2)),0)","v":0}]
[1709,null,null,null,null,{"$f":"IF(OR(MAX($I$2:I1711)-I1711=0,D1711=0),\"\",MAX($I$2:I1711)-I1711)","v":""},"",0,10000,0,{"$f":"IF(B1711>0,WEEKNUM(TEXT(Definice!$F$3,\"0000\")&\".\"&TEXT(J1711,\"00\")&\".\"&RIGHT(TEXT(B1711,\"0000\"),2)),0)","v":0}]
[1710,null,null,null,null,{"$f":"IF(OR(MAX($I$2:I1712)-I1712=0,D1712=0),\"\",MAX($I$2:I1712)-I1712)","v":""},"",0,10000,0,{"$f":"IF(B1712>0,WEEKNUM(TEXT(Definice!$F$3,\"0000\")&\".\"&TEXT(J1712,\"00\")&\".\"&RIGHT(TEXT(B1712,\"0000\"),2)),0)","v":0}]
[1711,null,null,null,null,{"$f":"IF(OR(MAX($I$2:I1713)-I1713=0,D1713=0),\"\",MAX($I$2:I1713)-I1713)","v":""},"",0,10000,0,{"$f":"IF(B1713>0,WEEKNUM(TEXT(Definice!$F$3,\"0000\")&\".\"&TEXT(J1713,\"00\")&\".\"&RIGHT(TEXT(B1713,\"0000\"),2)),0)","v":0}]
[1712,null,null,null,null,{"$f":"IF(OR(MAX($I$2:I1714)-I1714=0,D1714=0),\"\",MAX($I$2:I1714)-I1714)","v":""},"",0,10000,0,{"$f":"IF(B1714>0,WEEKNUM(TEXT(Definice!$F$3,\"0000\")&\".\"&TEXT(J1714,\"00\")&\".\"&RIGHT(TEXT(B1714,\"0000\"),2)),0)","v":0}]
[1713,null,null,null,null,{"$f":"IF(OR(MAX($I$2:I1715)-I1715=0,D1715=0),\"\",MAX($I$2:I1715)-I1715)","v":""},"",0,10000,0,{"$f":"IF(B1715>0,WEEKNUM(TEXT(Definice!$F$3,\"0000\")&\".\"&TEXT(J1715,\"00\")&\".\"&RIGHT(TEXT(B1715,\"0000\"),2)),0)","v":0}]
[1714,null,null,null,null,{"$f":"IF(OR(MAX($I$2:I1716)-I1716=0,D1716=0),\"\",MAX($I$2:I1716)-I1716)","v":""},"",0,10000,0,{"$f":"IF(B1716>0,WEEKNUM(TEXT(Definice!$F$3,\"0000\")&\".\"&TEXT(J1716,\"00\")&\".\"&RIGHT(TEXT(B1716,\"0000\"),2)),0)","v":0}]
[1715,null,null,null,null,{"$f":"IF(OR(MAX($I$2:I1717)-I1717=0,D1717=0),\"\",MAX($I$2:I1717)-I1717)","v":""},"",0,10000,0,{"$f":"IF(B1717>0,WEEKNUM(TEXT(Definice!$F$3,\"0000\")&\".\"&TEXT(J1717,\"00\")&\".\"&RIGHT(TEXT(B1717,\"0000\"),2)),0)","v":0}]
[1716,null,null,null,null,{"$f":"IF(OR(MAX($I$2:I1718)-I1718=0,D1718=0),\"\",MAX($I$2:I1718)-I1718)","v":""},"",0,10000,0,{"$f":"IF(B1718>0,WEEKNUM(TEXT(Definice!$F$3,\"0000\")&\".\"&TEXT(J1718,\"00\")&\".\"&RIGHT(TEXT(B1718,\"0000\"),2)),0)","v":0}]
[1717,null,null,null,null,{"$f":"IF(OR(MAX($I$2:I1719)-I1719=0,D1719=0),\"\",MAX($I$2:I1719)-I1719)","v":""},"",0,10000,0,{"$f":"IF(B1719>0,WEEKNUM(TEXT(Definice!$F$3,\"0000\")&\".\"&TEXT(J1719,\"00\")&\".\"&RIGHT(TEXT(B1719,\"0000\"),2)),0)","v":0}]
[1718,null,null,null,null,{"$f":"IF(OR(MAX($I$2:I1720)-I1720=0,D1720=0),\"\",MAX($I$2:I1720)-I1720)","v":""},"",0,10000,0,{"$f":"IF(B1720>0,WEEKNUM(TEXT(Definice!$F$3,\"0000\")&\".\"&TEXT(J1720,\"00\")&\".\"&RIGHT(TEXT(B1720,\"0000\"),2)),0)","v":0}]
[1719,null,null,null,null,{"$f":"IF(OR(MAX($I$2:I1721)-I1721=0,D1721=0),\"\",MAX($I$2:I1721)-I1721)","v":""},"",0,10000,0,{"$f":"IF(B1721>0,WEEKNUM(TEXT(Definice!$F$3,\"0000\")&\".\"&TEXT(J1721,\"00\")&\".\"&RIGHT(TEXT(B1721,\"0000\"),2)),0)","v":0}]
[1720,null,null,null,null,{"$f":"IF(OR(MAX($I$2:I1722)-I1722=0,D1722=0),\"\",MAX($I$2:I1722)-I1722)","v":""},"",0,10000,0,{"$f":"IF(B1722>0,WEEKNUM(TEXT(Definice!$F$3,\"0000\")&\".\"&TEXT(J1722,\"00\")&\".\"&RIGHT(TEXT(B1722,\"0000\"),2)),0)","v":0}]
[1721,null,null,null,null,{"$f":"IF(OR(MAX($I$2:I1723)-I1723=0,D1723=0),\"\",MAX($I$2:I1723)-I1723)","v":""},"",0,10000,0,{"$f":"IF(B1723>0,WEEKNUM(TEXT(Definice!$F$3,\"0000\")&\".\"&TEXT(J1723,\"00\")&\".\"&RIGHT(TEXT(B1723,\"0000\"),2)),0)","v":0}]
[1722,null,null,null,null,{"$f":"IF(OR(MAX($I$2:I1724)-I1724=0,D1724=0),\"\",MAX($I$2:I1724)-I1724)","v":""},"",0,10000,0,{"$f":"IF(B1724>0,WEEKNUM(TEXT(Definice!$F$3,\"0000\")&\".\"&TEXT(J1724,\"00\")&\".\"&RIGHT(TEXT(B1724,\"0000\"),2)),0)","v":0}]
[1723,null,null,null,null,{"$f":"IF(OR(MAX($I$2:I1725)-I1725=0,D1725=0),\"\",MAX($I$2:I1725)-I1725)","v":""},"",0,10000,0,{"$f":"IF(B1725>0,WEEKNUM(TEXT(Definice!$F$3,\"0000\")&\".\"&TEXT(J1725,\"00\")&\".\"&RIGHT(TEXT(B1725,\"0000\"),2)),0)","v":0}]
[1724,null,null,null,null,{"$f":"IF(OR(MAX($I$2:I1726)-I1726=0,D1726=0),\"\",MAX($I$2:I1726)-I1726)","v":""},"",0,10000,0,{"$f":"IF(B1726>0,WEEKNUM(TEXT(Definice!$F$3,\"0000\")&\".\"&TEXT(J1726,\"00\")&\".\"&RIGHT(TEXT(B1726,\"0000\"),2)),0)","v":0}]
[1725,null,null,null,null,{"$f":"IF(OR(MAX($I$2:I1727)-I1727=0,D1727=0),\"\",MAX($I$2:I1727)-I1727)","v":""},"",0,10000,0,{"$f":"IF(B1727>0,WEEKNUM(TEXT(Definice!$F$3,\"0000\")&\".\"&TEXT(J1727,\"00\")&\".\"&RIGHT(TEXT(B1727,\"0000\"),2)),0)","v":0}]
[1726,null,null,null,null,{"$f":"IF(OR(MAX($I$2:I1728)-I1728=0,D1728=0),\"\",MAX($I$2:I1728)-I1728)","v":""},"",0,10000,0,{"$f":"IF(B1728>0,WEEKNUM(TEXT(Definice!$F$3,\"0000\")&\".\"&TEXT(J1728,\"00\")&\".\"&RIGHT(TEXT(B1728,\"0000\"),2)),0)","v":0}]
[1727,null,null,null,null,{"$f":"IF(OR(MAX($I$2:I1729)-I1729=0,D1729=0),\"\",MAX($I$2:I1729)-I1729)","v":""},"",0,10000,0,{"$f":"IF(B1729>0,WEEKNUM(TEXT(Definice!$F$3,\"0000\")&\".\"&TEXT(J1729,\"00\")&\".\"&RIGHT(TEXT(B1729,\"0000\"),2)),0)","v":0}]
[1728,null,null,null,null,{"$f":"IF(OR(MAX($I$2:I1730)-I1730=0,D1730=0),\"\",MAX($I$2:I1730)-I1730)","v":""},"",0,10000,0,{"$f":"IF(B1730>0,WEEKNUM(TEXT(Definice!$F$3,\"0000\")&\".\"&TEXT(J1730,\"00\")&\".\"&RIGHT(TEXT(B1730,\"0000\"),2)),0)","v":0}]
[1729,null,null,null,null,{"$f":"IF(OR(MAX($I$2:I1731)-I1731=0,D1731=0),\"\",MAX($I$2:I1731)-I1731)","v":""},"",0,10000,0,{"$f":"IF(B1731>0,WEEKNUM(TEXT(Definice!$F$3,\"0000\")&\".\"&TEXT(J1731,\"00\")&\".\"&RIGHT(TEXT(B1731,\"0000\"),2)),0)","v":0}]
[1730,null,null,null,null,{"$f":"IF(OR(MAX($I$2:I1732)-I1732=0,D1732=0),\"\",MAX($I$2:I1732)-I1732)","v":""},"",0,10000,{"$f":"((INT(B1732/100)/100)-INT(INT(B1732/100)/100))*100","v":0},{"$f":"IF(B1732>0,WEEKNUM(TEXT(Definice!$F$3,\"0000\")&\".\"&TEXT(J1732,\"00\")&\".\"&RIGHT(TEXT(B1732,\"0000\"),2)),0)","v":0}]
[1731,null,null,null,null,{"$f":"IF(OR(MAX($I$2:I1733)-I1733=0,D1733=0),\"\",MAX($I$2:I1733)-I1733)","v":""},{"$f":"IF(F1733=\"\",\"\",F1733/(H1733+I1732))","v":""},{"$f":"H1732+E1733","v":0},{"$f":"I1732+E1733","v":10000},0,{"$f":"IF(B1733>0,WEEKNUM(TEXT(Definice!$F$3,\"0000\")&\".\"&TEXT(J1733,\"00\")&\".\"&RIGHT(TEXT(B1733,\"0000\"),2)),0)","v":0}]
[1732,null,null,null,null,{"$f":"IF(OR(MAX($I$2:I1734)-I1734=0,D1734=0),\"\",MAX($I$2:I1734)-I1734)","v":""},"",0,10000,0,{"$f":"IF(B1734>0,WEEKNUM(TEXT(Definice!$F$3,\"0000\")&\".\"&TEXT(J1734,\"00\")&\".\"&RIGHT(TEXT(B1734,\"0000\"),2)),0)","v":0}]
[1733,null,null,null,null,{"$f":"IF(OR(MAX($I$2:I1735)-I1735=0,D1735=0),\"\",MAX($I$2:I1735)-I1735)","v":""},"",0,10000,0,{"$f":"IF(B1735>0,WEEKNUM(TEXT(Definice!$F$3,\"0000\")&\".\"&TEXT(J1735,\"00\")&\".\"&RIGHT(TEXT(B1735,\"0000\"),2)),0)","v":0}]
[1734,null,null,null,null,{"$f":"IF(OR(MAX($I$2:I1736)-I1736=0,D1736=0),\"\",MAX($I$2:I1736)-I1736)","v":""},"",0,10000,0,{"$f":"IF(B1736>0,WEEKNUM(TEXT(Definice!$F$3,\"0000\")&\".\"&TEXT(J1736,\"00\")&\".\"&RIGHT(TEXT(B1736,\"0000\"),2)),0)","v":0}]
[1735,null,null,null,null,{"$f":"IF(OR(MAX($I$2:I1737)-I1737=0,D1737=0),\"\",MAX($I$2:I1737)-I1737)","v":""},"",0,10000,0,{"$f":"IF(B1737>0,WEEKNUM(TEXT(Definice!$F$3,\"0000\")&\".\"&TEXT(J1737,\"00\")&\".\"&RIGHT(TEXT(B1737,\"0000\"),2)),0)","v":0}]
[1736,null,null,null,null,{"$f":"IF(OR(MAX($I$2:I1738)-I1738=0,D1738=0),\"\",MAX($I$2:I1738)-I1738)","v":""},"",0,10000,0,{"$f":"IF(B1738>0,WEEKNUM(TEXT(Definice!$F$3,\"0000\")&\".\"&TEXT(J1738,\"00\")&\".\"&RIGHT(TEXT(B1738,\"0000\"),2)),0)","v":0}]
[1737,null,null,null,null,{"$f":"IF(OR(MAX($I$2:I1739)-I1739=0,D1739=0),\"\",MAX($I$2:I1739)-I1739)","v":""},"",0,10000,0,{"$f":"IF(B1739>0,WEEKNUM(TEXT(Definice!$F$3,\"0000\")&\".\"&TEXT(J1739,\"00\")&\".\"&RIGHT(TEXT(B1739,\"0000\"),2)),0)","v":0}]
[1738,null,null,null,null,{"$f":"IF(OR(MAX($I$2:I1740)-I1740=0,D1740=0),\"\",MAX($I$2:I1740)-I1740)","v":""},"",0,10000,0,{"$f":"IF(B1740>0,WEEKNUM(TEXT(Definice!$F$3,\"0000\")&\".\"&TEXT(J1740,\"00\")&\".\"&RIGHT(TEXT(B1740,\"0000\"),2)),0)","v":0}]
[1739,null,null,null,null,{"$f":"IF(OR(MAX($I$2:I1741)-I1741=0,D1741=0),\"\",MAX($I$2:I1741)-I1741)","v":""},"",0,10000,0,{"$f":"IF(B1741>0,WEEKNUM(TEXT(Definice!$F$3,\"0000\")&\".\"&TEXT(J1741,\"00\")&\".\"&RIGHT(TEXT(B1741,\"0000\"),2)),0)","v":0}]
[1740,null,null,null,null,{"$f":"IF(OR(MAX($I$2:I1742)-I1742=0,D1742=0),\"\",MAX($I$2:I1742)-I1742)","v":""},"",0,10000,0,{"$f":"IF(B1742>0,WEEKNUM(TEXT(Definice!$F$3,\"0000\")&\".\"&TEXT(J1742,\"00\")&\".\"&RIGHT(TEXT(B1742,\"0000\"),2)),0)","v":0}]
[1741,null,null,null,null,{"$f":"IF(OR(MAX($I$2:I1743)-I1743=0,D1743=0),\"\",MAX($I$2:I1743)-I1743)","v":""},"",0,10000,0,{"$f":"IF(B1743>0,WEEKNUM(TEXT(Definice!$F$3,\"0000\")&\".\"&TEXT(J1743,\"00\")&\".\"&RIGHT(TEXT(B1743,\"0000\"),2)),0)","v":0}]
[1742,null,null,null,null,{"$f":"IF(OR(MAX($I$2:I1744)-I1744=0,D1744=0),\"\",MAX($I$2:I1744)-I1744)","v":""},"",0,10000,0,{"$f":"IF(B1744>0,WEEKNUM(TEXT(Definice!$F$3,\"0000\")&\".\"&TEXT(J1744,\"00\")&\".\"&RIGHT(TEXT(B1744,\"0000\"),2)),0)","v":0}]
[1743,null,null,null,null,{"$f":"IF(OR(MAX($I$2:I1745)-I1745=0,D1745=0),\"\",MAX($I$2:I1745)-I1745)","v":""},"",0,10000,0,{"$f":"IF(B1745>0,WEEKNUM(TEXT(Definice!$F$3,\"0000\")&\".\"&TEXT(J1745,\"00\")&\".\"&RIGHT(TEXT(B1745,\"0000\"),2)),0)","v":0}]
[1744,null,null,null,null,{"$f":"IF(OR(MAX($I$2:I1746)-I1746=0,D1746=0),\"\",MAX($I$2:I1746)-I1746)","v":""},"",0,10000,0,{"$f":"IF(B1746>0,WEEKNUM(TEXT(Definice!$F$3,\"0000\")&\".\"&TEXT(J1746,\"00\")&\".\"&RIGHT(TEXT(B1746,\"0000\"),2)),0)","v":0}]
[1745,null,null,null,null,{"$f":"IF(OR(MAX($I$2:I1747)-I1747=0,D1747=0),\"\",MAX($I$2:I1747)-I1747)","v":""},"",0,10000,0,{"$f":"IF(B1747>0,WEEKNUM(TEXT(Definice!$F$3,\"0000\")&\".\"&TEXT(J1747,\"00\")&\".\"&RIGHT(TEXT(B1747,\"0000\"),2)),0)","v":0}]
[1746,null,null,null,null,{"$f":"IF(OR(MAX($I$2:I1748)-I1748=0,D1748=0),\"\",MAX($I$2:I1748)-I1748)","v":""},"",0,10000,0,{"$f":"IF(B1748>0,WEEKNUM(TEXT(Definice!$F$3,\"0000\")&\".\"&TEXT(J1748,\"00\")&\".\"&RIGHT(TEXT(B1748,\"0000\"),2)),0)","v":0}]
[1747,null,null,null,null,{"$f":"IF(OR(MAX($I$2:I1749)-I1749=0,D1749=0),\"\",MAX($I$2:I1749)-I1749)","v":""},"",0,10000,0,{"$f":"IF(B1749>0,WEEKNUM(TEXT(Definice!$F$3,\"0000\")&\".\"&TEXT(J1749,\"00\")&\".\"&RIGHT(TEXT(B1749,\"0000\"),2)),0)","v":0}]
[1748,null,null,null,null,{"$f":"IF(OR(MAX($I$2:I1750)-I1750=0,D1750=0),\"\",MAX($I$2:I1750)-I1750)","v":""},"",0,10000,0,{"$f":"IF(B1750>0,WEEKNUM(TEXT(Definice!$F$3,\"0000\")&\".\"&TEXT(J1750,\"00\")&\".\"&RIGHT(TEXT(B1750,\"0000\"),2)),0)","v":0}]
[1749,null,null,null,null,{"$f":"IF(OR(MAX($I$2:I1751)-I1751=0,D1751=0),\"\",MAX($I$2:I1751)-I1751)","v":""},"",0,10000,0,{"$f":"IF(B1751>0,WEEKNUM(TEXT(Definice!$F$3,\"0000\")&\".\"&TEXT(J1751,\"00\")&\".\"&RIGHT(TEXT(B1751,\"0000\"),2)),0)","v":0}]
[1750,null,null,null,null,{"$f":"IF(OR(MAX($I$2:I1752)-I1752=0,D1752=0),\"\",MAX($I$2:I1752)-I1752)","v":""},"",0,10000,0,{"$f":"IF(B1752>0,WEEKNUM(TEXT(Definice!$F$3,\"0000\")&\".\"&TEXT(J1752,\"00\")&\".\"&RIGHT(TEXT(B1752,\"0000\"),2)),0)","v":0}]
[1751,null,null,null,null,{"$f":"IF(OR(MAX($I$2:I1753)-I1753=0,D1753=0),\"\",MAX($I$2:I1753)-I1753)","v":""},"",0,10000,0,{"$f":"IF(B1753>0,WEEKNUM(TEXT(Definice!$F$3,\"0000\")&\".\"&TEXT(J1753,\"00\")&\".\"&RIGHT(TEXT(B1753,\"0000\"),2)),0)","v":0}]
[1752,null,null,null,null,{"$f":"IF(OR(MAX($I$2:I1754)-I1754=0,D1754=0),\"\",MAX($I$2:I1754)-I1754)","v":""},"",0,10000,0,{"$f":"IF(B1754>0,WEEKNUM(TEXT(Definice!$F$3,\"0000\")&\".\"&TEXT(J1754,\"00\")&\".\"&RIGHT(TEXT(B1754,\"0000\"),2)),0)","v":0}]
[1753,null,null,null,null,{"$f":"IF(OR(MAX($I$2:I1755)-I1755=0,D1755=0),\"\",MAX($I$2:I1755)-I1755)","v":""},"",0,10000,0,{"$f":"IF(B1755>0,WEEKNUM(TEXT(Definice!$F$3,\"0000\")&\".\"&TEXT(J1755,\"00\")&\".\"&RIGHT(TEXT(B1755,\"0000\"),2)),0)","v":0}]
[1754,null,null,null,null,{"$f":"IF(OR(MAX($I$2:I1756)-I1756=0,D1756=0),\"\",MAX($I$2:I1756)-I1756)","v":""},"",0,10000,0,{"$f":"IF(B1756>0,WEEKNUM(TEXT(Definice!$F$3,\"0000\")&\".\"&TEXT(J1756,\"00\")&\".\"&RIGHT(TEXT(B1756,\"0000\"),2)),0)","v":0}]
[1755,null,null,null,null,{"$f":"IF(OR(MAX($I$2:I1757)-I1757=0,D1757=0),\"\",MAX($I$2:I1757)-I1757)","v":""},"",0,10000,0,{"$f":"IF(B1757>0,WEEKNUM(TEXT(Definice!$F$3,\"0000\")&\".\"&TEXT(J1757,\"00\")&\".\"&RIGHT(TEXT(B1757,\"0000\"),2)),0)","v":0}]
[1756,null,null,null,null,{"$f":"IF(OR(MAX($I$2:I1758)-I1758=0,D1758=0),\"\",MAX($I$2:I1758)-I1758)","v":""},"",0,10000,0,{"$f":"IF(B1758>0,WEEKNUM(TEXT(Definice!$F$3,\"0000\")&\".\"&TEXT(J1758,\"00\")&\".\"&RIGHT(TEXT(B1758,\"0000\"),2)),0)","v":0}]
[1757,null,null,null,null,{"$f":"IF(OR(MAX($I$2:I1759)-I1759=0,D1759=0),\"\",MAX($I$2:I1759)-I1759)","v":""},"",0,10000,0,{"$f":"IF(B1759>0,WEEKNUM(TEXT(Definice!$F$3,\"0000\")&\".\"&TEXT(J1759,\"00\")&\".\"&RIGHT(TEXT(B1759,\"0000\"),2)),0)","v":0}]
[1758,null,null,null,null,{"$f":"IF(OR(MAX($I$2:I1760)-I1760=0,D1760=0),\"\",MAX($I$2:I1760)-I1760)","v":""},"",0,10000,0,{"$f":"IF(B1760>0,WEEKNUM(TEXT(Definice!$F$3,\"0000\")&\".\"&TEXT(J1760,\"00\")&\".\"&RIGHT(TEXT(B1760,\"0000\"),2)),0)","v":0}]
[1759,null,null,null,null,{"$f":"IF(OR(MAX($I$2:I1761)-I1761=0,D1761=0),\"\",MAX($I$2:I1761)-I1761)","v":""},"",0,10000,0,{"$f":"IF(B1761>0,WEEKNUM(TEXT(Definice!$F$3,\"0000\")&\".\"&TEXT(J1761,\"00\")&\".\"&RIGHT(TEXT(B1761,\"0000\"),2)),0)","v":0}]
[1760,null,null,null,null,{"$f":"IF(OR(MAX($I$2:I1762)-I1762=0,D1762=0),\"\",MAX($I$2:I1762)-I1762)","v":""},"",0,10000,0,{"$f":"IF(B1762>0,WEEKNUM(TEXT(Definice!$F$3,\"0000\")&\".\"&TEXT(J1762,\"00\")&\".\"&RIGHT(TEXT(B1762,\"0000\"),2)),0)","v":0}]
[1761,null,null,null,null,{"$f":"IF(OR(MAX($I$2:I1763)-I1763=0,D1763=0),\"\",MAX($I$2:I1763)-I1763)","v":""},"",0,10000,0,{"$f":"IF(B1763>0,WEEKNUM(TEXT(Definice!$F$3,\"0000\")&\".\"&TEXT(J1763,\"00\")&\".\"&RIGHT(TEXT(B1763,\"0000\"),2)),0)","v":0}]
[1762,null,null,null,null,{"$f":"IF(OR(MAX($I$2:I1764)-I1764=0,D1764=0),\"\",MAX($I$2:I1764)-I1764)","v":""},"",0,10000,0,{"$f":"IF(B1764>0,WEEKNUM(TEXT(Definice!$F$3,\"0000\")&\".\"&TEXT(J1764,\"00\")&\".\"&RIGHT(TEXT(B1764,\"0000\"),2)),0)","v":0}]
[1763,null,null,null,null,{"$f":"IF(OR(MAX($I$2:I1765)-I1765=0,D1765=0),\"\",MAX($I$2:I1765)-I1765)","v":""},"",0,10000,0,{"$f":"IF(B1765>0,WEEKNUM(TEXT(Definice!$F$3,\"0000\")&\".\"&TEXT(J1765,\"00\")&\".\"&RIGHT(TEXT(B1765,\"0000\"),2)),0)","v":0}]
[1764,null,null,null,null,{"$f":"IF(OR(MAX($I$2:I1766)-I1766=0,D1766=0),\"\",MAX($I$2:I1766)-I1766)","v":""},"",0,10000,0,{"$f":"IF(B1766>0,WEEKNUM(TEXT(Definice!$F$3,\"0000\")&\".\"&TEXT(J1766,\"00\")&\".\"&RIGHT(TEXT(B1766,\"0000\"),2)),0)","v":0}]
[1765,null,null,null,null,{"$f":"IF(OR(MAX($I$2:I1767)-I1767=0,D1767=0),\"\",MAX($I$2:I1767)-I1767)","v":""},"",0,10000,0,{"$f":"IF(B1767>0,WEEKNUM(TEXT(Definice!$F$3,\"0000\")&\".\"&TEXT(J1767,\"00\")&\".\"&RIGHT(TEXT(B1767,\"0000\"),2)),0)","v":0}]
[1766,null,null,null,null,{"$f":"IF(OR(MAX($I$2:I1768)-I1768=0,D1768=0),\"\",MAX($I$2:I1768)-I1768)","v":""},"",0,10000,0,{"$f":"IF(B1768>0,WEEKNUM(TEXT(Definice!$F$3,\"0000\")&\".\"&TEXT(J1768,\"00\")&\".\"&RIGHT(TEXT(B1768,\"0000\"),2)),0)","v":0}]
[1767,null,null,null,null,{"$f":"IF(OR(MAX($I$2:I1769)-I1769=0,D1769=0),\"\",MAX($I$2:I1769)-I1769)","v":""},"",0,10000,0,{"$f":"IF(B1769>0,WEEKNUM(TEXT(Definice!$F$3,\"0000\")&\".\"&TEXT(J1769,\"00\")&\".\"&RIGHT(TEXT(B1769,\"0000\"),2)),0)","v":0}]
[1768,null,null,null,null,{"$f":"IF(OR(MAX($I$2:I1770)-I1770=0,D1770=0),\"\",MAX($I$2:I1770)-I1770)","v":""},"",0,10000,0,{"$f":"IF(B1770>0,WEEKNUM(TEXT(Definice!$F$3,\"0000\")&\".\"&TEXT(J1770,\"00\")&\".\"&RIGHT(TEXT(B1770,\"0000\"),2)),0)","v":0}]
[1769,null,null,null,null,{"$f":"IF(OR(MAX($I$2:I1771)-I1771=0,D1771=0),\"\",MAX($I$2:I1771)-I1771)","v":""},"",0,10000,0,{"$f":"IF(B1771>0,WEEKNUM(TEXT(Definice!$F$3,\"0000\")&\".\"&TEXT(J1771,\"00\")&\".\"&RIGHT(TEXT(B1771,\"0000\"),2)),0)","v":0}]
[1770,null,null,null,null,{"$f":"IF(OR(MAX($I$2:I1772)-I1772=0,D1772=0),\"\",MAX($I$2:I1772)-I1772)","v":""},"",0,10000,0,{"$f":"IF(B1772>0,WEEKNUM(TEXT(Definice!$F$3,\"0000\")&\".\"&TEXT(J1772,\"00\")&\".\"&RIGHT(TEXT(B1772,\"0000\"),2)),0)","v":0}]
[1771,null,null,null,null,{"$f":"IF(OR(MAX($I$2:I1773)-I1773=0,D1773=0),\"\",MAX($I$2:I1773)-I1773)","v":""},"",0,10000,0,{"$f":"IF(B1773>0,WEEKNUM(TEXT(Definice!$F$3,\"0000\")&\".\"&TEXT(J1773,\"00\")&\".\"&RIGHT(TEXT(B1773,\"0000\"),2)),0)","v":0}]
[1772,null,null,null,null,{"$f":"IF(OR(MAX($I$2:I1774)-I1774=0,D1774=0),\"\",MAX($I$2:I1774)-I1774)","v":""},"",0,10000,0,{"$f":"IF(B1774>0,WEEKNUM(TEXT(Definice!$F$3,\"0000\")&\".\"&TEXT(J1774,\"00\")&\".\"&RIGHT(TEXT(B1774,\"0000\"),2)),0)","v":0}]
[1773,null,null,null,null,{"$f":"IF(OR(MAX($I$2:I1775)-I1775=0,D1775=0),\"\",MAX($I$2:I1775)-I1775)","v":""},"",0,10000,0,{"$f":"IF(B1775>0,WEEKNUM(TEXT(Definice!$F$3,\"0000\")&\".\"&TEXT(J1775,\"00\")&\".\"&RIGHT(TEXT(B1775,\"0000\"),2)),0)","v":0}]
[1774,null,null,null,null,{"$f":"IF(OR(MAX($I$2:I1776)-I1776=0,D1776=0),\"\",MAX($I$2:I1776)-I1776)","v":""},"",0,10000,0,{"$f":"IF(B1776>0,WEEKNUM(TEXT(Definice!$F$3,\"0000\")&\".\"&TEXT(J1776,\"00\")&\".\"&RIGHT(TEXT(B1776,\"0000\"),2)),0)","v":0}]
[1775,null,null,null,null,{"$f":"IF(OR(MAX($I$2:I1777)-I1777=0,D1777=0),\"\",MAX($I$2:I1777)-I1777)","v":""},"",0,10000,0,{"$f":"IF(B1777>0,WEEKNUM(TEXT(Definice!$F$3,\"0000\")&\".\"&TEXT(J1777,\"00\")&\".\"&RIGHT(TEXT(B1777,\"0000\"),2)),0)","v":0}]
[1776,null,null,null,null,{"$f":"IF(OR(MAX($I$2:I1778)-I1778=0,D1778=0),\"\",MAX($I$2:I1778)-I1778)","v":""},"",0,10000,0,{"$f":"IF(B1778>0,WEEKNUM(TEXT(Definice!$F$3,\"0000\")&\".\"&TEXT(J1778,\"00\")&\".\"&RIGHT(TEXT(B1778,\"0000\"),2)),0)","v":0}]
[1777,null,null,null,null,{"$f":"IF(OR(MAX($I$2:I1779)-I1779=0,D1779=0),\"\",MAX($I$2:I1779)-I1779)","v":""},"",0,10000,0,{"$f":"IF(B1779>0,WEEKNUM(TEXT(Definice!$F$3,\"0000\")&\".\"&TEXT(J1779,\"00\")&\".\"&RIGHT(TEXT(B1779,\"0000\"),2)),0)","v":0}]
[1778,null,null,null,null,{"$f":"IF(OR(MAX($I$2:I1780)-I1780=0,D1780=0),\"\",MAX($I$2:I1780)-I1780)","v":""},"",0,10000,0,{"$f":"IF(B1780>0,WEEKNUM(TEXT(Definice!$F$3,\"0000\")&\".\"&TEXT(J1780,\"00\")&\".\"&RIGHT(TEXT(B1780,\"0000\"),2)),0)","v":0}]
[1779,null,null,null,null,{"$f":"IF(OR(MAX($I$2:I1781)-I1781=0,D1781=0),\"\",MAX($I$2:I1781)-I1781)","v":""},"",0,10000,0,{"$f":"IF(B1781>0,WEEKNUM(TEXT(Definice!$F$3,\"0000\")&\".\"&TEXT(J1781,\"00\")&\".\"&RIGHT(TEXT(B1781,\"0000\"),2)),0)","v":0}]
[1780,null,null,null,null,{"$f":"IF(OR(MAX($I$2:I1782)-I1782=0,D1782=0),\"\",MAX($I$2:I1782)-I1782)","v":""},"",0,10000,0,{"$f":"IF(B1782>0,WEEKNUM(TEXT(Definice!$F$3,\"0000\")&\".\"&TEXT(J1782,\"00\")&\".\"&RIGHT(TEXT(B1782,\"0000\"),2)),0)","v":0}]
[1781,null,null,null,null,{"$f":"IF(OR(MAX($I$2:I1783)-I1783=0,D1783=0),\"\",MAX($I$2:I1783)-I1783)","v":""},"",0,10000,0,{"$f":"IF(B1783>0,WEEKNUM(TEXT(Definice!$F$3,\"0000\")&\".\"&TEXT(J1783,\"00\")&\".\"&RIGHT(TEXT(B1783,\"0000\"),2)),0)","v":0}]
[1782,null,null,null,null,{"$f":"IF(OR(MAX($I$2:I1784)-I1784=0,D1784=0),\"\",MAX($I$2:I1784)-I1784)","v":""},"",0,10000,0,{"$f":"IF(B1784>0,WEEKNUM(TEXT(Definice!$F$3,\"0000\")&\".\"&TEXT(J1784,\"00\")&\".\"&RIGHT(TEXT(B1784,\"0000\"),2)),0)","v":0}]
[1783,null,null,null,null,{"$f":"IF(OR(MAX($I$2:I1785)-I1785=0,D1785=0),\"\",MAX($I$2:I1785)-I1785)","v":""},"",0,10000,0,{"$f":"IF(B1785>0,WEEKNUM(TEXT(Definice!$F$3,\"0000\")&\".\"&TEXT(J1785,\"00\")&\".\"&RIGHT(TEXT(B1785,\"0000\"),2)),0)","v":0}]
[1784,null,null,null,null,{"$f":"IF(OR(MAX($I$2:I1786)-I1786=0,D1786=0),\"\",MAX($I$2:I1786)-I1786)","v":""},"",0,10000,0,{"$f":"IF(B1786>0,WEEKNUM(TEXT(Definice!$F$3,\"0000\")&\".\"&TEXT(J1786,\"00\")&\".\"&RIGHT(TEXT(B1786,\"0000\"),2)),0)","v":0}]
[1785,null,null,null,null,{"$f":"IF(OR(MAX($I$2:I1787)-I1787=0,D1787=0),\"\",MAX($I$2:I1787)-I1787)","v":""},"",0,10000,0,{"$f":"IF(B1787>0,WEEKNUM(TEXT(Definice!$F$3,\"0000\")&\".\"&TEXT(J1787,\"00\")&\".\"&RIGHT(TEXT(B1787,\"0000\"),2)),0)","v":0}]
[1786,null,null,null,null,{"$f":"IF(OR(MAX($I$2:I1788)-I1788=0,D1788=0),\"\",MAX($I$2:I1788)-I1788)","v":""},"",0,10000,0,{"$f":"IF(B1788>0,WEEKNUM(TEXT(Definice!$F$3,\"0000\")&\".\"&TEXT(J1788,\"00\")&\".\"&RIGHT(TEXT(B1788,\"0000\"),2)),0)","v":0}]
[1787,null,null,null,null,{"$f":"IF(OR(MAX($I$2:I1789)-I1789=0,D1789=0),\"\",MAX($I$2:I1789)-I1789)","v":""},"",0,10000,0,{"$f":"IF(B1789>0,WEEKNUM(TEXT(Definice!$F$3,\"0000\")&\".\"&TEXT(J1789,\"00\")&\".\"&RIGHT(TEXT(B1789,\"0000\"),2)),0)","v":0}]
[1788,null,null,null,null,{"$f":"IF(OR(MAX($I$2:I1790)-I1790=0,D1790=0),\"\",MAX($I$2:I1790)-I1790)","v":""},"",0,10000,0,{"$f":"IF(B1790>0,WEEKNUM(TEXT(Definice!$F$3,\"0000\")&\".\"&TEXT(J1790,\"00\")&\".\"&RIGHT(TEXT(B1790,\"0000\"),2)),0)","v":0}]
[1789,null,null,null,null,{"$f":"IF(OR(MAX($I$2:I1791)-I1791=0,D1791=0),\"\",MAX($I$2:I1791)-I1791)","v":""},"",0,10000,0,{"$f":"IF(B1791>0,WEEKNUM(TEXT(Definice!$F$3,\"0000\")&\".\"&TEXT(J1791,\"00\")&\".\"&RIGHT(TEXT(B1791,\"0000\"),2)),0)","v":0}]
[1790,null,null,null,null,{"$f":"IF(OR(MAX($I$2:I1792)-I1792=0,D1792=0),\"\",MAX($I$2:I1792)-I1792)","v":""},"",0,10000,0,{"$f":"IF(B1792>0,WEEKNUM(TEXT(Definice!$F$3,\"0000\")&\".\"&TEXT(J1792,\"00\")&\".\"&RIGHT(TEXT(B1792,\"0000\"),2)),0)","v":0}]
[1791,null,null,null,null,{"$f":"IF(OR(MAX($I$2:I1793)-I1793=0,D1793=0),\"\",MAX($I$2:I1793)-I1793)","v":""},"",0,10000,0,{"$f":"IF(B1793>0,WEEKNUM(TEXT(Definice!$F$3,\"0000\")&\".\"&TEXT(J1793,\"00\")&\".\"&RIGHT(TEXT(B1793,\"0000\"),2)),0)","v":0}]
[1792,null,null,null,null,{"$f":"IF(OR(MAX($I$2:I1794)-I1794=0,D1794=0),\"\",MAX($I$2:I1794)-I1794)","v":""},"",0,10000,0,{"$f":"IF(B1794>0,WEEKNUM(TEXT(Definice!$F$3,\"0000\")&\".\"&TEXT(J1794,\"00\")&\".\"&RIGHT(TEXT(B1794,\"0000\"),2)),0)","v":0}]
[1793,null,null,null,null,{"$f":"IF(OR(MAX($I$2:I1795)-I1795=0,D1795=0),\"\",MAX($I$2:I1795)-I1795)","v":""},"",0,10000,0,{"$f":"IF(B1795>0,WEEKNUM(TEXT(Definice!$F$3,\"0000\")&\".\"&TEXT(J1795,\"00\")&\".\"&RIGHT(TEXT(B1795,\"0000\"),2)),0)","v":0}]
[1794,null,null,null,null,{"$f":"IF(OR(MAX($I$2:I1796)-I1796=0,D1796=0),\"\",MAX($I$2:I1796)-I1796)","v":""},"",0,10000,{"$f":"((INT(B1796/100)/100)-INT(INT(B1796/100)/100))*100","v":0},{"$f":"IF(B1796>0,WEEKNUM(TEXT(Definice!$F$3,\"0000\")&\".\"&TEXT(J1796,\"00\")&\".\"&RIGHT(TEXT(B1796,\"0000\"),2)),0)","v":0}]
[1795,null,null,null,null,{"$f":"IF(OR(MAX($I$2:I1797)-I1797=0,D1797=0),\"\",MAX($I$2:I1797)-I1797)","v":""},{"$f":"IF(F1797=\"\",\"\",F1797/(H1797+I1796))","v":""},{"$f":"H1796+E1797","v":0},{"$f":"I1796+E1797","v":10000},0,{"$f":"IF(B1797>0,WEEKNUM(TEXT(Definice!$F$3,\"0000\")&\".\"&TEXT(J1797,\"00\")&\".\"&RIGHT(TEXT(B1797,\"0000\"),2)),0)","v":0}]
[1796,null,null,null,null,{"$f":"IF(OR(MAX($I$2:I1798)-I1798=0,D1798=0),\"\",MAX($I$2:I1798)-I1798)","v":""},"",0,10000,0,{"$f":"IF(B1798>0,WEEKNUM(TEXT(Definice!$F$3,\"0000\")&\".\"&TEXT(J1798,\"00\")&\".\"&RIGHT(TEXT(B1798,\"0000\"),2)),0)","v":0}]
[1797,null,null,null,null,{"$f":"IF(OR(MAX($I$2:I1799)-I1799=0,D1799=0),\"\",MAX($I$2:I1799)-I1799)","v":""},"",0,10000,0,{"$f":"IF(B1799>0,WEEKNUM(TEXT(Definice!$F$3,\"0000\")&\".\"&TEXT(J1799,\"00\")&\".\"&RIGHT(TEXT(B1799,\"0000\"),2)),0)","v":0}]
[1798,null,null,null,null,{"$f":"IF(OR(MAX($I$2:I1800)-I1800=0,D1800=0),\"\",MAX($I$2:I1800)-I1800)","v":""},"",0,10000,0,{"$f":"IF(B1800>0,WEEKNUM(TEXT(Definice!$F$3,\"0000\")&\".\"&TEXT(J1800,\"00\")&\".\"&RIGHT(TEXT(B1800,\"0000\"),2)),0)","v":0}]
[1799,null,null,null,null,{"$f":"IF(OR(MAX($I$2:I1801)-I1801=0,D1801=0),\"\",MAX($I$2:I1801)-I1801)","v":""},"",0,10000,0,{"$f":"IF(B1801>0,WEEKNUM(TEXT(Definice!$F$3,\"0000\")&\".\"&TEXT(J1801,\"00\")&\".\"&RIGHT(TEXT(B1801,\"0000\"),2)),0)","v":0}]
[1800,null,null,null,null,{"$f":"IF(OR(MAX($I$2:I1802)-I1802=0,D1802=0),\"\",MAX($I$2:I1802)-I1802)","v":""},"",0,10000,0,{"$f":"IF(B1802>0,WEEKNUM(TEXT(Definice!$F$3,\"0000\")&\".\"&TEXT(J1802,\"00\")&\".\"&RIGHT(TEXT(B1802,\"0000\"),2)),0)","v":0}]
[1801,null,null,null,null,{"$f":"IF(OR(MAX($I$2:I1803)-I1803=0,D1803=0),\"\",MAX($I$2:I1803)-I1803)","v":""},"",0,10000,0,{"$f":"IF(B1803>0,WEEKNUM(TEXT(Definice!$F$3,\"0000\")&\".\"&TEXT(J1803,\"00\")&\".\"&RIGHT(TEXT(B1803,\"0000\"),2)),0)","v":0}]
[1802,null,null,null,null,{"$f":"IF(OR(MAX($I$2:I1804)-I1804=0,D1804=0),\"\",MAX($I$2:I1804)-I1804)","v":""},"",0,10000,0,{"$f":"IF(B1804>0,WEEKNUM(TEXT(Definice!$F$3,\"0000\")&\".\"&TEXT(J1804,\"00\")&\".\"&RIGHT(TEXT(B1804,\"0000\"),2)),0)","v":0}]
[1803,null,null,null,null,{"$f":"IF(OR(MAX($I$2:I1805)-I1805=0,D1805=0),\"\",MAX($I$2:I1805)-I1805)","v":""},"",0,10000,0,{"$f":"IF(B1805>0,WEEKNUM(TEXT(Definice!$F$3,\"0000\")&\".\"&TEXT(J1805,\"00\")&\".\"&RIGHT(TEXT(B1805,\"0000\"),2)),0)","v":0}]
[1804,null,null,null,null,{"$f":"IF(OR(MAX($I$2:I1806)-I1806=0,D1806=0),\"\",MAX($I$2:I1806)-I1806)","v":""},"",0,10000,0,{"$f":"IF(B1806>0,WEEKNUM(TEXT(Definice!$F$3,\"0000\")&\".\"&TEXT(J1806,\"00\")&\".\"&RIGHT(TEXT(B1806,\"0000\"),2)),0)","v":0}]
[1805,null,null,null,null,{"$f":"IF(OR(MAX($I$2:I1807)-I1807=0,D1807=0),\"\",MAX($I$2:I1807)-I1807)","v":""},"",0,10000,0,{"$f":"IF(B1807>0,WEEKNUM(TEXT(Definice!$F$3,\"0000\")&\".\"&TEXT(J1807,\"00\")&\".\"&RIGHT(TEXT(B1807,\"0000\"),2)),0)","v":0}]
[1806,null,null,null,null,{"$f":"IF(OR(MAX($I$2:I1808)-I1808=0,D1808=0),\"\",MAX($I$2:I1808)-I1808)","v":""},"",0,10000,0,{"$f":"IF(B1808>0,WEEKNUM(TEXT(Definice!$F$3,\"0000\")&\".\"&TEXT(J1808,\"00\")&\".\"&RIGHT(TEXT(B1808,\"0000\"),2)),0)","v":0}]
[1807,null,null,null,null,{"$f":"IF(OR(MAX($I$2:I1809)-I1809=0,D1809=0),\"\",MAX($I$2:I1809)-I1809)","v":""},"",0,10000,0,{"$f":"IF(B1809>0,WEEKNUM(TEXT(Definice!$F$3,\"0000\")&\".\"&TEXT(J1809,\"00\")&\".\"&RIGHT(TEXT(B1809,\"0000\"),2)),0)","v":0}]
[1808,null,null,null,null,{"$f":"IF(OR(MAX($I$2:I1810)-I1810=0,D1810=0),\"\",MAX($I$2:I1810)-I1810)","v":""},"",0,10000,0,{"$f":"IF(B1810>0,WEEKNUM(TEXT(Definice!$F$3,\"0000\")&\".\"&TEXT(J1810,\"00\")&\".\"&RIGHT(TEXT(B1810,\"0000\"),2)),0)","v":0}]
[1809,null,null,null,null,{"$f":"IF(OR(MAX($I$2:I1811)-I1811=0,D1811=0),\"\",MAX($I$2:I1811)-I1811)","v":""},"",0,10000,0,{"$f":"IF(B1811>0,WEEKNUM(TEXT(Definice!$F$3,\"0000\")&\".\"&TEXT(J1811,\"00\")&\".\"&RIGHT(TEXT(B1811,\"0000\"),2)),0)","v":0}]
[1810,null,null,null,null,{"$f":"IF(OR(MAX($I$2:I1812)-I1812=0,D1812=0),\"\",MAX($I$2:I1812)-I1812)","v":""},"",0,10000,0,{"$f":"IF(B1812>0,WEEKNUM(TEXT(Definice!$F$3,\"0000\")&\".\"&TEXT(J1812,\"00\")&\".\"&RIGHT(TEXT(B1812,\"0000\"),2)),0)","v":0}]
[1811,null,null,null,null,{"$f":"IF(OR(MAX($I$2:I1813)-I1813=0,D1813=0),\"\",MAX($I$2:I1813)-I1813)","v":""},"",0,10000,0,{"$f":"IF(B1813>0,WEEKNUM(TEXT(Definice!$F$3,\"0000\")&\".\"&TEXT(J1813,\"00\")&\".\"&RIGHT(TEXT(B1813,\"0000\"),2)),0)","v":0}]
[1812,null,null,null,null,{"$f":"IF(OR(MAX($I$2:I1814)-I1814=0,D1814=0),\"\",MAX($I$2:I1814)-I1814)","v":""},"",0,10000,0,{"$f":"IF(B1814>0,WEEKNUM(TEXT(Definice!$F$3,\"0000\")&\".\"&TEXT(J1814,\"00\")&\".\"&RIGHT(TEXT(B1814,\"0000\"),2)),0)","v":0}]
[1813,null,null,null,null,{"$f":"IF(OR(MAX($I$2:I1815)-I1815=0,D1815=0),\"\",MAX($I$2:I1815)-I1815)","v":""},"",0,10000,0,{"$f":"IF(B1815>0,WEEKNUM(TEXT(Definice!$F$3,\"0000\")&\".\"&TEXT(J1815,\"00\")&\".\"&RIGHT(TEXT(B1815,\"0000\"),2)),0)","v":0}]
[1814,null,null,null,null,{"$f":"IF(OR(MAX($I$2:I1816)-I1816=0,D1816=0),\"\",MAX($I$2:I1816)-I1816)","v":""},"",0,10000,0,{"$f":"IF(B1816>0,WEEKNUM(TEXT(Definice!$F$3,\"0000\")&\".\"&TEXT(J1816,\"00\")&\".\"&RIGHT(TEXT(B1816,\"0000\"),2)),0)","v":0}]
[1815,null,null,null,null,{"$f":"IF(OR(MAX($I$2:I1817)-I1817=0,D1817=0),\"\",MAX($I$2:I1817)-I1817)","v":""},"",0,10000,0,{"$f":"IF(B1817>0,WEEKNUM(TEXT(Definice!$F$3,\"0000\")&\".\"&TEXT(J1817,\"00\")&\".\"&RIGHT(TEXT(B1817,\"0000\"),2)),0)","v":0}]
[1816,null,null,null,null,{"$f":"IF(OR(MAX($I$2:I1818)-I1818=0,D1818=0),\"\",MAX($I$2:I1818)-I1818)","v":""},"",0,10000,0,{"$f":"IF(B1818>0,WEEKNUM(TEXT(Definice!$F$3,\"0000\")&\".\"&TEXT(J1818,\"00\")&\".\"&RIGHT(TEXT(B1818,\"0000\"),2)),0)","v":0}]
[1817,null,null,null,null,{"$f":"IF(OR(MAX($I$2:I1819)-I1819=0,D1819=0),\"\",MAX($I$2:I1819)-I1819)","v":""},"",0,10000,0,{"$f":"IF(B1819>0,WEEKNUM(TEXT(Definice!$F$3,\"0000\")&\".\"&TEXT(J1819,\"00\")&\".\"&RIGHT(TEXT(B1819,\"0000\"),2)),0)","v":0}]
[1818,null,null,null,null,{"$f":"IF(OR(MAX($I$2:I1820)-I1820=0,D1820=0),\"\",MAX($I$2:I1820)-I1820)","v":""},"",0,10000,0,{"$f":"IF(B1820>0,WEEKNUM(TEXT(Definice!$F$3,\"0000\")&\".\"&TEXT(J1820,\"00\")&\".\"&RIGHT(TEXT(B1820,\"0000\"),2)),0)","v":0}]
[1819,null,null,null,null,{"$f":"IF(OR(MAX($I$2:I1821)-I1821=0,D1821=0),\"\",MAX($I$2:I1821)-I1821)","v":""},"",0,10000,0,{"$f":"IF(B1821>0,WEEKNUM(TEXT(Definice!$F$3,\"0000\")&\".\"&TEXT(J1821,\"00\")&\".\"&RIGHT(TEXT(B1821,\"0000\"),2)),0)","v":0}]
[1820,null,null,null,null,{"$f":"IF(OR(MAX($I$2:I1822)-I1822=0,D1822=0),\"\",MAX($I$2:I1822)-I1822)","v":""},"",0,10000,0,{"$f":"IF(B1822>0,WEEKNUM(TEXT(Definice!$F$3,\"0000\")&\".\"&TEXT(J1822,\"00\")&\".\"&RIGHT(TEXT(B1822,\"0000\"),2)),0)","v":0}]
[1821,null,null,null,null,{"$f":"IF(OR(MAX($I$2:I1823)-I1823=0,D1823=0),\"\",MAX($I$2:I1823)-I1823)","v":""},"",0,10000,0,{"$f":"IF(B1823>0,WEEKNUM(TEXT(Definice!$F$3,\"0000\")&\".\"&TEXT(J1823,\"00\")&\".\"&RIGHT(TEXT(B1823,\"0000\"),2)),0)","v":0}]
[1822,null,null,null,null,{"$f":"IF(OR(MAX($I$2:I1824)-I1824=0,D1824=0),\"\",MAX($I$2:I1824)-I1824)","v":""},"",0,10000,0,{"$f":"IF(B1824>0,WEEKNUM(TEXT(Definice!$F$3,\"0000\")&\".\"&TEXT(J1824,\"00\")&\".\"&RIGHT(TEXT(B1824,\"0000\"),2)),0)","v":0}]
[1823,null,null,null,null,{"$f":"IF(OR(MAX($I$2:I1825)-I1825=0,D1825=0),\"\",MAX($I$2:I1825)-I1825)","v":""},"",0,10000,0,{"$f":"IF(B1825>0,WEEKNUM(TEXT(Definice!$F$3,\"0000\")&\".\"&TEXT(J1825,\"00\")&\".\"&RIGHT(TEXT(B1825,\"0000\"),2)),0)","v":0}]
[1824,null,null,null,null,{"$f":"IF(OR(MAX($I$2:I1826)-I1826=0,D1826=0),\"\",MAX($I$2:I1826)-I1826)","v":""},"",0,10000,0,{"$f":"IF(B1826>0,WEEKNUM(TEXT(Definice!$F$3,\"0000\")&\".\"&TEXT(J1826,\"00\")&\".\"&RIGHT(TEXT(B1826,\"0000\"),2)),0)","v":0}]
[1825,null,null,null,null,{"$f":"IF(OR(MAX($I$2:I1827)-I1827=0,D1827=0),\"\",MAX($I$2:I1827)-I1827)","v":""},"",0,10000,0,{"$f":"IF(B1827>0,WEEKNUM(TEXT(Definice!$F$3,\"0000\")&\".\"&TEXT(J1827,\"00\")&\".\"&RIGHT(TEXT(B1827,\"0000\"),2)),0)","v":0}]
[1826,null,null,null,null,{"$f":"IF(OR(MAX($I$2:I1828)-I1828=0,D1828=0),\"\",MAX($I$2:I1828)-I1828)","v":""},"",0,10000,0,{"$f":"IF(B1828>0,WEEKNUM(TEXT(Definice!$F$3,\"0000\")&\".\"&TEXT(J1828,\"00\")&\".\"&RIGHT(TEXT(B1828,\"0000\"),2)),0)","v":0}]
[1827,null,null,null,null,{"$f":"IF(OR(MAX($I$2:I1829)-I1829=0,D1829=0),\"\",MAX($I$2:I1829)-I1829)","v":""},"",0,10000,0,{"$f":"IF(B1829>0,WEEKNUM(TEXT(Definice!$F$3,\"0000\")&\".\"&TEXT(J1829,\"00\")&\".\"&RIGHT(TEXT(B1829,\"0000\"),2)),0)","v":0}]
[1828,null,null,null,null,{"$f":"IF(OR(MAX($I$2:I1830)-I1830=0,D1830=0),\"\",MAX($I$2:I1830)-I1830)","v":""},"",0,10000,0,{"$f":"IF(B1830>0,WEEKNUM(TEXT(Definice!$F$3,\"0000\")&\".\"&TEXT(J1830,\"00\")&\".\"&RIGHT(TEXT(B1830,\"0000\"),2)),0)","v":0}]
[1829,null,null,null,null,{"$f":"IF(OR(MAX($I$2:I1831)-I1831=0,D1831=0),\"\",MAX($I$2:I1831)-I1831)","v":""},"",0,10000,0,{"$f":"IF(B1831>0,WEEKNUM(TEXT(Definice!$F$3,\"0000\")&\".\"&TEXT(J1831,\"00\")&\".\"&RIGHT(TEXT(B1831,\"0000\"),2)),0)","v":0}]
[1830,null,null,null,null,{"$f":"IF(OR(MAX($I$2:I1832)-I1832=0,D1832=0),\"\",MAX($I$2:I1832)-I1832)","v":""},"",0,10000,0,{"$f":"IF(B1832>0,WEEKNUM(TEXT(Definice!$F$3,\"0000\")&\".\"&TEXT(J1832,\"00\")&\".\"&RIGHT(TEXT(B1832,\"0000\"),2)),0)","v":0}]
[1831,null,null,null,null,{"$f":"IF(OR(MAX($I$2:I1833)-I1833=0,D1833=0),\"\",MAX($I$2:I1833)-I1833)","v":""},"",0,10000,0,{"$f":"IF(B1833>0,WEEKNUM(TEXT(Definice!$F$3,\"0000\")&\".\"&TEXT(J1833,\"00\")&\".\"&RIGHT(TEXT(B1833,\"0000\"),2)),0)","v":0}]
[1832,null,null,null,null,{"$f":"IF(OR(MAX($I$2:I1834)-I1834=0,D1834=0),\"\",MAX($I$2:I1834)-I1834)","v":""},"",0,10000,0,{"$f":"IF(B1834>0,WEEKNUM(TEXT(Definice!$F$3,\"0000\")&\".\"&TEXT(J1834,\"00\")&\".\"&RIGHT(TEXT(B1834,\"0000\"),2)),0)","v":0}]
[1833,null,null,null,null,{"$f":"IF(OR(MAX($I$2:I1835)-I1835=0,D1835=0),\"\",MAX($I$2:I1835)-I1835)","v":""},"",0,10000,0,{"$f":"IF(B1835>0,WEEKNUM(TEXT(Definice!$F$3,\"0000\")&\".\"&TEXT(J1835,\"00\")&\".\"&RIGHT(TEXT(B1835,\"0000\"),2)),0)","v":0}]
[1834,null,null,null,null,{"$f":"IF(OR(MAX($I$2:I1836)-I1836=0,D1836=0),\"\",MAX($I$2:I1836)-I1836)","v":""},"",0,10000,0,{"$f":"IF(B1836>0,WEEKNUM(TEXT(Definice!$F$3,\"0000\")&\".\"&TEXT(J1836,\"00\")&\".\"&RIGHT(TEXT(B1836,\"0000\"),2)),0)","v":0}]
[1835,null,null,null,null,{"$f":"IF(OR(MAX($I$2:I1837)-I1837=0,D1837=0),\"\",MAX($I$2:I1837)-I1837)","v":""},"",0,10000,0,{"$f":"IF(B1837>0,WEEKNUM(TEXT(Definice!$F$3,\"0000\")&\".\"&TEXT(J1837,\"00\")&\".\"&RIGHT(TEXT(B1837,\"0000\"),2)),0)","v":0}]
[1836,null,null,null,null,{"$f":"IF(OR(MAX($I$2:I1838)-I1838=0,D1838=0),\"\",MAX($I$2:I1838)-I1838)","v":""},"",0,10000,0,{"$f":"IF(B1838>0,WEEKNUM(TEXT(Definice!$F$3,\"0000\")&\".\"&TEXT(J1838,\"00\")&\".\"&RIGHT(TEXT(B1838,\"0000\"),2)),0)","v":0}]
[1837,null,null,null,null,{"$f":"IF(OR(MAX($I$2:I1839)-I1839=0,D1839=0),\"\",MAX($I$2:I1839)-I1839)","v":""},"",0,10000,0,{"$f":"IF(B1839>0,WEEKNUM(TEXT(Definice!$F$3,\"0000\")&\".\"&TEXT(J1839,\"00\")&\".\"&RIGHT(TEXT(B1839,\"0000\"),2)),0)","v":0}]
[1838,null,null,null,null,{"$f":"IF(OR(MAX($I$2:I1840)-I1840=0,D1840=0),\"\",MAX($I$2:I1840)-I1840)","v":""},"",0,10000,0,{"$f":"IF(B1840>0,WEEKNUM(TEXT(Definice!$F$3,\"0000\")&\".\"&TEXT(J1840,\"00\")&\".\"&RIGHT(TEXT(B1840,\"0000\"),2)),0)","v":0}]
[1839,null,null,null,null,{"$f":"IF(OR(MAX($I$2:I1841)-I1841=0,D1841=0),\"\",MAX($I$2:I1841)-I1841)","v":""},"",0,10000,0,{"$f":"IF(B1841>0,WEEKNUM(TEXT(Definice!$F$3,\"0000\")&\".\"&TEXT(J1841,\"00\")&\".\"&RIGHT(TEXT(B1841,\"0000\"),2)),0)","v":0}]
[1840,null,null,null,null,{"$f":"IF(OR(MAX($I$2:I1842)-I1842=0,D1842=0),\"\",MAX($I$2:I1842)-I1842)","v":""},"",0,10000,0,{"$f":"IF(B1842>0,WEEKNUM(TEXT(Definice!$F$3,\"0000\")&\".\"&TEXT(J1842,\"00\")&\".\"&RIGHT(TEXT(B1842,\"0000\"),2)),0)","v":0}]
[1841,null,null,null,null,{"$f":"IF(OR(MAX($I$2:I1843)-I1843=0,D1843=0),\"\",MAX($I$2:I1843)-I1843)","v":""},"",0,10000,0,{"$f":"IF(B1843>0,WEEKNUM(TEXT(Definice!$F$3,\"0000\")&\".\"&TEXT(J1843,\"00\")&\".\"&RIGHT(TEXT(B1843,\"0000\"),2)),0)","v":0}]
[1842,null,null,null,null,{"$f":"IF(OR(MAX($I$2:I1844)-I1844=0,D1844=0),\"\",MAX($I$2:I1844)-I1844)","v":""},"",0,10000,0,{"$f":"IF(B1844>0,WEEKNUM(TEXT(Definice!$F$3,\"0000\")&\".\"&TEXT(J1844,\"00\")&\".\"&RIGHT(TEXT(B1844,\"0000\"),2)),0)","v":0}]
[1843,null,null,null,null,{"$f":"IF(OR(MAX($I$2:I1845)-I1845=0,D1845=0),\"\",MAX($I$2:I1845)-I1845)","v":""},"",0,10000,0,{"$f":"IF(B1845>0,WEEKNUM(TEXT(Definice!$F$3,\"0000\")&\".\"&TEXT(J1845,\"00\")&\".\"&RIGHT(TEXT(B1845,\"0000\"),2)),0)","v":0}]
[1844,null,null,null,null,{"$f":"IF(OR(MAX($I$2:I1846)-I1846=0,D1846=0),\"\",MAX($I$2:I1846)-I1846)","v":""},"",0,10000,0,{"$f":"IF(B1846>0,WEEKNUM(TEXT(Definice!$F$3,\"0000\")&\".\"&TEXT(J1846,\"00\")&\".\"&RIGHT(TEXT(B1846,\"0000\"),2)),0)","v":0}]
[1845,null,null,null,null,{"$f":"IF(OR(MAX($I$2:I1847)-I1847=0,D1847=0),\"\",MAX($I$2:I1847)-I1847)","v":""},"",0,10000,0,{"$f":"IF(B1847>0,WEEKNUM(TEXT(Definice!$F$3,\"0000\")&\".\"&TEXT(J1847,\"00\")&\".\"&RIGHT(TEXT(B1847,\"0000\"),2)),0)","v":0}]
[1846,null,null,null,null,{"$f":"IF(OR(MAX($I$2:I1848)-I1848=0,D1848=0),\"\",MAX($I$2:I1848)-I1848)","v":""},"",0,10000,0,{"$f":"IF(B1848>0,WEEKNUM(TEXT(Definice!$F$3,\"0000\")&\".\"&TEXT(J1848,\"00\")&\".\"&RIGHT(TEXT(B1848,\"0000\"),2)),0)","v":0}]
[1847,null,null,null,null,{"$f":"IF(OR(MAX($I$2:I1849)-I1849=0,D1849=0),\"\",MAX($I$2:I1849)-I1849)","v":""},"",0,10000,0,{"$f":"IF(B1849>0,WEEKNUM(TEXT(Definice!$F$3,\"0000\")&\".\"&TEXT(J1849,\"00\")&\".\"&RIGHT(TEXT(B1849,\"0000\"),2)),0)","v":0}]
[1848,null,null,null,null,{"$f":"IF(OR(MAX($I$2:I1850)-I1850=0,D1850=0),\"\",MAX($I$2:I1850)-I1850)","v":""},"",0,10000,0,{"$f":"IF(B1850>0,WEEKNUM(TEXT(Definice!$F$3,\"0000\")&\".\"&TEXT(J1850,\"00\")&\".\"&RIGHT(TEXT(B1850,\"0000\"),2)),0)","v":0}]
[1849,null,null,null,null,{"$f":"IF(OR(MAX($I$2:I1851)-I1851=0,D1851=0),\"\",MAX($I$2:I1851)-I1851)","v":""},"",0,10000,0,{"$f":"IF(B1851>0,WEEKNUM(TEXT(Definice!$F$3,\"0000\")&\".\"&TEXT(J1851,\"00\")&\".\"&RIGHT(TEXT(B1851,\"0000\"),2)),0)","v":0}]
[1850,null,null,null,null,{"$f":"IF(OR(MAX($I$2:I1852)-I1852=0,D1852=0),\"\",MAX($I$2:I1852)-I1852)","v":""},"",0,10000,0,{"$f":"IF(B1852>0,WEEKNUM(TEXT(Definice!$F$3,\"0000\")&\".\"&TEXT(J1852,\"00\")&\".\"&RIGHT(TEXT(B1852,\"0000\"),2)),0)","v":0}]
[1851,null,null,null,null,{"$f":"IF(OR(MAX($I$2:I1853)-I1853=0,D1853=0),\"\",MAX($I$2:I1853)-I1853)","v":""},"",0,10000,0,{"$f":"IF(B1853>0,WEEKNUM(TEXT(Definice!$F$3,\"0000\")&\".\"&TEXT(J1853,\"00\")&\".\"&RIGHT(TEXT(B1853,\"0000\"),2)),0)","v":0}]
[1852,null,null,null,null,{"$f":"IF(OR(MAX($I$2:I1854)-I1854=0,D1854=0),\"\",MAX($I$2:I1854)-I1854)","v":""},"",0,10000,0,{"$f":"IF(B1854>0,WEEKNUM(TEXT(Definice!$F$3,\"0000\")&\".\"&TEXT(J1854,\"00\")&\".\"&RIGHT(TEXT(B1854,\"0000\"),2)),0)","v":0}]
[1853,null,null,null,null,{"$f":"IF(OR(MAX($I$2:I1855)-I1855=0,D1855=0),\"\",MAX($I$2:I1855)-I1855)","v":""},"",0,10000,0,{"$f":"IF(B1855>0,WEEKNUM(TEXT(Definice!$F$3,\"0000\")&\".\"&TEXT(J1855,\"00\")&\".\"&RIGHT(TEXT(B1855,\"0000\"),2)),0)","v":0}]
[1854,null,null,null,null,{"$f":"IF(OR(MAX($I$2:I1856)-I1856=0,D1856=0),\"\",MAX($I$2:I1856)-I1856)","v":""},"",0,10000,0,{"$f":"IF(B1856>0,WEEKNUM(TEXT(Definice!$F$3,\"0000\")&\".\"&TEXT(J1856,\"00\")&\".\"&RIGHT(TEXT(B1856,\"0000\"),2)),0)","v":0}]
[1855,null,null,null,null,{"$f":"IF(OR(MAX($I$2:I1857)-I1857=0,D1857=0),\"\",MAX($I$2:I1857)-I1857)","v":""},"",0,10000,0,{"$f":"IF(B1857>0,WEEKNUM(TEXT(Definice!$F$3,\"0000\")&\".\"&TEXT(J1857,\"00\")&\".\"&RIGHT(TEXT(B1857,\"0000\"),2)),0)","v":0}]
[1856,null,null,null,null,{"$f":"IF(OR(MAX($I$2:I1858)-I1858=0,D1858=0),\"\",MAX($I$2:I1858)-I1858)","v":""},"",0,10000,0,{"$f":"IF(B1858>0,WEEKNUM(TEXT(Definice!$F$3,\"0000\")&\".\"&TEXT(J1858,\"00\")&\".\"&RIGHT(TEXT(B1858,\"0000\"),2)),0)","v":0}]
[1857,null,null,null,null,{"$f":"IF(OR(MAX($I$2:I1859)-I1859=0,D1859=0),\"\",MAX($I$2:I1859)-I1859)","v":""},"",0,10000,0,{"$f":"IF(B1859>0,WEEKNUM(TEXT(Definice!$F$3,\"0000\")&\".\"&TEXT(J1859,\"00\")&\".\"&RIGHT(TEXT(B1859,\"0000\"),2)),0)","v":0}]
[1858,null,null,null,null,{"$f":"IF(OR(MAX($I$2:I1860)-I1860=0,D1860=0),\"\",MAX($I$2:I1860)-I1860)","v":""},"",0,10000,{"$f":"((INT(B1860/100)/100)-INT(INT(B1860/100)/100))*100","v":0},{"$f":"IF(B1860>0,WEEKNUM(TEXT(Definice!$F$3,\"0000\")&\".\"&TEXT(J1860,\"00\")&\".\"&RIGHT(TEXT(B1860,\"0000\"),2)),0)","v":0}]
[1859,null,null,null,null,{"$f":"IF(OR(MAX($I$2:I1861)-I1861=0,D1861=0),\"\",MAX($I$2:I1861)-I1861)","v":""},{"$f":"IF(F1861=\"\",\"\",F1861/(H1861+I1860))","v":""},{"$f":"H1860+E1861","v":0},{"$f":"I1860+E1861","v":10000},0,{"$f":"IF(B1861>0,WEEKNUM(TEXT(Definice!$F$3,\"0000\")&\".\"&TEXT(J1861,\"00\")&\".\"&RIGHT(TEXT(B1861,\"0000\"),2)),0)","v":0}]
[1860,null,null,null,null,{"$f":"IF(OR(MAX($I$2:I1862)-I1862=0,D1862=0),\"\",MAX($I$2:I1862)-I1862)","v":""},"",0,10000,0,{"$f":"IF(B1862>0,WEEKNUM(TEXT(Definice!$F$3,\"0000\")&\".\"&TEXT(J1862,\"00\")&\".\"&RIGHT(TEXT(B1862,\"0000\"),2)),0)","v":0}]
[1861,null,null,null,null,{"$f":"IF(OR(MAX($I$2:I1863)-I1863=0,D1863=0),\"\",MAX($I$2:I1863)-I1863)","v":""},"",0,10000,0,{"$f":"IF(B1863>0,WEEKNUM(TEXT(Definice!$F$3,\"0000\")&\".\"&TEXT(J1863,\"00\")&\".\"&RIGHT(TEXT(B1863,\"0000\"),2)),0)","v":0}]
[1862,null,null,null,null,{"$f":"IF(OR(MAX($I$2:I1864)-I1864=0,D1864=0),\"\",MAX($I$2:I1864)-I1864)","v":""},"",0,10000,0,{"$f":"IF(B1864>0,WEEKNUM(TEXT(Definice!$F$3,\"0000\")&\".\"&TEXT(J1864,\"00\")&\".\"&RIGHT(TEXT(B1864,\"0000\"),2)),0)","v":0}]
[1863,null,null,null,null,{"$f":"IF(OR(MAX($I$2:I1865)-I1865=0,D1865=0),\"\",MAX($I$2:I1865)-I1865)","v":""},"",0,10000,0,{"$f":"IF(B1865>0,WEEKNUM(TEXT(Definice!$F$3,\"0000\")&\".\"&TEXT(J1865,\"00\")&\".\"&RIGHT(TEXT(B1865,\"0000\"),2)),0)","v":0}]
[1864,null,null,null,null,{"$f":"IF(OR(MAX($I$2:I1866)-I1866=0,D1866=0),\"\",MAX($I$2:I1866)-I1866)","v":""},"",0,10000,0,{"$f":"IF(B1866>0,WEEKNUM(TEXT(Definice!$F$3,\"0000\")&\".\"&TEXT(J1866,\"00\")&\".\"&RIGHT(TEXT(B1866,\"0000\"),2)),0)","v":0}]
[1865,null,null,null,null,{"$f":"IF(OR(MAX($I$2:I1867)-I1867=0,D1867=0),\"\",MAX($I$2:I1867)-I1867)","v":""},"",0,10000,0,{"$f":"IF(B1867>0,WEEKNUM(TEXT(Definice!$F$3,\"0000\")&\".\"&TEXT(J1867,\"00\")&\".\"&RIGHT(TEXT(B1867,\"0000\"),2)),0)","v":0}]
[1866,null,null,null,null,{"$f":"IF(OR(MAX($I$2:I1868)-I1868=0,D1868=0),\"\",MAX($I$2:I1868)-I1868)","v":""},"",0,10000,0,{"$f":"IF(B1868>0,WEEKNUM(TEXT(Definice!$F$3,\"0000\")&\".\"&TEXT(J1868,\"00\")&\".\"&RIGHT(TEXT(B1868,\"0000\"),2)),0)","v":0}]
[1867,null,null,null,null,{"$f":"IF(OR(MAX($I$2:I1869)-I1869=0,D1869=0),\"\",MAX($I$2:I1869)-I1869)","v":""},"",0,10000,0,{"$f":"IF(B1869>0,WEEKNUM(TEXT(Definice!$F$3,\"0000\")&\".\"&TEXT(J1869,\"00\")&\".\"&RIGHT(TEXT(B1869,\"0000\"),2)),0)","v":0}]
[1868,null,null,null,null,{"$f":"IF(OR(MAX($I$2:I1870)-I1870=0,D1870=0),\"\",MAX($I$2:I1870)-I1870)","v":""},"",0,10000,0,{"$f":"IF(B1870>0,WEEKNUM(TEXT(Definice!$F$3,\"0000\")&\".\"&TEXT(J1870,\"00\")&\".\"&RIGHT(TEXT(B1870,\"0000\"),2)),0)","v":0}]
[1869,null,null,null,null,{"$f":"IF(OR(MAX($I$2:I1871)-I1871=0,D1871=0),\"\",MAX($I$2:I1871)-I1871)","v":""},"",0,10000,0,{"$f":"IF(B1871>0,WEEKNUM(TEXT(Definice!$F$3,\"0000\")&\".\"&TEXT(J1871,\"00\")&\".\"&RIGHT(TEXT(B1871,\"0000\"),2)),0)","v":0}]
[1870,null,null,null,null,{"$f":"IF(OR(MAX($I$2:I1872)-I1872=0,D1872=0),\"\",MAX($I$2:I1872)-I1872)","v":""},"",0,10000,0,{"$f":"IF(B1872>0,WEEKNUM(TEXT(Definice!$F$3,\"0000\")&\".\"&TEXT(J1872,\"00\")&\".\"&RIGHT(TEXT(B1872,\"0000\"),2)),0)","v":0}]
[1871,null,null,null,null,{"$f":"IF(OR(MAX($I$2:I1873)-I1873=0,D1873=0),\"\",MAX($I$2:I1873)-I1873)","v":""},"",0,10000,0,{"$f":"IF(B1873>0,WEEKNUM(TEXT(Definice!$F$3,\"0000\")&\".\"&TEXT(J1873,\"00\")&\".\"&RIGHT(TEXT(B1873,\"0000\"),2)),0)","v":0}]
[1872,null,null,null,null,{"$f":"IF(OR(MAX($I$2:I1874)-I1874=0,D1874=0),\"\",MAX($I$2:I1874)-I1874)","v":""},"",0,10000,0,{"$f":"IF(B1874>0,WEEKNUM(TEXT(Definice!$F$3,\"0000\")&\".\"&TEXT(J1874,\"00\")&\".\"&RIGHT(TEXT(B1874,\"0000\"),2)),0)","v":0}]
[1873,null,null,null,null,{"$f":"IF(OR(MAX($I$2:I1875)-I1875=0,D1875=0),\"\",MAX($I$2:I1875)-I1875)","v":""},"",0,10000,0,{"$f":"IF(B1875>0,WEEKNUM(TEXT(Definice!$F$3,\"0000\")&\".\"&TEXT(J1875,\"00\")&\".\"&RIGHT(TEXT(B1875,\"0000\"),2)),0)","v":0}]
[1874,null,null,null,null,{"$f":"IF(OR(MAX($I$2:I1876)-I1876=0,D1876=0),\"\",MAX($I$2:I1876)-I1876)","v":""},"",0,10000,0,{"$f":"IF(B1876>0,WEEKNUM(TEXT(Definice!$F$3,\"0000\")&\".\"&TEXT(J1876,\"00\")&\".\"&RIGHT(TEXT(B1876,\"0000\"),2)),0)","v":0}]
[1875,null,null,null,null,{"$f":"IF(OR(MAX($I$2:I1877)-I1877=0,D1877=0),\"\",MAX($I$2:I1877)-I1877)","v":""},"",0,10000,0,{"$f":"IF(B1877>0,WEEKNUM(TEXT(Definice!$F$3,\"0000\")&\".\"&TEXT(J1877,\"00\")&\".\"&RIGHT(TEXT(B1877,\"0000\"),2)),0)","v":0}]
[1876,null,null,null,null,{"$f":"IF(OR(MAX($I$2:I1878)-I1878=0,D1878=0),\"\",MAX($I$2:I1878)-I1878)","v":""},"",0,10000,0,{"$f":"IF(B1878>0,WEEKNUM(TEXT(Definice!$F$3,\"0000\")&\".\"&TEXT(J1878,\"00\")&\".\"&RIGHT(TEXT(B1878,\"0000\"),2)),0)","v":0}]
[1877,null,null,null,null,{"$f":"IF(OR(MAX($I$2:I1879)-I1879=0,D1879=0),\"\",MAX($I$2:I1879)-I1879)","v":""},"",0,10000,0,{"$f":"IF(B1879>0,WEEKNUM(TEXT(Definice!$F$3,\"0000\")&\".\"&TEXT(J1879,\"00\")&\".\"&RIGHT(TEXT(B1879,\"0000\"),2)),0)","v":0}]
[1878,null,null,null,null,{"$f":"IF(OR(MAX($I$2:I1880)-I1880=0,D1880=0),\"\",MAX($I$2:I1880)-I1880)","v":""},"",0,10000,0,{"$f":"IF(B1880>0,WEEKNUM(TEXT(Definice!$F$3,\"0000\")&\".\"&TEXT(J1880,\"00\")&\".\"&RIGHT(TEXT(B1880,\"0000\"),2)),0)","v":0}]
[1879,null,null,null,null,{"$f":"IF(OR(MAX($I$2:I1881)-I1881=0,D1881=0),\"\",MAX($I$2:I1881)-I1881)","v":""},"",0,10000,0,{"$f":"IF(B1881>0,WEEKNUM(TEXT(Definice!$F$3,\"0000\")&\".\"&TEXT(J1881,\"00\")&\".\"&RIGHT(TEXT(B1881,\"0000\"),2)),0)","v":0}]
[1880,null,null,null,null,{"$f":"IF(OR(MAX($I$2:I1882)-I1882=0,D1882=0),\"\",MAX($I$2:I1882)-I1882)","v":""},"",0,10000,0,{"$f":"IF(B1882>0,WEEKNUM(TEXT(Definice!$F$3,\"0000\")&\".\"&TEXT(J1882,\"00\")&\".\"&RIGHT(TEXT(B1882,\"0000\"),2)),0)","v":0}]
[1881,null,null,null,null,{"$f":"IF(OR(MAX($I$2:I1883)-I1883=0,D1883=0),\"\",MAX($I$2:I1883)-I1883)","v":""},"",0,10000,0,{"$f":"IF(B1883>0,WEEKNUM(TEXT(Definice!$F$3,\"0000\")&\".\"&TEXT(J1883,\"00\")&\".\"&RIGHT(TEXT(B1883,\"0000\"),2)),0)","v":0}]
[1882,null,null,null,null,{"$f":"IF(OR(MAX($I$2:I1884)-I1884=0,D1884=0),\"\",MAX($I$2:I1884)-I1884)","v":""},"",0,10000,0,{"$f":"IF(B1884>0,WEEKNUM(TEXT(Definice!$F$3,\"0000\")&\".\"&TEXT(J1884,\"00\")&\".\"&RIGHT(TEXT(B1884,\"0000\"),2)),0)","v":0}]
[1883,null,null,null,null,{"$f":"IF(OR(MAX($I$2:I1885)-I1885=0,D1885=0),\"\",MAX($I$2:I1885)-I1885)","v":""},"",0,10000,0,{"$f":"IF(B1885>0,WEEKNUM(TEXT(Definice!$F$3,\"0000\")&\".\"&TEXT(J1885,\"00\")&\".\"&RIGHT(TEXT(B1885,\"0000\"),2)),0)","v":0}]
[1884,null,null,null,null,{"$f":"IF(OR(MAX($I$2:I1886)-I1886=0,D1886=0),\"\",MAX($I$2:I1886)-I1886)","v":""},"",0,10000,0,{"$f":"IF(B1886>0,WEEKNUM(TEXT(Definice!$F$3,\"0000\")&\".\"&TEXT(J1886,\"00\")&\".\"&RIGHT(TEXT(B1886,\"0000\"),2)),0)","v":0}]
[1885,null,null,null,null,{"$f":"IF(OR(MAX($I$2:I1887)-I1887=0,D1887=0),\"\",MAX($I$2:I1887)-I1887)","v":""},"",0,10000,0,{"$f":"IF(B1887>0,WEEKNUM(TEXT(Definice!$F$3,\"0000\")&\".\"&TEXT(J1887,\"00\")&\".\"&RIGHT(TEXT(B1887,\"0000\"),2)),0)","v":0}]
[1886,null,null,null,null,{"$f":"IF(OR(MAX($I$2:I1888)-I1888=0,D1888=0),\"\",MAX($I$2:I1888)-I1888)","v":""},"",0,10000,0,{"$f":"IF(B1888>0,WEEKNUM(TEXT(Definice!$F$3,\"0000\")&\".\"&TEXT(J1888,\"00\")&\".\"&RIGHT(TEXT(B1888,\"0000\"),2)),0)","v":0}]
[1887,null,null,null,null,{"$f":"IF(OR(MAX($I$2:I1889)-I1889=0,D1889=0),\"\",MAX($I$2:I1889)-I1889)","v":""},"",0,10000,0,{"$f":"IF(B1889>0,WEEKNUM(TEXT(Definice!$F$3,\"0000\")&\".\"&TEXT(J1889,\"00\")&\".\"&RIGHT(TEXT(B1889,\"0000\"),2)),0)","v":0}]
[1888,null,null,null,null,{"$f":"IF(OR(MAX($I$2:I1890)-I1890=0,D1890=0),\"\",MAX($I$2:I1890)-I1890)","v":""},"",0,10000,0,{"$f":"IF(B1890>0,WEEKNUM(TEXT(Definice!$F$3,\"0000\")&\".\"&TEXT(J1890,\"00\")&\".\"&RIGHT(TEXT(B1890,\"0000\"),2)),0)","v":0}]
[1889,null,null,null,null,{"$f":"IF(OR(MAX($I$2:I1891)-I1891=0,D1891=0),\"\",MAX($I$2:I1891)-I1891)","v":""},"",0,10000,0,{"$f":"IF(B1891>0,WEEKNUM(TEXT(Definice!$F$3,\"0000\")&\".\"&TEXT(J1891,\"00\")&\".\"&RIGHT(TEXT(B1891,\"0000\"),2)),0)","v":0}]
[1890,null,null,null,null,{"$f":"IF(OR(MAX($I$2:I1892)-I1892=0,D1892=0),\"\",MAX($I$2:I1892)-I1892)","v":""},"",0,10000,0,{"$f":"IF(B1892>0,WEEKNUM(TEXT(Definice!$F$3,\"0000\")&\".\"&TEXT(J1892,\"00\")&\".\"&RIGHT(TEXT(B1892,\"0000\"),2)),0)","v":0}]
[1891,null,null,null,null,{"$f":"IF(OR(MAX($I$2:I1893)-I1893=0,D1893=0),\"\",MAX($I$2:I1893)-I1893)","v":""},"",0,10000,0,{"$f":"IF(B1893>0,WEEKNUM(TEXT(Definice!$F$3,\"0000\")&\".\"&TEXT(J1893,\"00\")&\".\"&RIGHT(TEXT(B1893,\"0000\"),2)),0)","v":0}]
[1892,null,null,null,null,{"$f":"IF(OR(MAX($I$2:I1894)-I1894=0,D1894=0),\"\",MAX($I$2:I1894)-I1894)","v":""},"",0,10000,0,{"$f":"IF(B1894>0,WEEKNUM(TEXT(Definice!$F$3,\"0000\")&\".\"&TEXT(J1894,\"00\")&\".\"&RIGHT(TEXT(B1894,\"0000\"),2)),0)","v":0}]
[1893,null,null,null,null,{"$f":"IF(OR(MAX($I$2:I1895)-I1895=0,D1895=0),\"\",MAX($I$2:I1895)-I1895)","v":""},"",0,10000,0,{"$f":"IF(B1895>0,WEEKNUM(TEXT(Definice!$F$3,\"0000\")&\".\"&TEXT(J1895,\"00\")&\".\"&RIGHT(TEXT(B1895,\"0000\"),2)),0)","v":0}]
[1894,null,null,null,null,{"$f":"IF(OR(MAX($I$2:I1896)-I1896=0,D1896=0),\"\",MAX($I$2:I1896)-I1896)","v":""},"",0,10000,0,{"$f":"IF(B1896>0,WEEKNUM(TEXT(Definice!$F$3,\"0000\")&\".\"&TEXT(J1896,\"00\")&\".\"&RIGHT(TEXT(B1896,\"0000\"),2)),0)","v":0}]
[1895,null,null,null,null,{"$f":"IF(OR(MAX($I$2:I1897)-I1897=0,D1897=0),\"\",MAX($I$2:I1897)-I1897)","v":""},"",0,10000,0,{"$f":"IF(B1897>0,WEEKNUM(TEXT(Definice!$F$3,\"0000\")&\".\"&TEXT(J1897,\"00\")&\".\"&RIGHT(TEXT(B1897,\"0000\"),2)),0)","v":0}]
[1896,null,null,null,null,{"$f":"IF(OR(MAX($I$2:I1898)-I1898=0,D1898=0),\"\",MAX($I$2:I1898)-I1898)","v":""},"",0,10000,0,{"$f":"IF(B1898>0,WEEKNUM(TEXT(Definice!$F$3,\"0000\")&\".\"&TEXT(J1898,\"00\")&\".\"&RIGHT(TEXT(B1898,\"0000\"),2)),0)","v":0}]
[1897,null,null,null,null,{"$f":"IF(OR(MAX($I$2:I1899)-I1899=0,D1899=0),\"\",MAX($I$2:I1899)-I1899)","v":""},"",0,10000,0,{"$f":"IF(B1899>0,WEEKNUM(TEXT(Definice!$F$3,\"0000\")&\".\"&TEXT(J1899,\"00\")&\".\"&RIGHT(TEXT(B1899,\"0000\"),2)),0)","v":0}]
[1898,null,null,null,null,{"$f":"IF(OR(MAX($I$2:I1900)-I1900=0,D1900=0),\"\",MAX($I$2:I1900)-I1900)","v":""},"",0,10000,0,{"$f":"IF(B1900>0,WEEKNUM(TEXT(Definice!$F$3,\"0000\")&\".\"&TEXT(J1900,\"00\")&\".\"&RIGHT(TEXT(B1900,\"0000\"),2)),0)","v":0}]
[1899,null,null,null,null,{"$f":"IF(OR(MAX($I$2:I1901)-I1901=0,D1901=0),\"\",MAX($I$2:I1901)-I1901)","v":""},"",0,10000,0,{"$f":"IF(B1901>0,WEEKNUM(TEXT(Definice!$F$3,\"0000\")&\".\"&TEXT(J1901,\"00\")&\".\"&RIGHT(TEXT(B1901,\"0000\"),2)),0)","v":0}]
[1900,null,null,null,null,{"$f":"IF(OR(MAX($I$2:I1902)-I1902=0,D1902=0),\"\",MAX($I$2:I1902)-I1902)","v":""},"",0,10000,0,{"$f":"IF(B1902>0,WEEKNUM(TEXT(Definice!$F$3,\"0000\")&\".\"&TEXT(J1902,\"00\")&\".\"&RIGHT(TEXT(B1902,\"0000\"),2)),0)","v":0}]
[1901,null,null,null,null,{"$f":"IF(OR(MAX($I$2:I1903)-I1903=0,D1903=0),\"\",MAX($I$2:I1903)-I1903)","v":""},"",0,10000,0,{"$f":"IF(B1903>0,WEEKNUM(TEXT(Definice!$F$3,\"0000\")&\".\"&TEXT(J1903,\"00\")&\".\"&RIGHT(TEXT(B1903,\"0000\"),2)),0)","v":0}]
[1902,null,null,null,null,{"$f":"IF(OR(MAX($I$2:I1904)-I1904=0,D1904=0),\"\",MAX($I$2:I1904)-I1904)","v":""},"",0,10000,0,{"$f":"IF(B1904>0,WEEKNUM(TEXT(Definice!$F$3,\"0000\")&\".\"&TEXT(J1904,\"00\")&\".\"&RIGHT(TEXT(B1904,\"0000\"),2)),0)","v":0}]
[1903,null,null,null,null,{"$f":"IF(OR(MAX($I$2:I1905)-I1905=0,D1905=0),\"\",MAX($I$2:I1905)-I1905)","v":""},"",0,10000,0,{"$f":"IF(B1905>0,WEEKNUM(TEXT(Definice!$F$3,\"0000\")&\".\"&TEXT(J1905,\"00\")&\".\"&RIGHT(TEXT(B1905,\"0000\"),2)),0)","v":0}]
[1904,null,null,null,null,{"$f":"IF(OR(MAX($I$2:I1906)-I1906=0,D1906=0),\"\",MAX($I$2:I1906)-I1906)","v":""},"",0,10000,0,{"$f":"IF(B1906>0,WEEKNUM(TEXT(Definice!$F$3,\"0000\")&\".\"&TEXT(J1906,\"00\")&\".\"&RIGHT(TEXT(B1906,\"0000\"),2)),0)","v":0}]
[1905,null,null,null,null,{"$f":"IF(OR(MAX($I$2:I1907)-I1907=0,D1907=0),\"\",MAX($I$2:I1907)-I1907)","v":""},"",0,10000,0,{"$f":"IF(B1907>0,WEEKNUM(TEXT(Definice!$F$3,\"0000\")&\".\"&TEXT(J1907,\"00\")&\".\"&RIGHT(TEXT(B1907,\"0000\"),2)),0)","v":0}]
[1906,null,null,null,null,{"$f":"IF(OR(MAX($I$2:I1908)-I1908=0,D1908=0),\"\",MAX($I$2:I1908)-I1908)","v":""},"",0,10000,0,{"$f":"IF(B1908>0,WEEKNUM(TEXT(Definice!$F$3,\"0000\")&\".\"&TEXT(J1908,\"00\")&\".\"&RIGHT(TEXT(B1908,\"0000\"),2)),0)","v":0}]
[1907,null,null,null,null,{"$f":"IF(OR(MAX($I$2:I1909)-I1909=0,D1909=0),\"\",MAX($I$2:I1909)-I1909)","v":""},"",0,10000,0,{"$f":"IF(B1909>0,WEEKNUM(TEXT(Definice!$F$3,\"0000\")&\".\"&TEXT(J1909,\"00\")&\".\"&RIGHT(TEXT(B1909,\"0000\"),2)),0)","v":0}]
[1908,null,null,null,null,{"$f":"IF(OR(MAX($I$2:I1910)-I1910=0,D1910=0),\"\",MAX($I$2:I1910)-I1910)","v":""},"",0,10000,0,{"$f":"IF(B1910>0,WEEKNUM(TEXT(Definice!$F$3,\"0000\")&\".\"&TEXT(J1910,\"00\")&\".\"&RIGHT(TEXT(B1910,\"0000\"),2)),0)","v":0}]
[1909,null,null,null,null,{"$f":"IF(OR(MAX($I$2:I1911)-I1911=0,D1911=0),\"\",MAX($I$2:I1911)-I1911)","v":""},"",0,10000,0,{"$f":"IF(B1911>0,WEEKNUM(TEXT(Definice!$F$3,\"0000\")&\".\"&TEXT(J1911,\"00\")&\".\"&RIGHT(TEXT(B1911,\"0000\"),2)),0)","v":0}]
[1910,null,null,null,null,{"$f":"IF(OR(MAX($I$2:I1912)-I1912=0,D1912=0),\"\",MAX($I$2:I1912)-I1912)","v":""},"",0,10000,0,{"$f":"IF(B1912>0,WEEKNUM(TEXT(Definice!$F$3,\"0000\")&\".\"&TEXT(J1912,\"00\")&\".\"&RIGHT(TEXT(B1912,\"0000\"),2)),0)","v":0}]
[1911,null,null,null,null,{"$f":"IF(OR(MAX($I$2:I1913)-I1913=0,D1913=0),\"\",MAX($I$2:I1913)-I1913)","v":""},"",0,10000,0,{"$f":"IF(B1913>0,WEEKNUM(TEXT(Definice!$F$3,\"0000\")&\".\"&TEXT(J1913,\"00\")&\".\"&RIGHT(TEXT(B1913,\"0000\"),2)),0)","v":0}]
[1912,null,null,null,null,{"$f":"IF(OR(MAX($I$2:I1914)-I1914=0,D1914=0),\"\",MAX($I$2:I1914)-I1914)","v":""},"",0,10000,0,{"$f":"IF(B1914>0,WEEKNUM(TEXT(Definice!$F$3,\"0000\")&\".\"&TEXT(J1914,\"00\")&\".\"&RIGHT(TEXT(B1914,\"0000\"),2)),0)","v":0}]
[1913,null,null,null,null,{"$f":"IF(OR(MAX($I$2:I1915)-I1915=0,D1915=0),\"\",MAX($I$2:I1915)-I1915)","v":""},"",0,10000,0,{"$f":"IF(B1915>0,WEEKNUM(TEXT(Definice!$F$3,\"0000\")&\".\"&TEXT(J1915,\"00\")&\".\"&RIGHT(TEXT(B1915,\"0000\"),2)),0)","v":0}]
[1914,null,null,null,null,{"$f":"IF(OR(MAX($I$2:I1916)-I1916=0,D1916=0),\"\",MAX($I$2:I1916)-I1916)","v":""},"",0,10000,0,{"$f":"IF(B1916>0,WEEKNUM(TEXT(Definice!$F$3,\"0000\")&\".\"&TEXT(J1916,\"00\")&\".\"&RIGHT(TEXT(B1916,\"0000\"),2)),0)","v":0}]
[1915,null,null,null,null,{"$f":"IF(OR(MAX($I$2:I1917)-I1917=0,D1917=0),\"\",MAX($I$2:I1917)-I1917)","v":""},"",0,10000,0,{"$f":"IF(B1917>0,WEEKNUM(TEXT(Definice!$F$3,\"0000\")&\".\"&TEXT(J1917,\"00\")&\".\"&RIGHT(TEXT(B1917,\"0000\"),2)),0)","v":0}]
[1916,null,null,null,null,{"$f":"IF(OR(MAX($I$2:I1918)-I1918=0,D1918=0),\"\",MAX($I$2:I1918)-I1918)","v":""},"",0,10000,0,{"$f":"IF(B1918>0,WEEKNUM(TEXT(Definice!$F$3,\"0000\")&\".\"&TEXT(J1918,\"00\")&\".\"&RIGHT(TEXT(B1918,\"0000\"),2)),0)","v":0}]
[1917,null,null,null,null,{"$f":"IF(OR(MAX($I$2:I1919)-I1919=0,D1919=0),\"\",MAX($I$2:I1919)-I1919)","v":""},"",0,10000,0,{"$f":"IF(B1919>0,WEEKNUM(TEXT(Definice!$F$3,\"0000\")&\".\"&TEXT(J1919,\"00\")&\".\"&RIGHT(TEXT(B1919,\"0000\"),2)),0)","v":0}]
[1918,null,null,null,null,{"$f":"IF(OR(MAX($I$2:I1920)-I1920=0,D1920=0),\"\",MAX($I$2:I1920)-I1920)","v":""},"",0,10000,0,{"$f":"IF(B1920>0,WEEKNUM(TEXT(Definice!$F$3,\"0000\")&\".\"&TEXT(J1920,\"00\")&\".\"&RIGHT(TEXT(B1920,\"0000\"),2)),0)","v":0}]
[1919,null,null,null,null,{"$f":"IF(OR(MAX($I$2:I1921)-I1921=0,D1921=0),\"\",MAX($I$2:I1921)-I1921)","v":""},"",0,10000,0,{"$f":"IF(B1921>0,WEEKNUM(TEXT(Definice!$F$3,\"0000\")&\".\"&TEXT(J1921,\"00\")&\".\"&RIGHT(TEXT(B1921,\"0000\"),2)),0)","v":0}]
[1920,null,null,null,null,{"$f":"IF(OR(MAX($I$2:I1922)-I1922=0,D1922=0),\"\",MAX($I$2:I1922)-I1922)","v":""},"",0,10000,0,{"$f":"IF(B1922>0,WEEKNUM(TEXT(Definice!$F$3,\"0000\")&\".\"&TEXT(J1922,\"00\")&\".\"&RIGHT(TEXT(B1922,\"0000\"),2)),0)","v":0}]
[1921,null,null,null,null,{"$f":"IF(OR(MAX($I$2:I1923)-I1923=0,D1923=0),\"\",MAX($I$2:I1923)-I1923)","v":""},"",0,10000,0,{"$f":"IF(B1923>0,WEEKNUM(TEXT(Definice!$F$3,\"0000\")&\".\"&TEXT(J1923,\"00\")&\".\"&RIGHT(TEXT(B1923,\"0000\"),2)),0)","v":0}]
[1922,null,null,null,null,{"$f":"IF(OR(MAX($I$2:I1924)-I1924=0,D1924=0),\"\",MAX($I$2:I1924)-I1924)","v":""},"",0,10000,{"$f":"((INT(B1924/100)/100)-INT(INT(B1924/100)/100))*100","v":0},{"$f":"IF(B1924>0,WEEKNUM(TEXT(Definice!$F$3,\"0000\")&\".\"&TEXT(J1924,\"00\")&\".\"&RIGHT(TEXT(B1924,\"0000\"),2)),0)","v":0}]
[1923,null,null,null,null,{"$f":"IF(OR(MAX($I$2:I1925)-I1925=0,D1925=0),\"\",MAX($I$2:I1925)-I1925)","v":""},{"$f":"IF(F1925=\"\",\"\",F1925/(H1925+I1924))","v":""},{"$f":"H1924+E1925","v":0},{"$f":"I1924+E1925","v":10000},0,{"$f":"IF(B1925>0,WEEKNUM(TEXT(Definice!$F$3,\"0000\")&\".\"&TEXT(J1925,\"00\")&\".\"&RIGHT(TEXT(B1925,\"0000\"),2)),0)","v":0}]
[1924,null,null,null,null,{"$f":"IF(OR(MAX($I$2:I1926)-I1926=0,D1926=0),\"\",MAX($I$2:I1926)-I1926)","v":""},"",0,10000,0,{"$f":"IF(B1926>0,WEEKNUM(TEXT(Definice!$F$3,\"0000\")&\".\"&TEXT(J1926,\"00\")&\".\"&RIGHT(TEXT(B1926,\"0000\"),2)),0)","v":0}]
[1925,null,null,null,null,{"$f":"IF(OR(MAX($I$2:I1927)-I1927=0,D1927=0),\"\",MAX($I$2:I1927)-I1927)","v":""},"",0,10000,0,{"$f":"IF(B1927>0,WEEKNUM(TEXT(Definice!$F$3,\"0000\")&\".\"&TEXT(J1927,\"00\")&\".\"&RIGHT(TEXT(B1927,\"0000\"),2)),0)","v":0}]
[1926,null,null,null,null,{"$f":"IF(OR(MAX($I$2:I1928)-I1928=0,D1928=0),\"\",MAX($I$2:I1928)-I1928)","v":""},"",0,10000,0,{"$f":"IF(B1928>0,WEEKNUM(TEXT(Definice!$F$3,\"0000\")&\".\"&TEXT(J1928,\"00\")&\".\"&RIGHT(TEXT(B1928,\"0000\"),2)),0)","v":0}]
[1927,null,null,null,null,{"$f":"IF(OR(MAX($I$2:I1929)-I1929=0,D1929=0),\"\",MAX($I$2:I1929)-I1929)","v":""},"",0,10000,0,{"$f":"IF(B1929>0,WEEKNUM(TEXT(Definice!$F$3,\"0000\")&\".\"&TEXT(J1929,\"00\")&\".\"&RIGHT(TEXT(B1929,\"0000\"),2)),0)","v":0}]
[1928,null,null,null,null,{"$f":"IF(OR(MAX($I$2:I1930)-I1930=0,D1930=0),\"\",MAX($I$2:I1930)-I1930)","v":""},"",0,10000,0,{"$f":"IF(B1930>0,WEEKNUM(TEXT(Definice!$F$3,\"0000\")&\".\"&TEXT(J1930,\"00\")&\".\"&RIGHT(TEXT(B1930,\"0000\"),2)),0)","v":0}]
[1929,null,null,null,null,{"$f":"IF(OR(MAX($I$2:I1931)-I1931=0,D1931=0),\"\",MAX($I$2:I1931)-I1931)","v":""},"",0,10000,0,{"$f":"IF(B1931>0,WEEKNUM(TEXT(Definice!$F$3,\"0000\")&\".\"&TEXT(J1931,\"00\")&\".\"&RIGHT(TEXT(B1931,\"0000\"),2)),0)","v":0}]
[1930,null,null,null,null,{"$f":"IF(OR(MAX($I$2:I1932)-I1932=0,D1932=0),\"\",MAX($I$2:I1932)-I1932)","v":""},"",0,10000,0,{"$f":"IF(B1932>0,WEEKNUM(TEXT(Definice!$F$3,\"0000\")&\".\"&TEXT(J1932,\"00\")&\".\"&RIGHT(TEXT(B1932,\"0000\"),2)),0)","v":0}]
[1931,null,null,null,null,{"$f":"IF(OR(MAX($I$2:I1933)-I1933=0,D1933=0),\"\",MAX($I$2:I1933)-I1933)","v":""},"",0,10000,0,{"$f":"IF(B1933>0,WEEKNUM(TEXT(Definice!$F$3,\"0000\")&\".\"&TEXT(J1933,\"00\")&\".\"&RIGHT(TEXT(B1933,\"0000\"),2)),0)","v":0}]
[1932,null,null,null,null,{"$f":"IF(OR(MAX($I$2:I1934)-I1934=0,D1934=0),\"\",MAX($I$2:I1934)-I1934)","v":""},"",0,10000,0,{"$f":"IF(B1934>0,WEEKNUM(TEXT(Definice!$F$3,\"0000\")&\".\"&TEXT(J1934,\"00\")&\".\"&RIGHT(TEXT(B1934,\"0000\"),2)),0)","v":0}]
[1933,null,null,null,null,{"$f":"IF(OR(MAX($I$2:I1935)-I1935=0,D1935=0),\"\",MAX($I$2:I1935)-I1935)","v":""},"",0,10000,0,{"$f":"IF(B1935>0,WEEKNUM(TEXT(Definice!$F$3,\"0000\")&\".\"&TEXT(J1935,\"00\")&\".\"&RIGHT(TEXT(B1935,\"0000\"),2)),0)","v":0}]
[1934,null,null,null,null,{"$f":"IF(OR(MAX($I$2:I1936)-I1936=0,D1936=0),\"\",MAX($I$2:I1936)-I1936)","v":""},"",0,10000,0,{"$f":"IF(B1936>0,WEEKNUM(TEXT(Definice!$F$3,\"0000\")&\".\"&TEXT(J1936,\"00\")&\".\"&RIGHT(TEXT(B1936,\"0000\"),2)),0)","v":0}]
[1935,null,null,null,null,{"$f":"IF(OR(MAX($I$2:I1937)-I1937=0,D1937=0),\"\",MAX($I$2:I1937)-I1937)","v":""},"",0,10000,0,{"$f":"IF(B1937>0,WEEKNUM(TEXT(Definice!$F$3,\"0000\")&\".\"&TEXT(J1937,\"00\")&\".\"&RIGHT(TEXT(B1937,\"0000\"),2)),0)","v":0}]
[1936,null,null,null,null,{"$f":"IF(OR(MAX($I$2:I1938)-I1938=0,D1938=0),\"\",MAX($I$2:I1938)-I1938)","v":""},"",0,10000,0,{"$f":"IF(B1938>0,WEEKNUM(TEXT(Definice!$F$3,\"0000\")&\".\"&TEXT(J1938,\"00\")&\".\"&RIGHT(TEXT(B1938,\"0000\"),2)),0)","v":0}]
[1937,null,null,null,null,{"$f":"IF(OR(MAX($I$2:I1939)-I1939=0,D1939=0),\"\",MAX($I$2:I1939)-I1939)","v":""},"",0,10000,0,{"$f":"IF(B1939>0,WEEKNUM(TEXT(Definice!$F$3,\"0000\")&\".\"&TEXT(J1939,\"00\")&\".\"&RIGHT(TEXT(B1939,\"0000\"),2)),0)","v":0}]
[1938,null,null,null,null,{"$f":"IF(OR(MAX($I$2:I1940)-I1940=0,D1940=0),\"\",MAX($I$2:I1940)-I1940)","v":""},"",0,10000,0,{"$f":"IF(B1940>0,WEEKNUM(TEXT(Definice!$F$3,\"0000\")&\".\"&TEXT(J1940,\"00\")&\".\"&RIGHT(TEXT(B1940,\"0000\"),2)),0)","v":0}]
[1939,null,null,null,null,{"$f":"IF(OR(MAX($I$2:I1941)-I1941=0,D1941=0),\"\",MAX($I$2:I1941)-I1941)","v":""},"",0,10000,0,{"$f":"IF(B1941>0,WEEKNUM(TEXT(Definice!$F$3,\"0000\")&\".\"&TEXT(J1941,\"00\")&\".\"&RIGHT(TEXT(B1941,\"0000\"),2)),0)","v":0}]
[1940,null,null,null,null,{"$f":"IF(OR(MAX($I$2:I1942)-I1942=0,D1942=0),\"\",MAX($I$2:I1942)-I1942)","v":""},"",0,10000,0,{"$f":"IF(B1942>0,WEEKNUM(TEXT(Definice!$F$3,\"0000\")&\".\"&TEXT(J1942,\"00\")&\".\"&RIGHT(TEXT(B1942,\"0000\"),2)),0)","v":0}]
[1941,null,null,null,null,{"$f":"IF(OR(MAX($I$2:I1943)-I1943=0,D1943=0),\"\",MAX($I$2:I1943)-I1943)","v":""},"",0,10000,0,{"$f":"IF(B1943>0,WEEKNUM(TEXT(Definice!$F$3,\"0000\")&\".\"&TEXT(J1943,\"00\")&\".\"&RIGHT(TEXT(B1943,\"0000\"),2)),0)","v":0}]
[1942,null,null,null,null,{"$f":"IF(OR(MAX($I$2:I1944)-I1944=0,D1944=0),\"\",MAX($I$2:I1944)-I1944)","v":""},"",0,10000,0,{"$f":"IF(B1944>0,WEEKNUM(TEXT(Definice!$F$3,\"0000\")&\".\"&TEXT(J1944,\"00\")&\".\"&RIGHT(TEXT(B1944,\"0000\"),2)),0)","v":0}]
[1943,null,null,null,null,{"$f":"IF(OR(MAX($I$2:I1945)-I1945=0,D1945=0),\"\",MAX($I$2:I1945)-I1945)","v":""},"",0,10000,0,{"$f":"IF(B1945>0,WEEKNUM(TEXT(Definice!$F$3,\"0000\")&\".\"&TEXT(J1945,\"00\")&\".\"&RIGHT(TEXT(B1945,\"0000\"),2)),0)","v":0}]
[1944,null,null,null,null,{"$f":"IF(OR(MAX($I$2:I1946)-I1946=0,D1946=0),\"\",MAX($I$2:I1946)-I1946)","v":""},"",0,10000,0,{"$f":"IF(B1946>0,WEEKNUM(TEXT(Definice!$F$3,\"0000\")&\".\"&TEXT(J1946,\"00\")&\".\"&RIGHT(TEXT(B1946,\"0000\"),2)),0)","v":0}]
[1945,null,null,null,null,{"$f":"IF(OR(MAX($I$2:I1947)-I1947=0,D1947=0),\"\",MAX($I$2:I1947)-I1947)","v":""},"",0,10000,0,{"$f":"IF(B1947>0,WEEKNUM(TEXT(Definice!$F$3,\"0000\")&\".\"&TEXT(J1947,\"00\")&\".\"&RIGHT(TEXT(B1947,\"0000\"),2)),0)","v":0}]
[1946,null,null,null,null,{"$f":"IF(OR(MAX($I$2:I1948)-I1948=0,D1948=0),\"\",MAX($I$2:I1948)-I1948)","v":""},"",0,10000,0,{"$f":"IF(B1948>0,WEEKNUM(TEXT(Definice!$F$3,\"0000\")&\".\"&TEXT(J1948,\"00\")&\".\"&RIGHT(TEXT(B1948,\"0000\"),2)),0)","v":0}]
[1947,null,null,null,null,{"$f":"IF(OR(MAX($I$2:I1949)-I1949=0,D1949=0),\"\",MAX($I$2:I1949)-I1949)","v":""},"",0,10000,0,{"$f":"IF(B1949>0,WEEKNUM(TEXT(Definice!$F$3,\"0000\")&\".\"&TEXT(J1949,\"00\")&\".\"&RIGHT(TEXT(B1949,\"0000\"),2)),0)","v":0}]
[1948,null,null,null,null,{"$f":"IF(OR(MAX($I$2:I1950)-I1950=0,D1950=0),\"\",MAX($I$2:I1950)-I1950)","v":""},"",0,10000,0,{"$f":"IF(B1950>0,WEEKNUM(TEXT(Definice!$F$3,\"0000\")&\".\"&TEXT(J1950,\"00\")&\".\"&RIGHT(TEXT(B1950,\"0000\"),2)),0)","v":0}]
[1949,null,null,null,null,{"$f":"IF(OR(MAX($I$2:I1951)-I1951=0,D1951=0),\"\",MAX($I$2:I1951)-I1951)","v":""},"",0,10000,0,{"$f":"IF(B1951>0,WEEKNUM(TEXT(Definice!$F$3,\"0000\")&\".\"&TEXT(J1951,\"00\")&\".\"&RIGHT(TEXT(B1951,\"0000\"),2)),0)","v":0}]
[1950,null,null,null,null,{"$f":"IF(OR(MAX($I$2:I1952)-I1952=0,D1952=0),\"\",MAX($I$2:I1952)-I1952)","v":""},"",0,10000,0,{"$f":"IF(B1952>0,WEEKNUM(TEXT(Definice!$F$3,\"0000\")&\".\"&TEXT(J1952,\"00\")&\".\"&RIGHT(TEXT(B1952,\"0000\"),2)),0)","v":0}]
[1951,null,null,null,null,{"$f":"IF(OR(MAX($I$2:I1953)-I1953=0,D1953=0),\"\",MAX($I$2:I1953)-I1953)","v":""},"",0,10000,0,{"$f":"IF(B1953>0,WEEKNUM(TEXT(Definice!$F$3,\"0000\")&\".\"&TEXT(J1953,\"00\")&\".\"&RIGHT(TEXT(B1953,\"0000\"),2)),0)","v":0}]
[1952,null,null,null,null,{"$f":"IF(OR(MAX($I$2:I1954)-I1954=0,D1954=0),\"\",MAX($I$2:I1954)-I1954)","v":""},"",0,10000,0,{"$f":"IF(B1954>0,WEEKNUM(TEXT(Definice!$F$3,\"0000\")&\".\"&TEXT(J1954,\"00\")&\".\"&RIGHT(TEXT(B1954,\"0000\"),2)),0)","v":0}]
[1953,null,null,null,null,{"$f":"IF(OR(MAX($I$2:I1955)-I1955=0,D1955=0),\"\",MAX($I$2:I1955)-I1955)","v":""},"",0,10000,0,{"$f":"IF(B1955>0,WEEKNUM(TEXT(Definice!$F$3,\"0000\")&\".\"&TEXT(J1955,\"00\")&\".\"&RIGHT(TEXT(B1955,\"0000\"),2)),0)","v":0}]
[1954,null,null,null,null,{"$f":"IF(OR(MAX($I$2:I1956)-I1956=0,D1956=0),\"\",MAX($I$2:I1956)-I1956)","v":""},"",0,10000,0,{"$f":"IF(B1956>0,WEEKNUM(TEXT(Definice!$F$3,\"0000\")&\".\"&TEXT(J1956,\"00\")&\".\"&RIGHT(TEXT(B1956,\"0000\"),2)),0)","v":0}]
[1955,null,null,null,null,{"$f":"IF(OR(MAX($I$2:I1957)-I1957=0,D1957=0),\"\",MAX($I$2:I1957)-I1957)","v":""},"",0,10000,0,{"$f":"IF(B1957>0,WEEKNUM(TEXT(Definice!$F$3,\"0000\")&\".\"&TEXT(J1957,\"00\")&\".\"&RIGHT(TEXT(B1957,\"0000\"),2)),0)","v":0}]
[1956,null,null,null,null,{"$f":"IF(OR(MAX($I$2:I1958)-I1958=0,D1958=0),\"\",MAX($I$2:I1958)-I1958)","v":""},"",0,10000,0,{"$f":"IF(B1958>0,WEEKNUM(TEXT(Definice!$F$3,\"0000\")&\".\"&TEXT(J1958,\"00\")&\".\"&RIGHT(TEXT(B1958,\"0000\"),2)),0)","v":0}]
[1957,null,null,null,null,{"$f":"IF(OR(MAX($I$2:I1959)-I1959=0,D1959=0),\"\",MAX($I$2:I1959)-I1959)","v":""},"",0,10000,0,{"$f":"IF(B1959>0,WEEKNUM(TEXT(Definice!$F$3,\"0000\")&\".\"&TEXT(J1959,\"00\")&\".\"&RIGHT(TEXT(B1959,\"0000\"),2)),0)","v":0}]
[1958,null,null,null,null,{"$f":"IF(OR(MAX($I$2:I1960)-I1960=0,D1960=0),\"\",MAX($I$2:I1960)-I1960)","v":""},"",0,10000,0,{"$f":"IF(B1960>0,WEEKNUM(TEXT(Definice!$F$3,\"0000\")&\".\"&TEXT(J1960,\"00\")&\".\"&RIGHT(TEXT(B1960,\"0000\"),2)),0)","v":0}]
[1959,null,null,null,null,{"$f":"IF(OR(MAX($I$2:I1961)-I1961=0,D1961=0),\"\",MAX($I$2:I1961)-I1961)","v":""},"",0,10000,0,{"$f":"IF(B1961>0,WEEKNUM(TEXT(Definice!$F$3,\"0000\")&\".\"&TEXT(J1961,\"00\")&\".\"&RIGHT(TEXT(B1961,\"0000\"),2)),0)","v":0}]
[1960,null,null,null,null,{"$f":"IF(OR(MAX($I$2:I1962)-I1962=0,D1962=0),\"\",MAX($I$2:I1962)-I1962)","v":""},"",0,10000,0,{"$f":"IF(B1962>0,WEEKNUM(TEXT(Definice!$F$3,\"0000\")&\".\"&TEXT(J1962,\"00\")&\".\"&RIGHT(TEXT(B1962,\"0000\"),2)),0)","v":0}]
[1961,null,null,null,null,{"$f":"IF(OR(MAX($I$2:I1963)-I1963=0,D1963=0),\"\",MAX($I$2:I1963)-I1963)","v":""},"",0,10000,0,{"$f":"IF(B1963>0,WEEKNUM(TEXT(Definice!$F$3,\"0000\")&\".\"&TEXT(J1963,\"00\")&\".\"&RIGHT(TEXT(B1963,\"0000\"),2)),0)","v":0}]
[1962,null,null,null,null,{"$f":"IF(OR(MAX($I$2:I1964)-I1964=0,D1964=0),\"\",MAX($I$2:I1964)-I1964)","v":""},"",0,10000,0,{"$f":"IF(B1964>0,WEEKNUM(TEXT(Definice!$F$3,\"0000\")&\".\"&TEXT(J1964,\"00\")&\".\"&RIGHT(TEXT(B1964,\"0000\"),2)),0)","v":0}]
[1963,null,null,null,null,{"$f":"IF(OR(MAX($I$2:I1965)-I1965=0,D1965=0),\"\",MAX($I$2:I1965)-I1965)","v":""},"",0,10000,0,{"$f":"IF(B1965>0,WEEKNUM(TEXT(Definice!$F$3,\"0000\")&\".\"&TEXT(J1965,\"00\")&\".\"&RIGHT(TEXT(B1965,\"0000\"),2)),0)","v":0}]
[1964,null,null,null,null,{"$f":"IF(OR(MAX($I$2:I1966)-I1966=0,D1966=0),\"\",MAX($I$2:I1966)-I1966)","v":""},"",0,10000,0,{"$f":"IF(B1966>0,WEEKNUM(TEXT(Definice!$F$3,\"0000\")&\".\"&TEXT(J1966,\"00\")&\".\"&RIGHT(TEXT(B1966,\"0000\"),2)),0)","v":0}]
[1965,null,null,null,null,{"$f":"IF(OR(MAX($I$2:I1967)-I1967=0,D1967=0),\"\",MAX($I$2:I1967)-I1967)","v":""},"",0,10000,0,{"$f":"IF(B1967>0,WEEKNUM(TEXT(Definice!$F$3,\"0000\")&\".\"&TEXT(J1967,\"00\")&\".\"&RIGHT(TEXT(B1967,\"0000\"),2)),0)","v":0}]
[1966,null,null,null,null,{"$f":"IF(OR(MAX($I$2:I1968)-I1968=0,D1968=0),\"\",MAX($I$2:I1968)-I1968)","v":""},"",0,10000,0,{"$f":"IF(B1968>0,WEEKNUM(TEXT(Definice!$F$3,\"0000\")&\".\"&TEXT(J1968,\"00\")&\".\"&RIGHT(TEXT(B1968,\"0000\"),2)),0)","v":0}]
[1967,null,null,null,null,{"$f":"IF(OR(MAX($I$2:I1969)-I1969=0,D1969=0),\"\",MAX($I$2:I1969)-I1969)","v":""},"",0,10000,0,{"$f":"IF(B1969>0,WEEKNUM(TEXT(Definice!$F$3,\"0000\")&\".\"&TEXT(J1969,\"00\")&\".\"&RIGHT(TEXT(B1969,\"0000\"),2)),0)","v":0}]
[1968,null,null,null,null,{"$f":"IF(OR(MAX($I$2:I1970)-I1970=0,D1970=0),\"\",MAX($I$2:I1970)-I1970)","v":""},"",0,10000,0,{"$f":"IF(B1970>0,WEEKNUM(TEXT(Definice!$F$3,\"0000\")&\".\"&TEXT(J1970,\"00\")&\".\"&RIGHT(TEXT(B1970,\"0000\"),2)),0)","v":0}]
[1969,null,null,null,null,{"$f":"IF(OR(MAX($I$2:I1971)-I1971=0,D1971=0),\"\",MAX($I$2:I1971)-I1971)","v":""},"",0,10000,0,{"$f":"IF(B1971>0,WEEKNUM(TEXT(Definice!$F$3,\"0000\")&\".\"&TEXT(J1971,\"00\")&\".\"&RIGHT(TEXT(B1971,\"0000\"),2)),0)","v":0}]
[1970,null,null,null,null,{"$f":"IF(OR(MAX($I$2:I1972)-I1972=0,D1972=0),\"\",MAX($I$2:I1972)-I1972)","v":""},"",0,10000,0,{"$f":"IF(B1972>0,WEEKNUM(TEXT(Definice!$F$3,\"0000\")&\".\"&TEXT(J1972,\"00\")&\".\"&RIGHT(TEXT(B1972,\"0000\"),2)),0)","v":0}]
[1971,null,null,null,null,{"$f":"IF(OR(MAX($I$2:I1973)-I1973=0,D1973=0),\"\",MAX($I$2:I1973)-I1973)","v":""},"",0,10000,0,{"$f":"IF(B1973>0,WEEKNUM(TEXT(Definice!$F$3,\"0000\")&\".\"&TEXT(J1973,\"00\")&\".\"&RIGHT(TEXT(B1973,\"0000\"),2)),0)","v":0}]
[1972,null,null,null,null,{"$f":"IF(OR(MAX($I$2:I1974)-I1974=0,D1974=0),\"\",MAX($I$2:I1974)-I1974)","v":""},"",0,10000,0,{"$f":"IF(B1974>0,WEEKNUM(TEXT(Definice!$F$3,\"0000\")&\".\"&TEXT(J1974,\"00\")&\".\"&RIGHT(TEXT(B1974,\"0000\"),2)),0)","v":0}]
[1973,null,null,null,null,{"$f":"IF(OR(MAX($I$2:I1975)-I1975=0,D1975=0),\"\",MAX($I$2:I1975)-I1975)","v":""},"",0,10000,0,{"$f":"IF(B1975>0,WEEKNUM(TEXT(Definice!$F$3,\"0000\")&\".\"&TEXT(J1975,\"00\")&\".\"&RIGHT(TEXT(B1975,\"0000\"),2)),0)","v":0}]
[1974,null,null,null,null,{"$f":"IF(OR(MAX($I$2:I1976)-I1976=0,D1976=0),\"\",MAX($I$2:I1976)-I1976)","v":""},"",0,10000,0,{"$f":"IF(B1976>0,WEEKNUM(TEXT(Definice!$F$3,\"0000\")&\".\"&TEXT(J1976,\"00\")&\".\"&RIGHT(TEXT(B1976,\"0000\"),2)),0)","v":0}]
[1975,null,null,null,null,{"$f":"IF(OR(MAX($I$2:I1977)-I1977=0,D1977=0),\"\",MAX($I$2:I1977)-I1977)","v":""},"",0,10000,0,{"$f":"IF(B1977>0,WEEKNUM(TEXT(Definice!$F$3,\"0000\")&\".\"&TEXT(J1977,\"00\")&\".\"&RIGHT(TEXT(B1977,\"0000\"),2)),0)","v":0}]
[1976,null,null,null,null,{"$f":"IF(OR(MAX($I$2:I1978)-I1978=0,D1978=0),\"\",MAX($I$2:I1978)-I1978)","v":""},"",0,10000,0,{"$f":"IF(B1978>0,WEEKNUM(TEXT(Definice!$F$3,\"0000\")&\".\"&TEXT(J1978,\"00\")&\".\"&RIGHT(TEXT(B1978,\"0000\"),2)),0)","v":0}]
[1977,null,null,null,null,{"$f":"IF(OR(MAX($I$2:I1979)-I1979=0,D1979=0),\"\",MAX($I$2:I1979)-I1979)","v":""},"",0,10000,0,{"$f":"IF(B1979>0,WEEKNUM(TEXT(Definice!$F$3,\"0000\")&\".\"&TEXT(J1979,\"00\")&\".\"&RIGHT(TEXT(B1979,\"0000\"),2)),0)","v":0}]
[1978,null,null,null,null,{"$f":"IF(OR(MAX($I$2:I1980)-I1980=0,D1980=0),\"\",MAX($I$2:I1980)-I1980)","v":""},"",0,10000,0,{"$f":"IF(B1980>0,WEEKNUM(TEXT(Definice!$F$3,\"0000\")&\".\"&TEXT(J1980,\"00\")&\".\"&RIGHT(TEXT(B1980,\"0000\"),2)),0)","v":0}]
[1979,null,null,null,null,{"$f":"IF(OR(MAX($I$2:I1981)-I1981=0,D1981=0),\"\",MAX($I$2:I1981)-I1981)","v":""},"",0,10000,0,{"$f":"IF(B1981>0,WEEKNUM(TEXT(Definice!$F$3,\"0000\")&\".\"&TEXT(J1981,\"00\")&\".\"&RIGHT(TEXT(B1981,\"0000\"),2)),0)","v":0}]
[1980,null,null,null,null,{"$f":"IF(OR(MAX($I$2:I1982)-I1982=0,D1982=0),\"\",MAX($I$2:I1982)-I1982)","v":""},"",0,10000,0,{"$f":"IF(B1982>0,WEEKNUM(TEXT(Definice!$F$3,\"0000\")&\".\"&TEXT(J1982,\"00\")&\".\"&RIGHT(TEXT(B1982,\"0000\"),2)),0)","v":0}]
[1981,null,null,null,null,{"$f":"IF(OR(MAX($I$2:I1983)-I1983=0,D1983=0),\"\",MAX($I$2:I1983)-I1983)","v":""},"",0,10000,0,{"$f":"IF(B1983>0,WEEKNUM(TEXT(Definice!$F$3,\"0000\")&\".\"&TEXT(J1983,\"00\")&\".\"&RIGHT(TEXT(B1983,\"0000\"),2)),0)","v":0}]
[1982,null,null,null,null,{"$f":"IF(OR(MAX($I$2:I1984)-I1984=0,D1984=0),\"\",MAX($I$2:I1984)-I1984)","v":""},"",0,10000,0,{"$f":"IF(B1984>0,WEEKNUM(TEXT(Definice!$F$3,\"0000\")&\".\"&TEXT(J1984,\"00\")&\".\"&RIGHT(TEXT(B1984,\"0000\"),2)),0)","v":0}]
[1983,null,null,null,null,{"$f":"IF(OR(MAX($I$2:I1985)-I1985=0,D1985=0),\"\",MAX($I$2:I1985)-I1985)","v":""},"",0,10000,0,{"$f":"IF(B1985>0,WEEKNUM(TEXT(Definice!$F$3,\"0000\")&\".\"&TEXT(J1985,\"00\")&\".\"&RIGHT(TEXT(B1985,\"0000\"),2)),0)","v":0}]
[1984,null,null,null,null,{"$f":"IF(OR(MAX($I$2:I1986)-I1986=0,D1986=0),\"\",MAX($I$2:I1986)-I1986)","v":""},"",0,10000,0,{"$f":"IF(B1986>0,WEEKNUM(TEXT(Definice!$F$3,\"0000\")&\".\"&TEXT(J1986,\"00\")&\".\"&RIGHT(TEXT(B1986,\"0000\"),2)),0)","v":0}]
[1985,null,null,null,null,{"$f":"IF(OR(MAX($I$2:I1987)-I1987=0,D1987=0),\"\",MAX($I$2:I1987)-I1987)","v":""},"",0,10000,0,{"$f":"IF(B1987>0,WEEKNUM(TEXT(Definice!$F$3,\"0000\")&\".\"&TEXT(J1987,\"00\")&\".\"&RIGHT(TEXT(B1987,\"0000\"),2)),0)","v":0}]
[1986,null,null,null,null,{"$f":"IF(OR(MAX($I$2:I1988)-I1988=0,D1988=0),\"\",MAX($I$2:I1988)-I1988)","v":""},"",0,10000,{"$f":"((INT(B1988/100)/100)-INT(INT(B1988/100)/100))*100","v":0},{"$f":"IF(B1988>0,WEEKNUM(TEXT(Definice!$F$3,\"0000\")&\".\"&TEXT(J1988,\"00\")&\".\"&RIGHT(TEXT(B1988,\"0000\"),2)),0)","v":0}]
[1987,null,null,null,null,{"$f":"IF(OR(MAX($I$2:I1989)-I1989=0,D1989=0),\"\",MAX($I$2:I1989)-I1989)","v":""},{"$f":"IF(F1989=\"\",\"\",F1989/(H1989+I1988))","v":""},{"$f":"H1988+E1989","v":0},{"$f":"I1988+E1989","v":10000},0,{"$f":"IF(B1989>0,WEEKNUM(TEXT(Definice!$F$3,\"0000\")&\".\"&TEXT(J1989,\"00\")&\".\"&RIGHT(TEXT(B1989,\"0000\"),2)),0)","v":0}]
[1988,null,null,null,null,{"$f":"IF(OR(MAX($I$2:I1990)-I1990=0,D1990=0),\"\",MAX($I$2:I1990)-I1990)","v":""},"",0,10000,0,{"$f":"IF(B1990>0,WEEKNUM(TEXT(Definice!$F$3,\"0000\")&\".\"&TEXT(J1990,\"00\")&\".\"&RIGHT(TEXT(B1990,\"0000\"),2)),0)","v":0}]
[1989,null,null,null,null,{"$f":"IF(OR(MAX($I$2:I1991)-I1991=0,D1991=0),\"\",MAX($I$2:I1991)-I1991)","v":""},"",0,10000,0,{"$f":"IF(B1991>0,WEEKNUM(TEXT(Definice!$F$3,\"0000\")&\".\"&TEXT(J1991,\"00\")&\".\"&RIGHT(TEXT(B1991,\"0000\"),2)),0)","v":0}]
[1990,null,null,null,null,{"$f":"IF(OR(MAX($I$2:I1992)-I1992=0,D1992=0),\"\",MAX($I$2:I1992)-I1992)","v":""},"",0,10000,0,{"$f":"IF(B1992>0,WEEKNUM(TEXT(Definice!$F$3,\"0000\")&\".\"&TEXT(J1992,\"00\")&\".\"&RIGHT(TEXT(B1992,\"0000\"),2)),0)","v":0}]
[1991,null,null,null,null,{"$f":"IF(OR(MAX($I$2:I1993)-I1993=0,D1993=0),\"\",MAX($I$2:I1993)-I1993)","v":""},"",0,10000,0,{"$f":"IF(B1993>0,WEEKNUM(TEXT(Definice!$F$3,\"0000\")&\".\"&TEXT(J1993,\"00\")&\".\"&RIGHT(TEXT(B1993,\"0000\"),2)),0)","v":0}]
[1992,null,null,null,null,{"$f":"IF(OR(MAX($I$2:I1994)-I1994=0,D1994=0),\"\",MAX($I$2:I1994)-I1994)","v":""},"",0,10000,0,{"$f":"IF(B1994>0,WEEKNUM(TEXT(Definice!$F$3,\"0000\")&\".\"&TEXT(J1994,\"00\")&\".\"&RIGHT(TEXT(B1994,\"0000\"),2)),0)","v":0}]
[1993,null,null,null,null,{"$f":"IF(OR(MAX($I$2:I1995)-I1995=0,D1995=0),\"\",MAX($I$2:I1995)-I1995)","v":""},"",0,10000,0,{"$f":"IF(B1995>0,WEEKNUM(TEXT(Definice!$F$3,\"0000\")&\".\"&TEXT(J1995,\"00\")&\".\"&RIGHT(TEXT(B1995,\"0000\"),2)),0)","v":0}]
[1994,null,null,null,null,{"$f":"IF(OR(MAX($I$2:I1996)-I1996=0,D1996=0),\"\",MAX($I$2:I1996)-I1996)","v":""},{"$f":"IF(F1996=\"\",\"\",F1996/(H1996+I1995))","v":""},{"$f":"H1995+E1996","v":0},{"$f":"I1995+E1996","v":10000},{"$f":"((INT(B1996/100)/100)-INT(INT(B1996/100)/100))*100","v":0},{"$f":"IF(B1996>0,WEEKNUM(TEXT(Definice!$F$3,\"0000\")&\".\"&TEXT(J1996,\"00\")&\".\"&RIGHT(TEXT(B1996,\"0000\"),2)),0)","v":0}]
[1995,null,null,null,null,{"$f":"IF(OR(MAX($I$2:I1997)-I1997=0,D1997=0),\"\",MAX($I$2:I1997)-I1997)","v":""},"",0,10000,0,{"$f":"IF(B1997>0,WEEKNUM(TEXT(Definice!$F$3,\"0000\")&\".\"&TEXT(J1997,\"00\")&\".\"&RIGHT(TEXT(B1997,\"0000\"),2)),0)","v":0}]
[1996,null,null,null,null,{"$f":"IF(OR(MAX($I$2:I1998)-I1998=0,D1998=0),\"\",MAX($I$2:I1998)-I1998)","v":""},"",0,10000,0,{"$f":"IF(B1998>0,WEEKNUM(TEXT(Definice!$F$3,\"0000\")&\".\"&TEXT(J1998,\"00\")&\".\"&RIGHT(TEXT(B1998,\"0000\"),2)),0)","v":0}]
[1997,null,null,null,null,{"$f":"IF(OR(MAX($I$2:I1999)-I1999=0,D1999=0),\"\",MAX($I$2:I1999)-I1999)","v":""},"",0,10000,0,{"$f":"IF(B1999>0,WEEKNUM(TEXT(Definice!$F$3,\"0000\")&\".\"&TEXT(J1999,\"00\")&\".\"&RIGHT(TEXT(B1999,\"0000\"),2)),0)","v":0}]
[1998,null,null,null,null,{"$f":"IF(OR(MAX($I$2:I2000)-I2000=0,D2000=0),\"\",MAX($I$2:I2000)-I2000)","v":""},"",0,10000,0,{"$f":"IF(B2000>0,WEEKNUM(TEXT(Definice!$F$3,\"0000\")&\".\"&TEXT(J2000,\"00\")&\".\"&RIGHT(TEXT(B2000,\"0000\"),2)),0)","v":0}]
[1999,null,null,null,null,{"$f":"IF(OR(MAX($I$2:I2001)-I2001=0,D2001=0),\"\",MAX($I$2:I2001)-I2001)","v":""},"",0,10000,0,{"$f":"IF(B2001>0,WEEKNUM(TEXT(Definice!$F$3,\"0000\")&\".\"&TEXT(J2001,\"00\")&\".\"&RIGHT(TEXT(B2001,\"0000\"),2)),0)","v":0}]
[2000,null,null,null,null,{"$f":"IF(OR(MAX($I$2:I2002)-I2002=0,D2002=0),\"\",MAX($I$2:I2002)-I2002)","v":""},"",0,10000,0,{"$f":"IF(B2002>0,WEEKNUM(TEXT(Definice!$F$3,\"0000\")&\".\"&TEXT(J2002,\"00\")&\".\"&RIGHT(TEXT(B2002,\"0000\"),2)),0)","v":0}]
[2001,null,null,null,null,{"$f":"IF(OR(MAX($I$2:I2003)-I2003=0,D2003=0),\"\",MAX($I$2:I2003)-I2003)","v":""},"",0,10000,0,{"$f":"IF(B2003>0,WEEKNUM(TEXT(Definice!$F$3,\"0000\")&\".\"&TEXT(J2003,\"00\")&\".\"&RIGHT(TEXT(B2003,\"0000\"),2)),0)","v":0}]
[2002,null,null,null,null,{"$f":"IF(OR(MAX($I$2:I2004)-I2004=0,D2004=0),\"\",MAX($I$2:I2004)-I2004)","v":""},"",0,10000,0,{"$f":"IF(B2004>0,WEEKNUM(TEXT(Definice!$F$3,\"0000\")&\".\"&TEXT(J2004,\"00\")&\".\"&RIGHT(TEXT(B2004,\"0000\"),2)),0)","v":0}]
[2003,null,null,null,null,{"$f":"IF(OR(MAX($I$2:I2005)-I2005=0,D2005=0),\"\",MAX($I$2:I2005)-I2005)","v":""},"",0,10000,0,{"$f":"IF(B2005>0,WEEKNUM(TEXT(Definice!$F$3,\"0000\")&\".\"&TEXT(J2005,\"00\")&\".\"&RIGHT(TEXT(B2005,\"0000\"),2)),0)","v":0}]
[2004,null,null,null,null,{"$f":"IF(OR(MAX($I$2:I2006)-I2006=0,D2006=0),\"\",MAX($I$2:I2006)-I2006)","v":""},"",0,10000,0,{"$f":"IF(B2006>0,WEEKNUM(TEXT(Definice!$F$3,\"0000\")&\".\"&TEXT(J2006,\"00\")&\".\"&RIGHT(TEXT(B2006,\"0000\"),2)),0)","v":0}]
[2005,null,null,null,null,{"$f":"IF(OR(MAX($I$2:I2007)-I2007=0,D2007=0),\"\",MAX($I$2:I2007)-I2007)","v":""},"",0,10000,0,{"$f":"IF(B2007>0,WEEKNUM(TEXT(Definice!$F$3,\"0000\")&\".\"&TEXT(J2007,\"00\")&\".\"&RIGHT(TEXT(B2007,\"0000\"),2)),0)","v":0}]
[2006,null,null,null,null,{"$f":"IF(OR(MAX($I$2:I2008)-I2008=0,D2008=0),\"\",MAX($I$2:I2008)-I2008)","v":""},"",0,10000,0,{"$f":"IF(B2008>0,WEEKNUM(TEXT(Definice!$F$3,\"0000\")&\".\"&TEXT(J2008,\"00\")&\".\"&RIGHT(TEXT(B2008,\"0000\"),2)),0)","v":0}]
[2007,null,null,null,null,{"$f":"IF(OR(MAX($I$2:I2009)-I2009=0,D2009=0),\"\",MAX($I$2:I2009)-I2009)","v":""},"",0,10000,0,{"$f":"IF(B2009>0,WEEKNUM(TEXT(Definice!$F$3,\"0000\")&\".\"&TEXT(J2009,\"00\")&\".\"&RIGHT(TEXT(B2009,\"0000\"),2)),0)","v":0}]
[2008,null,null,null,null,{"$f":"IF(OR(MAX($I$2:I2010)-I2010=0,D2010=0),\"\",MAX($I$2:I2010)-I2010)","v":""},"",0,10000,0,{"$f":"IF(B2010>0,WEEKNUM(TEXT(Definice!$F$3,\"0000\")&\".\"&TEXT(J2010,\"00\")&\".\"&RIGHT(TEXT(B2010,\"0000\"),2)),0)","v":0}]
[2009,null,null,null,null,{"$f":"IF(OR(MAX($I$2:I2011)-I2011=0,D2011=0),\"\",MAX($I$2:I2011)-I2011)","v":""},"",0,10000,0,{"$f":"IF(B2011>0,WEEKNUM(TEXT(Definice!$F$3,\"0000\")&\".\"&TEXT(J2011,\"00\")&\".\"&RIGHT(TEXT(B2011,\"0000\"),2)),0)","v":0}]
[2010,null,null,null,null,{"$f":"IF(OR(MAX($I$2:I2012)-I2012=0,D2012=0),\"\",MAX($I$2:I2012)-I2012)","v":""},"",0,10000,0,{"$f":"IF(B2012>0,WEEKNUM(TEXT(Definice!$F$3,\"0000\")&\".\"&TEXT(J2012,\"00\")&\".\"&RIGHT(TEXT(B2012,\"0000\"),2)),0)","v":0}]
[2011,null,null,null,null,{"$f":"IF(OR(MAX($I$2:I2013)-I2013=0,D2013=0),\"\",MAX($I$2:I2013)-I2013)","v":""},"",0,10000,0,{"$f":"IF(B2013>0,WEEKNUM(TEXT(Definice!$F$3,\"0000\")&\".\"&TEXT(J2013,\"00\")&\".\"&RIGHT(TEXT(B2013,\"0000\"),2)),0)","v":0}]
[2012,null,null,null,null,{"$f":"IF(OR(MAX($I$2:I2014)-I2014=0,D2014=0),\"\",MAX($I$2:I2014)-I2014)","v":""},"",0,10000,0,{"$f":"IF(B2014>0,WEEKNUM(TEXT(Definice!$F$3,\"0000\")&\".\"&TEXT(J2014,\"00\")&\".\"&RIGHT(TEXT(B2014,\"0000\"),2)),0)","v":0}]
[2013,null,null,null,null,{"$f":"IF(OR(MAX($I$2:I2015)-I2015=0,D2015=0),\"\",MAX($I$2:I2015)-I2015)","v":""},"",0,10000,0,{"$f":"IF(B2015>0,WEEKNUM(TEXT(Definice!$F$3,\"0000\")&\".\"&TEXT(J2015,\"00\")&\".\"&RIGHT(TEXT(B2015,\"0000\"),2)),0)","v":0}]
[2014,null,null,null,null,{"$f":"IF(OR(MAX($I$2:I2016)-I2016=0,D2016=0),\"\",MAX($I$2:I2016)-I2016)","v":""},"",0,10000,0,{"$f":"IF(B2016>0,WEEKNUM(TEXT(Definice!$F$3,\"0000\")&\".\"&TEXT(J2016,\"00\")&\".\"&RIGHT(TEXT(B2016,\"0000\"),2)),0)","v":0}]
[2015,null,null,null,null,{"$f":"IF(OR(MAX($I$2:I2017)-I2017=0,D2017=0),\"\",MAX($I$2:I2017)-I2017)","v":""},"",0,10000,0,{"$f":"IF(B2017>0,WEEKNUM(TEXT(Definice!$F$3,\"0000\")&\".\"&TEXT(J2017,\"00\")&\".\"&RIGHT(TEXT(B2017,\"0000\"),2)),0)","v":0}]
[2016,null,null,null,null,{"$f":"IF(OR(MAX($I$2:I2018)-I2018=0,D2018=0),\"\",MAX($I$2:I2018)-I2018)","v":""},"",0,10000,0,{"$f":"IF(B2018>0,WEEKNUM(TEXT(Definice!$F$3,\"0000\")&\".\"&TEXT(J2018,\"00\")&\".\"&RIGHT(TEXT(B2018,\"0000\"),2)),0)","v":0}]
[2017,null,null,null,null,{"$f":"IF(OR(MAX($I$2:I2019)-I2019=0,D2019=0),\"\",MAX($I$2:I2019)-I2019)","v":""},"",0,10000,0,{"$f":"IF(B2019>0,WEEKNUM(TEXT(Definice!$F$3,\"0000\")&\".\"&TEXT(J2019,\"00\")&\".\"&RIGHT(TEXT(B2019,\"0000\"),2)),0)","v":0}]
[2018,null,null,null,null,{"$f":"IF(OR(MAX($I$2:I2020)-I2020=0,D2020=0),\"\",MAX($I$2:I2020)-I2020)","v":""},"",0,10000,0,{"$f":"IF(B2020>0,WEEKNUM(TEXT(Definice!$F$3,\"0000\")&\".\"&TEXT(J2020,\"00\")&\".\"&RIGHT(TEXT(B2020,\"0000\"),2)),0)","v":0}]
[2019,null,null,null,null,{"$f":"IF(OR(MAX($I$2:I2021)-I2021=0,D2021=0),\"\",MAX($I$2:I2021)-I2021)","v":""},"",0,10000,0,{"$f":"IF(B2021>0,WEEKNUM(TEXT(Definice!$F$3,\"0000\")&\".\"&TEXT(J2021,\"00\")&\".\"&RIGHT(TEXT(B2021,\"0000\"),2)),0)","v":0}]
[2020,null,null,null,null,{"$f":"IF(OR(MAX($I$2:I2022)-I2022=0,D2022=0),\"\",MAX($I$2:I2022)-I2022)","v":""},"",0,10000,0,{"$f":"IF(B2022>0,WEEKNUM(TEXT(Definice!$F$3,\"0000\")&\".\"&TEXT(J2022,\"00\")&\".\"&RIGHT(TEXT(B2022,\"0000\"),2)),0)","v":0}]
[2021,null,null,null,null,{"$f":"IF(OR(MAX($I$2:I2023)-I2023=0,D2023=0),\"\",MAX($I$2:I2023)-I2023)","v":""},"",0,10000,0,{"$f":"IF(B2023>0,WEEKNUM(TEXT(Definice!$F$3,\"0000\")&\".\"&TEXT(J2023,\"00\")&\".\"&RIGHT(TEXT(B2023,\"0000\"),2)),0)","v":0}]
[2022,null,null,null,null,{"$f":"IF(OR(MAX($I$2:I2024)-I2024=0,D2024=0),\"\",MAX($I$2:I2024)-I2024)","v":""},"",0,10000,0,{"$f":"IF(B2024>0,WEEKNUM(TEXT(Definice!$F$3,\"0000\")&\".\"&TEXT(J2024,\"00\")&\".\"&RIGHT(TEXT(B2024,\"0000\"),2)),0)","v":0}]
[2023,null,null,null,null,{"$f":"IF(OR(MAX($I$2:I2025)-I2025=0,D2025=0),\"\",MAX($I$2:I2025)-I2025)","v":""},"",0,10000,0,{"$f":"IF(B2025>0,WEEKNUM(TEXT(Definice!$F$3,\"0000\")&\".\"&TEXT(J2025,\"00\")&\".\"&RIGHT(TEXT(B2025,\"0000\"),2)),0)","v":0}]
[2024,null,null,null,null,{"$f":"IF(OR(MAX($I$2:I2026)-I2026=0,D2026=0),\"\",MAX($I$2:I2026)-I2026)","v":""},"",0,10000,0,{"$f":"IF(B2026>0,WEEKNUM(TEXT(Definice!$F$3,\"0000\")&\".\"&TEXT(J2026,\"00\")&\".\"&RIGHT(TEXT(B2026,\"0000\"),2)),0)","v":0}]
[2025,null,null,null,null,{"$f":"IF(OR(MAX($I$2:I2027)-I2027=0,D2027=0),\"\",MAX($I$2:I2027)-I2027)","v":""},"",0,10000,0,{"$f":"IF(B2027>0,WEEKNUM(TEXT(Definice!$F$3,\"0000\")&\".\"&TEXT(J2027,\"00\")&\".\"&RIGHT(TEXT(B2027,\"0000\"),2)),0)","v":0}]
[2026,null,null,null,null,{"$f":"IF(OR(MAX($I$2:I2028)-I2028=0,D2028=0),\"\",MAX($I$2:I2028)-I2028)","v":""},"",0,10000,0,{"$f":"IF(B2028>0,WEEKNUM(TEXT(Definice!$F$3,\"0000\")&\".\"&TEXT(J2028,\"00\")&\".\"&RIGHT(TEXT(B2028,\"0000\"),2)),0)","v":0}]
[2027,null,null,null,null,{"$f":"IF(OR(MAX($I$2:I2029)-I2029=0,D2029=0),\"\",MAX($I$2:I2029)-I2029)","v":""},"",0,10000,0,{"$f":"IF(B2029>0,WEEKNUM(TEXT(Definice!$F$3,\"0000\")&\".\"&TEXT(J2029,\"00\")&\".\"&RIGHT(TEXT(B2029,\"0000\"),2)),0)","v":0}]
[2028,null,null,null,null,{"$f":"IF(OR(MAX($I$2:I2030)-I2030=0,D2030=0),\"\",MAX($I$2:I2030)-I2030)","v":""},"",0,10000,0,{"$f":"IF(B2030>0,WEEKNUM(TEXT(Definice!$F$3,\"0000\")&\".\"&TEXT(J2030,\"00\")&\".\"&RIGHT(TEXT(B2030,\"0000\"),2)),0)","v":0}]
[2029,null,null,null,null,{"$f":"IF(OR(MAX($I$2:I2031)-I2031=0,D2031=0),\"\",MAX($I$2:I2031)-I2031)","v":""},"",0,10000,0,{"$f":"IF(B2031>0,WEEKNUM(TEXT(Definice!$F$3,\"0000\")&\".\"&TEXT(J2031,\"00\")&\".\"&RIGHT(TEXT(B2031,\"0000\"),2)),0)","v":0}]
[2030,null,null,null,null,{"$f":"IF(OR(MAX($I$2:I2032)-I2032=0,D2032=0),\"\",MAX($I$2:I2032)-I2032)","v":""},"",0,10000,0,{"$f":"IF(B2032>0,WEEKNUM(TEXT(Definice!$F$3,\"0000\")&\".\"&TEXT(J2032,\"00\")&\".\"&RIGHT(TEXT(B2032,\"0000\"),2)),0)","v":0}]
[2031,null,null,null,null,{"$f":"IF(OR(MAX($I$2:I2033)-I2033=0,D2033=0),\"\",MAX($I$2:I2033)-I2033)","v":""},"",0,10000,0,{"$f":"IF(B2033>0,WEEKNUM(TEXT(Definice!$F$3,\"0000\")&\".\"&TEXT(J2033,\"00\")&\".\"&RIGHT(TEXT(B2033,\"0000\"),2)),0)","v":0}]
[2032,null,null,null,null,{"$f":"IF(OR(MAX($I$2:I2034)-I2034=0,D2034=0),\"\",MAX($I$2:I2034)-I2034)","v":""},"",0,10000,0,{"$f":"IF(B2034>0,WEEKNUM(TEXT(Definice!$F$3,\"0000\")&\".\"&TEXT(J2034,\"00\")&\".\"&RIGHT(TEXT(B2034,\"0000\"),2)),0)","v":0}]
[2033,null,null,null,null,{"$f":"IF(OR(MAX($I$2:I2035)-I2035=0,D2035=0),\"\",MAX($I$2:I2035)-I2035)","v":""},"",0,10000,0,{"$f":"IF(B2035>0,WEEKNUM(TEXT(Definice!$F$3,\"0000\")&\".\"&TEXT(J2035,\"00\")&\".\"&RIGHT(TEXT(B2035,\"0000\"),2)),0)","v":0}]
[2034,null,null,null,null,{"$f":"IF(OR(MAX($I$2:I2036)-I2036=0,D2036=0),\"\",MAX($I$2:I2036)-I2036)","v":""},"",0,10000,0,{"$f":"IF(B2036>0,WEEKNUM(TEXT(Definice!$F$3,\"0000\")&\".\"&TEXT(J2036,\"00\")&\".\"&RIGHT(TEXT(B2036,\"0000\"),2)),0)","v":0}]
[2035,null,null,null,null,{"$f":"IF(OR(MAX($I$2:I2037)-I2037=0,D2037=0),\"\",MAX($I$2:I2037)-I2037)","v":""},"",0,10000,0,{"$f":"IF(B2037>0,WEEKNUM(TEXT(Definice!$F$3,\"0000\")&\".\"&TEXT(J2037,\"00\")&\".\"&RIGHT(TEXT(B2037,\"0000\"),2)),0)","v":0}]
[2036,null,null,null,null,{"$f":"IF(OR(MAX($I$2:I2038)-I2038=0,D2038=0),\"\",MAX($I$2:I2038)-I2038)","v":""},"",0,10000,0,{"$f":"IF(B2038>0,WEEKNUM(TEXT(Definice!$F$3,\"0000\")&\".\"&TEXT(J2038,\"00\")&\".\"&RIGHT(TEXT(B2038,\"0000\"),2)),0)","v":0}]
[2037,null,null,null,null,{"$f":"IF(OR(MAX($I$2:I2039)-I2039=0,D2039=0),\"\",MAX($I$2:I2039)-I2039)","v":""},"",0,10000,0,{"$f":"IF(B2039>0,WEEKNUM(TEXT(Definice!$F$3,\"0000\")&\".\"&TEXT(J2039,\"00\")&\".\"&RIGHT(TEXT(B2039,\"0000\"),2)),0)","v":0}]
[2038,null,null,null,null,{"$f":"IF(OR(MAX($I$2:I2040)-I2040=0,D2040=0),\"\",MAX($I$2:I2040)-I2040)","v":""},"",0,10000,0,{"$f":"IF(B2040>0,WEEKNUM(TEXT(Definice!$F$3,\"0000\")&\".\"&TEXT(J2040,\"00\")&\".\"&RIGHT(TEXT(B2040,\"0000\"),2)),0)","v":0}]
[2039,null,null,null,null,{"$f":"IF(OR(MAX($I$2:I2041)-I2041=0,D2041=0),\"\",MAX($I$2:I2041)-I2041)","v":""},"",0,10000,0,{"$f":"IF(B2041>0,WEEKNUM(TEXT(Definice!$F$3,\"0000\")&\".\"&TEXT(J2041,\"00\")&\".\"&RIGHT(TEXT(B2041,\"0000\"),2)),0)","v":0}]
[2040,null,null,null,null,{"$f":"IF(OR(MAX($I$2:I2042)-I2042=0,D2042=0),\"\",MAX($I$2:I2042)-I2042)","v":""},"",0,10000,0,{"$f":"IF(B2042>0,WEEKNUM(TEXT(Definice!$F$3,\"0000\")&\".\"&TEXT(J2042,\"00\")&\".\"&RIGHT(TEXT(B2042,\"0000\"),2)),0)","v":0}]
[2041,null,null,null,null,{"$f":"IF(OR(MAX($I$2:I2043)-I2043=0,D2043=0),\"\",MAX($I$2:I2043)-I2043)","v":""},"",0,10000,0,{"$f":"IF(B2043>0,WEEKNUM(TEXT(Definice!$F$3,\"0000\")&\".\"&TEXT(J2043,\"00\")&\".\"&RIGHT(TEXT(B2043,\"0000\"),2)),0)","v":0}]
[2042,null,null,null,null,{"$f":"IF(OR(MAX($I$2:I2044)-I2044=0,D2044=0),\"\",MAX($I$2:I2044)-I2044)","v":""},"",0,10000,0,{"$f":"IF(B2044>0,WEEKNUM(TEXT(Definice!$F$3,\"0000\")&\".\"&TEXT(J2044,\"00\")&\".\"&RIGHT(TEXT(B2044,\"0000\"),2)),0)","v":0}]
[2043,null,null,null,null,{"$f":"IF(OR(MAX($I$2:I2045)-I2045=0,D2045=0),\"\",MAX($I$2:I2045)-I2045)","v":""},"",0,10000,0,{"$f":"IF(B2045>0,WEEKNUM(TEXT(Definice!$F$3,\"0000\")&\".\"&TEXT(J2045,\"00\")&\".\"&RIGHT(TEXT(B2045,\"0000\"),2)),0)","v":0}]
[2044,null,null,null,null,{"$f":"IF(OR(MAX($I$2:I2046)-I2046=0,D2046=0),\"\",MAX($I$2:I2046)-I2046)","v":""},"",0,10000,0,{"$f":"IF(B2046>0,WEEKNUM(TEXT(Definice!$F$3,\"0000\")&\".\"&TEXT(J2046,\"00\")&\".\"&RIGHT(TEXT(B2046,\"0000\"),2)),0)","v":0}]
[2045,null,null,null,null,{"$f":"IF(OR(MAX($I$2:I2047)-I2047=0,D2047=0),\"\",MAX($I$2:I2047)-I2047)","v":""},"",0,10000,0,{"$f":"IF(B2047>0,WEEKNUM(TEXT(Definice!$F$3,\"0000\")&\".\"&TEXT(J2047,\"00\")&\".\"&RIGHT(TEXT(B2047,\"0000\"),2)),0)","v":0}]
[2046,null,null,null,null,{"$f":"IF(OR(MAX($I$2:I2048)-I2048=0,D2048=0),\"\",MAX($I$2:I2048)-I2048)","v":""},"",0,10000,0,{"$f":"IF(B2048>0,WEEKNUM(TEXT(Definice!$F$3,\"0000\")&\".\"&TEXT(J2048,\"00\")&\".\"&RIGHT(TEXT(B2048,\"0000\"),2)),0)","v":0}]
[2047,null,null,null,null,{"$f":"IF(OR(MAX($I$2:I2049)-I2049=0,D2049=0),\"\",MAX($I$2:I2049)-I2049)","v":""},"",0,10000,0,{"$f":"IF(B2049>0,WEEKNUM(TEXT(Definice!$F$3,\"0000\")&\".\"&TEXT(J2049,\"00\")&\".\"&RIGHT(TEXT(B2049,\"0000\"),2)),0)","v":0}]
[2048,null,null,null,null,{"$f":"IF(OR(MAX($I$2:I2050)-I2050=0,D2050=0),\"\",MAX($I$2:I2050)-I2050)","v":""},"",0,10000,0,{"$f":"IF(B2050>0,WEEKNUM(TEXT(Definice!$F$3,\"0000\")&\".\"&TEXT(J2050,\"00\")&\".\"&RIGHT(TEXT(B2050,\"0000\"),2)),0)","v":0}]
[2049,null,null,null,null,{"$f":"IF(OR(MAX($I$2:I2051)-I2051=0,D2051=0),\"\",MAX($I$2:I2051)-I2051)","v":""},"",0,10000,0,{"$f":"IF(B2051>0,WEEKNUM(TEXT(Definice!$F$3,\"0000\")&\".\"&TEXT(J2051,\"00\")&\".\"&RIGHT(TEXT(B2051,\"0000\"),2)),0)","v":0}]
[2050,null,null,null,null,{"$f":"IF(OR(MAX($I$2:I2052)-I2052=0,D2052=0),\"\",MAX($I$2:I2052)-I2052)","v":""},"",0,10000,0,{"$f":"IF(B2052>0,WEEKNUM(TEXT(Definice!$F$3,\"0000\")&\".\"&TEXT(J2052,\"00\")&\".\"&RIGHT(TEXT(B2052,\"0000\"),2)),0)","v":0}]
[2051,null,null,null,null,{"$f":"IF(OR(MAX($I$2:I2053)-I2053=0,D2053=0),\"\",MAX($I$2:I2053)-I2053)","v":""},"",0,10000,0,{"$f":"IF(B2053>0,WEEKNUM(TEXT(Definice!$F$3,\"0000\")&\".\"&TEXT(J2053,\"00\")&\".\"&RIGHT(TEXT(B2053,\"0000\"),2)),0)","v":0}]
[2052,null,null,null,null,{"$f":"IF(OR(MAX($I$2:I2054)-I2054=0,D2054=0),\"\",MAX($I$2:I2054)-I2054)","v":""},"",0,10000,0,{"$f":"IF(B2054>0,WEEKNUM(TEXT(Definice!$F$3,\"0000\")&\".\"&TEXT(J2054,\"00\")&\".\"&RIGHT(TEXT(B2054,\"0000\"),2)),0)","v":0}]
[2053,null,null,null,null,{"$f":"IF(OR(MAX($I$2:I2055)-I2055=0,D2055=0),\"\",MAX($I$2:I2055)-I2055)","v":""},"",0,10000,0,{"$f":"IF(B2055>0,WEEKNUM(TEXT(Definice!$F$3,\"0000\")&\".\"&TEXT(J2055,\"00\")&\".\"&RIGHT(TEXT(B2055,\"0000\"),2)),0)","v":0}]
[2054,null,null,null,null,{"$f":"IF(OR(MAX($I$2:I2056)-I2056=0,D2056=0),\"\",MAX($I$2:I2056)-I2056)","v":""},"",0,10000,0,{"$f":"IF(B2056>0,WEEKNUM(TEXT(Definice!$F$3,\"0000\")&\".\"&TEXT(J2056,\"00\")&\".\"&RIGHT(TEXT(B2056,\"0000\"),2)),0)","v":0}]
[2055,null,null,null,null,{"$f":"IF(OR(MAX($I$2:I2057)-I2057=0,D2057=0),\"\",MAX($I$2:I2057)-I2057)","v":""},"",0,10000,0,{"$f":"IF(B2057>0,WEEKNUM(TEXT(Definice!$F$3,\"0000\")&\".\"&TEXT(J2057,\"00\")&\".\"&RIGHT(TEXT(B2057,\"0000\"),2)),0)","v":0}]
[2056,null,null,null,null,{"$f":"IF(OR(MAX($I$2:I2058)-I2058=0,D2058=0),\"\",MAX($I$2:I2058)-I2058)","v":""},"",0,10000,0,{"$f":"IF(B2058>0,WEEKNUM(TEXT(Definice!$F$3,\"0000\")&\".\"&TEXT(J2058,\"00\")&\".\"&RIGHT(TEXT(B2058,\"0000\"),2)),0)","v":0}]
[2057,null,null,null,null,{"$f":"IF(OR(MAX($I$2:I2059)-I2059=0,D2059=0),\"\",MAX($I$2:I2059)-I2059)","v":""},"",0,10000,0,{"$f":"IF(B2059>0,WEEKNUM(TEXT(Definice!$F$3,\"0000\")&\".\"&TEXT(J2059,\"00\")&\".\"&RIGHT(TEXT(B2059,\"0000\"),2)),0)","v":0}]
[2058,null,null,null,null,{"$f":"IF(OR(MAX($I$2:I2060)-I2060=0,D2060=0),\"\",MAX($I$2:I2060)-I2060)","v":""},{"$f":"IF(F2060=\"\",\"\",F2060/(H2060+I2059))","v":""},{"$f":"H2059+E2060","v":0},{"$f":"I2059+E2060","v":10000},{"$f":"((INT(B2060/100)/100)-INT(INT(B2060/100)/100))*100","v":0},{"$f":"IF(B2060>0,WEEKNUM(TEXT(Definice!$F$3,\"0000\")&\".\"&TEXT(J2060,\"00\")&\".\"&RIGHT(TEXT(B2060,\"0000\"),2)),0)","v":0}]
[2059,null,null,null,null,{"$f":"IF(OR(MAX($I$2:I2061)-I2061=0,D2061=0),\"\",MAX($I$2:I2061)-I2061)","v":""},"",0,10000,0,{"$f":"IF(B2061>0,WEEKNUM(TEXT(Definice!$F$3,\"0000\")&\".\"&TEXT(J2061,\"00\")&\".\"&RIGHT(TEXT(B2061,\"0000\"),2)),0)","v":0}]
[2060,null,null,null,null,{"$f":"IF(OR(MAX($I$2:I2062)-I2062=0,D2062=0),\"\",MAX($I$2:I2062)-I2062)","v":""},"",0,10000,0,{"$f":"IF(B2062>0,WEEKNUM(TEXT(Definice!$F$3,\"0000\")&\".\"&TEXT(J2062,\"00\")&\".\"&RIGHT(TEXT(B2062,\"0000\"),2)),0)","v":0}]
[2061,null,null,null,null,{"$f":"IF(OR(MAX($I$2:I2063)-I2063=0,D2063=0),\"\",MAX($I$2:I2063)-I2063)","v":""},"",0,10000,0,{"$f":"IF(B2063>0,WEEKNUM(TEXT(Definice!$F$3,\"0000\")&\".\"&TEXT(J2063,\"00\")&\".\"&RIGHT(TEXT(B2063,\"0000\"),2)),0)","v":0}]
[2062,null,null,null,null,{"$f":"IF(OR(MAX($I$2:I2064)-I2064=0,D2064=0),\"\",MAX($I$2:I2064)-I2064)","v":""},"",0,10000,0,{"$f":"IF(B2064>0,WEEKNUM(TEXT(Definice!$F$3,\"0000\")&\".\"&TEXT(J2064,\"00\")&\".\"&RIGHT(TEXT(B2064,\"0000\"),2)),0)","v":0}]
[2063,null,null,null,null,{"$f":"IF(OR(MAX($I$2:I2065)-I2065=0,D2065=0),\"\",MAX($I$2:I2065)-I2065)","v":""},"",0,10000,0,{"$f":"IF(B2065>0,WEEKNUM(TEXT(Definice!$F$3,\"0000\")&\".\"&TEXT(J2065,\"00\")&\".\"&RIGHT(TEXT(B2065,\"0000\"),2)),0)","v":0}]
[2064,null,null,null,null,{"$f":"IF(OR(MAX($I$2:I2066)-I2066=0,D2066=0),\"\",MAX($I$2:I2066)-I2066)","v":""},"",0,10000,0,{"$f":"IF(B2066>0,WEEKNUM(TEXT(Definice!$F$3,\"0000\")&\".\"&TEXT(J2066,\"00\")&\".\"&RIGHT(TEXT(B2066,\"0000\"),2)),0)","v":0}]
[2065,null,null,null,null,{"$f":"IF(OR(MAX($I$2:I2067)-I2067=0,D2067=0),\"\",MAX($I$2:I2067)-I2067)","v":""},"",0,10000,0,{"$f":"IF(B2067>0,WEEKNUM(TEXT(Definice!$F$3,\"0000\")&\".\"&TEXT(J2067,\"00\")&\".\"&RIGHT(TEXT(B2067,\"0000\"),2)),0)","v":0}]
[2066,null,null,null,null,{"$f":"IF(OR(MAX($I$2:I2068)-I2068=0,D2068=0),\"\",MAX($I$2:I2068)-I2068)","v":""},"",0,10000,0,{"$f":"IF(B2068>0,WEEKNUM(TEXT(Definice!$F$3,\"0000\")&\".\"&TEXT(J2068,\"00\")&\".\"&RIGHT(TEXT(B2068,\"0000\"),2)),0)","v":0}]
[2067,null,null,null,null,{"$f":"IF(OR(MAX($I$2:I2069)-I2069=0,D2069=0),\"\",MAX($I$2:I2069)-I2069)","v":""},"",0,10000,0,{"$f":"IF(B2069>0,WEEKNUM(TEXT(Definice!$F$3,\"0000\")&\".\"&TEXT(J2069,\"00\")&\".\"&RIGHT(TEXT(B2069,\"0000\"),2)),0)","v":0}]
[2068,null,null,null,null,{"$f":"IF(OR(MAX($I$2:I2070)-I2070=0,D2070=0),\"\",MAX($I$2:I2070)-I2070)","v":""},"",0,10000,0,{"$f":"IF(B2070>0,WEEKNUM(TEXT(Definice!$F$3,\"0000\")&\".\"&TEXT(J2070,\"00\")&\".\"&RIGHT(TEXT(B2070,\"0000\"),2)),0)","v":0}]
[2069,null,null,null,null,{"$f":"IF(OR(MAX($I$2:I2071)-I2071=0,D2071=0),\"\",MAX($I$2:I2071)-I2071)","v":""},"",0,10000,0,{"$f":"IF(B2071>0,WEEKNUM(TEXT(Definice!$F$3,\"0000\")&\".\"&TEXT(J2071,\"00\")&\".\"&RIGHT(TEXT(B2071,\"0000\"),2)),0)","v":0}]
[2070,null,null,null,null,{"$f":"IF(OR(MAX($I$2:I2072)-I2072=0,D2072=0),\"\",MAX($I$2:I2072)-I2072)","v":""},"",0,10000,0,{"$f":"IF(B2072>0,WEEKNUM(TEXT(Definice!$F$3,\"0000\")&\".\"&TEXT(J2072,\"00\")&\".\"&RIGHT(TEXT(B2072,\"0000\"),2)),0)","v":0}]
[2071,null,null,null,null,{"$f":"IF(OR(MAX($I$2:I2073)-I2073=0,D2073=0),\"\",MAX($I$2:I2073)-I2073)","v":""},"",0,10000,0,{"$f":"IF(B2073>0,WEEKNUM(TEXT(Definice!$F$3,\"0000\")&\".\"&TEXT(J2073,\"00\")&\".\"&RIGHT(TEXT(B2073,\"0000\"),2)),0)","v":0}]
[2072,null,null,null,null,{"$f":"IF(OR(MAX($I$2:I2074)-I2074=0,D2074=0),\"\",MAX($I$2:I2074)-I2074)","v":""},"",0,10000,0,{"$f":"IF(B2074>0,WEEKNUM(TEXT(Definice!$F$3,\"0000\")&\".\"&TEXT(J2074,\"00\")&\".\"&RIGHT(TEXT(B2074,\"0000\"),2)),0)","v":0}]
[2073,null,null,null,null,{"$f":"IF(OR(MAX($I$2:I2075)-I2075=0,D2075=0),\"\",MAX($I$2:I2075)-I2075)","v":""},"",0,10000,0,{"$f":"IF(B2075>0,WEEKNUM(TEXT(Definice!$F$3,\"0000\")&\".\"&TEXT(J2075,\"00\")&\".\"&RIGHT(TEXT(B2075,\"0000\"),2)),0)","v":0}]
[2074,null,null,null,null,{"$f":"IF(OR(MAX($I$2:I2076)-I2076=0,D2076=0),\"\",MAX($I$2:I2076)-I2076)","v":""},"",0,10000,0,{"$f":"IF(B2076>0,WEEKNUM(TEXT(Definice!$F$3,\"0000\")&\".\"&TEXT(J2076,\"00\")&\".\"&RIGHT(TEXT(B2076,\"0000\"),2)),0)","v":0}]
[2075,null,null,null,null,{"$f":"IF(OR(MAX($I$2:I2077)-I2077=0,D2077=0),\"\",MAX($I$2:I2077)-I2077)","v":""},"",0,10000,0,{"$f":"IF(B2077>0,WEEKNUM(TEXT(Definice!$F$3,\"0000\")&\".\"&TEXT(J2077,\"00\")&\".\"&RIGHT(TEXT(B2077,\"0000\"),2)),0)","v":0}]
[2076,null,null,null,null,{"$f":"IF(OR(MAX($I$2:I2078)-I2078=0,D2078=0),\"\",MAX($I$2:I2078)-I2078)","v":""},"",0,10000,0,{"$f":"IF(B2078>0,WEEKNUM(TEXT(Definice!$F$3,\"0000\")&\".\"&TEXT(J2078,\"00\")&\".\"&RIGHT(TEXT(B2078,\"0000\"),2)),0)","v":0}]
[2077,null,null,null,null,{"$f":"IF(OR(MAX($I$2:I2079)-I2079=0,D2079=0),\"\",MAX($I$2:I2079)-I2079)","v":""},"",0,10000,0,{"$f":"IF(B2079>0,WEEKNUM(TEXT(Definice!$F$3,\"0000\")&\".\"&TEXT(J2079,\"00\")&\".\"&RIGHT(TEXT(B2079,\"0000\"),2)),0)","v":0}]
[2078,null,null,null,null,{"$f":"IF(OR(MAX($I$2:I2080)-I2080=0,D2080=0),\"\",MAX($I$2:I2080)-I2080)","v":""},"",0,10000,0,{"$f":"IF(B2080>0,WEEKNUM(TEXT(Definice!$F$3,\"0000\")&\".\"&TEXT(J2080,\"00\")&\".\"&RIGHT(TEXT(B2080,\"0000\"),2)),0)","v":0}]
[2079,null,null,null,null,{"$f":"IF(OR(MAX($I$2:I2081)-I2081=0,D2081=0),\"\",MAX($I$2:I2081)-I2081)","v":""},"",0,10000,0,{"$f":"IF(B2081>0,WEEKNUM(TEXT(Definice!$F$3,\"0000\")&\".\"&TEXT(J2081,\"00\")&\".\"&RIGHT(TEXT(B2081,\"0000\"),2)),0)","v":0}]
[2080,null,null,null,null,{"$f":"IF(OR(MAX($I$2:I2082)-I2082=0,D2082=0),\"\",MAX($I$2:I2082)-I2082)","v":""},"",0,10000,0,{"$f":"IF(B2082>0,WEEKNUM(TEXT(Definice!$F$3,\"0000\")&\".\"&TEXT(J2082,\"00\")&\".\"&RIGHT(TEXT(B2082,\"0000\"),2)),0)","v":0}]
[2081,null,null,null,null,{"$f":"IF(OR(MAX($I$2:I2083)-I2083=0,D2083=0),\"\",MAX($I$2:I2083)-I2083)","v":""},"",0,10000,0,{"$f":"IF(B2083>0,WEEKNUM(TEXT(Definice!$F$3,\"0000\")&\".\"&TEXT(J2083,\"00\")&\".\"&RIGHT(TEXT(B2083,\"0000\"),2)),0)","v":0}]
[2082,null,null,null,null,{"$f":"IF(OR(MAX($I$2:I2084)-I2084=0,D2084=0),\"\",MAX($I$2:I2084)-I2084)","v":""},"",0,10000,0,{"$f":"IF(B2084>0,WEEKNUM(TEXT(Definice!$F$3,\"0000\")&\".\"&TEXT(J2084,\"00\")&\".\"&RIGHT(TEXT(B2084,\"0000\"),2)),0)","v":0}]
[2083,null,null,null,null,{"$f":"IF(OR(MAX($I$2:I2085)-I2085=0,D2085=0),\"\",MAX($I$2:I2085)-I2085)","v":""},"",0,10000,0,{"$f":"IF(B2085>0,WEEKNUM(TEXT(Definice!$F$3,\"0000\")&\".\"&TEXT(J2085,\"00\")&\".\"&RIGHT(TEXT(B2085,\"0000\"),2)),0)","v":0}]
[2084,null,null,null,null,{"$f":"IF(OR(MAX($I$2:I2086)-I2086=0,D2086=0),\"\",MAX($I$2:I2086)-I2086)","v":""},"",0,10000,0,{"$f":"IF(B2086>0,WEEKNUM(TEXT(Definice!$F$3,\"0000\")&\".\"&TEXT(J2086,\"00\")&\".\"&RIGHT(TEXT(B2086,\"0000\"),2)),0)","v":0}]
[2085,null,null,null,null,{"$f":"IF(OR(MAX($I$2:I2087)-I2087=0,D2087=0),\"\",MAX($I$2:I2087)-I2087)","v":""},"",0,10000,0,{"$f":"IF(B2087>0,WEEKNUM(TEXT(Definice!$F$3,\"0000\")&\".\"&TEXT(J2087,\"00\")&\".\"&RIGHT(TEXT(B2087,\"0000\"),2)),0)","v":0}]
[2086,null,null,null,null,{"$f":"IF(OR(MAX($I$2:I2088)-I2088=0,D2088=0),\"\",MAX($I$2:I2088)-I2088)","v":""},"",0,10000,0,{"$f":"IF(B2088>0,WEEKNUM(TEXT(Definice!$F$3,\"0000\")&\".\"&TEXT(J2088,\"00\")&\".\"&RIGHT(TEXT(B2088,\"0000\"),2)),0)","v":0}]
[2087,null,null,null,null,{"$f":"IF(OR(MAX($I$2:I2089)-I2089=0,D2089=0),\"\",MAX($I$2:I2089)-I2089)","v":""},"",0,10000,0,{"$f":"IF(B2089>0,WEEKNUM(TEXT(Definice!$F$3,\"0000\")&\".\"&TEXT(J2089,\"00\")&\".\"&RIGHT(TEXT(B2089,\"0000\"),2)),0)","v":0}]
[2088,null,null,null,null,{"$f":"IF(OR(MAX($I$2:I2090)-I2090=0,D2090=0),\"\",MAX($I$2:I2090)-I2090)","v":""},"",0,10000,0,{"$f":"IF(B2090>0,WEEKNUM(TEXT(Definice!$F$3,\"0000\")&\".\"&TEXT(J2090,\"00\")&\".\"&RIGHT(TEXT(B2090,\"0000\"),2)),0)","v":0}]
[2089,null,null,null,null,{"$f":"IF(OR(MAX($I$2:I2091)-I2091=0,D2091=0),\"\",MAX($I$2:I2091)-I2091)","v":""},"",0,10000,0,{"$f":"IF(B2091>0,WEEKNUM(TEXT(Definice!$F$3,\"0000\")&\".\"&TEXT(J2091,\"00\")&\".\"&RIGHT(TEXT(B2091,\"0000\"),2)),0)","v":0}]
[2090,null,null,null,null,{"$f":"IF(OR(MAX($I$2:I2092)-I2092=0,D2092=0),\"\",MAX($I$2:I2092)-I2092)","v":""},"",0,10000,0,{"$f":"IF(B2092>0,WEEKNUM(TEXT(Definice!$F$3,\"0000\")&\".\"&TEXT(J2092,\"00\")&\".\"&RIGHT(TEXT(B2092,\"0000\"),2)),0)","v":0}]
[2091,null,null,null,null,{"$f":"IF(OR(MAX($I$2:I2093)-I2093=0,D2093=0),\"\",MAX($I$2:I2093)-I2093)","v":""},"",0,10000,0,{"$f":"IF(B2093>0,WEEKNUM(TEXT(Definice!$F$3,\"0000\")&\".\"&TEXT(J2093,\"00\")&\".\"&RIGHT(TEXT(B2093,\"0000\"),2)),0)","v":0}]
[2092,null,null,null,null,{"$f":"IF(OR(MAX($I$2:I2094)-I2094=0,D2094=0),\"\",MAX($I$2:I2094)-I2094)","v":""},"",0,10000,0,{"$f":"IF(B2094>0,WEEKNUM(TEXT(Definice!$F$3,\"0000\")&\".\"&TEXT(J2094,\"00\")&\".\"&RIGHT(TEXT(B2094,\"0000\"),2)),0)","v":0}]
[2093,null,null,null,null,{"$f":"IF(OR(MAX($I$2:I2095)-I2095=0,D2095=0),\"\",MAX($I$2:I2095)-I2095)","v":""},"",0,10000,0,{"$f":"IF(B2095>0,WEEKNUM(TEXT(Definice!$F$3,\"0000\")&\".\"&TEXT(J2095,\"00\")&\".\"&RIGHT(TEXT(B2095,\"0000\"),2)),0)","v":0}]
[2094,null,null,null,null,{"$f":"IF(OR(MAX($I$2:I2096)-I2096=0,D2096=0),\"\",MAX($I$2:I2096)-I2096)","v":""},"",0,10000,0,{"$f":"IF(B2096>0,WEEKNUM(TEXT(Definice!$F$3,\"0000\")&\".\"&TEXT(J2096,\"00\")&\".\"&RIGHT(TEXT(B2096,\"0000\"),2)),0)","v":0}]
[2095,null,null,null,null,{"$f":"IF(OR(MAX($I$2:I2097)-I2097=0,D2097=0),\"\",MAX($I$2:I2097)-I2097)","v":""},"",0,10000,0,{"$f":"IF(B2097>0,WEEKNUM(TEXT(Definice!$F$3,\"0000\")&\".\"&TEXT(J2097,\"00\")&\".\"&RIGHT(TEXT(B2097,\"0000\"),2)),0)","v":0}]
[2096,null,null,null,null,{"$f":"IF(OR(MAX($I$2:I2098)-I2098=0,D2098=0),\"\",MAX($I$2:I2098)-I2098)","v":""},"",0,10000,0,{"$f":"IF(B2098>0,WEEKNUM(TEXT(Definice!$F$3,\"0000\")&\".\"&TEXT(J2098,\"00\")&\".\"&RIGHT(TEXT(B2098,\"0000\"),2)),0)","v":0}]
[2097,null,null,null,null,{"$f":"IF(OR(MAX($I$2:I2099)-I2099=0,D2099=0),\"\",MAX($I$2:I2099)-I2099)","v":""},"",0,10000,0,{"$f":"IF(B2099>0,WEEKNUM(TEXT(Definice!$F$3,\"0000\")&\".\"&TEXT(J2099,\"00\")&\".\"&RIGHT(TEXT(B2099,\"0000\"),2)),0)","v":0}]
[2098,null,null,null,null,{"$f":"IF(OR(MAX($I$2:I2100)-I2100=0,D2100=0),\"\",MAX($I$2:I2100)-I2100)","v":""},"",0,10000,0,{"$f":"IF(B2100>0,WEEKNUM(TEXT(Definice!$F$3,\"0000\")&\".\"&TEXT(J2100,\"00\")&\".\"&RIGHT(TEXT(B2100,\"0000\"),2)),0)","v":0}]
[2099,null,null,null,null,{"$f":"IF(OR(MAX($I$2:I2101)-I2101=0,D2101=0),\"\",MAX($I$2:I2101)-I2101)","v":""},"",0,10000,0,{"$f":"IF(B2101>0,WEEKNUM(TEXT(Definice!$F$3,\"0000\")&\".\"&TEXT(J2101,\"00\")&\".\"&RIGHT(TEXT(B2101,\"0000\"),2)),0)","v":0}]
[2100,null,null,null,null,{"$f":"IF(OR(MAX($I$2:I2102)-I2102=0,D2102=0),\"\",MAX($I$2:I2102)-I2102)","v":""},"",0,10000,0,{"$f":"IF(B2102>0,WEEKNUM(TEXT(Definice!$F$3,\"0000\")&\".\"&TEXT(J2102,\"00\")&\".\"&RIGHT(TEXT(B2102,\"0000\"),2)),0)","v":0}]
[2101,null,null,null,null,{"$f":"IF(OR(MAX($I$2:I2103)-I2103=0,D2103=0),\"\",MAX($I$2:I2103)-I2103)","v":""},"",0,10000,0,{"$f":"IF(B2103>0,WEEKNUM(TEXT(Definice!$F$3,\"0000\")&\".\"&TEXT(J2103,\"00\")&\".\"&RIGHT(TEXT(B2103,\"0000\"),2)),0)","v":0}]
[2102,null,null,null,null,{"$f":"IF(OR(MAX($I$2:I2104)-I2104=0,D2104=0),\"\",MAX($I$2:I2104)-I2104)","v":""},"",0,10000,0,{"$f":"IF(B2104>0,WEEKNUM(TEXT(Definice!$F$3,\"0000\")&\".\"&TEXT(J2104,\"00\")&\".\"&RIGHT(TEXT(B2104,\"0000\"),2)),0)","v":0}]
[2103,null,null,null,null,{"$f":"IF(OR(MAX($I$2:I2105)-I2105=0,D2105=0),\"\",MAX($I$2:I2105)-I2105)","v":""},"",0,10000,0,{"$f":"IF(B2105>0,WEEKNUM(TEXT(Definice!$F$3,\"0000\")&\".\"&TEXT(J2105,\"00\")&\".\"&RIGHT(TEXT(B2105,\"0000\"),2)),0)","v":0}]
[2104,null,null,null,null,{"$f":"IF(OR(MAX($I$2:I2106)-I2106=0,D2106=0),\"\",MAX($I$2:I2106)-I2106)","v":""},"",0,10000,0,{"$f":"IF(B2106>0,WEEKNUM(TEXT(Definice!$F$3,\"0000\")&\".\"&TEXT(J2106,\"00\")&\".\"&RIGHT(TEXT(B2106,\"0000\"),2)),0)","v":0}]
[2105,null,null,null,null,{"$f":"IF(OR(MAX($I$2:I2107)-I2107=0,D2107=0),\"\",MAX($I$2:I2107)-I2107)","v":""},"",0,10000,0,{"$f":"IF(B2107>0,WEEKNUM(TEXT(Definice!$F$3,\"0000\")&\".\"&TEXT(J2107,\"00\")&\".\"&RIGHT(TEXT(B2107,\"0000\"),2)),0)","v":0}]
[2106,null,null,null,null,{"$f":"IF(OR(MAX($I$2:I2108)-I2108=0,D2108=0),\"\",MAX($I$2:I2108)-I2108)","v":""},"",0,10000,0,{"$f":"IF(B2108>0,WEEKNUM(TEXT(Definice!$F$3,\"0000\")&\".\"&TEXT(J2108,\"00\")&\".\"&RIGHT(TEXT(B2108,\"0000\"),2)),0)","v":0}]
[2107,null,null,null,null,{"$f":"IF(OR(MAX($I$2:I2109)-I2109=0,D2109=0),\"\",MAX($I$2:I2109)-I2109)","v":""},"",0,10000,0,{"$f":"IF(B2109>0,WEEKNUM(TEXT(Definice!$F$3,\"0000\")&\".\"&TEXT(J2109,\"00\")&\".\"&RIGHT(TEXT(B2109,\"0000\"),2)),0)","v":0}]
[2108,null,null,null,null,{"$f":"IF(OR(MAX($I$2:I2110)-I2110=0,D2110=0),\"\",MAX($I$2:I2110)-I2110)","v":""},"",0,10000,0,{"$f":"IF(B2110>0,WEEKNUM(TEXT(Definice!$F$3,\"0000\")&\".\"&TEXT(J2110,\"00\")&\".\"&RIGHT(TEXT(B2110,\"0000\"),2)),0)","v":0}]
[2109,null,null,null,null,{"$f":"IF(OR(MAX($I$2:I2111)-I2111=0,D2111=0),\"\",MAX($I$2:I2111)-I2111)","v":""},"",0,10000,0,{"$f":"IF(B2111>0,WEEKNUM(TEXT(Definice!$F$3,\"0000\")&\".\"&TEXT(J2111,\"00\")&\".\"&RIGHT(TEXT(B2111,\"0000\"),2)),0)","v":0}]
[2110,null,null,null,null,{"$f":"IF(OR(MAX($I$2:I2112)-I2112=0,D2112=0),\"\",MAX($I$2:I2112)-I2112)","v":""},"",0,10000,0,{"$f":"IF(B2112>0,WEEKNUM(TEXT(Definice!$F$3,\"0000\")&\".\"&TEXT(J2112,\"00\")&\".\"&RIGHT(TEXT(B2112,\"0000\"),2)),0)","v":0}]
[2111,null,null,null,null,{"$f":"IF(OR(MAX($I$2:I2113)-I2113=0,D2113=0),\"\",MAX($I$2:I2113)-I2113)","v":""},"",0,10000,0,{"$f":"IF(B2113>0,WEEKNUM(TEXT(Definice!$F$3,\"0000\")&\".\"&TEXT(J2113,\"00\")&\".\"&RIGHT(TEXT(B2113,\"0000\"),2)),0)","v":0}]
[2112,null,null,null,null,{"$f":"IF(OR(MAX($I$2:I2114)-I2114=0,D2114=0),\"\",MAX($I$2:I2114)-I2114)","v":""},"",0,10000,0,{"$f":"IF(B2114>0,WEEKNUM(TEXT(Definice!$F$3,\"0000\")&\".\"&TEXT(J2114,\"00\")&\".\"&RIGHT(TEXT(B2114,\"0000\"),2)),0)","v":0}]
[2113,null,null,null,null,{"$f":"IF(OR(MAX($I$2:I2115)-I2115=0,D2115=0),\"\",MAX($I$2:I2115)-I2115)","v":""},"",0,10000,0,{"$f":"IF(B2115>0,WEEKNUM(TEXT(Definice!$F$3,\"0000\")&\".\"&TEXT(J2115,\"00\")&\".\"&RIGHT(TEXT(B2115,\"0000\"),2)),0)","v":0}]
[2114,null,null,null,null,{"$f":"IF(OR(MAX($I$2:I2116)-I2116=0,D2116=0),\"\",MAX($I$2:I2116)-I2116)","v":""},"",0,10000,0,{"$f":"IF(B2116>0,WEEKNUM(TEXT(Definice!$F$3,\"0000\")&\".\"&TEXT(J2116,\"00\")&\".\"&RIGHT(TEXT(B2116,\"0000\"),2)),0)","v":0}]
[2115,null,null,null,null,{"$f":"IF(OR(MAX($I$2:I2117)-I2117=0,D2117=0),\"\",MAX($I$2:I2117)-I2117)","v":""},"",0,10000,0,{"$f":"IF(B2117>0,WEEKNUM(TEXT(Definice!$F$3,\"0000\")&\".\"&TEXT(J2117,\"00\")&\".\"&RIGHT(TEXT(B2117,\"0000\"),2)),0)","v":0}]
[2116,null,null,null,null,{"$f":"IF(OR(MAX($I$2:I2118)-I2118=0,D2118=0),\"\",MAX($I$2:I2118)-I2118)","v":""},"",0,10000,0,{"$f":"IF(B2118>0,WEEKNUM(TEXT(Definice!$F$3,\"0000\")&\".\"&TEXT(J2118,\"00\")&\".\"&RIGHT(TEXT(B2118,\"0000\"),2)),0)","v":0}]
[2117,null,null,null,null,{"$f":"IF(OR(MAX($I$2:I2119)-I2119=0,D2119=0),\"\",MAX($I$2:I2119)-I2119)","v":""},"",0,10000,0,{"$f":"IF(B2119>0,WEEKNUM(TEXT(Definice!$F$3,\"0000\")&\".\"&TEXT(J2119,\"00\")&\".\"&RIGHT(TEXT(B2119,\"0000\"),2)),0)","v":0}]
[2118,null,null,null,null,{"$f":"IF(OR(MAX($I$2:I2120)-I2120=0,D2120=0),\"\",MAX($I$2:I2120)-I2120)","v":""},"",0,10000,0,{"$f":"IF(B2120>0,WEEKNUM(TEXT(Definice!$F$3,\"0000\")&\".\"&TEXT(J2120,\"00\")&\".\"&RIGHT(TEXT(B2120,\"0000\"),2)),0)","v":0}]
[2119,null,null,null,null,{"$f":"IF(OR(MAX($I$2:I2121)-I2121=0,D2121=0),\"\",MAX($I$2:I2121)-I2121)","v":""},"",0,10000,0,{"$f":"IF(B2121>0,WEEKNUM(TEXT(Definice!$F$3,\"0000\")&\".\"&TEXT(J2121,\"00\")&\".\"&RIGHT(TEXT(B2121,\"0000\"),2)),0)","v":0}]
[2120,null,null,null,null,{"$f":"IF(OR(MAX($I$2:I2122)-I2122=0,D2122=0),\"\",MAX($I$2:I2122)-I2122)","v":""},"",0,10000,0,{"$f":"IF(B2122>0,WEEKNUM(TEXT(Definice!$F$3,\"0000\")&\".\"&TEXT(J2122,\"00\")&\".\"&RIGHT(TEXT(B2122,\"0000\"),2)),0)","v":0}]
[2121,null,null,null,null,{"$f":"IF(OR(MAX($I$2:I2123)-I2123=0,D2123=0),\"\",MAX($I$2:I2123)-I2123)","v":""},"",0,10000,0,{"$f":"IF(B2123>0,WEEKNUM(TEXT(Definice!$F$3,\"0000\")&\".\"&TEXT(J2123,\"00\")&\".\"&RIGHT(TEXT(B2123,\"0000\"),2)),0)","v":0}]
[2122,null,null,null,null,{"$f":"IF(OR(MAX($I$2:I2124)-I2124=0,D2124=0),\"\",MAX($I$2:I2124)-I2124)","v":""},{"$f":"IF(F2124=\"\",\"\",F2124/(H2124+I2123))","v":""},{"$f":"H2123+E2124","v":0},{"$f":"I2123+E2124","v":10000},{"$f":"((INT(B2124/100)/100)-INT(INT(B2124/100)/100))*100","v":0},{"$f":"IF(B2124>0,WEEKNUM(TEXT(Definice!$F$3,\"0000\")&\".\"&TEXT(J2124,\"00\")&\".\"&RIGHT(TEXT(B2124,\"0000\"),2)),0)","v":0}]
[2123,null,null,null,null,{"$f":"IF(OR(MAX($I$2:I2125)-I2125=0,D2125=0),\"\",MAX($I$2:I2125)-I2125)","v":""},"",0,10000,0,{"$f":"IF(B2125>0,WEEKNUM(TEXT(Definice!$F$3,\"0000\")&\".\"&TEXT(J2125,\"00\")&\".\"&RIGHT(TEXT(B2125,\"0000\"),2)),0)","v":0}]
[2124,null,null,null,null,{"$f":"IF(OR(MAX($I$2:I2126)-I2126=0,D2126=0),\"\",MAX($I$2:I2126)-I2126)","v":""},"",0,10000,0,{"$f":"IF(B2126>0,WEEKNUM(TEXT(Definice!$F$3,\"0000\")&\".\"&TEXT(J2126,\"00\")&\".\"&RIGHT(TEXT(B2126,\"0000\"),2)),0)","v":0}]
[2125,null,null,null,null,{"$f":"IF(OR(MAX($I$2:I2127)-I2127=0,D2127=0),\"\",MAX($I$2:I2127)-I2127)","v":""},"",0,10000,0,{"$f":"IF(B2127>0,WEEKNUM(TEXT(Definice!$F$3,\"0000\")&\".\"&TEXT(J2127,\"00\")&\".\"&RIGHT(TEXT(B2127,\"0000\"),2)),0)","v":0}]
[2126,null,null,null,null,{"$f":"IF(OR(MAX($I$2:I2128)-I2128=0,D2128=0),\"\",MAX($I$2:I2128)-I2128)","v":""},"",0,10000,0,{"$f":"IF(B2128>0,WEEKNUM(TEXT(Definice!$F$3,\"0000\")&\".\"&TEXT(J2128,\"00\")&\".\"&RIGHT(TEXT(B2128,\"0000\"),2)),0)","v":0}]
[2127,null,null,null,null,{"$f":"IF(OR(MAX($I$2:I2129)-I2129=0,D2129=0),\"\",MAX($I$2:I2129)-I2129)","v":""},"",0,10000,0,{"$f":"IF(B2129>0,WEEKNUM(TEXT(Definice!$F$3,\"0000\")&\".\"&TEXT(J2129,\"00\")&\".\"&RIGHT(TEXT(B2129,\"0000\"),2)),0)","v":0}]
[2128,null,null,null,null,{"$f":"IF(OR(MAX($I$2:I2130)-I2130=0,D2130=0),\"\",MAX($I$2:I2130)-I2130)","v":""},"",0,10000,0,{"$f":"IF(B2130>0,WEEKNUM(TEXT(Definice!$F$3,\"0000\")&\".\"&TEXT(J2130,\"00\")&\".\"&RIGHT(TEXT(B2130,\"0000\"),2)),0)","v":0}]
[2129,null,null,null,null,{"$f":"IF(OR(MAX($I$2:I2131)-I2131=0,D2131=0),\"\",MAX($I$2:I2131)-I2131)","v":""},"",0,10000,0,{"$f":"IF(B2131>0,WEEKNUM(TEXT(Definice!$F$3,\"0000\")&\".\"&TEXT(J2131,\"00\")&\".\"&RIGHT(TEXT(B2131,\"0000\"),2)),0)","v":0}]
[2130,null,null,null,null,{"$f":"IF(OR(MAX($I$2:I2132)-I2132=0,D2132=0),\"\",MAX($I$2:I2132)-I2132)","v":""},"",0,10000,0,{"$f":"IF(B2132>0,WEEKNUM(TEXT(Definice!$F$3,\"0000\")&\".\"&TEXT(J2132,\"00\")&\".\"&RIGHT(TEXT(B2132,\"0000\"),2)),0)","v":0}]
[2131,null,null,null,null,{"$f":"IF(OR(MAX($I$2:I2133)-I2133=0,D2133=0),\"\",MAX($I$2:I2133)-I2133)","v":""},"",0,10000,0,{"$f":"IF(B2133>0,WEEKNUM(TEXT(Definice!$F$3,\"0000\")&\".\"&TEXT(J2133,\"00\")&\".\"&RIGHT(TEXT(B2133,\"0000\"),2)),0)","v":0}]
[2132,null,null,null,null,{"$f":"IF(OR(MAX($I$2:I2134)-I2134=0,D2134=0),\"\",MAX($I$2:I2134)-I2134)","v":""},"",0,10000,0,{"$f":"IF(B2134>0,WEEKNUM(TEXT(Definice!$F$3,\"0000\")&\".\"&TEXT(J2134,\"00\")&\".\"&RIGHT(TEXT(B2134,\"0000\"),2)),0)","v":0}]
[2133,null,null,null,null,{"$f":"IF(OR(MAX($I$2:I2135)-I2135=0,D2135=0),\"\",MAX($I$2:I2135)-I2135)","v":""},"",0,10000,0,{"$f":"IF(B2135>0,WEEKNUM(TEXT(Definice!$F$3,\"0000\")&\".\"&TEXT(J2135,\"00\")&\".\"&RIGHT(TEXT(B2135,\"0000\"),2)),0)","v":0}]
[2134,null,null,null,null,{"$f":"IF(OR(MAX($I$2:I2136)-I2136=0,D2136=0),\"\",MAX($I$2:I2136)-I2136)","v":""},"",0,10000,0,{"$f":"IF(B2136>0,WEEKNUM(TEXT(Definice!$F$3,\"0000\")&\".\"&TEXT(J2136,\"00\")&\".\"&RIGHT(TEXT(B2136,\"0000\"),2)),0)","v":0}]
[2135,null,null,null,null,{"$f":"IF(OR(MAX($I$2:I2137)-I2137=0,D2137=0),\"\",MAX($I$2:I2137)-I2137)","v":""},"",0,10000,0,{"$f":"IF(B2137>0,WEEKNUM(TEXT(Definice!$F$3,\"0000\")&\".\"&TEXT(J2137,\"00\")&\".\"&RIGHT(TEXT(B2137,\"0000\"),2)),0)","v":0}]
[2136,null,null,null,null,{"$f":"IF(OR(MAX($I$2:I2138)-I2138=0,D2138=0),\"\",MAX($I$2:I2138)-I2138)","v":""},"",0,10000,0,{"$f":"IF(B2138>0,WEEKNUM(TEXT(Definice!$F$3,\"0000\")&\".\"&TEXT(J2138,\"00\")&\".\"&RIGHT(TEXT(B2138,\"0000\"),2)),0)","v":0}]
[2137,null,null,null,null,{"$f":"IF(OR(MAX($I$2:I2139)-I2139=0,D2139=0),\"\",MAX($I$2:I2139)-I2139)","v":""},"",0,10000,0,{"$f":"IF(B2139>0,WEEKNUM(TEXT(Definice!$F$3,\"0000\")&\".\"&TEXT(J2139,\"00\")&\".\"&RIGHT(TEXT(B2139,\"0000\"),2)),0)","v":0}]
[2138,null,null,null,null,{"$f":"IF(OR(MAX($I$2:I2140)-I2140=0,D2140=0),\"\",MAX($I$2:I2140)-I2140)","v":""},"",0,10000,0,{"$f":"IF(B2140>0,WEEKNUM(TEXT(Definice!$F$3,\"0000\")&\".\"&TEXT(J2140,\"00\")&\".\"&RIGHT(TEXT(B2140,\"0000\"),2)),0)","v":0}]
[2139,null,null,null,null,{"$f":"IF(OR(MAX($I$2:I2141)-I2141=0,D2141=0),\"\",MAX($I$2:I2141)-I2141)","v":""},"",0,10000,0,{"$f":"IF(B2141>0,WEEKNUM(TEXT(Definice!$F$3,\"0000\")&\".\"&TEXT(J2141,\"00\")&\".\"&RIGHT(TEXT(B2141,\"0000\"),2)),0)","v":0}]
[2140,null,null,null,null,{"$f":"IF(OR(MAX($I$2:I2142)-I2142=0,D2142=0),\"\",MAX($I$2:I2142)-I2142)","v":""},"",0,10000,0,{"$f":"IF(B2142>0,WEEKNUM(TEXT(Definice!$F$3,\"0000\")&\".\"&TEXT(J2142,\"00\")&\".\"&RIGHT(TEXT(B2142,\"0000\"),2)),0)","v":0}]
[2141,null,null,null,null,{"$f":"IF(OR(MAX($I$2:I2143)-I2143=0,D2143=0),\"\",MAX($I$2:I2143)-I2143)","v":""},"",0,10000,0,{"$f":"IF(B2143>0,WEEKNUM(TEXT(Definice!$F$3,\"0000\")&\".\"&TEXT(J2143,\"00\")&\".\"&RIGHT(TEXT(B2143,\"0000\"),2)),0)","v":0}]
[2142,null,null,null,null,{"$f":"IF(OR(MAX($I$2:I2144)-I2144=0,D2144=0),\"\",MAX($I$2:I2144)-I2144)","v":""},"",0,10000,0,{"$f":"IF(B2144>0,WEEKNUM(TEXT(Definice!$F$3,\"0000\")&\".\"&TEXT(J2144,\"00\")&\".\"&RIGHT(TEXT(B2144,\"0000\"),2)),0)","v":0}]
[2143,null,null,null,null,{"$f":"IF(OR(MAX($I$2:I2145)-I2145=0,D2145=0),\"\",MAX($I$2:I2145)-I2145)","v":""},"",0,10000,0,{"$f":"IF(B2145>0,WEEKNUM(TEXT(Definice!$F$3,\"0000\")&\".\"&TEXT(J2145,\"00\")&\".\"&RIGHT(TEXT(B2145,\"0000\"),2)),0)","v":0}]
[2144,null,null,null,null,{"$f":"IF(OR(MAX($I$2:I2146)-I2146=0,D2146=0),\"\",MAX($I$2:I2146)-I2146)","v":""},"",0,10000,0,{"$f":"IF(B2146>0,WEEKNUM(TEXT(Definice!$F$3,\"0000\")&\".\"&TEXT(J2146,\"00\")&\".\"&RIGHT(TEXT(B2146,\"0000\"),2)),0)","v":0}]
[2145,null,null,null,null,{"$f":"IF(OR(MAX($I$2:I2147)-I2147=0,D2147=0),\"\",MAX($I$2:I2147)-I2147)","v":""},"",0,10000,0,{"$f":"IF(B2147>0,WEEKNUM(TEXT(Definice!$F$3,\"0000\")&\".\"&TEXT(J2147,\"00\")&\".\"&RIGHT(TEXT(B2147,\"0000\"),2)),0)","v":0}]
[2146,null,null,null,null,{"$f":"IF(OR(MAX($I$2:I2148)-I2148=0,D2148=0),\"\",MAX($I$2:I2148)-I2148)","v":""},"",0,10000,0,{"$f":"IF(B2148>0,WEEKNUM(TEXT(Definice!$F$3,\"0000\")&\".\"&TEXT(J2148,\"00\")&\".\"&RIGHT(TEXT(B2148,\"0000\"),2)),0)","v":0}]
[2147,null,null,null,null,{"$f":"IF(OR(MAX($I$2:I2149)-I2149=0,D2149=0),\"\",MAX($I$2:I2149)-I2149)","v":""},"",0,10000,0,{"$f":"IF(B2149>0,WEEKNUM(TEXT(Definice!$F$3,\"0000\")&\".\"&TEXT(J2149,\"00\")&\".\"&RIGHT(TEXT(B2149,\"0000\"),2)),0)","v":0}]
[2148,null,null,null,null,{"$f":"IF(OR(MAX($I$2:I2150)-I2150=0,D2150=0),\"\",MAX($I$2:I2150)-I2150)","v":""},"",0,10000,0,{"$f":"IF(B2150>0,WEEKNUM(TEXT(Definice!$F$3,\"0000\")&\".\"&TEXT(J2150,\"00\")&\".\"&RIGHT(TEXT(B2150,\"0000\"),2)),0)","v":0}]
[2149,null,null,null,null,{"$f":"IF(OR(MAX($I$2:I2151)-I2151=0,D2151=0),\"\",MAX($I$2:I2151)-I2151)","v":""},"",0,10000,0,{"$f":"IF(B2151>0,WEEKNUM(TEXT(Definice!$F$3,\"0000\")&\".\"&TEXT(J2151,\"00\")&\".\"&RIGHT(TEXT(B2151,\"0000\"),2)),0)","v":0}]
[2150,null,null,null,null,{"$f":"IF(OR(MAX($I$2:I2152)-I2152=0,D2152=0),\"\",MAX($I$2:I2152)-I2152)","v":""},"",0,10000,0,{"$f":"IF(B2152>0,WEEKNUM(TEXT(Definice!$F$3,\"0000\")&\".\"&TEXT(J2152,\"00\")&\".\"&RIGHT(TEXT(B2152,\"0000\"),2)),0)","v":0}]
[2151,null,null,null,null,{"$f":"IF(OR(MAX($I$2:I2153)-I2153=0,D2153=0),\"\",MAX($I$2:I2153)-I2153)","v":""},"",0,10000,0,{"$f":"IF(B2153>0,WEEKNUM(TEXT(Definice!$F$3,\"0000\")&\".\"&TEXT(J2153,\"00\")&\".\"&RIGHT(TEXT(B2153,\"0000\"),2)),0)","v":0}]
[2152,null,null,null,null,{"$f":"IF(OR(MAX($I$2:I2154)-I2154=0,D2154=0),\"\",MAX($I$2:I2154)-I2154)","v":""},"",0,10000,0,{"$f":"IF(B2154>0,WEEKNUM(TEXT(Definice!$F$3,\"0000\")&\".\"&TEXT(J2154,\"00\")&\".\"&RIGHT(TEXT(B2154,\"0000\"),2)),0)","v":0}]
[2153,null,null,null,null,{"$f":"IF(OR(MAX($I$2:I2155)-I2155=0,D2155=0),\"\",MAX($I$2:I2155)-I2155)","v":""},"",0,10000,0,{"$f":"IF(B2155>0,WEEKNUM(TEXT(Definice!$F$3,\"0000\")&\".\"&TEXT(J2155,\"00\")&\".\"&RIGHT(TEXT(B2155,\"0000\"),2)),0)","v":0}]
[2154,null,null,null,null,{"$f":"IF(OR(MAX($I$2:I2156)-I2156=0,D2156=0),\"\",MAX($I$2:I2156)-I2156)","v":""},"",0,10000,0,{"$f":"IF(B2156>0,WEEKNUM(TEXT(Definice!$F$3,\"0000\")&\".\"&TEXT(J2156,\"00\")&\".\"&RIGHT(TEXT(B2156,\"0000\"),2)),0)","v":0}]
[2155,null,null,null,null,{"$f":"IF(OR(MAX($I$2:I2157)-I2157=0,D2157=0),\"\",MAX($I$2:I2157)-I2157)","v":""},"",0,10000,0,{"$f":"IF(B2157>0,WEEKNUM(TEXT(Definice!$F$3,\"0000\")&\".\"&TEXT(J2157,\"00\")&\".\"&RIGHT(TEXT(B2157,\"0000\"),2)),0)","v":0}]
[2156,null,null,null,null,{"$f":"IF(OR(MAX($I$2:I2158)-I2158=0,D2158=0),\"\",MAX($I$2:I2158)-I2158)","v":""},"",0,10000,0,{"$f":"IF(B2158>0,WEEKNUM(TEXT(Definice!$F$3,\"0000\")&\".\"&TEXT(J2158,\"00\")&\".\"&RIGHT(TEXT(B2158,\"0000\"),2)),0)","v":0}]
[2157,null,null,null,null,{"$f":"IF(OR(MAX($I$2:I2159)-I2159=0,D2159=0),\"\",MAX($I$2:I2159)-I2159)","v":""},"",0,10000,0,{"$f":"IF(B2159>0,WEEKNUM(TEXT(Definice!$F$3,\"0000\")&\".\"&TEXT(J2159,\"00\")&\".\"&RIGHT(TEXT(B2159,\"0000\"),2)),0)","v":0}]
[2158,null,null,null,null,{"$f":"IF(OR(MAX($I$2:I2160)-I2160=0,D2160=0),\"\",MAX($I$2:I2160)-I2160)","v":""},"",0,10000,0,{"$f":"IF(B2160>0,WEEKNUM(TEXT(Definice!$F$3,\"0000\")&\".\"&TEXT(J2160,\"00\")&\".\"&RIGHT(TEXT(B2160,\"0000\"),2)),0)","v":0}]
[2159,null,null,null,null,{"$f":"IF(OR(MAX($I$2:I2161)-I2161=0,D2161=0),\"\",MAX($I$2:I2161)-I2161)","v":""},"",0,10000,0,{"$f":"IF(B2161>0,WEEKNUM(TEXT(Definice!$F$3,\"0000\")&\".\"&TEXT(J2161,\"00\")&\".\"&RIGHT(TEXT(B2161,\"0000\"),2)),0)","v":0}]
[2160,null,null,null,null,{"$f":"IF(OR(MAX($I$2:I2162)-I2162=0,D2162=0),\"\",MAX($I$2:I2162)-I2162)","v":""},"",0,10000,0,{"$f":"IF(B2162>0,WEEKNUM(TEXT(Definice!$F$3,\"0000\")&\".\"&TEXT(J2162,\"00\")&\".\"&RIGHT(TEXT(B2162,\"0000\"),2)),0)","v":0}]
[2161,null,null,null,null,{"$f":"IF(OR(MAX($I$2:I2163)-I2163=0,D2163=0),\"\",MAX($I$2:I2163)-I2163)","v":""},"",0,10000,0,{"$f":"IF(B2163>0,WEEKNUM(TEXT(Definice!$F$3,\"0000\")&\".\"&TEXT(J2163,\"00\")&\".\"&RIGHT(TEXT(B2163,\"0000\"),2)),0)","v":0}]
[2162,null,null,null,null,{"$f":"IF(OR(MAX($I$2:I2164)-I2164=0,D2164=0),\"\",MAX($I$2:I2164)-I2164)","v":""},"",0,10000,0,{"$f":"IF(B2164>0,WEEKNUM(TEXT(Definice!$F$3,\"0000\")&\".\"&TEXT(J2164,\"00\")&\".\"&RIGHT(TEXT(B2164,\"0000\"),2)),0)","v":0}]
[2163,null,null,null,null,{"$f":"IF(OR(MAX($I$2:I2165)-I2165=0,D2165=0),\"\",MAX($I$2:I2165)-I2165)","v":""},"",0,10000,0,{"$f":"IF(B2165>0,WEEKNUM(TEXT(Definice!$F$3,\"0000\")&\".\"&TEXT(J2165,\"00\")&\".\"&RIGHT(TEXT(B2165,\"0000\"),2)),0)","v":0}]
[2164,null,null,null,null,{"$f":"IF(OR(MAX($I$2:I2166)-I2166=0,D2166=0),\"\",MAX($I$2:I2166)-I2166)","v":""},"",0,10000,0,{"$f":"IF(B2166>0,WEEKNUM(TEXT(Definice!$F$3,\"0000\")&\".\"&TEXT(J2166,\"00\")&\".\"&RIGHT(TEXT(B2166,\"0000\"),2)),0)","v":0}]
[2165,null,null,null,null,{"$f":"IF(OR(MAX($I$2:I2167)-I2167=0,D2167=0),\"\",MAX($I$2:I2167)-I2167)","v":""},"",0,10000,0,{"$f":"IF(B2167>0,WEEKNUM(TEXT(Definice!$F$3,\"0000\")&\".\"&TEXT(J2167,\"00\")&\".\"&RIGHT(TEXT(B2167,\"0000\"),2)),0)","v":0}]
[2166,null,null,null,null,{"$f":"IF(OR(MAX($I$2:I2168)-I2168=0,D2168=0),\"\",MAX($I$2:I2168)-I2168)","v":""},"",0,10000,0,{"$f":"IF(B2168>0,WEEKNUM(TEXT(Definice!$F$3,\"0000\")&\".\"&TEXT(J2168,\"00\")&\".\"&RIGHT(TEXT(B2168,\"0000\"),2)),0)","v":0}]
[2167,null,null,null,null,{"$f":"IF(OR(MAX($I$2:I2169)-I2169=0,D2169=0),\"\",MAX($I$2:I2169)-I2169)","v":""},"",0,10000,0,{"$f":"IF(B2169>0,WEEKNUM(TEXT(Definice!$F$3,\"0000\")&\".\"&TEXT(J2169,\"00\")&\".\"&RIGHT(TEXT(B2169,\"0000\"),2)),0)","v":0}]
[2168,null,null,null,null,{"$f":"IF(OR(MAX($I$2:I2170)-I2170=0,D2170=0),\"\",MAX($I$2:I2170)-I2170)","v":""},"",0,10000,0,{"$f":"IF(B2170>0,WEEKNUM(TEXT(Definice!$F$3,\"0000\")&\".\"&TEXT(J2170,\"00\")&\".\"&RIGHT(TEXT(B2170,\"0000\"),2)),0)","v":0}]
[2169,null,null,null,null,{"$f":"IF(OR(MAX($I$2:I2171)-I2171=0,D2171=0),\"\",MAX($I$2:I2171)-I2171)","v":""},"",0,10000,0,{"$f":"IF(B2171>0,WEEKNUM(TEXT(Definice!$F$3,\"0000\")&\".\"&TEXT(J2171,\"00\")&\".\"&RIGHT(TEXT(B2171,\"0000\"),2)),0)","v":0}]
[2170,null,null,null,null,{"$f":"IF(OR(MAX($I$2:I2172)-I2172=0,D2172=0),\"\",MAX($I$2:I2172)-I2172)","v":""},"",0,10000,0,{"$f":"IF(B2172>0,WEEKNUM(TEXT(Definice!$F$3,\"0000\")&\".\"&TEXT(J2172,\"00\")&\".\"&RIGHT(TEXT(B2172,\"0000\"),2)),0)","v":0}]
[2171,null,null,null,null,{"$f":"IF(OR(MAX($I$2:I2173)-I2173=0,D2173=0),\"\",MAX($I$2:I2173)-I2173)","v":""},"",0,10000,0,{"$f":"IF(B2173>0,WEEKNUM(TEXT(Definice!$F$3,\"0000\")&\".\"&TEXT(J2173,\"00\")&\".\"&RIGHT(TEXT(B2173,\"0000\"),2)),0)","v":0}]
[2172,null,null,null,null,{"$f":"IF(OR(MAX($I$2:I2174)-I2174=0,D2174=0),\"\",MAX($I$2:I2174)-I2174)","v":""},"",0,10000,0,{"$f":"IF(B2174>0,WEEKNUM(TEXT(Definice!$F$3,\"0000\")&\".\"&TEXT(J2174,\"00\")&\".\"&RIGHT(TEXT(B2174,\"0000\"),2)),0)","v":0}]
[2173,null,null,null,null,{"$f":"IF(OR(MAX($I$2:I2175)-I2175=0,D2175=0),\"\",MAX($I$2:I2175)-I2175)","v":""},"",0,10000,0,{"$f":"IF(B2175>0,WEEKNUM(TEXT(Definice!$F$3,\"0000\")&\".\"&TEXT(J2175,\"00\")&\".\"&RIGHT(TEXT(B2175,\"0000\"),2)),0)","v":0}]
[2174,null,null,null,null,{"$f":"IF(OR(MAX($I$2:I2176)-I2176=0,D2176=0),\"\",MAX($I$2:I2176)-I2176)","v":""},"",0,10000,0,{"$f":"IF(B2176>0,WEEKNUM(TEXT(Definice!$F$3,\"0000\")&\".\"&TEXT(J2176,\"00\")&\".\"&RIGHT(TEXT(B2176,\"0000\"),2)),0)","v":0}]
[2175,null,null,null,null,{"$f":"IF(OR(MAX($I$2:I2177)-I2177=0,D2177=0),\"\",MAX($I$2:I2177)-I2177)","v":""},"",0,10000,0,{"$f":"IF(B2177>0,WEEKNUM(TEXT(Definice!$F$3,\"0000\")&\".\"&TEXT(J2177,\"00\")&\".\"&RIGHT(TEXT(B2177,\"0000\"),2)),0)","v":0}]
[2176,null,null,null,null,{"$f":"IF(OR(MAX($I$2:I2178)-I2178=0,D2178=0),\"\",MAX($I$2:I2178)-I2178)","v":""},"",0,10000,0,{"$f":"IF(B2178>0,WEEKNUM(TEXT(Definice!$F$3,\"0000\")&\".\"&TEXT(J2178,\"00\")&\".\"&RIGHT(TEXT(B2178,\"0000\"),2)),0)","v":0}]
[2177,null,null,null,null,{"$f":"IF(OR(MAX($I$2:I2179)-I2179=0,D2179=0),\"\",MAX($I$2:I2179)-I2179)","v":""},"",0,10000,0,{"$f":"IF(B2179>0,WEEKNUM(TEXT(Definice!$F$3,\"0000\")&\".\"&TEXT(J2179,\"00\")&\".\"&RIGHT(TEXT(B2179,\"0000\"),2)),0)","v":0}]
[2178,null,null,null,null,{"$f":"IF(OR(MAX($I$2:I2180)-I2180=0,D2180=0),\"\",MAX($I$2:I2180)-I2180)","v":""},"",0,10000,0,{"$f":"IF(B2180>0,WEEKNUM(TEXT(Definice!$F$3,\"0000\")&\".\"&TEXT(J2180,\"00\")&\".\"&RIGHT(TEXT(B2180,\"0000\"),2)),0)","v":0}]
[2179,null,null,null,null,{"$f":"IF(OR(MAX($I$2:I2181)-I2181=0,D2181=0),\"\",MAX($I$2:I2181)-I2181)","v":""},"",0,10000,0,{"$f":"IF(B2181>0,WEEKNUM(TEXT(Definice!$F$3,\"0000\")&\".\"&TEXT(J2181,\"00\")&\".\"&RIGHT(TEXT(B2181,\"0000\"),2)),0)","v":0}]
[2180,null,null,null,null,{"$f":"IF(OR(MAX($I$2:I2182)-I2182=0,D2182=0),\"\",MAX($I$2:I2182)-I2182)","v":""},"",0,10000,0,{"$f":"IF(B2182>0,WEEKNUM(TEXT(Definice!$F$3,\"0000\")&\".\"&TEXT(J2182,\"00\")&\".\"&RIGHT(TEXT(B2182,\"0000\"),2)),0)","v":0}]
[2181,null,null,null,null,{"$f":"IF(OR(MAX($I$2:I2183)-I2183=0,D2183=0),\"\",MAX($I$2:I2183)-I2183)","v":""},"",0,10000,0,{"$f":"IF(B2183>0,WEEKNUM(TEXT(Definice!$F$3,\"0000\")&\".\"&TEXT(J2183,\"00\")&\".\"&RIGHT(TEXT(B2183,\"0000\"),2)),0)","v":0}]
[2182,null,null,null,null,{"$f":"IF(OR(MAX($I$2:I2184)-I2184=0,D2184=0),\"\",MAX($I$2:I2184)-I2184)","v":""},"",0,10000,0,{"$f":"IF(B2184>0,WEEKNUM(TEXT(Definice!$F$3,\"0000\")&\".\"&TEXT(J2184,\"00\")&\".\"&RIGHT(TEXT(B2184,\"0000\"),2)),0)","v":0}]
[2183,null,null,null,null,{"$f":"IF(OR(MAX($I$2:I2185)-I2185=0,D2185=0),\"\",MAX($I$2:I2185)-I2185)","v":""},"",0,10000,0,{"$f":"IF(B2185>0,WEEKNUM(TEXT(Definice!$F$3,\"0000\")&\".\"&TEXT(J2185,\"00\")&\".\"&RIGHT(TEXT(B2185,\"0000\"),2)),0)","v":0}]
[2184,null,null,null,null,{"$f":"IF(OR(MAX($I$2:I2186)-I2186=0,D2186=0),\"\",MAX($I$2:I2186)-I2186)","v":""},"",0,10000,0,{"$f":"IF(B2186>0,WEEKNUM(TEXT(Definice!$F$3,\"0000\")&\".\"&TEXT(J2186,\"00\")&\".\"&RIGHT(TEXT(B2186,\"0000\"),2)),0)","v":0}]
[2185,null,null,null,null,{"$f":"IF(OR(MAX($I$2:I2187)-I2187=0,D2187=0),\"\",MAX($I$2:I2187)-I2187)","v":""},"",0,10000,0,{"$f":"IF(B2187>0,WEEKNUM(TEXT(Definice!$F$3,\"0000\")&\".\"&TEXT(J2187,\"00\")&\".\"&RIGHT(TEXT(B2187,\"0000\"),2)),0)","v":0}]
[2186,null,null,null,null,{"$f":"IF(OR(MAX($I$2:I2188)-I2188=0,D2188=0),\"\",MAX($I$2:I2188)-I2188)","v":""},{"$f":"IF(F2188=\"\",\"\",F2188/(H2188+I2187))","v":""},{"$f":"H2187+E2188","v":0},{"$f":"I2187+E2188","v":10000},{"$f":"((INT(B2188/100)/100)-INT(INT(B2188/100)/100))*100","v":0},{"$f":"IF(B2188>0,WEEKNUM(TEXT(Definice!$F$3,\"0000\")&\".\"&TEXT(J2188,\"00\")&\".\"&RIGHT(TEXT(B2188,\"0000\"),2)),0)","v":0}]
[2187,null,null,null,null,{"$f":"IF(OR(MAX($I$2:I2189)-I2189=0,D2189=0),\"\",MAX($I$2:I2189)-I2189)","v":""},"",0,10000,0,{"$f":"IF(B2189>0,WEEKNUM(TEXT(Definice!$F$3,\"0000\")&\".\"&TEXT(J2189,\"00\")&\".\"&RIGHT(TEXT(B2189,\"0000\"),2)),0)","v":0}]
[2188,null,null,null,null,{"$f":"IF(OR(MAX($I$2:I2190)-I2190=0,D2190=0),\"\",MAX($I$2:I2190)-I2190)","v":""},"",0,10000,0,{"$f":"IF(B2190>0,WEEKNUM(TEXT(Definice!$F$3,\"0000\")&\".\"&TEXT(J2190,\"00\")&\".\"&RIGHT(TEXT(B2190,\"0000\"),2)),0)","v":0}]
[2189,null,null,null,null,{"$f":"IF(OR(MAX($I$2:I2191)-I2191=0,D2191=0),\"\",MAX($I$2:I2191)-I2191)","v":""},"",0,10000,0,{"$f":"IF(B2191>0,WEEKNUM(TEXT(Definice!$F$3,\"0000\")&\".\"&TEXT(J2191,\"00\")&\".\"&RIGHT(TEXT(B2191,\"0000\"),2)),0)","v":0}]
[2190,null,null,null,null,{"$f":"IF(OR(MAX($I$2:I2192)-I2192=0,D2192=0),\"\",MAX($I$2:I2192)-I2192)","v":""},"",0,10000,0,{"$f":"IF(B2192>0,WEEKNUM(TEXT(Definice!$F$3,\"0000\")&\".\"&TEXT(J2192,\"00\")&\".\"&RIGHT(TEXT(B2192,\"0000\"),2)),0)","v":0}]
[2191,null,null,null,null,{"$f":"IF(OR(MAX($I$2:I2193)-I2193=0,D2193=0),\"\",MAX($I$2:I2193)-I2193)","v":""},"",0,10000,0,{"$f":"IF(B2193>0,WEEKNUM(TEXT(Definice!$F$3,\"0000\")&\".\"&TEXT(J2193,\"00\")&\".\"&RIGHT(TEXT(B2193,\"0000\"),2)),0)","v":0}]
[2192,null,null,null,null,{"$f":"IF(OR(MAX($I$2:I2194)-I2194=0,D2194=0),\"\",MAX($I$2:I2194)-I2194)","v":""},"",0,10000,0,{"$f":"IF(B2194>0,WEEKNUM(TEXT(Definice!$F$3,\"0000\")&\".\"&TEXT(J2194,\"00\")&\".\"&RIGHT(TEXT(B2194,\"0000\"),2)),0)","v":0}]
[2193,null,null,null,null,{"$f":"IF(OR(MAX($I$2:I2195)-I2195=0,D2195=0),\"\",MAX($I$2:I2195)-I2195)","v":""},"",0,10000,0,{"$f":"IF(B2195>0,WEEKNUM(TEXT(Definice!$F$3,\"0000\")&\".\"&TEXT(J2195,\"00\")&\".\"&RIGHT(TEXT(B2195,\"0000\"),2)),0)","v":0}]
[2194,null,null,null,null,{"$f":"IF(OR(MAX($I$2:I2196)-I2196=0,D2196=0),\"\",MAX($I$2:I2196)-I2196)","v":""},"",0,10000,0,{"$f":"IF(B2196>0,WEEKNUM(TEXT(Definice!$F$3,\"0000\")&\".\"&TEXT(J2196,\"00\")&\".\"&RIGHT(TEXT(B2196,\"0000\"),2)),0)","v":0}]
[2195,null,null,null,null,{"$f":"IF(OR(MAX($I$2:I2197)-I2197=0,D2197=0),\"\",MAX($I$2:I2197)-I2197)","v":""},"",0,10000,0,{"$f":"IF(B2197>0,WEEKNUM(TEXT(Definice!$F$3,\"0000\")&\".\"&TEXT(J2197,\"00\")&\".\"&RIGHT(TEXT(B2197,\"0000\"),2)),0)","v":0}]
[2196,null,null,null,null,{"$f":"IF(OR(MAX($I$2:I2198)-I2198=0,D2198=0),\"\",MAX($I$2:I2198)-I2198)","v":""},"",0,10000,0,{"$f":"IF(B2198>0,WEEKNUM(TEXT(Definice!$F$3,\"0000\")&\".\"&TEXT(J2198,\"00\")&\".\"&RIGHT(TEXT(B2198,\"0000\"),2)),0)","v":0}]
[2197,null,null,null,null,{"$f":"IF(OR(MAX($I$2:I2199)-I2199=0,D2199=0),\"\",MAX($I$2:I2199)-I2199)","v":""},"",0,10000,0,{"$f":"IF(B2199>0,WEEKNUM(TEXT(Definice!$F$3,\"0000\")&\".\"&TEXT(J2199,\"00\")&\".\"&RIGHT(TEXT(B2199,\"0000\"),2)),0)","v":0}]
[2198,null,null,null,null,{"$f":"IF(OR(MAX($I$2:I2200)-I2200=0,D2200=0),\"\",MAX($I$2:I2200)-I2200)","v":""},"",0,10000,0,{"$f":"IF(B2200>0,WEEKNUM(TEXT(Definice!$F$3,\"0000\")&\".\"&TEXT(J2200,\"00\")&\".\"&RIGHT(TEXT(B2200,\"0000\"),2)),0)","v":0}]
[2199,null,null,null,null,{"$f":"IF(OR(MAX($I$2:I2201)-I2201=0,D2201=0),\"\",MAX($I$2:I2201)-I2201)","v":""},"",0,10000,0,{"$f":"IF(B2201>0,WEEKNUM(TEXT(Definice!$F$3,\"0000\")&\".\"&TEXT(J2201,\"00\")&\".\"&RIGHT(TEXT(B2201,\"0000\"),2)),0)","v":0}]
[2200,null,null,null,null,{"$f":"IF(OR(MAX($I$2:I2202)-I2202=0,D2202=0),\"\",MAX($I$2:I2202)-I2202)","v":""},"",0,10000,0,{"$f":"IF(B2202>0,WEEKNUM(TEXT(Definice!$F$3,\"0000\")&\".\"&TEXT(J2202,\"00\")&\".\"&RIGHT(TEXT(B2202,\"0000\"),2)),0)","v":0}]
[2201,null,null,null,null,{"$f":"IF(OR(MAX($I$2:I2203)-I2203=0,D2203=0),\"\",MAX($I$2:I2203)-I2203)","v":""},"",0,10000,0,{"$f":"IF(B2203>0,WEEKNUM(TEXT(Definice!$F$3,\"0000\")&\".\"&TEXT(J2203,\"00\")&\".\"&RIGHT(TEXT(B2203,\"0000\"),2)),0)","v":0}]
[2202,null,null,null,null,{"$f":"IF(OR(MAX($I$2:I2204)-I2204=0,D2204=0),\"\",MAX($I$2:I2204)-I2204)","v":""},"",0,10000,0,{"$f":"IF(B2204>0,WEEKNUM(TEXT(Definice!$F$3,\"0000\")&\".\"&TEXT(J2204,\"00\")&\".\"&RIGHT(TEXT(B2204,\"0000\"),2)),0)","v":0}]
[2203,null,null,null,null,{"$f":"IF(OR(MAX($I$2:I2205)-I2205=0,D2205=0),\"\",MAX($I$2:I2205)-I2205)","v":""},"",0,10000,0,{"$f":"IF(B2205>0,WEEKNUM(TEXT(Definice!$F$3,\"0000\")&\".\"&TEXT(J2205,\"00\")&\".\"&RIGHT(TEXT(B2205,\"0000\"),2)),0)","v":0}]
[2204,null,null,null,null,{"$f":"IF(OR(MAX($I$2:I2206)-I2206=0,D2206=0),\"\",MAX($I$2:I2206)-I2206)","v":""},"",0,10000,0,{"$f":"IF(B2206>0,WEEKNUM(TEXT(Definice!$F$3,\"0000\")&\".\"&TEXT(J2206,\"00\")&\".\"&RIGHT(TEXT(B2206,\"0000\"),2)),0)","v":0}]
[2205,null,null,null,null,{"$f":"IF(OR(MAX($I$2:I2207)-I2207=0,D2207=0),\"\",MAX($I$2:I2207)-I2207)","v":""},"",0,10000,0,{"$f":"IF(B2207>0,WEEKNUM(TEXT(Definice!$F$3,\"0000\")&\".\"&TEXT(J2207,\"00\")&\".\"&RIGHT(TEXT(B2207,\"0000\"),2)),0)","v":0}]
[2206,null,null,null,null,{"$f":"IF(OR(MAX($I$2:I2208)-I2208=0,D2208=0),\"\",MAX($I$2:I2208)-I2208)","v":""},"",0,10000,0,{"$f":"IF(B2208>0,WEEKNUM(TEXT(Definice!$F$3,\"0000\")&\".\"&TEXT(J2208,\"00\")&\".\"&RIGHT(TEXT(B2208,\"0000\"),2)),0)","v":0}]
[2207,null,null,null,null,{"$f":"IF(OR(MAX($I$2:I2209)-I2209=0,D2209=0),\"\",MAX($I$2:I2209)-I2209)","v":""},"",0,10000,0,{"$f":"IF(B2209>0,WEEKNUM(TEXT(Definice!$F$3,\"0000\")&\".\"&TEXT(J2209,\"00\")&\".\"&RIGHT(TEXT(B2209,\"0000\"),2)),0)","v":0}]
[2208,null,null,null,null,{"$f":"IF(OR(MAX($I$2:I2210)-I2210=0,D2210=0),\"\",MAX($I$2:I2210)-I2210)","v":""},"",0,10000,0,{"$f":"IF(B2210>0,WEEKNUM(TEXT(Definice!$F$3,\"0000\")&\".\"&TEXT(J2210,\"00\")&\".\"&RIGHT(TEXT(B2210,\"0000\"),2)),0)","v":0}]
[2209,null,null,null,null,{"$f":"IF(OR(MAX($I$2:I2211)-I2211=0,D2211=0),\"\",MAX($I$2:I2211)-I2211)","v":""},"",0,10000,0,{"$f":"IF(B2211>0,WEEKNUM(TEXT(Definice!$F$3,\"0000\")&\".\"&TEXT(J2211,\"00\")&\".\"&RIGHT(TEXT(B2211,\"0000\"),2)),0)","v":0}]
[2210,null,null,null,null,{"$f":"IF(OR(MAX($I$2:I2212)-I2212=0,D2212=0),\"\",MAX($I$2:I2212)-I2212)","v":""},"",0,10000,0,{"$f":"IF(B2212>0,WEEKNUM(TEXT(Definice!$F$3,\"0000\")&\".\"&TEXT(J2212,\"00\")&\".\"&RIGHT(TEXT(B2212,\"0000\"),2)),0)","v":0}]
[2211,null,null,null,null,{"$f":"IF(OR(MAX($I$2:I2213)-I2213=0,D2213=0),\"\",MAX($I$2:I2213)-I2213)","v":""},"",0,10000,0,{"$f":"IF(B2213>0,WEEKNUM(TEXT(Definice!$F$3,\"0000\")&\".\"&TEXT(J2213,\"00\")&\".\"&RIGHT(TEXT(B2213,\"0000\"),2)),0)","v":0}]
[2212,null,null,null,null,{"$f":"IF(OR(MAX($I$2:I2214)-I2214=0,D2214=0),\"\",MAX($I$2:I2214)-I2214)","v":""},"",0,10000,0,{"$f":"IF(B2214>0,WEEKNUM(TEXT(Definice!$F$3,\"0000\")&\".\"&TEXT(J2214,\"00\")&\".\"&RIGHT(TEXT(B2214,\"0000\"),2)),0)","v":0}]
[2213,null,null,null,null,{"$f":"IF(OR(MAX($I$2:I2215)-I2215=0,D2215=0),\"\",MAX($I$2:I2215)-I2215)","v":""},"",0,10000,0,{"$f":"IF(B2215>0,WEEKNUM(TEXT(Definice!$F$3,\"0000\")&\".\"&TEXT(J2215,\"00\")&\".\"&RIGHT(TEXT(B2215,\"0000\"),2)),0)","v":0}]
[2214,null,null,null,null,{"$f":"IF(OR(MAX($I$2:I2216)-I2216=0,D2216=0),\"\",MAX($I$2:I2216)-I2216)","v":""},"",0,10000,0,{"$f":"IF(B2216>0,WEEKNUM(TEXT(Definice!$F$3,\"0000\")&\".\"&TEXT(J2216,\"00\")&\".\"&RIGHT(TEXT(B2216,\"0000\"),2)),0)","v":0}]
[2215,null,null,null,null,{"$f":"IF(OR(MAX($I$2:I2217)-I2217=0,D2217=0),\"\",MAX($I$2:I2217)-I2217)","v":""},"",0,10000,0,{"$f":"IF(B2217>0,WEEKNUM(TEXT(Definice!$F$3,\"0000\")&\".\"&TEXT(J2217,\"00\")&\".\"&RIGHT(TEXT(B2217,\"0000\"),2)),0)","v":0}]
[2216,null,null,null,null,{"$f":"IF(OR(MAX($I$2:I2218)-I2218=0,D2218=0),\"\",MAX($I$2:I2218)-I2218)","v":""},"",0,10000,0,{"$f":"IF(B2218>0,WEEKNUM(TEXT(Definice!$F$3,\"0000\")&\".\"&TEXT(J2218,\"00\")&\".\"&RIGHT(TEXT(B2218,\"0000\"),2)),0)","v":0}]
[2217,null,null,null,null,{"$f":"IF(OR(MAX($I$2:I2219)-I2219=0,D2219=0),\"\",MAX($I$2:I2219)-I2219)","v":""},"",0,10000,0,{"$f":"IF(B2219>0,WEEKNUM(TEXT(Definice!$F$3,\"0000\")&\".\"&TEXT(J2219,\"00\")&\".\"&RIGHT(TEXT(B2219,\"0000\"),2)),0)","v":0}]
[2218,null,null,null,null,{"$f":"IF(OR(MAX($I$2:I2220)-I2220=0,D2220=0),\"\",MAX($I$2:I2220)-I2220)","v":""},"",0,10000,0,{"$f":"IF(B2220>0,WEEKNUM(TEXT(Definice!$F$3,\"0000\")&\".\"&TEXT(J2220,\"00\")&\".\"&RIGHT(TEXT(B2220,\"0000\"),2)),0)","v":0}]
[2219,null,null,null,null,{"$f":"IF(OR(MAX($I$2:I2221)-I2221=0,D2221=0),\"\",MAX($I$2:I2221)-I2221)","v":""},"",0,10000,0,{"$f":"IF(B2221>0,WEEKNUM(TEXT(Definice!$F$3,\"0000\")&\".\"&TEXT(J2221,\"00\")&\".\"&RIGHT(TEXT(B2221,\"0000\"),2)),0)","v":0}]
[2220,null,null,null,null,{"$f":"IF(OR(MAX($I$2:I2222)-I2222=0,D2222=0),\"\",MAX($I$2:I2222)-I2222)","v":""},"",0,10000,0,{"$f":"IF(B2222>0,WEEKNUM(TEXT(Definice!$F$3,\"0000\")&\".\"&TEXT(J2222,\"00\")&\".\"&RIGHT(TEXT(B2222,\"0000\"),2)),0)","v":0}]
[2221,null,null,null,null,{"$f":"IF(OR(MAX($I$2:I2223)-I2223=0,D2223=0),\"\",MAX($I$2:I2223)-I2223)","v":""},"",0,10000,0,{"$f":"IF(B2223>0,WEEKNUM(TEXT(Definice!$F$3,\"0000\")&\".\"&TEXT(J2223,\"00\")&\".\"&RIGHT(TEXT(B2223,\"0000\"),2)),0)","v":0}]
[2222,null,null,null,null,{"$f":"IF(OR(MAX($I$2:I2224)-I2224=0,D2224=0),\"\",MAX($I$2:I2224)-I2224)","v":""},"",0,10000,0,{"$f":"IF(B2224>0,WEEKNUM(TEXT(Definice!$F$3,\"0000\")&\".\"&TEXT(J2224,\"00\")&\".\"&RIGHT(TEXT(B2224,\"0000\"),2)),0)","v":0}]
[2223,null,null,null,null,{"$f":"IF(OR(MAX($I$2:I2225)-I2225=0,D2225=0),\"\",MAX($I$2:I2225)-I2225)","v":""},"",0,10000,0,{"$f":"IF(B2225>0,WEEKNUM(TEXT(Definice!$F$3,\"0000\")&\".\"&TEXT(J2225,\"00\")&\".\"&RIGHT(TEXT(B2225,\"0000\"),2)),0)","v":0}]
[2224,null,null,null,null,{"$f":"IF(OR(MAX($I$2:I2226)-I2226=0,D2226=0),\"\",MAX($I$2:I2226)-I2226)","v":""},"",0,10000,0,{"$f":"IF(B2226>0,WEEKNUM(TEXT(Definice!$F$3,\"0000\")&\".\"&TEXT(J2226,\"00\")&\".\"&RIGHT(TEXT(B2226,\"0000\"),2)),0)","v":0}]
[2225,null,null,null,null,{"$f":"IF(OR(MAX($I$2:I2227)-I2227=0,D2227=0),\"\",MAX($I$2:I2227)-I2227)","v":""},"",0,10000,0,{"$f":"IF(B2227>0,WEEKNUM(TEXT(Definice!$F$3,\"0000\")&\".\"&TEXT(J2227,\"00\")&\".\"&RIGHT(TEXT(B2227,\"0000\"),2)),0)","v":0}]
[2226,null,null,null,null,{"$f":"IF(OR(MAX($I$2:I2228)-I2228=0,D2228=0),\"\",MAX($I$2:I2228)-I2228)","v":""},"",0,10000,0,{"$f":"IF(B2228>0,WEEKNUM(TEXT(Definice!$F$3,\"0000\")&\".\"&TEXT(J2228,\"00\")&\".\"&RIGHT(TEXT(B2228,\"0000\"),2)),0)","v":0}]
[2227,null,null,null,null,{"$f":"IF(OR(MAX($I$2:I2229)-I2229=0,D2229=0),\"\",MAX($I$2:I2229)-I2229)","v":""},"",0,10000,0,{"$f":"IF(B2229>0,WEEKNUM(TEXT(Definice!$F$3,\"0000\")&\".\"&TEXT(J2229,\"00\")&\".\"&RIGHT(TEXT(B2229,\"0000\"),2)),0)","v":0}]
[2228,null,null,null,null,{"$f":"IF(OR(MAX($I$2:I2230)-I2230=0,D2230=0),\"\",MAX($I$2:I2230)-I2230)","v":""},"",0,10000,0,{"$f":"IF(B2230>0,WEEKNUM(TEXT(Definice!$F$3,\"0000\")&\".\"&TEXT(J2230,\"00\")&\".\"&RIGHT(TEXT(B2230,\"0000\"),2)),0)","v":0}]
[2229,null,null,null,null,{"$f":"IF(OR(MAX($I$2:I2231)-I2231=0,D2231=0),\"\",MAX($I$2:I2231)-I2231)","v":""},"",0,10000,0,{"$f":"IF(B2231>0,WEEKNUM(TEXT(Definice!$F$3,\"0000\")&\".\"&TEXT(J2231,\"00\")&\".\"&RIGHT(TEXT(B2231,\"0000\"),2)),0)","v":0}]
[2230,null,null,null,null,{"$f":"IF(OR(MAX($I$2:I2232)-I2232=0,D2232=0),\"\",MAX($I$2:I2232)-I2232)","v":""},"",0,10000,0,{"$f":"IF(B2232>0,WEEKNUM(TEXT(Definice!$F$3,\"0000\")&\".\"&TEXT(J2232,\"00\")&\".\"&RIGHT(TEXT(B2232,\"0000\"),2)),0)","v":0}]
[2231,null,null,null,null,{"$f":"IF(OR(MAX($I$2:I2233)-I2233=0,D2233=0),\"\",MAX($I$2:I2233)-I2233)","v":""},"",0,10000,0,{"$f":"IF(B2233>0,WEEKNUM(TEXT(Definice!$F$3,\"0000\")&\".\"&TEXT(J2233,\"00\")&\".\"&RIGHT(TEXT(B2233,\"0000\"),2)),0)","v":0}]
[2232,null,null,null,null,{"$f":"IF(OR(MAX($I$2:I2234)-I2234=0,D2234=0),\"\",MAX($I$2:I2234)-I2234)","v":""},"",0,10000,0,{"$f":"IF(B2234>0,WEEKNUM(TEXT(Definice!$F$3,\"0000\")&\".\"&TEXT(J2234,\"00\")&\".\"&RIGHT(TEXT(B2234,\"0000\"),2)),0)","v":0}]
[2233,null,null,null,null,{"$f":"IF(OR(MAX($I$2:I2235)-I2235=0,D2235=0),\"\",MAX($I$2:I2235)-I2235)","v":""},"",0,10000,0,{"$f":"IF(B2235>0,WEEKNUM(TEXT(Definice!$F$3,\"0000\")&\".\"&TEXT(J2235,\"00\")&\".\"&RIGHT(TEXT(B2235,\"0000\"),2)),0)","v":0}]
[2234,null,null,null,null,{"$f":"IF(OR(MAX($I$2:I2236)-I2236=0,D2236=0),\"\",MAX($I$2:I2236)-I2236)","v":""},"",0,10000,0,{"$f":"IF(B2236>0,WEEKNUM(TEXT(Definice!$F$3,\"0000\")&\".\"&TEXT(J2236,\"00\")&\".\"&RIGHT(TEXT(B2236,\"0000\"),2)),0)","v":0}]
[2235,null,null,null,null,{"$f":"IF(OR(MAX($I$2:I2237)-I2237=0,D2237=0),\"\",MAX($I$2:I2237)-I2237)","v":""},"",0,10000,0,{"$f":"IF(B2237>0,WEEKNUM(TEXT(Definice!$F$3,\"0000\")&\".\"&TEXT(J2237,\"00\")&\".\"&RIGHT(TEXT(B2237,\"0000\"),2)),0)","v":0}]
[2236,null,null,null,null,{"$f":"IF(OR(MAX($I$2:I2238)-I2238=0,D2238=0),\"\",MAX($I$2:I2238)-I2238)","v":""},"",0,10000,0,{"$f":"IF(B2238>0,WEEKNUM(TEXT(Definice!$F$3,\"0000\")&\".\"&TEXT(J2238,\"00\")&\".\"&RIGHT(TEXT(B2238,\"0000\"),2)),0)","v":0}]
[2237,null,null,null,null,{"$f":"IF(OR(MAX($I$2:I2239)-I2239=0,D2239=0),\"\",MAX($I$2:I2239)-I2239)","v":""},"",0,10000,0,{"$f":"IF(B2239>0,WEEKNUM(TEXT(Definice!$F$3,\"0000\")&\".\"&TEXT(J2239,\"00\")&\".\"&RIGHT(TEXT(B2239,\"0000\"),2)),0)","v":0}]
[2238,null,null,null,null,{"$f":"IF(OR(MAX($I$2:I2240)-I2240=0,D2240=0),\"\",MAX($I$2:I2240)-I2240)","v":""},"",0,10000,0,{"$f":"IF(B2240>0,WEEKNUM(TEXT(Definice!$F$3,\"0000\")&\".\"&TEXT(J2240,\"00\")&\".\"&RIGHT(TEXT(B2240,\"0000\"),2)),0)","v":0}]
[2239,null,null,null,null,{"$f":"IF(OR(MAX($I$2:I2241)-I2241=0,D2241=0),\"\",MAX($I$2:I2241)-I2241)","v":""},"",0,10000,0,{"$f":"IF(B2241>0,WEEKNUM(TEXT(Definice!$F$3,\"0000\")&\".\"&TEXT(J2241,\"00\")&\".\"&RIGHT(TEXT(B2241,\"0000\"),2)),0)","v":0}]
[2240,null,null,null,null,{"$f":"IF(OR(MAX($I$2:I2242)-I2242=0,D2242=0),\"\",MAX($I$2:I2242)-I2242)","v":""},"",0,10000,0,{"$f":"IF(B2242>0,WEEKNUM(TEXT(Definice!$F$3,\"0000\")&\".\"&TEXT(J2242,\"00\")&\".\"&RIGHT(TEXT(B2242,\"0000\"),2)),0)","v":0}]
[2241,null,null,null,null,{"$f":"IF(OR(MAX($I$2:I2243)-I2243=0,D2243=0),\"\",MAX($I$2:I2243)-I2243)","v":""},"",0,10000,0,{"$f":"IF(B2243>0,WEEKNUM(TEXT(Definice!$F$3,\"0000\")&\".\"&TEXT(J2243,\"00\")&\".\"&RIGHT(TEXT(B2243,\"0000\"),2)),0)","v":0}]
[2242,null,null,null,null,{"$f":"IF(OR(MAX($I$2:I2244)-I2244=0,D2244=0),\"\",MAX($I$2:I2244)-I2244)","v":""},"",0,10000,0,{"$f":"IF(B2244>0,WEEKNUM(TEXT(Definice!$F$3,\"0000\")&\".\"&TEXT(J2244,\"00\")&\".\"&RIGHT(TEXT(B2244,\"0000\"),2)),0)","v":0}]
[2243,null,null,null,null,{"$f":"IF(OR(MAX($I$2:I2245)-I2245=0,D2245=0),\"\",MAX($I$2:I2245)-I2245)","v":""},"",0,10000,0,{"$f":"IF(B2245>0,WEEKNUM(TEXT(Definice!$F$3,\"0000\")&\".\"&TEXT(J2245,\"00\")&\".\"&RIGHT(TEXT(B2245,\"0000\"),2)),0)","v":0}]
[2244,null,null,null,null,{"$f":"IF(OR(MAX($I$2:I2246)-I2246=0,D2246=0),\"\",MAX($I$2:I2246)-I2246)","v":""},"",0,10000,0,{"$f":"IF(B2246>0,WEEKNUM(TEXT(Definice!$F$3,\"0000\")&\".\"&TEXT(J2246,\"00\")&\".\"&RIGHT(TEXT(B2246,\"0000\"),2)),0)","v":0}]
[2245,null,null,null,null,{"$f":"IF(OR(MAX($I$2:I2247)-I2247=0,D2247=0),\"\",MAX($I$2:I2247)-I2247)","v":""},"",0,10000,0,{"$f":"IF(B2247>0,WEEKNUM(TEXT(Definice!$F$3,\"0000\")&\".\"&TEXT(J2247,\"00\")&\".\"&RIGHT(TEXT(B2247,\"0000\"),2)),0)","v":0}]
[2246,null,null,null,null,{"$f":"IF(OR(MAX($I$2:I2248)-I2248=0,D2248=0),\"\",MAX($I$2:I2248)-I2248)","v":""},"",0,10000,0,{"$f":"IF(B2248>0,WEEKNUM(TEXT(Definice!$F$3,\"0000\")&\".\"&TEXT(J2248,\"00\")&\".\"&RIGHT(TEXT(B2248,\"0000\"),2)),0)","v":0}]
[2247,null,null,null,null,{"$f":"IF(OR(MAX($I$2:I2249)-I2249=0,D2249=0),\"\",MAX($I$2:I2249)-I2249)","v":""},"",0,10000,0,{"$f":"IF(B2249>0,WEEKNUM(TEXT(Definice!$F$3,\"0000\")&\".\"&TEXT(J2249,\"00\")&\".\"&RIGHT(TEXT(B2249,\"0000\"),2)),0)","v":0}]
[2248,null,null,null,null,{"$f":"IF(OR(MAX($I$2:I2250)-I2250=0,D2250=0),\"\",MAX($I$2:I2250)-I2250)","v":""},"",0,10000,0,{"$f":"IF(B2250>0,WEEKNUM(TEXT(Definice!$F$3,\"0000\")&\".\"&TEXT(J2250,\"00\")&\".\"&RIGHT(TEXT(B2250,\"0000\"),2)),0)","v":0}]
[2249,null,null,null,null,{"$f":"IF(OR(MAX($I$2:I2251)-I2251=0,D2251=0),\"\",MAX($I$2:I2251)-I2251)","v":""},"",0,10000,0,{"$f":"IF(B2251>0,WEEKNUM(TEXT(Definice!$F$3,\"0000\")&\".\"&TEXT(J2251,\"00\")&\".\"&RIGHT(TEXT(B2251,\"0000\"),2)),0)","v":0}]
[2250,null,null,null,null,{"$f":"IF(OR(MAX($I$2:I2252)-I2252=0,D2252=0),\"\",MAX($I$2:I2252)-I2252)","v":""},{"$f":"IF(F2252=\"\",\"\",F2252/(H2252+I2251))","v":""},{"$f":"H2251+E2252","v":0},{"$f":"I2251+E2252","v":10000},{"$f":"((INT(B2252/100)/100)-INT(INT(B2252/100)/100))*100","v":0},{"$f":"IF(B2252>0,WEEKNUM(TEXT(Definice!$F$3,\"0000\")&\".\"&TEXT(J2252,\"00\")&\".\"&RIGHT(TEXT(B2252,\"0000\"),2)),0)","v":0}]
[2251,null,null,null,null,{"$f":"IF(OR(MAX($I$2:I2253)-I2253=0,D2253=0),\"\",MAX($I$2:I2253)-I2253)","v":""},"",0,10000,0,{"$f":"IF(B2253>0,WEEKNUM(TEXT(Definice!$F$3,\"0000\")&\".\"&TEXT(J2253,\"00\")&\".\"&RIGHT(TEXT(B2253,\"0000\"),2)),0)","v":0}]
[2252,null,null,null,null,{"$f":"IF(OR(MAX($I$2:I2254)-I2254=0,D2254=0),\"\",MAX($I$2:I2254)-I2254)","v":""},"",0,10000,0,{"$f":"IF(B2254>0,WEEKNUM(TEXT(Definice!$F$3,\"0000\")&\".\"&TEXT(J2254,\"00\")&\".\"&RIGHT(TEXT(B2254,\"0000\"),2)),0)","v":0}]
[2253,null,null,null,null,{"$f":"IF(OR(MAX($I$2:I2255)-I2255=0,D2255=0),\"\",MAX($I$2:I2255)-I2255)","v":""},"",0,10000,0,{"$f":"IF(B2255>0,WEEKNUM(TEXT(Definice!$F$3,\"0000\")&\".\"&TEXT(J2255,\"00\")&\".\"&RIGHT(TEXT(B2255,\"0000\"),2)),0)","v":0}]
[2254,null,null,null,null,{"$f":"IF(OR(MAX($I$2:I2256)-I2256=0,D2256=0),\"\",MAX($I$2:I2256)-I2256)","v":""},"",0,10000,0,{"$f":"IF(B2256>0,WEEKNUM(TEXT(Definice!$F$3,\"0000\")&\".\"&TEXT(J2256,\"00\")&\".\"&RIGHT(TEXT(B2256,\"0000\"),2)),0)","v":0}]
[2255,null,null,null,null,{"$f":"IF(OR(MAX($I$2:I2257)-I2257=0,D2257=0),\"\",MAX($I$2:I2257)-I2257)","v":""},"",0,10000,0,{"$f":"IF(B2257>0,WEEKNUM(TEXT(Definice!$F$3,\"0000\")&\".\"&TEXT(J2257,\"00\")&\".\"&RIGHT(TEXT(B2257,\"0000\"),2)),0)","v":0}]
[2256,null,null,null,null,{"$f":"IF(OR(MAX($I$2:I2258)-I2258=0,D2258=0),\"\",MAX($I$2:I2258)-I2258)","v":""},"",0,10000,0,{"$f":"IF(B2258>0,WEEKNUM(TEXT(Definice!$F$3,\"0000\")&\".\"&TEXT(J2258,\"00\")&\".\"&RIGHT(TEXT(B2258,\"0000\"),2)),0)","v":0}]
[2257,null,null,null,null,{"$f":"IF(OR(MAX($I$2:I2259)-I2259=0,D2259=0),\"\",MAX($I$2:I2259)-I2259)","v":""},"",0,10000,0,{"$f":"IF(B2259>0,WEEKNUM(TEXT(Definice!$F$3,\"0000\")&\".\"&TEXT(J2259,\"00\")&\".\"&RIGHT(TEXT(B2259,\"0000\"),2)),0)","v":0}]
[2258,null,null,null,null,{"$f":"IF(OR(MAX($I$2:I2260)-I2260=0,D2260=0),\"\",MAX($I$2:I2260)-I2260)","v":""},"",0,10000,0,{"$f":"IF(B2260>0,WEEKNUM(TEXT(Definice!$F$3,\"0000\")&\".\"&TEXT(J2260,\"00\")&\".\"&RIGHT(TEXT(B2260,\"0000\"),2)),0)","v":0}]
[2259,null,null,null,null,{"$f":"IF(OR(MAX($I$2:I2261)-I2261=0,D2261=0),\"\",MAX($I$2:I2261)-I2261)","v":""},"",0,10000,0,{"$f":"IF(B2261>0,WEEKNUM(TEXT(Definice!$F$3,\"0000\")&\".\"&TEXT(J2261,\"00\")&\".\"&RIGHT(TEXT(B2261,\"0000\"),2)),0)","v":0}]
[2260,null,null,null,null,{"$f":"IF(OR(MAX($I$2:I2262)-I2262=0,D2262=0),\"\",MAX($I$2:I2262)-I2262)","v":""},"",0,10000,0,{"$f":"IF(B2262>0,WEEKNUM(TEXT(Definice!$F$3,\"0000\")&\".\"&TEXT(J2262,\"00\")&\".\"&RIGHT(TEXT(B2262,\"0000\"),2)),0)","v":0}]
[2261,null,null,null,null,{"$f":"IF(OR(MAX($I$2:I2263)-I2263=0,D2263=0),\"\",MAX($I$2:I2263)-I2263)","v":""},"",0,10000,0,{"$f":"IF(B2263>0,WEEKNUM(TEXT(Definice!$F$3,\"0000\")&\".\"&TEXT(J2263,\"00\")&\".\"&RIGHT(TEXT(B2263,\"0000\"),2)),0)","v":0}]
[2262,null,null,null,null,{"$f":"IF(OR(MAX($I$2:I2264)-I2264=0,D2264=0),\"\",MAX($I$2:I2264)-I2264)","v":""},"",0,10000,0,{"$f":"IF(B2264>0,WEEKNUM(TEXT(Definice!$F$3,\"0000\")&\".\"&TEXT(J2264,\"00\")&\".\"&RIGHT(TEXT(B2264,\"0000\"),2)),0)","v":0}]
[2263,null,null,null,null,{"$f":"IF(OR(MAX($I$2:I2265)-I2265=0,D2265=0),\"\",MAX($I$2:I2265)-I2265)","v":""},"",0,10000,0,{"$f":"IF(B2265>0,WEEKNUM(TEXT(Definice!$F$3,\"0000\")&\".\"&TEXT(J2265,\"00\")&\".\"&RIGHT(TEXT(B2265,\"0000\"),2)),0)","v":0}]
[2264,null,null,null,null,{"$f":"IF(OR(MAX($I$2:I2266)-I2266=0,D2266=0),\"\",MAX($I$2:I2266)-I2266)","v":""},"",0,10000,0,{"$f":"IF(B2266>0,WEEKNUM(TEXT(Definice!$F$3,\"0000\")&\".\"&TEXT(J2266,\"00\")&\".\"&RIGHT(TEXT(B2266,\"0000\"),2)),0)","v":0}]
[2265,null,null,null,null,{"$f":"IF(OR(MAX($I$2:I2267)-I2267=0,D2267=0),\"\",MAX($I$2:I2267)-I2267)","v":""},"",0,10000,0,{"$f":"IF(B2267>0,WEEKNUM(TEXT(Definice!$F$3,\"0000\")&\".\"&TEXT(J2267,\"00\")&\".\"&RIGHT(TEXT(B2267,\"0000\"),2)),0)","v":0}]
[2266,null,null,null,null,{"$f":"IF(OR(MAX($I$2:I2268)-I2268=0,D2268=0),\"\",MAX($I$2:I2268)-I2268)","v":""},"",0,10000,0,{"$f":"IF(B2268>0,WEEKNUM(TEXT(Definice!$F$3,\"0000\")&\".\"&TEXT(J2268,\"00\")&\".\"&RIGHT(TEXT(B2268,\"0000\"),2)),0)","v":0}]
[2267,null,null,null,null,{"$f":"IF(OR(MAX($I$2:I2269)-I2269=0,D2269=0),\"\",MAX($I$2:I2269)-I2269)","v":""},"",0,10000,0,{"$f":"IF(B2269>0,WEEKNUM(TEXT(Definice!$F$3,\"0000\")&\".\"&TEXT(J2269,\"00\")&\".\"&RIGHT(TEXT(B2269,\"0000\"),2)),0)","v":0}]
[2268,null,null,null,null,{"$f":"IF(OR(MAX($I$2:I2270)-I2270=0,D2270=0),\"\",MAX($I$2:I2270)-I2270)","v":""},"",0,10000,0,{"$f":"IF(B2270>0,WEEKNUM(TEXT(Definice!$F$3,\"0000\")&\".\"&TEXT(J2270,\"00\")&\".\"&RIGHT(TEXT(B2270,\"0000\"),2)),0)","v":0}]
[2269,null,null,null,null,{"$f":"IF(OR(MAX($I$2:I2271)-I2271=0,D2271=0),\"\",MAX($I$2:I2271)-I2271)","v":""},"",0,10000,0,{"$f":"IF(B2271>0,WEEKNUM(TEXT(Definice!$F$3,\"0000\")&\".\"&TEXT(J2271,\"00\")&\".\"&RIGHT(TEXT(B2271,\"0000\"),2)),0)","v":0}]
[2270,null,null,null,null,{"$f":"IF(OR(MAX($I$2:I2272)-I2272=0,D2272=0),\"\",MAX($I$2:I2272)-I2272)","v":""},"",0,10000,0,{"$f":"IF(B2272>0,WEEKNUM(TEXT(Definice!$F$3,\"0000\")&\".\"&TEXT(J2272,\"00\")&\".\"&RIGHT(TEXT(B2272,\"0000\"),2)),0)","v":0}]
[2271,null,null,null,null,{"$f":"IF(OR(MAX($I$2:I2273)-I2273=0,D2273=0),\"\",MAX($I$2:I2273)-I2273)","v":""},"",0,10000,0,{"$f":"IF(B2273>0,WEEKNUM(TEXT(Definice!$F$3,\"0000\")&\".\"&TEXT(J2273,\"00\")&\".\"&RIGHT(TEXT(B2273,\"0000\"),2)),0)","v":0}]
[2272,null,null,null,null,{"$f":"IF(OR(MAX($I$2:I2274)-I2274=0,D2274=0),\"\",MAX($I$2:I2274)-I2274)","v":""},"",0,10000,0,{"$f":"IF(B2274>0,WEEKNUM(TEXT(Definice!$F$3,\"0000\")&\".\"&TEXT(J2274,\"00\")&\".\"&RIGHT(TEXT(B2274,\"0000\"),2)),0)","v":0}]
[2273,null,null,null,null,{"$f":"IF(OR(MAX($I$2:I2275)-I2275=0,D2275=0),\"\",MAX($I$2:I2275)-I2275)","v":""},"",0,10000,0,{"$f":"IF(B2275>0,WEEKNUM(TEXT(Definice!$F$3,\"0000\")&\".\"&TEXT(J2275,\"00\")&\".\"&RIGHT(TEXT(B2275,\"0000\"),2)),0)","v":0}]
[2274,null,null,null,null,{"$f":"IF(OR(MAX($I$2:I2276)-I2276=0,D2276=0),\"\",MAX($I$2:I2276)-I2276)","v":""},"",0,10000,0,{"$f":"IF(B2276>0,WEEKNUM(TEXT(Definice!$F$3,\"0000\")&\".\"&TEXT(J2276,\"00\")&\".\"&RIGHT(TEXT(B2276,\"0000\"),2)),0)","v":0}]
[2275,null,null,null,null,{"$f":"IF(OR(MAX($I$2:I2277)-I2277=0,D2277=0),\"\",MAX($I$2:I2277)-I2277)","v":""},"",0,10000,0,{"$f":"IF(B2277>0,WEEKNUM(TEXT(Definice!$F$3,\"0000\")&\".\"&TEXT(J2277,\"00\")&\".\"&RIGHT(TEXT(B2277,\"0000\"),2)),0)","v":0}]
[2276,null,null,null,null,{"$f":"IF(OR(MAX($I$2:I2278)-I2278=0,D2278=0),\"\",MAX($I$2:I2278)-I2278)","v":""},"",0,10000,0,{"$f":"IF(B2278>0,WEEKNUM(TEXT(Definice!$F$3,\"0000\")&\".\"&TEXT(J2278,\"00\")&\".\"&RIGHT(TEXT(B2278,\"0000\"),2)),0)","v":0}]
[2277,null,null,null,null,{"$f":"IF(OR(MAX($I$2:I2279)-I2279=0,D2279=0),\"\",MAX($I$2:I2279)-I2279)","v":""},"",0,10000,0,{"$f":"IF(B2279>0,WEEKNUM(TEXT(Definice!$F$3,\"0000\")&\".\"&TEXT(J2279,\"00\")&\".\"&RIGHT(TEXT(B2279,\"0000\"),2)),0)","v":0}]
[2278,null,null,null,null,{"$f":"IF(OR(MAX($I$2:I2280)-I2280=0,D2280=0),\"\",MAX($I$2:I2280)-I2280)","v":""},"",0,10000,0,{"$f":"IF(B2280>0,WEEKNUM(TEXT(Definice!$F$3,\"0000\")&\".\"&TEXT(J2280,\"00\")&\".\"&RIGHT(TEXT(B2280,\"0000\"),2)),0)","v":0}]
[2279,null,null,null,null,{"$f":"IF(OR(MAX($I$2:I2281)-I2281=0,D2281=0),\"\",MAX($I$2:I2281)-I2281)","v":""},"",0,10000,0,{"$f":"IF(B2281>0,WEEKNUM(TEXT(Definice!$F$3,\"0000\")&\".\"&TEXT(J2281,\"00\")&\".\"&RIGHT(TEXT(B2281,\"0000\"),2)),0)","v":0}]
[2280,null,null,null,null,{"$f":"IF(OR(MAX($I$2:I2282)-I2282=0,D2282=0),\"\",MAX($I$2:I2282)-I2282)","v":""},"",0,10000,0,{"$f":"IF(B2282>0,WEEKNUM(TEXT(Definice!$F$3,\"0000\")&\".\"&TEXT(J2282,\"00\")&\".\"&RIGHT(TEXT(B2282,\"0000\"),2)),0)","v":0}]
[2281,null,null,null,null,{"$f":"IF(OR(MAX($I$2:I2283)-I2283=0,D2283=0),\"\",MAX($I$2:I2283)-I2283)","v":""},"",0,10000,0,{"$f":"IF(B2283>0,WEEKNUM(TEXT(Definice!$F$3,\"0000\")&\".\"&TEXT(J2283,\"00\")&\".\"&RIGHT(TEXT(B2283,\"0000\"),2)),0)","v":0}]
[2282,null,null,null,null,{"$f":"IF(OR(MAX($I$2:I2284)-I2284=0,D2284=0),\"\",MAX($I$2:I2284)-I2284)","v":""},"",0,10000,0,{"$f":"IF(B2284>0,WEEKNUM(TEXT(Definice!$F$3,\"0000\")&\".\"&TEXT(J2284,\"00\")&\".\"&RIGHT(TEXT(B2284,\"0000\"),2)),0)","v":0}]
[2283,null,null,null,null,{"$f":"IF(OR(MAX($I$2:I2285)-I2285=0,D2285=0),\"\",MAX($I$2:I2285)-I2285)","v":""},"",0,10000,0,{"$f":"IF(B2285>0,WEEKNUM(TEXT(Definice!$F$3,\"0000\")&\".\"&TEXT(J2285,\"00\")&\".\"&RIGHT(TEXT(B2285,\"0000\"),2)),0)","v":0}]
[2284,null,null,null,null,{"$f":"IF(OR(MAX($I$2:I2286)-I2286=0,D2286=0),\"\",MAX($I$2:I2286)-I2286)","v":""},"",0,10000,0,{"$f":"IF(B2286>0,WEEKNUM(TEXT(Definice!$F$3,\"0000\")&\".\"&TEXT(J2286,\"00\")&\".\"&RIGHT(TEXT(B2286,\"0000\"),2)),0)","v":0}]
[2285,null,null,null,null,{"$f":"IF(OR(MAX($I$2:I2287)-I2287=0,D2287=0),\"\",MAX($I$2:I2287)-I2287)","v":""},"",0,10000,0,{"$f":"IF(B2287>0,WEEKNUM(TEXT(Definice!$F$3,\"0000\")&\".\"&TEXT(J2287,\"00\")&\".\"&RIGHT(TEXT(B2287,\"0000\"),2)),0)","v":0}]
[2286,null,null,null,null,{"$f":"IF(OR(MAX($I$2:I2288)-I2288=0,D2288=0),\"\",MAX($I$2:I2288)-I2288)","v":""},"",0,10000,0,{"$f":"IF(B2288>0,WEEKNUM(TEXT(Definice!$F$3,\"0000\")&\".\"&TEXT(J2288,\"00\")&\".\"&RIGHT(TEXT(B2288,\"0000\"),2)),0)","v":0}]
[2287,null,null,null,null,{"$f":"IF(OR(MAX($I$2:I2289)-I2289=0,D2289=0),\"\",MAX($I$2:I2289)-I2289)","v":""},"",0,10000,0,{"$f":"IF(B2289>0,WEEKNUM(TEXT(Definice!$F$3,\"0000\")&\".\"&TEXT(J2289,\"00\")&\".\"&RIGHT(TEXT(B2289,\"0000\"),2)),0)","v":0}]
[2288,null,null,null,null,{"$f":"IF(OR(MAX($I$2:I2290)-I2290=0,D2290=0),\"\",MAX($I$2:I2290)-I2290)","v":""},"",0,10000,0,{"$f":"IF(B2290>0,WEEKNUM(TEXT(Definice!$F$3,\"0000\")&\".\"&TEXT(J2290,\"00\")&\".\"&RIGHT(TEXT(B2290,\"0000\"),2)),0)","v":0}]
[2289,null,null,null,null,{"$f":"IF(OR(MAX($I$2:I2291)-I2291=0,D2291=0),\"\",MAX($I$2:I2291)-I2291)","v":""},"",0,10000,0,{"$f":"IF(B2291>0,WEEKNUM(TEXT(Definice!$F$3,\"0000\")&\".\"&TEXT(J2291,\"00\")&\".\"&RIGHT(TEXT(B2291,\"0000\"),2)),0)","v":0}]
[2290,null,null,null,null,{"$f":"IF(OR(MAX($I$2:I2292)-I2292=0,D2292=0),\"\",MAX($I$2:I2292)-I2292)","v":""},"",0,10000,0,{"$f":"IF(B2292>0,WEEKNUM(TEXT(Definice!$F$3,\"0000\")&\".\"&TEXT(J2292,\"00\")&\".\"&RIGHT(TEXT(B2292,\"0000\"),2)),0)","v":0}]
[2291,null,null,null,null,{"$f":"IF(OR(MAX($I$2:I2293)-I2293=0,D2293=0),\"\",MAX($I$2:I2293)-I2293)","v":""},"",0,10000,0,{"$f":"IF(B2293>0,WEEKNUM(TEXT(Definice!$F$3,\"0000\")&\".\"&TEXT(J2293,\"00\")&\".\"&RIGHT(TEXT(B2293,\"0000\"),2)),0)","v":0}]
[2292,null,null,null,null,{"$f":"IF(OR(MAX($I$2:I2294)-I2294=0,D2294=0),\"\",MAX($I$2:I2294)-I2294)","v":""},"",0,10000,0,{"$f":"IF(B2294>0,WEEKNUM(TEXT(Definice!$F$3,\"0000\")&\".\"&TEXT(J2294,\"00\")&\".\"&RIGHT(TEXT(B2294,\"0000\"),2)),0)","v":0}]
[2293,null,null,null,null,{"$f":"IF(OR(MAX($I$2:I2295)-I2295=0,D2295=0),\"\",MAX($I$2:I2295)-I2295)","v":""},"",0,10000,0,{"$f":"IF(B2295>0,WEEKNUM(TEXT(Definice!$F$3,\"0000\")&\".\"&TEXT(J2295,\"00\")&\".\"&RIGHT(TEXT(B2295,\"0000\"),2)),0)","v":0}]
[2294,null,null,null,null,{"$f":"IF(OR(MAX($I$2:I2296)-I2296=0,D2296=0),\"\",MAX($I$2:I2296)-I2296)","v":""},"",0,10000,0,{"$f":"IF(B2296>0,WEEKNUM(TEXT(Definice!$F$3,\"0000\")&\".\"&TEXT(J2296,\"00\")&\".\"&RIGHT(TEXT(B2296,\"0000\"),2)),0)","v":0}]
[2295,null,null,null,null,{"$f":"IF(OR(MAX($I$2:I2297)-I2297=0,D2297=0),\"\",MAX($I$2:I2297)-I2297)","v":""},"",0,10000,0,{"$f":"IF(B2297>0,WEEKNUM(TEXT(Definice!$F$3,\"0000\")&\".\"&TEXT(J2297,\"00\")&\".\"&RIGHT(TEXT(B2297,\"0000\"),2)),0)","v":0}]
[2296,null,null,null,null,{"$f":"IF(OR(MAX($I$2:I2298)-I2298=0,D2298=0),\"\",MAX($I$2:I2298)-I2298)","v":""},"",0,10000,0,{"$f":"IF(B2298>0,WEEKNUM(TEXT(Definice!$F$3,\"0000\")&\".\"&TEXT(J2298,\"00\")&\".\"&RIGHT(TEXT(B2298,\"0000\"),2)),0)","v":0}]
[2297,null,null,null,null,{"$f":"IF(OR(MAX($I$2:I2299)-I2299=0,D2299=0),\"\",MAX($I$2:I2299)-I2299)","v":""},"",0,10000,0,{"$f":"IF(B2299>0,WEEKNUM(TEXT(Definice!$F$3,\"0000\")&\".\"&TEXT(J2299,\"00\")&\".\"&RIGHT(TEXT(B2299,\"0000\"),2)),0)","v":0}]
[2298,null,null,null,null,{"$f":"IF(OR(MAX($I$2:I2300)-I2300=0,D2300=0),\"\",MAX($I$2:I2300)-I2300)","v":""},"",0,10000,0,{"$f":"IF(B2300>0,WEEKNUM(TEXT(Definice!$F$3,\"0000\")&\".\"&TEXT(J2300,\"00\")&\".\"&RIGHT(TEXT(B2300,\"0000\"),2)),0)","v":0}]
[2299,null,null,null,null,{"$f":"IF(OR(MAX($I$2:I2301)-I2301=0,D2301=0),\"\",MAX($I$2:I2301)-I2301)","v":""},"",0,10000,0,{"$f":"IF(B2301>0,WEEKNUM(TEXT(Definice!$F$3,\"0000\")&\".\"&TEXT(J2301,\"00\")&\".\"&RIGHT(TEXT(B2301,\"0000\"),2)),0)","v":0}]
[2300,null,null,null,null,{"$f":"IF(OR(MAX($I$2:I2302)-I2302=0,D2302=0),\"\",MAX($I$2:I2302)-I2302)","v":""},"",0,10000,0,{"$f":"IF(B2302>0,WEEKNUM(TEXT(Definice!$F$3,\"0000\")&\".\"&TEXT(J2302,\"00\")&\".\"&RIGHT(TEXT(B2302,\"0000\"),2)),0)","v":0}]
[2301,null,null,null,null,{"$f":"IF(OR(MAX($I$2:I2303)-I2303=0,D2303=0),\"\",MAX($I$2:I2303)-I2303)","v":""},"",0,10000,0,{"$f":"IF(B2303>0,WEEKNUM(TEXT(Definice!$F$3,\"0000\")&\".\"&TEXT(J2303,\"00\")&\".\"&RIGHT(TEXT(B2303,\"0000\"),2)),0)","v":0}]
[2302,null,null,null,null,{"$f":"IF(OR(MAX($I$2:I2304)-I2304=0,D2304=0),\"\",MAX($I$2:I2304)-I2304)","v":""},"",0,10000,0,{"$f":"IF(B2304>0,WEEKNUM(TEXT(Definice!$F$3,\"0000\")&\".\"&TEXT(J2304,\"00\")&\".\"&RIGHT(TEXT(B2304,\"0000\"),2)),0)","v":0}]
[2303,null,null,null,null,{"$f":"IF(OR(MAX($I$2:I2305)-I2305=0,D2305=0),\"\",MAX($I$2:I2305)-I2305)","v":""},"",0,10000,0,{"$f":"IF(B2305>0,WEEKNUM(TEXT(Definice!$F$3,\"0000\")&\".\"&TEXT(J2305,\"00\")&\".\"&RIGHT(TEXT(B2305,\"0000\"),2)),0)","v":0}]
[2304,null,null,null,null,{"$f":"IF(OR(MAX($I$2:I2306)-I2306=0,D2306=0),\"\",MAX($I$2:I2306)-I2306)","v":""},"",0,10000,0,{"$f":"IF(B2306>0,WEEKNUM(TEXT(Definice!$F$3,\"0000\")&\".\"&TEXT(J2306,\"00\")&\".\"&RIGHT(TEXT(B2306,\"0000\"),2)),0)","v":0}]
[2305,null,null,null,null,{"$f":"IF(OR(MAX($I$2:I2307)-I2307=0,D2307=0),\"\",MAX($I$2:I2307)-I2307)","v":""},"",0,10000,0,{"$f":"IF(B2307>0,WEEKNUM(TEXT(Definice!$F$3,\"0000\")&\".\"&TEXT(J2307,\"00\")&\".\"&RIGHT(TEXT(B2307,\"0000\"),2)),0)","v":0}]
[2306,null,null,null,null,{"$f":"IF(OR(MAX($I$2:I2308)-I2308=0,D2308=0),\"\",MAX($I$2:I2308)-I2308)","v":""},"",0,10000,0,{"$f":"IF(B2308>0,WEEKNUM(TEXT(Definice!$F$3,\"0000\")&\".\"&TEXT(J2308,\"00\")&\".\"&RIGHT(TEXT(B2308,\"0000\"),2)),0)","v":0}]
[2307,null,null,null,null,{"$f":"IF(OR(MAX($I$2:I2309)-I2309=0,D2309=0),\"\",MAX($I$2:I2309)-I2309)","v":""},"",0,10000,0,{"$f":"IF(B2309>0,WEEKNUM(TEXT(Definice!$F$3,\"0000\")&\".\"&TEXT(J2309,\"00\")&\".\"&RIGHT(TEXT(B2309,\"0000\"),2)),0)","v":0}]
[2308,null,null,null,null,{"$f":"IF(OR(MAX($I$2:I2310)-I2310=0,D2310=0),\"\",MAX($I$2:I2310)-I2310)","v":""},"",0,10000,0,{"$f":"IF(B2310>0,WEEKNUM(TEXT(Definice!$F$3,\"0000\")&\".\"&TEXT(J2310,\"00\")&\".\"&RIGHT(TEXT(B2310,\"0000\"),2)),0)","v":0}]
[2309,null,null,null,null,{"$f":"IF(OR(MAX($I$2:I2311)-I2311=0,D2311=0),\"\",MAX($I$2:I2311)-I2311)","v":""},"",0,10000,0,{"$f":"IF(B2311>0,WEEKNUM(TEXT(Definice!$F$3,\"0000\")&\".\"&TEXT(J2311,\"00\")&\".\"&RIGHT(TEXT(B2311,\"0000\"),2)),0)","v":0}]
[2310,null,null,null,null,{"$f":"IF(OR(MAX($I$2:I2312)-I2312=0,D2312=0),\"\",MAX($I$2:I2312)-I2312)","v":""},"",0,10000,0,{"$f":"IF(B2312>0,WEEKNUM(TEXT(Definice!$F$3,\"0000\")&\".\"&TEXT(J2312,\"00\")&\".\"&RIGHT(TEXT(B2312,\"0000\"),2)),0)","v":0}]
[2311,null,null,null,null,{"$f":"IF(OR(MAX($I$2:I2313)-I2313=0,D2313=0),\"\",MAX($I$2:I2313)-I2313)","v":""},"",0,10000,0,{"$f":"IF(B2313>0,WEEKNUM(TEXT(Definice!$F$3,\"0000\")&\".\"&TEXT(J2313,\"00\")&\".\"&RIGHT(TEXT(B2313,\"0000\"),2)),0)","v":0}]
[2312,null,null,null,null,{"$f":"IF(OR(MAX($I$2:I2314)-I2314=0,D2314=0),\"\",MAX($I$2:I2314)-I2314)","v":""},"",0,10000,0,{"$f":"IF(B2314>0,WEEKNUM(TEXT(Definice!$F$3,\"0000\")&\".\"&TEXT(J2314,\"00\")&\".\"&RIGHT(TEXT(B2314,\"0000\"),2)),0)","v":0}]
[2313,null,null,null,null,{"$f":"IF(OR(MAX($I$2:I2315)-I2315=0,D2315=0),\"\",MAX($I$2:I2315)-I2315)","v":""},"",0,10000,0,{"$f":"IF(B2315>0,WEEKNUM(TEXT(Definice!$F$3,\"0000\")&\".\"&TEXT(J2315,\"00\")&\".\"&RIGHT(TEXT(B2315,\"0000\"),2)),0)","v":0}]
[2314,null,null,null,null,{"$f":"IF(OR(MAX($I$2:I2316)-I2316=0,D2316=0),\"\",MAX($I$2:I2316)-I2316)","v":""},{"$f":"IF(F2316=\"\",\"\",F2316/(H2316+I2315))","v":""},{"$f":"H2315+E2316","v":0},{"$f":"I2315+E2316","v":10000},{"$f":"((INT(B2316/100)/100)-INT(INT(B2316/100)/100))*100","v":0},{"$f":"IF(B2316>0,WEEKNUM(TEXT(Definice!$F$3,\"0000\")&\".\"&TEXT(J2316,\"00\")&\".\"&RIGHT(TEXT(B2316,\"0000\"),2)),0)","v":0}]
[2315,null,null,null,null,{"$f":"IF(OR(MAX($I$2:I2317)-I2317=0,D2317=0),\"\",MAX($I$2:I2317)-I2317)","v":""},"",0,10000,0,{"$f":"IF(B2317>0,WEEKNUM(TEXT(Definice!$F$3,\"0000\")&\".\"&TEXT(J2317,\"00\")&\".\"&RIGHT(TEXT(B2317,\"0000\"),2)),0)","v":0}]
[2316,null,null,null,null,{"$f":"IF(OR(MAX($I$2:I2318)-I2318=0,D2318=0),\"\",MAX($I$2:I2318)-I2318)","v":""},"",0,10000,0,{"$f":"IF(B2318>0,WEEKNUM(TEXT(Definice!$F$3,\"0000\")&\".\"&TEXT(J2318,\"00\")&\".\"&RIGHT(TEXT(B2318,\"0000\"),2)),0)","v":0}]
[2317,null,null,null,null,{"$f":"IF(OR(MAX($I$2:I2319)-I2319=0,D2319=0),\"\",MAX($I$2:I2319)-I2319)","v":""},"",0,10000,0,{"$f":"IF(B2319>0,WEEKNUM(TEXT(Definice!$F$3,\"0000\")&\".\"&TEXT(J2319,\"00\")&\".\"&RIGHT(TEXT(B2319,\"0000\"),2)),0)","v":0}]
[2318,null,null,null,null,{"$f":"IF(OR(MAX($I$2:I2320)-I2320=0,D2320=0),\"\",MAX($I$2:I2320)-I2320)","v":""},"",0,10000,0,{"$f":"IF(B2320>0,WEEKNUM(TEXT(Definice!$F$3,\"0000\")&\".\"&TEXT(J2320,\"00\")&\".\"&RIGHT(TEXT(B2320,\"0000\"),2)),0)","v":0}]
[2319,null,null,null,null,{"$f":"IF(OR(MAX($I$2:I2321)-I2321=0,D2321=0),\"\",MAX($I$2:I2321)-I2321)","v":""},"",0,10000,0,{"$f":"IF(B2321>0,WEEKNUM(TEXT(Definice!$F$3,\"0000\")&\".\"&TEXT(J2321,\"00\")&\".\"&RIGHT(TEXT(B2321,\"0000\"),2)),0)","v":0}]
[2320,null,null,null,null,{"$f":"IF(OR(MAX($I$2:I2322)-I2322=0,D2322=0),\"\",MAX($I$2:I2322)-I2322)","v":""},"",0,10000,0,{"$f":"IF(B2322>0,WEEKNUM(TEXT(Definice!$F$3,\"0000\")&\".\"&TEXT(J2322,\"00\")&\".\"&RIGHT(TEXT(B2322,\"0000\"),2)),0)","v":0}]
[2321,null,null,null,null,{"$f":"IF(OR(MAX($I$2:I2323)-I2323=0,D2323=0),\"\",MAX($I$2:I2323)-I2323)","v":""},"",0,10000,0,{"$f":"IF(B2323>0,WEEKNUM(TEXT(Definice!$F$3,\"0000\")&\".\"&TEXT(J2323,\"00\")&\".\"&RIGHT(TEXT(B2323,\"0000\"),2)),0)","v":0}]
[2322,null,null,null,null,{"$f":"IF(OR(MAX($I$2:I2324)-I2324=0,D2324=0),\"\",MAX($I$2:I2324)-I2324)","v":""},"",0,10000,0,{"$f":"IF(B2324>0,WEEKNUM(TEXT(Definice!$F$3,\"0000\")&\".\"&TEXT(J2324,\"00\")&\".\"&RIGHT(TEXT(B2324,\"0000\"),2)),0)","v":0}]
[2323,null,null,null,null,{"$f":"IF(OR(MAX($I$2:I2325)-I2325=0,D2325=0),\"\",MAX($I$2:I2325)-I2325)","v":""},"",0,10000,0,{"$f":"IF(B2325>0,WEEKNUM(TEXT(Definice!$F$3,\"0000\")&\".\"&TEXT(J2325,\"00\")&\".\"&RIGHT(TEXT(B2325,\"0000\"),2)),0)","v":0}]
[2324,null,null,null,null,{"$f":"IF(OR(MAX($I$2:I2326)-I2326=0,D2326=0),\"\",MAX($I$2:I2326)-I2326)","v":""},"",0,10000,0,{"$f":"IF(B2326>0,WEEKNUM(TEXT(Definice!$F$3,\"0000\")&\".\"&TEXT(J2326,\"00\")&\".\"&RIGHT(TEXT(B2326,\"0000\"),2)),0)","v":0}]
[2325,null,null,null,null,{"$f":"IF(OR(MAX($I$2:I2327)-I2327=0,D2327=0),\"\",MAX($I$2:I2327)-I2327)","v":""},"",0,10000,0,{"$f":"IF(B2327>0,WEEKNUM(TEXT(Definice!$F$3,\"0000\")&\".\"&TEXT(J2327,\"00\")&\".\"&RIGHT(TEXT(B2327,\"0000\"),2)),0)","v":0}]
[2326,null,null,null,null,{"$f":"IF(OR(MAX($I$2:I2328)-I2328=0,D2328=0),\"\",MAX($I$2:I2328)-I2328)","v":""},"",0,10000,0,{"$f":"IF(B2328>0,WEEKNUM(TEXT(Definice!$F$3,\"0000\")&\".\"&TEXT(J2328,\"00\")&\".\"&RIGHT(TEXT(B2328,\"0000\"),2)),0)","v":0}]
[2327,null,null,null,null,{"$f":"IF(OR(MAX($I$2:I2329)-I2329=0,D2329=0),\"\",MAX($I$2:I2329)-I2329)","v":""},"",0,10000,0,{"$f":"IF(B2329>0,WEEKNUM(TEXT(Definice!$F$3,\"0000\")&\".\"&TEXT(J2329,\"00\")&\".\"&RIGHT(TEXT(B2329,\"0000\"),2)),0)","v":0}]
[2328,null,null,null,null,{"$f":"IF(OR(MAX($I$2:I2330)-I2330=0,D2330=0),\"\",MAX($I$2:I2330)-I2330)","v":""},"",0,10000,0,{"$f":"IF(B2330>0,WEEKNUM(TEXT(Definice!$F$3,\"0000\")&\".\"&TEXT(J2330,\"00\")&\".\"&RIGHT(TEXT(B2330,\"0000\"),2)),0)","v":0}]
[2329,null,null,null,null,{"$f":"IF(OR(MAX($I$2:I2331)-I2331=0,D2331=0),\"\",MAX($I$2:I2331)-I2331)","v":""},"",0,10000,0,{"$f":"IF(B2331>0,WEEKNUM(TEXT(Definice!$F$3,\"0000\")&\".\"&TEXT(J2331,\"00\")&\".\"&RIGHT(TEXT(B2331,\"0000\"),2)),0)","v":0}]
[2330,null,null,null,null,{"$f":"IF(OR(MAX($I$2:I2332)-I2332=0,D2332=0),\"\",MAX($I$2:I2332)-I2332)","v":""},"",0,10000,0,{"$f":"IF(B2332>0,WEEKNUM(TEXT(Definice!$F$3,\"0000\")&\".\"&TEXT(J2332,\"00\")&\".\"&RIGHT(TEXT(B2332,\"0000\"),2)),0)","v":0}]
[2331,null,null,null,null,{"$f":"IF(OR(MAX($I$2:I2333)-I2333=0,D2333=0),\"\",MAX($I$2:I2333)-I2333)","v":""},"",0,10000,0,{"$f":"IF(B2333>0,WEEKNUM(TEXT(Definice!$F$3,\"0000\")&\".\"&TEXT(J2333,\"00\")&\".\"&RIGHT(TEXT(B2333,\"0000\"),2)),0)","v":0}]
[2332,null,null,null,null,{"$f":"IF(OR(MAX($I$2:I2334)-I2334=0,D2334=0),\"\",MAX($I$2:I2334)-I2334)","v":""},"",0,10000,0,{"$f":"IF(B2334>0,WEEKNUM(TEXT(Definice!$F$3,\"0000\")&\".\"&TEXT(J2334,\"00\")&\".\"&RIGHT(TEXT(B2334,\"0000\"),2)),0)","v":0}]
[2333,null,null,null,null,{"$f":"IF(OR(MAX($I$2:I2335)-I2335=0,D2335=0),\"\",MAX($I$2:I2335)-I2335)","v":""},"",0,10000,0,{"$f":"IF(B2335>0,WEEKNUM(TEXT(Definice!$F$3,\"0000\")&\".\"&TEXT(J2335,\"00\")&\".\"&RIGHT(TEXT(B2335,\"0000\"),2)),0)","v":0}]
[2334,null,null,null,null,{"$f":"IF(OR(MAX($I$2:I2336)-I2336=0,D2336=0),\"\",MAX($I$2:I2336)-I2336)","v":""},"",0,10000,0,{"$f":"IF(B2336>0,WEEKNUM(TEXT(Definice!$F$3,\"0000\")&\".\"&TEXT(J2336,\"00\")&\".\"&RIGHT(TEXT(B2336,\"0000\"),2)),0)","v":0}]
[2335,null,null,null,null,{"$f":"IF(OR(MAX($I$2:I2337)-I2337=0,D2337=0),\"\",MAX($I$2:I2337)-I2337)","v":""},"",0,10000,0,{"$f":"IF(B2337>0,WEEKNUM(TEXT(Definice!$F$3,\"0000\")&\".\"&TEXT(J2337,\"00\")&\".\"&RIGHT(TEXT(B2337,\"0000\"),2)),0)","v":0}]
[2336,null,null,null,null,{"$f":"IF(OR(MAX($I$2:I2338)-I2338=0,D2338=0),\"\",MAX($I$2:I2338)-I2338)","v":""},"",0,10000,0,{"$f":"IF(B2338>0,WEEKNUM(TEXT(Definice!$F$3,\"0000\")&\".\"&TEXT(J2338,\"00\")&\".\"&RIGHT(TEXT(B2338,\"0000\"),2)),0)","v":0}]
[2337,null,null,null,null,{"$f":"IF(OR(MAX($I$2:I2339)-I2339=0,D2339=0),\"\",MAX($I$2:I2339)-I2339)","v":""},"",0,10000,0,{"$f":"IF(B2339>0,WEEKNUM(TEXT(Definice!$F$3,\"0000\")&\".\"&TEXT(J2339,\"00\")&\".\"&RIGHT(TEXT(B2339,\"0000\"),2)),0)","v":0}]
[2338,null,null,null,null,{"$f":"IF(OR(MAX($I$2:I2340)-I2340=0,D2340=0),\"\",MAX($I$2:I2340)-I2340)","v":""},"",0,10000,0,{"$f":"IF(B2340>0,WEEKNUM(TEXT(Definice!$F$3,\"0000\")&\".\"&TEXT(J2340,\"00\")&\".\"&RIGHT(TEXT(B2340,\"0000\"),2)),0)","v":0}]
[2339,null,null,null,null,{"$f":"IF(OR(MAX($I$2:I2341)-I2341=0,D2341=0),\"\",MAX($I$2:I2341)-I2341)","v":""},"",0,10000,0,{"$f":"IF(B2341>0,WEEKNUM(TEXT(Definice!$F$3,\"0000\")&\".\"&TEXT(J2341,\"00\")&\".\"&RIGHT(TEXT(B2341,\"0000\"),2)),0)","v":0}]
[2340,null,null,null,null,{"$f":"IF(OR(MAX($I$2:I2342)-I2342=0,D2342=0),\"\",MAX($I$2:I2342)-I2342)","v":""},"",0,10000,0,{"$f":"IF(B2342>0,WEEKNUM(TEXT(Definice!$F$3,\"0000\")&\".\"&TEXT(J2342,\"00\")&\".\"&RIGHT(TEXT(B2342,\"0000\"),2)),0)","v":0}]
[2341,null,null,null,null,{"$f":"IF(OR(MAX($I$2:I2343)-I2343=0,D2343=0),\"\",MAX($I$2:I2343)-I2343)","v":""},"",0,10000,0,{"$f":"IF(B2343>0,WEEKNUM(TEXT(Definice!$F$3,\"0000\")&\".\"&TEXT(J2343,\"00\")&\".\"&RIGHT(TEXT(B2343,\"0000\"),2)),0)","v":0}]
[2342,null,null,null,null,{"$f":"IF(OR(MAX($I$2:I2344)-I2344=0,D2344=0),\"\",MAX($I$2:I2344)-I2344)","v":""},"",0,10000,0,{"$f":"IF(B2344>0,WEEKNUM(TEXT(Definice!$F$3,\"0000\")&\".\"&TEXT(J2344,\"00\")&\".\"&RIGHT(TEXT(B2344,\"0000\"),2)),0)","v":0}]
[2343,null,null,null,null,{"$f":"IF(OR(MAX($I$2:I2345)-I2345=0,D2345=0),\"\",MAX($I$2:I2345)-I2345)","v":""},"",0,10000,0,{"$f":"IF(B2345>0,WEEKNUM(TEXT(Definice!$F$3,\"0000\")&\".\"&TEXT(J2345,\"00\")&\".\"&RIGHT(TEXT(B2345,\"0000\"),2)),0)","v":0}]
[2344,null,null,null,null,{"$f":"IF(OR(MAX($I$2:I2346)-I2346=0,D2346=0),\"\",MAX($I$2:I2346)-I2346)","v":""},"",0,10000,0,{"$f":"IF(B2346>0,WEEKNUM(TEXT(Definice!$F$3,\"0000\")&\".\"&TEXT(J2346,\"00\")&\".\"&RIGHT(TEXT(B2346,\"0000\"),2)),0)","v":0}]
[2345,null,null,null,null,{"$f":"IF(OR(MAX($I$2:I2347)-I2347=0,D2347=0),\"\",MAX($I$2:I2347)-I2347)","v":""},"",0,10000,0,{"$f":"IF(B2347>0,WEEKNUM(TEXT(Definice!$F$3,\"0000\")&\".\"&TEXT(J2347,\"00\")&\".\"&RIGHT(TEXT(B2347,\"0000\"),2)),0)","v":0}]
[2346,null,null,null,null,{"$f":"IF(OR(MAX($I$2:I2348)-I2348=0,D2348=0),\"\",MAX($I$2:I2348)-I2348)","v":""},"",0,10000,0,{"$f":"IF(B2348>0,WEEKNUM(TEXT(Definice!$F$3,\"0000\")&\".\"&TEXT(J2348,\"00\")&\".\"&RIGHT(TEXT(B2348,\"0000\"),2)),0)","v":0}]
[2347,null,null,null,null,{"$f":"IF(OR(MAX($I$2:I2349)-I2349=0,D2349=0),\"\",MAX($I$2:I2349)-I2349)","v":""},"",0,10000,0,{"$f":"IF(B2349>0,WEEKNUM(TEXT(Definice!$F$3,\"0000\")&\".\"&TEXT(J2349,\"00\")&\".\"&RIGHT(TEXT(B2349,\"0000\"),2)),0)","v":0}]
[2348,null,null,null,null,{"$f":"IF(OR(MAX($I$2:I2350)-I2350=0,D2350=0),\"\",MAX($I$2:I2350)-I2350)","v":""},"",0,10000,0,{"$f":"IF(B2350>0,WEEKNUM(TEXT(Definice!$F$3,\"0000\")&\".\"&TEXT(J2350,\"00\")&\".\"&RIGHT(TEXT(B2350,\"0000\"),2)),0)","v":0}]
[2349,null,null,null,null,{"$f":"IF(OR(MAX($I$2:I2351)-I2351=0,D2351=0),\"\",MAX($I$2:I2351)-I2351)","v":""},"",0,10000,0,{"$f":"IF(B2351>0,WEEKNUM(TEXT(Definice!$F$3,\"0000\")&\".\"&TEXT(J2351,\"00\")&\".\"&RIGHT(TEXT(B2351,\"0000\"),2)),0)","v":0}]
[2350,null,null,null,null,{"$f":"IF(OR(MAX($I$2:I2352)-I2352=0,D2352=0),\"\",MAX($I$2:I2352)-I2352)","v":""},"",0,10000,0,{"$f":"IF(B2352>0,WEEKNUM(TEXT(Definice!$F$3,\"0000\")&\".\"&TEXT(J2352,\"00\")&\".\"&RIGHT(TEXT(B2352,\"0000\"),2)),0)","v":0}]
[2351,null,null,null,null,{"$f":"IF(OR(MAX($I$2:I2353)-I2353=0,D2353=0),\"\",MAX($I$2:I2353)-I2353)","v":""},"",0,10000,0,{"$f":"IF(B2353>0,WEEKNUM(TEXT(Definice!$F$3,\"0000\")&\".\"&TEXT(J2353,\"00\")&\".\"&RIGHT(TEXT(B2353,\"0000\"),2)),0)","v":0}]
[2352,null,null,null,null,{"$f":"IF(OR(MAX($I$2:I2354)-I2354=0,D2354=0),\"\",MAX($I$2:I2354)-I2354)","v":""},"",0,10000,0,{"$f":"IF(B2354>0,WEEKNUM(TEXT(Definice!$F$3,\"0000\")&\".\"&TEXT(J2354,\"00\")&\".\"&RIGHT(TEXT(B2354,\"0000\"),2)),0)","v":0}]
[2353,null,null,null,null,{"$f":"IF(OR(MAX($I$2:I2355)-I2355=0,D2355=0),\"\",MAX($I$2:I2355)-I2355)","v":""},"",0,10000,0,{"$f":"IF(B2355>0,WEEKNUM(TEXT(Definice!$F$3,\"0000\")&\".\"&TEXT(J2355,\"00\")&\".\"&RIGHT(TEXT(B2355,\"0000\"),2)),0)","v":0}]
[2354,null,null,null,null,{"$f":"IF(OR(MAX($I$2:I2356)-I2356=0,D2356=0),\"\",MAX($I$2:I2356)-I2356)","v":""},"",0,10000,0,{"$f":"IF(B2356>0,WEEKNUM(TEXT(Definice!$F$3,\"0000\")&\".\"&TEXT(J2356,\"00\")&\".\"&RIGHT(TEXT(B2356,\"0000\"),2)),0)","v":0}]
[2355,null,null,null,null,{"$f":"IF(OR(MAX($I$2:I2357)-I2357=0,D2357=0),\"\",MAX($I$2:I2357)-I2357)","v":""},"",0,10000,0,{"$f":"IF(B2357>0,WEEKNUM(TEXT(Definice!$F$3,\"0000\")&\".\"&TEXT(J2357,\"00\")&\".\"&RIGHT(TEXT(B2357,\"0000\"),2)),0)","v":0}]
[2356,null,null,null,null,{"$f":"IF(OR(MAX($I$2:I2358)-I2358=0,D2358=0),\"\",MAX($I$2:I2358)-I2358)","v":""},"",0,10000,0,{"$f":"IF(B2358>0,WEEKNUM(TEXT(Definice!$F$3,\"0000\")&\".\"&TEXT(J2358,\"00\")&\".\"&RIGHT(TEXT(B2358,\"0000\"),2)),0)","v":0}]
[2357,null,null,null,null,{"$f":"IF(OR(MAX($I$2:I2359)-I2359=0,D2359=0),\"\",MAX($I$2:I2359)-I2359)","v":""},"",0,10000,0,{"$f":"IF(B2359>0,WEEKNUM(TEXT(Definice!$F$3,\"0000\")&\".\"&TEXT(J2359,\"00\")&\".\"&RIGHT(TEXT(B2359,\"0000\"),2)),0)","v":0}]
[2358,null,null,null,null,{"$f":"IF(OR(MAX($I$2:I2360)-I2360=0,D2360=0),\"\",MAX($I$2:I2360)-I2360)","v":""},"",0,10000,0,{"$f":"IF(B2360>0,WEEKNUM(TEXT(Definice!$F$3,\"0000\")&\".\"&TEXT(J2360,\"00\")&\".\"&RIGHT(TEXT(B2360,\"0000\"),2)),0)","v":0}]
[2359,null,null,null,null,{"$f":"IF(OR(MAX($I$2:I2361)-I2361=0,D2361=0),\"\",MAX($I$2:I2361)-I2361)","v":""},"",0,10000,0,{"$f":"IF(B2361>0,WEEKNUM(TEXT(Definice!$F$3,\"0000\")&\".\"&TEXT(J2361,\"00\")&\".\"&RIGHT(TEXT(B2361,\"0000\"),2)),0)","v":0}]
[2360,null,null,null,null,{"$f":"IF(OR(MAX($I$2:I2362)-I2362=0,D2362=0),\"\",MAX($I$2:I2362)-I2362)","v":""},"",0,10000,0,{"$f":"IF(B2362>0,WEEKNUM(TEXT(Definice!$F$3,\"0000\")&\".\"&TEXT(J2362,\"00\")&\".\"&RIGHT(TEXT(B2362,\"0000\"),2)),0)","v":0}]
[2361,null,null,null,null,{"$f":"IF(OR(MAX($I$2:I2363)-I2363=0,D2363=0),\"\",MAX($I$2:I2363)-I2363)","v":""},"",0,10000,0,{"$f":"IF(B2363>0,WEEKNUM(TEXT(Definice!$F$3,\"0000\")&\".\"&TEXT(J2363,\"00\")&\".\"&RIGHT(TEXT(B2363,\"0000\"),2)),0)","v":0}]
[2362,null,null,null,null,{"$f":"IF(OR(MAX($I$2:I2364)-I2364=0,D2364=0),\"\",MAX($I$2:I2364)-I2364)","v":""},"",0,10000,0,{"$f":"IF(B2364>0,WEEKNUM(TEXT(Definice!$F$3,\"0000\")&\".\"&TEXT(J2364,\"00\")&\".\"&RIGHT(TEXT(B2364,\"0000\"),2)),0)","v":0}]
[2363,null,null,null,null,{"$f":"IF(OR(MAX($I$2:I2365)-I2365=0,D2365=0),\"\",MAX($I$2:I2365)-I2365)","v":""},"",0,10000,0,{"$f":"IF(B2365>0,WEEKNUM(TEXT(Definice!$F$3,\"0000\")&\".\"&TEXT(J2365,\"00\")&\".\"&RIGHT(TEXT(B2365,\"0000\"),2)),0)","v":0}]
[2364,null,null,null,null,{"$f":"IF(OR(MAX($I$2:I2366)-I2366=0,D2366=0),\"\",MAX($I$2:I2366)-I2366)","v":""},"",0,10000,0,{"$f":"IF(B2366>0,WEEKNUM(TEXT(Definice!$F$3,\"0000\")&\".\"&TEXT(J2366,\"00\")&\".\"&RIGHT(TEXT(B2366,\"0000\"),2)),0)","v":0}]
[2365,null,null,null,null,{"$f":"IF(OR(MAX($I$2:I2367)-I2367=0,D2367=0),\"\",MAX($I$2:I2367)-I2367)","v":""},"",0,10000,0,{"$f":"IF(B2367>0,WEEKNUM(TEXT(Definice!$F$3,\"0000\")&\".\"&TEXT(J2367,\"00\")&\".\"&RIGHT(TEXT(B2367,\"0000\"),2)),0)","v":0}]
[2366,null,null,null,null,{"$f":"IF(OR(MAX($I$2:I2368)-I2368=0,D2368=0),\"\",MAX($I$2:I2368)-I2368)","v":""},"",0,10000,0,{"$f":"IF(B2368>0,WEEKNUM(TEXT(Definice!$F$3,\"0000\")&\".\"&TEXT(J2368,\"00\")&\".\"&RIGHT(TEXT(B2368,\"0000\"),2)),0)","v":0}]
[2367,null,null,null,null,{"$f":"IF(OR(MAX($I$2:I2369)-I2369=0,D2369=0),\"\",MAX($I$2:I2369)-I2369)","v":""},"",0,10000,0,{"$f":"IF(B2369>0,WEEKNUM(TEXT(Definice!$F$3,\"0000\")&\".\"&TEXT(J2369,\"00\")&\".\"&RIGHT(TEXT(B2369,\"0000\"),2)),0)","v":0}]
[2368,null,null,null,null,{"$f":"IF(OR(MAX($I$2:I2370)-I2370=0,D2370=0),\"\",MAX($I$2:I2370)-I2370)","v":""},"",0,10000,0,{"$f":"IF(B2370>0,WEEKNUM(TEXT(Definice!$F$3,\"0000\")&\".\"&TEXT(J2370,\"00\")&\".\"&RIGHT(TEXT(B2370,\"0000\"),2)),0)","v":0}]
[2369,null,null,null,null,{"$f":"IF(OR(MAX($I$2:I2371)-I2371=0,D2371=0),\"\",MAX($I$2:I2371)-I2371)","v":""},"",0,10000,0,{"$f":"IF(B2371>0,WEEKNUM(TEXT(Definice!$F$3,\"0000\")&\".\"&TEXT(J2371,\"00\")&\".\"&RIGHT(TEXT(B2371,\"0000\"),2)),0)","v":0}]
[2370,null,null,null,null,{"$f":"IF(OR(MAX($I$2:I2372)-I2372=0,D2372=0),\"\",MAX($I$2:I2372)-I2372)","v":""},"",0,10000,0,{"$f":"IF(B2372>0,WEEKNUM(TEXT(Definice!$F$3,\"0000\")&\".\"&TEXT(J2372,\"00\")&\".\"&RIGHT(TEXT(B2372,\"0000\"),2)),0)","v":0}]
[2371,null,null,null,null,{"$f":"IF(OR(MAX($I$2:I2373)-I2373=0,D2373=0),\"\",MAX($I$2:I2373)-I2373)","v":""},"",0,10000,0,{"$f":"IF(B2373>0,WEEKNUM(TEXT(Definice!$F$3,\"0000\")&\".\"&TEXT(J2373,\"00\")&\".\"&RIGHT(TEXT(B2373,\"0000\"),2)),0)","v":0}]
[2372,null,null,null,null,{"$f":"IF(OR(MAX($I$2:I2374)-I2374=0,D2374=0),\"\",MAX($I$2:I2374)-I2374)","v":""},"",0,10000,0,{"$f":"IF(B2374>0,WEEKNUM(TEXT(Definice!$F$3,\"0000\")&\".\"&TEXT(J2374,\"00\")&\".\"&RIGHT(TEXT(B2374,\"0000\"),2)),0)","v":0}]
[2373,null,null,null,null,{"$f":"IF(OR(MAX($I$2:I2375)-I2375=0,D2375=0),\"\",MAX($I$2:I2375)-I2375)","v":""},"",0,10000,0,{"$f":"IF(B2375>0,WEEKNUM(TEXT(Definice!$F$3,\"0000\")&\".\"&TEXT(J2375,\"00\")&\".\"&RIGHT(TEXT(B2375,\"0000\"),2)),0)","v":0}]
[2374,null,null,null,null,{"$f":"IF(OR(MAX($I$2:I2376)-I2376=0,D2376=0),\"\",MAX($I$2:I2376)-I2376)","v":""},"",0,10000,0,{"$f":"IF(B2376>0,WEEKNUM(TEXT(Definice!$F$3,\"0000\")&\".\"&TEXT(J2376,\"00\")&\".\"&RIGHT(TEXT(B2376,\"0000\"),2)),0)","v":0}]
[2375,null,null,null,null,{"$f":"IF(OR(MAX($I$2:I2377)-I2377=0,D2377=0),\"\",MAX($I$2:I2377)-I2377)","v":""},"",0,10000,0,{"$f":"IF(B2377>0,WEEKNUM(TEXT(Definice!$F$3,\"0000\")&\".\"&TEXT(J2377,\"00\")&\".\"&RIGHT(TEXT(B2377,\"0000\"),2)),0)","v":0}]
[2376,null,null,null,null,{"$f":"IF(OR(MAX($I$2:I2378)-I2378=0,D2378=0),\"\",MAX($I$2:I2378)-I2378)","v":""},"",0,10000,0,{"$f":"IF(B2378>0,WEEKNUM(TEXT(Definice!$F$3,\"0000\")&\".\"&TEXT(J2378,\"00\")&\".\"&RIGHT(TEXT(B2378,\"0000\"),2)),0)","v":0}]
[2377,null,null,null,null,{"$f":"IF(OR(MAX($I$2:I2379)-I2379=0,D2379=0),\"\",MAX($I$2:I2379)-I2379)","v":""},"",0,10000,0,{"$f":"IF(B2379>0,WEEKNUM(TEXT(Definice!$F$3,\"0000\")&\".\"&TEXT(J2379,\"00\")&\".\"&RIGHT(TEXT(B2379,\"0000\"),2)),0)","v":0}]
[2378,null,null,null,null,{"$f":"IF(OR(MAX($I$2:I2380)-I2380=0,D2380=0),\"\",MAX($I$2:I2380)-I2380)","v":""},{"$f":"IF(F2380=\"\",\"\",F2380/(H2380+I2379))","v":""},{"$f":"H2379+E2380","v":0},{"$f":"I2379+E2380","v":10000},{"$f":"((INT(B2380/100)/100)-INT(INT(B2380/100)/100))*100","v":0},{"$f":"IF(B2380>0,WEEKNUM(TEXT(Definice!$F$3,\"0000\")&\".\"&TEXT(J2380,\"00\")&\".\"&RIGHT(TEXT(B2380,\"0000\"),2)),0)","v":0}]
[2379,null,null,null,null,{"$f":"IF(OR(MAX($I$2:I2381)-I2381=0,D2381=0),\"\",MAX($I$2:I2381)-I2381)","v":""},"",0,10000,0,{"$f":"IF(B2381>0,WEEKNUM(TEXT(Definice!$F$3,\"0000\")&\".\"&TEXT(J2381,\"00\")&\".\"&RIGHT(TEXT(B2381,\"0000\"),2)),0)","v":0}]
[2380,null,null,null,null,{"$f":"IF(OR(MAX($I$2:I2382)-I2382=0,D2382=0),\"\",MAX($I$2:I2382)-I2382)","v":""},"",0,10000,0,{"$f":"IF(B2382>0,WEEKNUM(TEXT(Definice!$F$3,\"0000\")&\".\"&TEXT(J2382,\"00\")&\".\"&RIGHT(TEXT(B2382,\"0000\"),2)),0)","v":0}]
[2381,null,null,null,null,{"$f":"IF(OR(MAX($I$2:I2383)-I2383=0,D2383=0),\"\",MAX($I$2:I2383)-I2383)","v":""},"",0,10000,0,{"$f":"IF(B2383>0,WEEKNUM(TEXT(Definice!$F$3,\"0000\")&\".\"&TEXT(J2383,\"00\")&\".\"&RIGHT(TEXT(B2383,\"0000\"),2)),0)","v":0}]
[2382,null,null,null,null,{"$f":"IF(OR(MAX($I$2:I2384)-I2384=0,D2384=0),\"\",MAX($I$2:I2384)-I2384)","v":""},"",0,10000,0,{"$f":"IF(B2384>0,WEEKNUM(TEXT(Definice!$F$3,\"0000\")&\".\"&TEXT(J2384,\"00\")&\".\"&RIGHT(TEXT(B2384,\"0000\"),2)),0)","v":0}]
[2383,null,null,null,null,{"$f":"IF(OR(MAX($I$2:I2385)-I2385=0,D2385=0),\"\",MAX($I$2:I2385)-I2385)","v":""},"",0,10000,0,{"$f":"IF(B2385>0,WEEKNUM(TEXT(Definice!$F$3,\"0000\")&\".\"&TEXT(J2385,\"00\")&\".\"&RIGHT(TEXT(B2385,\"0000\"),2)),0)","v":0}]
[2384,null,null,null,null,{"$f":"IF(OR(MAX($I$2:I2386)-I2386=0,D2386=0),\"\",MAX($I$2:I2386)-I2386)","v":""},"",0,10000,0,{"$f":"IF(B2386>0,WEEKNUM(TEXT(Definice!$F$3,\"0000\")&\".\"&TEXT(J2386,\"00\")&\".\"&RIGHT(TEXT(B2386,\"0000\"),2)),0)","v":0}]
[2385,null,null,null,null,{"$f":"IF(OR(MAX($I$2:I2387)-I2387=0,D2387=0),\"\",MAX($I$2:I2387)-I2387)","v":""},"",0,10000,0,{"$f":"IF(B2387>0,WEEKNUM(TEXT(Definice!$F$3,\"0000\")&\".\"&TEXT(J2387,\"00\")&\".\"&RIGHT(TEXT(B2387,\"0000\"),2)),0)","v":0}]
[2386,null,null,null,null,{"$f":"IF(OR(MAX($I$2:I2388)-I2388=0,D2388=0),\"\",MAX($I$2:I2388)-I2388)","v":""},"",0,10000,0,{"$f":"IF(B2388>0,WEEKNUM(TEXT(Definice!$F$3,\"0000\")&\".\"&TEXT(J2388,\"00\")&\".\"&RIGHT(TEXT(B2388,\"0000\"),2)),0)","v":0}]
[2387,null,null,null,null,{"$f":"IF(OR(MAX($I$2:I2389)-I2389=0,D2389=0),\"\",MAX($I$2:I2389)-I2389)","v":""},"",0,10000,0,{"$f":"IF(B2389>0,WEEKNUM(TEXT(Definice!$F$3,\"0000\")&\".\"&TEXT(J2389,\"00\")&\".\"&RIGHT(TEXT(B2389,\"0000\"),2)),0)","v":0}]
[2388,null,null,null,null,{"$f":"IF(OR(MAX($I$2:I2390)-I2390=0,D2390=0),\"\",MAX($I$2:I2390)-I2390)","v":""},"",0,10000,0,{"$f":"IF(B2390>0,WEEKNUM(TEXT(Definice!$F$3,\"0000\")&\".\"&TEXT(J2390,\"00\")&\".\"&RIGHT(TEXT(B2390,\"0000\"),2)),0)","v":0}]
[2389,null,null,null,null,{"$f":"IF(OR(MAX($I$2:I2391)-I2391=0,D2391=0),\"\",MAX($I$2:I2391)-I2391)","v":""},"",0,10000,0,{"$f":"IF(B2391>0,WEEKNUM(TEXT(Definice!$F$3,\"0000\")&\".\"&TEXT(J2391,\"00\")&\".\"&RIGHT(TEXT(B2391,\"0000\"),2)),0)","v":0}]
[2390,null,null,null,null,{"$f":"IF(OR(MAX($I$2:I2392)-I2392=0,D2392=0),\"\",MAX($I$2:I2392)-I2392)","v":""},"",0,10000,0,{"$f":"IF(B2392>0,WEEKNUM(TEXT(Definice!$F$3,\"0000\")&\".\"&TEXT(J2392,\"00\")&\".\"&RIGHT(TEXT(B2392,\"0000\"),2)),0)","v":0}]
[2391,null,null,null,null,{"$f":"IF(OR(MAX($I$2:I2393)-I2393=0,D2393=0),\"\",MAX($I$2:I2393)-I2393)","v":""},"",0,10000,0,{"$f":"IF(B2393>0,WEEKNUM(TEXT(Definice!$F$3,\"0000\")&\".\"&TEXT(J2393,\"00\")&\".\"&RIGHT(TEXT(B2393,\"0000\"),2)),0)","v":0}]
[2392,null,null,null,null,{"$f":"IF(OR(MAX($I$2:I2394)-I2394=0,D2394=0),\"\",MAX($I$2:I2394)-I2394)","v":""},"",0,10000,0,{"$f":"IF(B2394>0,WEEKNUM(TEXT(Definice!$F$3,\"0000\")&\".\"&TEXT(J2394,\"00\")&\".\"&RIGHT(TEXT(B2394,\"0000\"),2)),0)","v":0}]
[2393,null,null,null,null,{"$f":"IF(OR(MAX($I$2:I2395)-I2395=0,D2395=0),\"\",MAX($I$2:I2395)-I2395)","v":""},"",0,10000,0,{"$f":"IF(B2395>0,WEEKNUM(TEXT(Definice!$F$3,\"0000\")&\".\"&TEXT(J2395,\"00\")&\".\"&RIGHT(TEXT(B2395,\"0000\"),2)),0)","v":0}]
[2394,null,null,null,null,{"$f":"IF(OR(MAX($I$2:I2396)-I2396=0,D2396=0),\"\",MAX($I$2:I2396)-I2396)","v":""},"",0,10000,0,{"$f":"IF(B2396>0,WEEKNUM(TEXT(Definice!$F$3,\"0000\")&\".\"&TEXT(J2396,\"00\")&\".\"&RIGHT(TEXT(B2396,\"0000\"),2)),0)","v":0}]
[2395,null,null,null,null,{"$f":"IF(OR(MAX($I$2:I2397)-I2397=0,D2397=0),\"\",MAX($I$2:I2397)-I2397)","v":""},"",0,10000,0,{"$f":"IF(B2397>0,WEEKNUM(TEXT(Definice!$F$3,\"0000\")&\".\"&TEXT(J2397,\"00\")&\".\"&RIGHT(TEXT(B2397,\"0000\"),2)),0)","v":0}]
[2396,null,null,null,null,{"$f":"IF(OR(MAX($I$2:I2398)-I2398=0,D2398=0),\"\",MAX($I$2:I2398)-I2398)","v":""},"",0,10000,0,{"$f":"IF(B2398>0,WEEKNUM(TEXT(Definice!$F$3,\"0000\")&\".\"&TEXT(J2398,\"00\")&\".\"&RIGHT(TEXT(B2398,\"0000\"),2)),0)","v":0}]
[2397,null,null,null,null,{"$f":"IF(OR(MAX($I$2:I2399)-I2399=0,D2399=0),\"\",MAX($I$2:I2399)-I2399)","v":""},"",0,10000,0,{"$f":"IF(B2399>0,WEEKNUM(TEXT(Definice!$F$3,\"0000\")&\".\"&TEXT(J2399,\"00\")&\".\"&RIGHT(TEXT(B2399,\"0000\"),2)),0)","v":0}]
[2398,null,null,null,null,{"$f":"IF(OR(MAX($I$2:I2400)-I2400=0,D2400=0),\"\",MAX($I$2:I2400)-I2400)","v":""},"",0,10000,0,{"$f":"IF(B2400>0,WEEKNUM(TEXT(Definice!$F$3,\"0000\")&\".\"&TEXT(J2400,\"00\")&\".\"&RIGHT(TEXT(B2400,\"0000\"),2)),0)","v":0}]
[2399,null,null,null,null,{"$f":"IF(OR(MAX($I$2:I2401)-I2401=0,D2401=0),\"\",MAX($I$2:I2401)-I2401)","v":""},"",0,10000,0,{"$f":"IF(B2401>0,WEEKNUM(TEXT(Definice!$F$3,\"0000\")&\".\"&TEXT(J2401,\"00\")&\".\"&RIGHT(TEXT(B2401,\"0000\"),2)),0)","v":0}]
[2400,null,null,null,null,{"$f":"IF(OR(MAX($I$2:I2402)-I2402=0,D2402=0),\"\",MAX($I$2:I2402)-I2402)","v":""},"",0,10000,0,{"$f":"IF(B2402>0,WEEKNUM(TEXT(Definice!$F$3,\"0000\")&\".\"&TEXT(J2402,\"00\")&\".\"&RIGHT(TEXT(B2402,\"0000\"),2)),0)","v":0}]
[2401,null,null,null,null,{"$f":"IF(OR(MAX($I$2:I2403)-I2403=0,D2403=0),\"\",MAX($I$2:I2403)-I2403)","v":""},"",0,10000,0,{"$f":"IF(B2403>0,WEEKNUM(TEXT(Definice!$F$3,\"0000\")&\".\"&TEXT(J2403,\"00\")&\".\"&RIGHT(TEXT(B2403,\"0000\"),2)),0)","v":0}]
[2402,null,null,null,null,{"$f":"IF(OR(MAX($I$2:I2404)-I2404=0,D2404=0),\"\",MAX($I$2:I2404)-I2404)","v":""},"",0,10000,0,{"$f":"IF(B2404>0,WEEKNUM(TEXT(Definice!$F$3,\"0000\")&\".\"&TEXT(J2404,\"00\")&\".\"&RIGHT(TEXT(B2404,\"0000\"),2)),0)","v":0}]
[2403,null,null,null,null,{"$f":"IF(OR(MAX($I$2:I2405)-I2405=0,D2405=0),\"\",MAX($I$2:I2405)-I2405)","v":""},"",0,10000,0,{"$f":"IF(B2405>0,WEEKNUM(TEXT(Definice!$F$3,\"0000\")&\".\"&TEXT(J2405,\"00\")&\".\"&RIGHT(TEXT(B2405,\"0000\"),2)),0)","v":0}]
[2404,null,null,null,null,{"$f":"IF(OR(MAX($I$2:I2406)-I2406=0,D2406=0),\"\",MAX($I$2:I2406)-I2406)","v":""},"",0,10000,0,{"$f":"IF(B2406>0,WEEKNUM(TEXT(Definice!$F$3,\"0000\")&\".\"&TEXT(J2406,\"00\")&\".\"&RIGHT(TEXT(B2406,\"0000\"),2)),0)","v":0}]
[2405,null,null,null,null,{"$f":"IF(OR(MAX($I$2:I2407)-I2407=0,D2407=0),\"\",MAX($I$2:I2407)-I2407)","v":""},"",0,10000,0,{"$f":"IF(B2407>0,WEEKNUM(TEXT(Definice!$F$3,\"0000\")&\".\"&TEXT(J2407,\"00\")&\".\"&RIGHT(TEXT(B2407,\"0000\"),2)),0)","v":0}]
[2406,null,null,null,null,{"$f":"IF(OR(MAX($I$2:I2408)-I2408=0,D2408=0),\"\",MAX($I$2:I2408)-I2408)","v":""},"",0,10000,0,{"$f":"IF(B2408>0,WEEKNUM(TEXT(Definice!$F$3,\"0000\")&\".\"&TEXT(J2408,\"00\")&\".\"&RIGHT(TEXT(B2408,\"0000\"),2)),0)","v":0}]
[2407,null,null,null,null,{"$f":"IF(OR(MAX($I$2:I2409)-I2409=0,D2409=0),\"\",MAX($I$2:I2409)-I2409)","v":""},"",0,10000,0,{"$f":"IF(B2409>0,WEEKNUM(TEXT(Definice!$F$3,\"0000\")&\".\"&TEXT(J2409,\"00\")&\".\"&RIGHT(TEXT(B2409,\"0000\"),2)),0)","v":0}]
[2408,null,null,null,null,{"$f":"IF(OR(MAX($I$2:I2410)-I2410=0,D2410=0),\"\",MAX($I$2:I2410)-I2410)","v":""},"",0,10000,0,{"$f":"IF(B2410>0,WEEKNUM(TEXT(Definice!$F$3,\"0000\")&\".\"&TEXT(J2410,\"00\")&\".\"&RIGHT(TEXT(B2410,\"0000\"),2)),0)","v":0}]
[2409,null,null,null,null,{"$f":"IF(OR(MAX($I$2:I2411)-I2411=0,D2411=0),\"\",MAX($I$2:I2411)-I2411)","v":""},"",0,10000,0,{"$f":"IF(B2411>0,WEEKNUM(TEXT(Definice!$F$3,\"0000\")&\".\"&TEXT(J2411,\"00\")&\".\"&RIGHT(TEXT(B2411,\"0000\"),2)),0)","v":0}]
[2410,null,null,null,null,{"$f":"IF(OR(MAX($I$2:I2412)-I2412=0,D2412=0),\"\",MAX($I$2:I2412)-I2412)","v":""},"",0,10000,0,{"$f":"IF(B2412>0,WEEKNUM(TEXT(Definice!$F$3,\"0000\")&\".\"&TEXT(J2412,\"00\")&\".\"&RIGHT(TEXT(B2412,\"0000\"),2)),0)","v":0}]
[2411,null,null,null,null,{"$f":"IF(OR(MAX($I$2:I2413)-I2413=0,D2413=0),\"\",MAX($I$2:I2413)-I2413)","v":""},"",0,10000,0,{"$f":"IF(B2413>0,WEEKNUM(TEXT(Definice!$F$3,\"0000\")&\".\"&TEXT(J2413,\"00\")&\".\"&RIGHT(TEXT(B2413,\"0000\"),2)),0)","v":0}]
[2412,null,null,null,null,{"$f":"IF(OR(MAX($I$2:I2414)-I2414=0,D2414=0),\"\",MAX($I$2:I2414)-I2414)","v":""},"",0,10000,0,{"$f":"IF(B2414>0,WEEKNUM(TEXT(Definice!$F$3,\"0000\")&\".\"&TEXT(J2414,\"00\")&\".\"&RIGHT(TEXT(B2414,\"0000\"),2)),0)","v":0}]
[2413,null,null,null,null,{"$f":"IF(OR(MAX($I$2:I2415)-I2415=0,D2415=0),\"\",MAX($I$2:I2415)-I2415)","v":""},"",0,10000,0,{"$f":"IF(B2415>0,WEEKNUM(TEXT(Definice!$F$3,\"0000\")&\".\"&TEXT(J2415,\"00\")&\".\"&RIGHT(TEXT(B2415,\"0000\"),2)),0)","v":0}]
[2414,null,null,null,null,{"$f":"IF(OR(MAX($I$2:I2416)-I2416=0,D2416=0),\"\",MAX($I$2:I2416)-I2416)","v":""},"",0,10000,0,{"$f":"IF(B2416>0,WEEKNUM(TEXT(Definice!$F$3,\"0000\")&\".\"&TEXT(J2416,\"00\")&\".\"&RIGHT(TEXT(B2416,\"0000\"),2)),0)","v":0}]
[2415,null,null,null,null,{"$f":"IF(OR(MAX($I$2:I2417)-I2417=0,D2417=0),\"\",MAX($I$2:I2417)-I2417)","v":""},"",0,10000,0,{"$f":"IF(B2417>0,WEEKNUM(TEXT(Definice!$F$3,\"0000\")&\".\"&TEXT(J2417,\"00\")&\".\"&RIGHT(TEXT(B2417,\"0000\"),2)),0)","v":0}]
[2416,null,null,null,null,{"$f":"IF(OR(MAX($I$2:I2418)-I2418=0,D2418=0),\"\",MAX($I$2:I2418)-I2418)","v":""},"",0,10000,0,{"$f":"IF(B2418>0,WEEKNUM(TEXT(Definice!$F$3,\"0000\")&\".\"&TEXT(J2418,\"00\")&\".\"&RIGHT(TEXT(B2418,\"0000\"),2)),0)","v":0}]
[2417,null,null,null,null,{"$f":"IF(OR(MAX($I$2:I2419)-I2419=0,D2419=0),\"\",MAX($I$2:I2419)-I2419)","v":""},"",0,10000,0,{"$f":"IF(B2419>0,WEEKNUM(TEXT(Definice!$F$3,\"0000\")&\".\"&TEXT(J2419,\"00\")&\".\"&RIGHT(TEXT(B2419,\"0000\"),2)),0)","v":0}]
[2418,null,null,null,null,{"$f":"IF(OR(MAX($I$2:I2420)-I2420=0,D2420=0),\"\",MAX($I$2:I2420)-I2420)","v":""},"",0,10000,0,{"$f":"IF(B2420>0,WEEKNUM(TEXT(Definice!$F$3,\"0000\")&\".\"&TEXT(J2420,\"00\")&\".\"&RIGHT(TEXT(B2420,\"0000\"),2)),0)","v":0}]
[2419,null,null,null,null,{"$f":"IF(OR(MAX($I$2:I2421)-I2421=0,D2421=0),\"\",MAX($I$2:I2421)-I2421)","v":""},"",0,10000,0,{"$f":"IF(B2421>0,WEEKNUM(TEXT(Definice!$F$3,\"0000\")&\".\"&TEXT(J2421,\"00\")&\".\"&RIGHT(TEXT(B2421,\"0000\"),2)),0)","v":0}]
[2420,null,null,null,null,{"$f":"IF(OR(MAX($I$2:I2422)-I2422=0,D2422=0),\"\",MAX($I$2:I2422)-I2422)","v":""},"",0,10000,0,{"$f":"IF(B2422>0,WEEKNUM(TEXT(Definice!$F$3,\"0000\")&\".\"&TEXT(J2422,\"00\")&\".\"&RIGHT(TEXT(B2422,\"0000\"),2)),0)","v":0}]
[2421,null,null,null,null,{"$f":"IF(OR(MAX($I$2:I2423)-I2423=0,D2423=0),\"\",MAX($I$2:I2423)-I2423)","v":""},"",0,10000,0,{"$f":"IF(B2423>0,WEEKNUM(TEXT(Definice!$F$3,\"0000\")&\".\"&TEXT(J2423,\"00\")&\".\"&RIGHT(TEXT(B2423,\"0000\"),2)),0)","v":0}]
[2422,null,null,null,null,{"$f":"IF(OR(MAX($I$2:I2424)-I2424=0,D2424=0),\"\",MAX($I$2:I2424)-I2424)","v":""},"",0,10000,0,{"$f":"IF(B2424>0,WEEKNUM(TEXT(Definice!$F$3,\"0000\")&\".\"&TEXT(J2424,\"00\")&\".\"&RIGHT(TEXT(B2424,\"0000\"),2)),0)","v":0}]
[2423,null,null,null,null,{"$f":"IF(OR(MAX($I$2:I2425)-I2425=0,D2425=0),\"\",MAX($I$2:I2425)-I2425)","v":""},"",0,10000,0,{"$f":"IF(B2425>0,WEEKNUM(TEXT(Definice!$F$3,\"0000\")&\".\"&TEXT(J2425,\"00\")&\".\"&RIGHT(TEXT(B2425,\"0000\"),2)),0)","v":0}]
[2424,null,null,null,null,{"$f":"IF(OR(MAX($I$2:I2426)-I2426=0,D2426=0),\"\",MAX($I$2:I2426)-I2426)","v":""},"",0,10000,0,{"$f":"IF(B2426>0,WEEKNUM(TEXT(Definice!$F$3,\"0000\")&\".\"&TEXT(J2426,\"00\")&\".\"&RIGHT(TEXT(B2426,\"0000\"),2)),0)","v":0}]
[2425,null,null,null,null,{"$f":"IF(OR(MAX($I$2:I2427)-I2427=0,D2427=0),\"\",MAX($I$2:I2427)-I2427)","v":""},"",0,10000,0,{"$f":"IF(B2427>0,WEEKNUM(TEXT(Definice!$F$3,\"0000\")&\".\"&TEXT(J2427,\"00\")&\".\"&RIGHT(TEXT(B2427,\"0000\"),2)),0)","v":0}]
[2426,null,null,null,null,{"$f":"IF(OR(MAX($I$2:I2428)-I2428=0,D2428=0),\"\",MAX($I$2:I2428)-I2428)","v":""},"",0,10000,0,{"$f":"IF(B2428>0,WEEKNUM(TEXT(Definice!$F$3,\"0000\")&\".\"&TEXT(J2428,\"00\")&\".\"&RIGHT(TEXT(B2428,\"0000\"),2)),0)","v":0}]
[2427,null,null,null,null,{"$f":"IF(OR(MAX($I$2:I2429)-I2429=0,D2429=0),\"\",MAX($I$2:I2429)-I2429)","v":""},"",0,10000,0,{"$f":"IF(B2429>0,WEEKNUM(TEXT(Definice!$F$3,\"0000\")&\".\"&TEXT(J2429,\"00\")&\".\"&RIGHT(TEXT(B2429,\"0000\"),2)),0)","v":0}]
[2428,null,null,null,null,{"$f":"IF(OR(MAX($I$2:I2430)-I2430=0,D2430=0),\"\",MAX($I$2:I2430)-I2430)","v":""},"",0,10000,0,{"$f":"IF(B2430>0,WEEKNUM(TEXT(Definice!$F$3,\"0000\")&\".\"&TEXT(J2430,\"00\")&\".\"&RIGHT(TEXT(B2430,\"0000\"),2)),0)","v":0}]
[2429,null,null,null,null,{"$f":"IF(OR(MAX($I$2:I2431)-I2431=0,D2431=0),\"\",MAX($I$2:I2431)-I2431)","v":""},"",0,10000,0,{"$f":"IF(B2431>0,WEEKNUM(TEXT(Definice!$F$3,\"0000\")&\".\"&TEXT(J2431,\"00\")&\".\"&RIGHT(TEXT(B2431,\"0000\"),2)),0)","v":0}]
[2430,null,null,null,null,{"$f":"IF(OR(MAX($I$2:I2432)-I2432=0,D2432=0),\"\",MAX($I$2:I2432)-I2432)","v":""},"",0,10000,0,{"$f":"IF(B2432>0,WEEKNUM(TEXT(Definice!$F$3,\"0000\")&\".\"&TEXT(J2432,\"00\")&\".\"&RIGHT(TEXT(B2432,\"0000\"),2)),0)","v":0}]
[2431,null,null,null,null,{"$f":"IF(OR(MAX($I$2:I2433)-I2433=0,D2433=0),\"\",MAX($I$2:I2433)-I2433)","v":""},"",0,10000,0,{"$f":"IF(B2433>0,WEEKNUM(TEXT(Definice!$F$3,\"0000\")&\".\"&TEXT(J2433,\"00\")&\".\"&RIGHT(TEXT(B2433,\"0000\"),2)),0)","v":0}]
[2432,null,null,null,null,{"$f":"IF(OR(MAX($I$2:I2434)-I2434=0,D2434=0),\"\",MAX($I$2:I2434)-I2434)","v":""},"",0,10000,0,{"$f":"IF(B2434>0,WEEKNUM(TEXT(Definice!$F$3,\"0000\")&\".\"&TEXT(J2434,\"00\")&\".\"&RIGHT(TEXT(B2434,\"0000\"),2)),0)","v":0}]
[2433,null,null,null,null,{"$f":"IF(OR(MAX($I$2:I2435)-I2435=0,D2435=0),\"\",MAX($I$2:I2435)-I2435)","v":""},"",0,10000,0,{"$f":"IF(B2435>0,WEEKNUM(TEXT(Definice!$F$3,\"0000\")&\".\"&TEXT(J2435,\"00\")&\".\"&RIGHT(TEXT(B2435,\"0000\"),2)),0)","v":0}]
[2434,null,null,null,null,{"$f":"IF(OR(MAX($I$2:I2436)-I2436=0,D2436=0),\"\",MAX($I$2:I2436)-I2436)","v":""},"",0,10000,0,{"$f":"IF(B2436>0,WEEKNUM(TEXT(Definice!$F$3,\"0000\")&\".\"&TEXT(J2436,\"00\")&\".\"&RIGHT(TEXT(B2436,\"0000\"),2)),0)","v":0}]
[2435,null,null,null,null,{"$f":"IF(OR(MAX($I$2:I2437)-I2437=0,D2437=0),\"\",MAX($I$2:I2437)-I2437)","v":""},"",0,10000,0,{"$f":"IF(B2437>0,WEEKNUM(TEXT(Definice!$F$3,\"0000\")&\".\"&TEXT(J2437,\"00\")&\".\"&RIGHT(TEXT(B2437,\"0000\"),2)),0)","v":0}]
[2436,null,null,null,null,{"$f":"IF(OR(MAX($I$2:I2438)-I2438=0,D2438=0),\"\",MAX($I$2:I2438)-I2438)","v":""},"",0,10000,0,{"$f":"IF(B2438>0,WEEKNUM(TEXT(Definice!$F$3,\"0000\")&\".\"&TEXT(J2438,\"00\")&\".\"&RIGHT(TEXT(B2438,\"0000\"),2)),0)","v":0}]
[2437,null,null,null,null,{"$f":"IF(OR(MAX($I$2:I2439)-I2439=0,D2439=0),\"\",MAX($I$2:I2439)-I2439)","v":""},"",0,10000,0,{"$f":"IF(B2439>0,WEEKNUM(TEXT(Definice!$F$3,\"0000\")&\".\"&TEXT(J2439,\"00\")&\".\"&RIGHT(TEXT(B2439,\"0000\"),2)),0)","v":0}]
[2438,null,null,null,null,{"$f":"IF(OR(MAX($I$2:I2440)-I2440=0,D2440=0),\"\",MAX($I$2:I2440)-I2440)","v":""},"",0,10000,0,{"$f":"IF(B2440>0,WEEKNUM(TEXT(Definice!$F$3,\"0000\")&\".\"&TEXT(J2440,\"00\")&\".\"&RIGHT(TEXT(B2440,\"0000\"),2)),0)","v":0}]
[2439,null,null,null,null,{"$f":"IF(OR(MAX($I$2:I2441)-I2441=0,D2441=0),\"\",MAX($I$2:I2441)-I2441)","v":""},"",0,10000,0,{"$f":"IF(B2441>0,WEEKNUM(TEXT(Definice!$F$3,\"0000\")&\".\"&TEXT(J2441,\"00\")&\".\"&RIGHT(TEXT(B2441,\"0000\"),2)),0)","v":0}]
[2440,null,null,null,null,{"$f":"IF(OR(MAX($I$2:I2442)-I2442=0,D2442=0),\"\",MAX($I$2:I2442)-I2442)","v":""},"",0,10000,0,{"$f":"IF(B2442>0,WEEKNUM(TEXT(Definice!$F$3,\"0000\")&\".\"&TEXT(J2442,\"00\")&\".\"&RIGHT(TEXT(B2442,\"0000\"),2)),0)","v":0}]
[2441,null,null,null,null,{"$f":"IF(OR(MAX($I$2:I2443)-I2443=0,D2443=0),\"\",MAX($I$2:I2443)-I2443)","v":""},"",0,10000,0,{"$f":"IF(B2443>0,WEEKNUM(TEXT(Definice!$F$3,\"0000\")&\".\"&TEXT(J2443,\"00\")&\".\"&RIGHT(TEXT(B2443,\"0000\"),2)),0)","v":0}]
[2442,null,null,null,null,{"$f":"IF(OR(MAX($I$2:I2444)-I2444=0,D2444=0),\"\",MAX($I$2:I2444)-I2444)","v":""},{"$f":"IF(F2444=\"\",\"\",F2444/(H2444+I2443))","v":""},{"$f":"H2443+E2444","v":0},{"$f":"I2443+E2444","v":10000},{"$f":"((INT(B2444/100)/100)-INT(INT(B2444/100)/100))*100","v":0},{"$f":"IF(B2444>0,WEEKNUM(TEXT(Definice!$F$3,\"0000\")&\".\"&TEXT(J2444,\"00\")&\".\"&RIGHT(TEXT(B2444,\"0000\"),2)),0)","v":0}]
[2443,null,null,null,null,{"$f":"IF(OR(MAX($I$2:I2445)-I2445=0,D2445=0),\"\",MAX($I$2:I2445)-I2445)","v":""},"",0,10000,0,{"$f":"IF(B2445>0,WEEKNUM(TEXT(Definice!$F$3,\"0000\")&\".\"&TEXT(J2445,\"00\")&\".\"&RIGHT(TEXT(B2445,\"0000\"),2)),0)","v":0}]
[2444,null,null,null,null,{"$f":"IF(OR(MAX($I$2:I2446)-I2446=0,D2446=0),\"\",MAX($I$2:I2446)-I2446)","v":""},"",0,10000,0,{"$f":"IF(B2446>0,WEEKNUM(TEXT(Definice!$F$3,\"0000\")&\".\"&TEXT(J2446,\"00\")&\".\"&RIGHT(TEXT(B2446,\"0000\"),2)),0)","v":0}]
[2445,null,null,null,null,{"$f":"IF(OR(MAX($I$2:I2447)-I2447=0,D2447=0),\"\",MAX($I$2:I2447)-I2447)","v":""},"",0,10000,0,{"$f":"IF(B2447>0,WEEKNUM(TEXT(Definice!$F$3,\"0000\")&\".\"&TEXT(J2447,\"00\")&\".\"&RIGHT(TEXT(B2447,\"0000\"),2)),0)","v":0}]
[2446,null,null,null,null,{"$f":"IF(OR(MAX($I$2:I2448)-I2448=0,D2448=0),\"\",MAX($I$2:I2448)-I2448)","v":""},"",0,10000,0,{"$f":"IF(B2448>0,WEEKNUM(TEXT(Definice!$F$3,\"0000\")&\".\"&TEXT(J2448,\"00\")&\".\"&RIGHT(TEXT(B2448,\"0000\"),2)),0)","v":0}]
[2447,null,null,null,null,{"$f":"IF(OR(MAX($I$2:I2449)-I2449=0,D2449=0),\"\",MAX($I$2:I2449)-I2449)","v":""},"",0,10000,0,{"$f":"IF(B2449>0,WEEKNUM(TEXT(Definice!$F$3,\"0000\")&\".\"&TEXT(J2449,\"00\")&\".\"&RIGHT(TEXT(B2449,\"0000\"),2)),0)","v":0}]
[2448,null,null,null,null,{"$f":"IF(OR(MAX($I$2:I2450)-I2450=0,D2450=0),\"\",MAX($I$2:I2450)-I2450)","v":""},"",0,10000,0,{"$f":"IF(B2450>0,WEEKNUM(TEXT(Definice!$F$3,\"0000\")&\".\"&TEXT(J2450,\"00\")&\".\"&RIGHT(TEXT(B2450,\"0000\"),2)),0)","v":0}]
[2449,null,null,null,null,{"$f":"IF(OR(MAX($I$2:I2451)-I2451=0,D2451=0),\"\",MAX($I$2:I2451)-I2451)","v":""},"",0,10000,0,{"$f":"IF(B2451>0,WEEKNUM(TEXT(Definice!$F$3,\"0000\")&\".\"&TEXT(J2451,\"00\")&\".\"&RIGHT(TEXT(B2451,\"0000\"),2)),0)","v":0}]
[2450,null,null,null,null,{"$f":"IF(OR(MAX($I$2:I2452)-I2452=0,D2452=0),\"\",MAX($I$2:I2452)-I2452)","v":""},"",0,10000,0,{"$f":"IF(B2452>0,WEEKNUM(TEXT(Definice!$F$3,\"0000\")&\".\"&TEXT(J2452,\"00\")&\".\"&RIGHT(TEXT(B2452,\"0000\"),2)),0)","v":0}]
[2451,null,null,null,null,{"$f":"IF(OR(MAX($I$2:I2453)-I2453=0,D2453=0),\"\",MAX($I$2:I2453)-I2453)","v":""},"",0,10000,0,{"$f":"IF(B2453>0,WEEKNUM(TEXT(Definice!$F$3,\"0000\")&\".\"&TEXT(J2453,\"00\")&\".\"&RIGHT(TEXT(B2453,\"0000\"),2)),0)","v":0}]
[2452,null,null,null,null,{"$f":"IF(OR(MAX($I$2:I2454)-I2454=0,D2454=0),\"\",MAX($I$2:I2454)-I2454)","v":""},"",0,10000,0,{"$f":"IF(B2454>0,WEEKNUM(TEXT(Definice!$F$3,\"0000\")&\".\"&TEXT(J2454,\"00\")&\".\"&RIGHT(TEXT(B2454,\"0000\"),2)),0)","v":0}]
[2453,null,null,null,null,{"$f":"IF(OR(MAX($I$2:I2455)-I2455=0,D2455=0),\"\",MAX($I$2:I2455)-I2455)","v":""},"",0,10000,0,{"$f":"IF(B2455>0,WEEKNUM(TEXT(Definice!$F$3,\"0000\")&\".\"&TEXT(J2455,\"00\")&\".\"&RIGHT(TEXT(B2455,\"0000\"),2)),0)","v":0}]
[2454,null,null,null,null,{"$f":"IF(OR(MAX($I$2:I2456)-I2456=0,D2456=0),\"\",MAX($I$2:I2456)-I2456)","v":""},"",0,10000,0,{"$f":"IF(B2456>0,WEEKNUM(TEXT(Definice!$F$3,\"0000\")&\".\"&TEXT(J2456,\"00\")&\".\"&RIGHT(TEXT(B2456,\"0000\"),2)),0)","v":0}]
[2455,null,null,null,null,{"$f":"IF(OR(MAX($I$2:I2457)-I2457=0,D2457=0),\"\",MAX($I$2:I2457)-I2457)","v":""},"",0,10000,0,{"$f":"IF(B2457>0,WEEKNUM(TEXT(Definice!$F$3,\"0000\")&\".\"&TEXT(J2457,\"00\")&\".\"&RIGHT(TEXT(B2457,\"0000\"),2)),0)","v":0}]
[2456,null,null,null,null,{"$f":"IF(OR(MAX($I$2:I2458)-I2458=0,D2458=0),\"\",MAX($I$2:I2458)-I2458)","v":""},"",0,10000,0,{"$f":"IF(B2458>0,WEEKNUM(TEXT(Definice!$F$3,\"0000\")&\".\"&TEXT(J2458,\"00\")&\".\"&RIGHT(TEXT(B2458,\"0000\"),2)),0)","v":0}]
[2457,null,null,null,null,{"$f":"IF(OR(MAX($I$2:I2459)-I2459=0,D2459=0),\"\",MAX($I$2:I2459)-I2459)","v":""},"",0,10000,0,{"$f":"IF(B2459>0,WEEKNUM(TEXT(Definice!$F$3,\"0000\")&\".\"&TEXT(J2459,\"00\")&\".\"&RIGHT(TEXT(B2459,\"0000\"),2)),0)","v":0}]
[2458,null,null,null,null,{"$f":"IF(OR(MAX($I$2:I2460)-I2460=0,D2460=0),\"\",MAX($I$2:I2460)-I2460)","v":""},"",0,10000,0,{"$f":"IF(B2460>0,WEEKNUM(TEXT(Definice!$F$3,\"0000\")&\".\"&TEXT(J2460,\"00\")&\".\"&RIGHT(TEXT(B2460,\"0000\"),2)),0)","v":0}]
[2459,null,null,null,null,{"$f":"IF(OR(MAX($I$2:I2461)-I2461=0,D2461=0),\"\",MAX($I$2:I2461)-I2461)","v":""},"",0,10000,0,{"$f":"IF(B2461>0,WEEKNUM(TEXT(Definice!$F$3,\"0000\")&\".\"&TEXT(J2461,\"00\")&\".\"&RIGHT(TEXT(B2461,\"0000\"),2)),0)","v":0}]
[2460,null,null,null,null,{"$f":"IF(OR(MAX($I$2:I2462)-I2462=0,D2462=0),\"\",MAX($I$2:I2462)-I2462)","v":""},"",0,10000,0,{"$f":"IF(B2462>0,WEEKNUM(TEXT(Definice!$F$3,\"0000\")&\".\"&TEXT(J2462,\"00\")&\".\"&RIGHT(TEXT(B2462,\"0000\"),2)),0)","v":0}]
[2461,null,null,null,null,{"$f":"IF(OR(MAX($I$2:I2463)-I2463=0,D2463=0),\"\",MAX($I$2:I2463)-I2463)","v":""},"",0,10000,0,{"$f":"IF(B2463>0,WEEKNUM(TEXT(Definice!$F$3,\"0000\")&\".\"&TEXT(J2463,\"00\")&\".\"&RIGHT(TEXT(B2463,\"0000\"),2)),0)","v":0}]
[2462,null,null,null,null,{"$f":"IF(OR(MAX($I$2:I2464)-I2464=0,D2464=0),\"\",MAX($I$2:I2464)-I2464)","v":""},"",0,10000,0,{"$f":"IF(B2464>0,WEEKNUM(TEXT(Definice!$F$3,\"0000\")&\".\"&TEXT(J2464,\"00\")&\".\"&RIGHT(TEXT(B2464,\"0000\"),2)),0)","v":0}]
[2463,null,null,null,null,{"$f":"IF(OR(MAX($I$2:I2465)-I2465=0,D2465=0),\"\",MAX($I$2:I2465)-I2465)","v":""},"",0,10000,0,{"$f":"IF(B2465>0,WEEKNUM(TEXT(Definice!$F$3,\"0000\")&\".\"&TEXT(J2465,\"00\")&\".\"&RIGHT(TEXT(B2465,\"0000\"),2)),0)","v":0}]
[2464,null,null,null,null,{"$f":"IF(OR(MAX($I$2:I2466)-I2466=0,D2466=0),\"\",MAX($I$2:I2466)-I2466)","v":""},"",0,10000,0,{"$f":"IF(B2466>0,WEEKNUM(TEXT(Definice!$F$3,\"0000\")&\".\"&TEXT(J2466,\"00\")&\".\"&RIGHT(TEXT(B2466,\"0000\"),2)),0)","v":0}]
[2465,null,null,null,null,{"$f":"IF(OR(MAX($I$2:I2467)-I2467=0,D2467=0),\"\",MAX($I$2:I2467)-I2467)","v":""},"",0,10000,0,{"$f":"IF(B2467>0,WEEKNUM(TEXT(Definice!$F$3,\"0000\")&\".\"&TEXT(J2467,\"00\")&\".\"&RIGHT(TEXT(B2467,\"0000\"),2)),0)","v":0}]
[2466,null,null,null,null,{"$f":"IF(OR(MAX($I$2:I2468)-I2468=0,D2468=0),\"\",MAX($I$2:I2468)-I2468)","v":""},"",0,10000,0,{"$f":"IF(B2468>0,WEEKNUM(TEXT(Definice!$F$3,\"0000\")&\".\"&TEXT(J2468,\"00\")&\".\"&RIGHT(TEXT(B2468,\"0000\"),2)),0)","v":0}]
[2467,null,null,null,null,{"$f":"IF(OR(MAX($I$2:I2469)-I2469=0,D2469=0),\"\",MAX($I$2:I2469)-I2469)","v":""},"",0,10000,0,{"$f":"IF(B2469>0,WEEKNUM(TEXT(Definice!$F$3,\"0000\")&\".\"&TEXT(J2469,\"00\")&\".\"&RIGHT(TEXT(B2469,\"0000\"),2)),0)","v":0}]
[2468,null,null,null,null,{"$f":"IF(OR(MAX($I$2:I2470)-I2470=0,D2470=0),\"\",MAX($I$2:I2470)-I2470)","v":""},"",0,10000,0,{"$f":"IF(B2470>0,WEEKNUM(TEXT(Definice!$F$3,\"0000\")&\".\"&TEXT(J2470,\"00\")&\".\"&RIGHT(TEXT(B2470,\"0000\"),2)),0)","v":0}]
[2469,null,null,null,null,{"$f":"IF(OR(MAX($I$2:I2471)-I2471=0,D2471=0),\"\",MAX($I$2:I2471)-I2471)","v":""},"",0,10000,0,{"$f":"IF(B2471>0,WEEKNUM(TEXT(Definice!$F$3,\"0000\")&\".\"&TEXT(J2471,\"00\")&\".\"&RIGHT(TEXT(B2471,\"0000\"),2)),0)","v":0}]
[2470,null,null,null,null,{"$f":"IF(OR(MAX($I$2:I2472)-I2472=0,D2472=0),\"\",MAX($I$2:I2472)-I2472)","v":""},"",0,10000,0,{"$f":"IF(B2472>0,WEEKNUM(TEXT(Definice!$F$3,\"0000\")&\".\"&TEXT(J2472,\"00\")&\".\"&RIGHT(TEXT(B2472,\"0000\"),2)),0)","v":0}]
[2471,null,null,null,null,{"$f":"IF(OR(MAX($I$2:I2473)-I2473=0,D2473=0),\"\",MAX($I$2:I2473)-I2473)","v":""},"",0,10000,0,{"$f":"IF(B2473>0,WEEKNUM(TEXT(Definice!$F$3,\"0000\")&\".\"&TEXT(J2473,\"00\")&\".\"&RIGHT(TEXT(B2473,\"0000\"),2)),0)","v":0}]
[2472,null,null,null,null,{"$f":"IF(OR(MAX($I$2:I2474)-I2474=0,D2474=0),\"\",MAX($I$2:I2474)-I2474)","v":""},"",0,10000,0,{"$f":"IF(B2474>0,WEEKNUM(TEXT(Definice!$F$3,\"0000\")&\".\"&TEXT(J2474,\"00\")&\".\"&RIGHT(TEXT(B2474,\"0000\"),2)),0)","v":0}]
[2473,null,null,null,null,{"$f":"IF(OR(MAX($I$2:I2475)-I2475=0,D2475=0),\"\",MAX($I$2:I2475)-I2475)","v":""},"",0,10000,0,{"$f":"IF(B2475>0,WEEKNUM(TEXT(Definice!$F$3,\"0000\")&\".\"&TEXT(J2475,\"00\")&\".\"&RIGHT(TEXT(B2475,\"0000\"),2)),0)","v":0}]
[2474,null,null,null,null,{"$f":"IF(OR(MAX($I$2:I2476)-I2476=0,D2476=0),\"\",MAX($I$2:I2476)-I2476)","v":""},"",0,10000,0,{"$f":"IF(B2476>0,WEEKNUM(TEXT(Definice!$F$3,\"0000\")&\".\"&TEXT(J2476,\"00\")&\".\"&RIGHT(TEXT(B2476,\"0000\"),2)),0)","v":0}]
[2475,null,null,null,null,{"$f":"IF(OR(MAX($I$2:I2477)-I2477=0,D2477=0),\"\",MAX($I$2:I2477)-I2477)","v":""},"",0,10000,0,{"$f":"IF(B2477>0,WEEKNUM(TEXT(Definice!$F$3,\"0000\")&\".\"&TEXT(J2477,\"00\")&\".\"&RIGHT(TEXT(B2477,\"0000\"),2)),0)","v":0}]
[2476,null,null,null,null,{"$f":"IF(OR(MAX($I$2:I2478)-I2478=0,D2478=0),\"\",MAX($I$2:I2478)-I2478)","v":""},"",0,10000,0,{"$f":"IF(B2478>0,WEEKNUM(TEXT(Definice!$F$3,\"0000\")&\".\"&TEXT(J2478,\"00\")&\".\"&RIGHT(TEXT(B2478,\"0000\"),2)),0)","v":0}]
[2477,null,null,null,null,{"$f":"IF(OR(MAX($I$2:I2479)-I2479=0,D2479=0),\"\",MAX($I$2:I2479)-I2479)","v":""},"",0,10000,0,{"$f":"IF(B2479>0,WEEKNUM(TEXT(Definice!$F$3,\"0000\")&\".\"&TEXT(J2479,\"00\")&\".\"&RIGHT(TEXT(B2479,\"0000\"),2)),0)","v":0}]
[2478,null,null,null,null,{"$f":"IF(OR(MAX($I$2:I2480)-I2480=0,D2480=0),\"\",MAX($I$2:I2480)-I2480)","v":""},"",0,10000,0,{"$f":"IF(B2480>0,WEEKNUM(TEXT(Definice!$F$3,\"0000\")&\".\"&TEXT(J2480,\"00\")&\".\"&RIGHT(TEXT(B2480,\"0000\"),2)),0)","v":0}]
[2479,null,null,null,null,{"$f":"IF(OR(MAX($I$2:I2481)-I2481=0,D2481=0),\"\",MAX($I$2:I2481)-I2481)","v":""},"",0,10000,0,{"$f":"IF(B2481>0,WEEKNUM(TEXT(Definice!$F$3,\"0000\")&\".\"&TEXT(J2481,\"00\")&\".\"&RIGHT(TEXT(B2481,\"0000\"),2)),0)","v":0}]
[2480,null,null,null,null,{"$f":"IF(OR(MAX($I$2:I2482)-I2482=0,D2482=0),\"\",MAX($I$2:I2482)-I2482)","v":""},"",0,10000,0,{"$f":"IF(B2482>0,WEEKNUM(TEXT(Definice!$F$3,\"0000\")&\".\"&TEXT(J2482,\"00\")&\".\"&RIGHT(TEXT(B2482,\"0000\"),2)),0)","v":0}]
[2481,null,null,null,null,{"$f":"IF(OR(MAX($I$2:I2483)-I2483=0,D2483=0),\"\",MAX($I$2:I2483)-I2483)","v":""},"",0,10000,0,{"$f":"IF(B2483>0,WEEKNUM(TEXT(Definice!$F$3,\"0000\")&\".\"&TEXT(J2483,\"00\")&\".\"&RIGHT(TEXT(B2483,\"0000\"),2)),0)","v":0}]
[2482,null,null,null,null,{"$f":"IF(OR(MAX($I$2:I2484)-I2484=0,D2484=0),\"\",MAX($I$2:I2484)-I2484)","v":""},"",0,10000,0,{"$f":"IF(B2484>0,WEEKNUM(TEXT(Definice!$F$3,\"0000\")&\".\"&TEXT(J2484,\"00\")&\".\"&RIGHT(TEXT(B2484,\"0000\"),2)),0)","v":0}]
[2483,null,null,null,null,{"$f":"IF(OR(MAX($I$2:I2485)-I2485=0,D2485=0),\"\",MAX($I$2:I2485)-I2485)","v":""},"",0,10000,0,{"$f":"IF(B2485>0,WEEKNUM(TEXT(Definice!$F$3,\"0000\")&\".\"&TEXT(J2485,\"00\")&\".\"&RIGHT(TEXT(B2485,\"0000\"),2)),0)","v":0}]
[2484,null,null,null,null,{"$f":"IF(OR(MAX($I$2:I2486)-I2486=0,D2486=0),\"\",MAX($I$2:I2486)-I2486)","v":""},"",0,10000,0,{"$f":"IF(B2486>0,WEEKNUM(TEXT(Definice!$F$3,\"0000\")&\".\"&TEXT(J2486,\"00\")&\".\"&RIGHT(TEXT(B2486,\"0000\"),2)),0)","v":0}]
[2485,null,null,null,null,{"$f":"IF(OR(MAX($I$2:I2487)-I2487=0,D2487=0),\"\",MAX($I$2:I2487)-I2487)","v":""},"",0,10000,0,{"$f":"IF(B2487>0,WEEKNUM(TEXT(Definice!$F$3,\"0000\")&\".\"&TEXT(J2487,\"00\")&\".\"&RIGHT(TEXT(B2487,\"0000\"),2)),0)","v":0}]
[2486,null,null,null,null,{"$f":"IF(OR(MAX($I$2:I2488)-I2488=0,D2488=0),\"\",MAX($I$2:I2488)-I2488)","v":""},"",0,10000,0,{"$f":"IF(B2488>0,WEEKNUM(TEXT(Definice!$F$3,\"0000\")&\".\"&TEXT(J2488,\"00\")&\".\"&RIGHT(TEXT(B2488,\"0000\"),2)),0)","v":0}]
[2487,null,null,null,null,{"$f":"IF(OR(MAX($I$2:I2489)-I2489=0,D2489=0),\"\",MAX($I$2:I2489)-I2489)","v":""},"",0,10000,0,{"$f":"IF(B2489>0,WEEKNUM(TEXT(Definice!$F$3,\"0000\")&\".\"&TEXT(J2489,\"00\")&\".\"&RIGHT(TEXT(B2489,\"0000\"),2)),0)","v":0}]
[2488,null,null,null,null,{"$f":"IF(OR(MAX($I$2:I2490)-I2490=0,D2490=0),\"\",MAX($I$2:I2490)-I2490)","v":""},"",0,10000,0,{"$f":"IF(B2490>0,WEEKNUM(TEXT(Definice!$F$3,\"0000\")&\".\"&TEXT(J2490,\"00\")&\".\"&RIGHT(TEXT(B2490,\"0000\"),2)),0)","v":0}]
[2489,null,null,null,null,{"$f":"IF(OR(MAX($I$2:I2491)-I2491=0,D2491=0),\"\",MAX($I$2:I2491)-I2491)","v":""},"",0,10000,0,{"$f":"IF(B2491>0,WEEKNUM(TEXT(Definice!$F$3,\"0000\")&\".\"&TEXT(J2491,\"00\")&\".\"&RIGHT(TEXT(B2491,\"0000\"),2)),0)","v":0}]
[2490,null,null,null,null,{"$f":"IF(OR(MAX($I$2:I2492)-I2492=0,D2492=0),\"\",MAX($I$2:I2492)-I2492)","v":""},"",0,10000,0,{"$f":"IF(B2492>0,WEEKNUM(TEXT(Definice!$F$3,\"0000\")&\".\"&TEXT(J2492,\"00\")&\".\"&RIGHT(TEXT(B2492,\"0000\"),2)),0)","v":0}]
[2491,null,null,null,null,{"$f":"IF(OR(MAX($I$2:I2493)-I2493=0,D2493=0),\"\",MAX($I$2:I2493)-I2493)","v":""},"",0,10000,0,{"$f":"IF(B2493>0,WEEKNUM(TEXT(Definice!$F$3,\"0000\")&\".\"&TEXT(J2493,\"00\")&\".\"&RIGHT(TEXT(B2493,\"0000\"),2)),0)","v":0}]
[2492,null,null,null,null,{"$f":"IF(OR(MAX($I$2:I2494)-I2494=0,D2494=0),\"\",MAX($I$2:I2494)-I2494)","v":""},"",0,10000,0,{"$f":"IF(B2494>0,WEEKNUM(TEXT(Definice!$F$3,\"0000\")&\".\"&TEXT(J2494,\"00\")&\".\"&RIGHT(TEXT(B2494,\"0000\"),2)),0)","v":0}]
[2493,null,null,null,null,{"$f":"IF(OR(MAX($I$2:I2495)-I2495=0,D2495=0),\"\",MAX($I$2:I2495)-I2495)","v":""},"",0,10000,0,{"$f":"IF(B2495>0,WEEKNUM(TEXT(Definice!$F$3,\"0000\")&\".\"&TEXT(J2495,\"00\")&\".\"&RIGHT(TEXT(B2495,\"0000\"),2)),0)","v":0}]
[2494,null,null,null,null,{"$f":"IF(OR(MAX($I$2:I2496)-I2496=0,D2496=0),\"\",MAX($I$2:I2496)-I2496)","v":""},"",0,10000,0,{"$f":"IF(B2496>0,WEEKNUM(TEXT(Definice!$F$3,\"0000\")&\".\"&TEXT(J2496,\"00\")&\".\"&RIGHT(TEXT(B2496,\"0000\"),2)),0)","v":0}]
[2495,null,null,null,null,{"$f":"IF(OR(MAX($I$2:I2497)-I2497=0,D2497=0),\"\",MAX($I$2:I2497)-I2497)","v":""},"",0,10000,0,{"$f":"IF(B2497>0,WEEKNUM(TEXT(Definice!$F$3,\"0000\")&\".\"&TEXT(J2497,\"00\")&\".\"&RIGHT(TEXT(B2497,\"0000\"),2)),0)","v":0}]
[2496,null,null,null,null,{"$f":"IF(OR(MAX($I$2:I2498)-I2498=0,D2498=0),\"\",MAX($I$2:I2498)-I2498)","v":""},"",0,10000,0,{"$f":"IF(B2498>0,WEEKNUM(TEXT(Definice!$F$3,\"0000\")&\".\"&TEXT(J2498,\"00\")&\".\"&RIGHT(TEXT(B2498,\"0000\"),2)),0)","v":0}]
[2497,null,null,null,null,{"$f":"IF(OR(MAX($I$2:I2499)-I2499=0,D2499=0),\"\",MAX($I$2:I2499)-I2499)","v":""},"",0,10000,0,{"$f":"IF(B2499>0,WEEKNUM(TEXT(Definice!$F$3,\"0000\")&\".\"&TEXT(J2499,\"00\")&\".\"&RIGHT(TEXT(B2499,\"0000\"),2)),0)","v":0}]
[2498,null,null,null,null,{"$f":"IF(OR(MAX($I$2:I2500)-I2500=0,D2500=0),\"\",MAX($I$2:I2500)-I2500)","v":""},"",0,10000,0,{"$f":"IF(B2500>0,WEEKNUM(TEXT(Definice!$F$3,\"0000\")&\".\"&TEXT(J2500,\"00\")&\".\"&RIGHT(TEXT(B2500,\"0000\"),2)),0)","v":0}]
[2499,null,null,null,null,{"$f":"IF(OR(MAX($I$2:I2501)-I2501=0,D2501=0),\"\",MAX($I$2:I2501)-I2501)","v":""},"",0,10000,0,{"$f":"IF(B2501>0,WEEKNUM(TEXT(Definice!$F$3,\"0000\")&\".\"&TEXT(J2501,\"00\")&\".\"&RIGHT(TEXT(B2501,\"0000\"),2)),0)","v":0}]

{"sheet":"Řady","index":3,"n_rows":1000,"n_cols":23,"rows_kept":1000,"cut":false,"hidden":false,"merged":[[0,0,0,6],[0,8,0,14],[0,16,0,22]]}
["Dny",null,null,null,null,null,null,null,"Týdny",null,null,null,null,null,null,null,"Měsíce"]
["Den","Počet","Profit","DD","DD %","SUM","Účet",null,"Týden","Počet","Profit","DD","DD %","SUM","Účet",null,"Měsíc","Počet","Profit","DD","DD %","SUM","Účet"]
[null,null,null,null,null,null,{"$f":"Účet!E2","v":10000},null,null,null,null,null,null,null,{"$f":"Účet!E2","v":10000},null,null,null,null,null,null,null,{"$f":"Účet!E2","v":10000}]
[null,null,null,{"$f":"IF(A4>0,IF(OR(MAX($G$3:G4)-G4=0,A4=0),\"\",MAX($G$3:G4)-G4),\"\")","v":""},{"$f":"IF(D4=\"\",\"\",D4/(F4+$G$4))","v":""},{"$f":"C4","v":0},{"$f":"Účet!E2+Řady!C4","v":10000},null,null,null,null,{"$f":"IF(I4>0,IF(OR(MAX($O$3:O4)-O4=0,I4=0),\"\",MAX($O$3:O4)-O4),\"\")","v":""},{"$f":"IF(L4=\"\",\"\",L4/(N4+$O$4))","v":""},{"$f":"K4","v":0},{"$f":"Účet!E2+K4","v":10000},null,null,null,null,{"$f":"IF(I4>0,IF(OR(MAX($W$3:W4)-W4=0,Q4=0),\"\",MAX($W$3:W4)-W4),\"\")","v":""},{"$f":"IF(T4=\"\",\"\",T4/(V4+$W$4))","v":""},{"$f":"S4","v":0},{"$f":"Účet!E2+Řady!S4","v":10000}]
[null,null,null,{"$f":"IF(A5>0,IF(OR(MAX($G$3:G5)-G5=0,A5=0),\"\",MAX($G$3:G5)-G5),\"\")","v":""},{"$f":"IF(D5=\"\",\"\",D5/(F5+G4))","v":""},{"$f":"IF(A5>0,F4+C5,\"\")","v":""},{"$f":"IF(A5>0,G4+C5,\"\")","v":""},null,null,null,null,{"$f":"IF(I5>0,IF(OR(MAX($O$3:O5)-O5=0,I5=0),\"\",MAX($O$3:O5)-O5),\"\")","v":""},{"$f":"IF(L5=\"\",\"\",L5/(N5+O4))","v":""},{"$f":"IF(I5>0,N4+K5,\"\")","v":""},{"$f":"IF(I5>0,O4+K5,\"\")","v":""},null,null,null,null,{"$f":"IF(I5>0,IF(OR(MAX($W$3:W5)-W5=0,Q5=0),\"\",MAX($W$3:W5)-W5),\"\")","v":""},{"$f":"IF(T5=\"\",\"\",T5/(V5+W4))","v":""},{"$f":"IF(Q5>0,V4+S5,\"\")","v":""},{"$f":"IF(Q5>0,W4+S5,\"\")","v":""}]
[null,null,null,{"$f":"IF(A6>0,IF(OR(MAX($G$3:G6)-G6=0,A6=0),\"\",MAX($G$3:G6)-G6),\"\")","v":""},{"$f":"IF(D6=\"\",\"\",D6/(F6+G5))","v":""},"","",null,null,null,null,{"$f":"IF(I6>0,IF(OR(MAX($O$3:O6)-O6=0,I6=0),\"\",MAX($O$3:O6)-O6),\"\")","v":""},{"$f":"IF(L6=\"\",\"\",L6/(N6+O5))","v":""},{"$f":"IF(I6>0,N5+K6,\"\")","v":""},{"$f":"IF(I6>0,O5+K6,\"\")","v":""},null,null,null,null,{"$f":"IF(I6>0,IF(OR(MAX($W$3:W6)-W6=0,Q6=0),\"\",MAX($W$3:W6)-W6),\"\")","v":""},{"$f":"IF(T6=\"\",\"\",T6/(V6+W5))","v":""},{"$f":"IF(Q6>0,V5+S6,\"\")","v":""},{"$f":"IF(Q6>0,W5+S6,\"\")","v":""}]
[null,null,null,{"$f":"IF(A7>0,IF(OR(MAX($G$3:G7)-G7=0,A7=0),\"\",MAX($G$3:G7)-G7),\"\")","v":""},{"$f":"IF(D7=\"\",\"\",D7/(F7+G6))","v":""},{"$f":"IF(A7>0,F6+C7,\"\")","v":""},{"$f":"IF(A7>0,G6+C7,\"\")","v":""},null,null,null,null,{"$f":"IF(I7>0,IF(OR(MAX($O$3:O7)-O7=0,I7=0),\"\",MAX($O$3:O7)-O7),\"\")","v":""},"","","",null,null,null,null,{"$f":"IF(I7>0,IF(OR(MAX($W$3:W7)-W7=0,Q7=0),\"\",MAX($W$3:W7)-W7),\"\")","v":""},"","",""]
[null,null,null,{"$f":"IF(A8>0,IF(OR(MAX($G$3:G8)-G8=0,A8=0),\"\",MAX($G$3:G8)-G8),\"\")","v":""},{"$f":"IF(D8=\"\",\"\",D8/(F8+G7))","v":""},{"$f":"IF(A8>0,F7+C8,\"\")","v":""},{"$f":"IF(A8>0,G7+C8,\"\")","v":""},null,null,null,null,{"$f":"IF(I8>0,IF(OR(MAX($O$3:O8)-O8=0,I8=0),\"\",MAX($O$3:O8)-O8),\"\")","v":""},"","","",null,null,null,null,{"$f":"IF(I8>0,IF(OR(MAX($W$3:W8)-W8=0,Q8=0),\"\",MAX($W$3:W8)-W8),\"\")","v":""},"","",""]
[null,null,null,{"$f":"IF(A9>0,IF(OR(MAX($G$3:G9)-G9=0,A9=0),\"\",MAX($G$3:G9)-G9),\"\")","v":""},"","","",null,null,null,null,{"$f":"IF(I9>0,IF(OR(MAX($O$3:O9)-O9=0,I9=0),\"\",MAX($O$3:O9)-O9),\"\")","v":""},"","","",null,null,null,null,{"$f":"IF(I9>0,IF(OR(MAX($W$3:W9)-W9=0,Q9=0),\"\",MAX($W$3:W9)-W9),\"\")","v":""},"","",""]
[null,null,null,{"$f":"IF(A10>0,IF(OR(MAX($G$3:G10)-G10=0,A10=0),\"\",MAX($G$3:G10)-G10),\"\")","v":""},"","","",null,null,null,null,{"$f":"IF(I10>0,IF(OR(MAX($O$3:O10)-O10=0,I10=0),\"\",MAX($O$3:O10)-O10),\"\")","v":""},"","","",null,null,null,null,{"$f":"IF(I10>0,IF(OR(MAX($W$3:W10)-W10=0,Q10=0),\"\",MAX($W$3:W10)-W10),\"\")","v":""},"","",""]
[null,null,null,{"$f":"IF(A11>0,IF(OR(MAX($G$3:G11)-G11=0,A11=0),\"\",MAX($G$3:G11)-G11),\"\")","v":""},"","","",null,null,null,null,{"$f":"IF(I11>0,IF(OR(MAX($O$3:O11)-O11=0,I11=0),\"\",MAX($O$3:O11)-O11),\"\")","v":""},"","","",null,null,null,null,{"$f":"IF(I11>0,IF(OR(MAX($W$3:W11)-W11=0,Q11=0),\"\",MAX($W$3:W11)-W11),\"\")","v":""},"","",""]
[null,null,null,{"$f":"IF(A12>0,IF(OR(MAX($G$3:G12)-G12=0,A12=0),\"\",MAX($G$3:G12)-G12),\"\")","v":""},"","","",null,null,null,null,{"$f":"IF(I12>0,IF(OR(MAX($O$3:O12)-O12=0,I12=0),\"\",MAX($O$3:O12)-O12),\"\")","v":""},"","","",null,null,null,null,{"$f":"IF(I12>0,IF(OR(MAX($W$3:W12)-W12=0,Q12=0),\"\",MAX($W$3:W12)-W12),\"\")","v":""},"","",""]
[null,null,null,{"$f":"IF(A13>0,IF(OR(MAX($G$3:G13)-G13=0,A13=0),\"\",MAX($G$3:G13)-G13),\"\")","v":""},"","","",null,null,null,null,{"$f":"IF(I13>0,IF(OR(MAX($O$3:O13)-O13=0,I13=0),\"\",MAX($O$3:O13)-O13),\"\")","v":""},"","","",null,null,null,null,{"$f":"IF(I13>0,IF(OR(MAX($W$3:W13)-W13=0,Q13=0),\"\",MAX($W$3:W13)-W13),\"\")","v":""},"","",""]
[null,null,null,{"$f":"IF(A14>0,IF(OR(MAX($G$3:G14)-G14=0,A14=0),\"\",MAX($G$3:G14)-G14),\"\")","v":""},"","","",null,null,null,null,{"$f":"IF(I14>0,IF(OR(MAX($O$3:O14)-O14=0,I14=0),\"\",MAX($O$3:O14)-O14),\"\")","v":""},"","","",null,null,null,null,{"$f":"IF(I14>0,IF(OR(MAX($W$3:W14)-W14=0,Q14=0),\"\",MAX($W$3:W14)-W14),\"\")","v":""},"","",""]
[null,null,null,{"$f":"IF(A15>0,IF(OR(MAX($G$3:G15)-G15=0,A15=0),\"\",MAX($G$3:G15)-G15),\"\")","v":""},"","","",null,null,null,null,{"$f":"IF(I15>0,IF(OR(MAX($O$3:O15)-O15=0,I15=0),\"\",MAX($O$3:O15)-O15),\"\")","v":""},"","","",null,null,null,null,{"$f":"IF(I15>0,IF(OR(MAX($W$3:W15)-W15=0,Q15=0),\"\",MAX($W$3:W15)-W15),\"\")","v":""},"","",""]
[null,null,null,{"$f":"IF(A16>0,IF(OR(MAX($G$3:G16)-G16=0,A16=0),\"\",MAX($G$3:G16)-G16),\"\")","v":""},"","","",null,null,null,null,{"$f":"IF(I16>0,IF(OR(MAX($O$3:O16)-O16=0,I16=0),\"\",MAX($O$3:O16)-O16),\"\")","v":""},"","","",null,null,null,null,{"$f":"IF(I16>0,IF(OR(MAX($W$3:W16)-W16=0,Q16=0),\"\",MAX($W$3:W16)-W16),\"\")","v":""},"","",""]
[null,null,null,{"$f":"IF(A17>0,IF(OR(MAX($G$3:G17)-G17=0,A17=0),\"\",MAX($G$3:G17)-G17),\"\")","v":""},"","","",null,null,null,null,{"$f":"IF(I17>0,IF(OR(MAX($O$3:O17)-O17=0,I17=0),\"\",MAX($O$3:O17)-O17),\"\")","v":""},"","","",null,null,null,null,{"$f":"IF(I17>0,IF(OR(MAX($W$3:W17)-W17=0,Q17=0),\"\",MAX($W$3:W17)-W17),\"\")","v":""},"","",""]
[null,null,null,{"$f":"IF(A18>0,IF(OR(MAX($G$3:G18)-G18=0,A18=0),\"\",MAX($G$3:G18)-G18),\"\")","v":""},"","","",null,null,null,null,{"$f":"IF(I18>0,IF(OR(MAX($O$3:O18)-O18=0,I18=0),\"\",MAX($O$3:O18)-O18),\"\")","v":""},"","","",null,null,null,null,{"$f":"IF(I18>0,IF(OR(MAX($W$3:W18)-W18=0,Q18=0),\"\",MAX($W$3:W18)-W18),\"\")","v":""},"","",""]
[null,null,null,{"$f":"IF(A19>0,IF(OR(MAX($G$3:G19)-G19=0,A19=0),\"\",MAX($G$3:G19)-G19),\"\")","v":""},"","","",null,null,null,null,{"$f":"IF(I19>0,IF(OR(MAX($O$3:O19)-O19=0,I19=0),\"\",MAX($O$3:O19)-O19),\"\")","v":""},"","","",null,null,null,null,{"$f":"IF(I19>0,IF(OR(MAX($W$3:W19)-W19=0,Q19=0),\"\",MAX($W$3:W19)-W19),\"\")","v":""},"","",""]
[null,null,null,{"$f":"IF(A20>0,IF(OR(MAX($G$3:G20)-G20=0,A20=0),\"\",MAX($G$3:G20)-G20),\"\")","v":""},"","","",null,null,null,null,{"$f":"IF(I20>0,IF(OR(MAX($O$3:O20)-O20=0,I20=0),\"\",MAX($O$3:O20)-O20),\"\")","v":""},"","","",null,null,null,null,{"$f":"IF(I20>0,IF(OR(MAX($W$3:W20)-W20=0,Q20=0),\"\",MAX($W$3:W20)-W20),\"\")","v":""},"","",""]
[null,null,null,{"$f":"IF(A21>0,IF(OR(MAX($G$3:G21)-G21=0,A21=0),\"\",MAX($G$3:G21)-G21),\"\")","v":""},"","","",null,null,null,null,{"$f":"IF(I21>0,IF(OR(MAX($O$3:O21)-O21=0,I21=0),\"\",MAX($O$3:O21)-O21),\"\")","v":""},"","","",null,null,null,null,{"$f":"IF(I21>0,IF(OR(MAX($W$3:W21)-W21=0,Q21=0),\"\",MAX($W$3:W21)-W21),\"\")","v":""},"","",""]
[null,null,null,{"$f":"IF(A22>0,IF(OR(MAX($G$3:G22)-G22=0,A22=0),\"\",MAX($G$3:G22)-G22),\"\")","v":""},"","","",null,null,null,null,{"$f":"IF(I22>0,IF(OR(MAX($O$3:O22)-O22=0,I22=0),\"\",MAX($O$3:O22)-O22),\"\")","v":""},"","","",null,null,null,null,{"$f":"IF(I22>0,IF(OR(MAX($W$3:W22)-W22=0,Q22=0),\"\",MAX($W$3:W22)-W22),\"\")","v":""},"","",""]
[null,null,null,{"$f":"IF(A23>0,IF(OR(MAX($G$3:G23)-G23=0,A23=0),\"\",MAX($G$3:G23)-G23),\"\")","v":""},"","","",null,null,null,null,{"$f":"IF(I23>0,IF(OR(MAX($O$3:O23)-O23=0,I23=0),\"\",MAX($O$3:O23)-O23),\"\")","v":""},"","","",null,null,null,null,{"$f":"IF(I23>0,IF(OR(MAX($W$3:W23)-W23=0,Q23=0),\"\",MAX($W$3:W23)-W23),\"\")","v":""},"","",""]
[null,null,null,{"$f":"IF(A24>0,IF(OR(MAX($G$3:G24)-G24=0,A24=0),\"\",MAX($G$3:G24)-G24),\"\")","v":""},"","","",null,null,null,null,{"$f":"IF(I24>0,IF(OR(MAX($O$3:O24)-O24=0,I24=0),\"\",MAX($O$3:O24)-O24),\"\")","v":""},"","","",null,null,null,null,{"$f":"IF(I24>0,IF(OR(MAX($W$3:W24)-W24=0,Q24=0),\"\",MAX($W$3:W24)-W24),\"\")","v":""},"","",""]
[null,null,null,{"$f":"IF(A25>0,IF(OR(MAX($G$3:G25)-G25=0,A25=0),\"\",MAX($G$3:G25)-G25),\"\")","v":""},"","","",null,null,null,null,{"$f":"IF(I25>0,IF(OR(MAX($O$3:O25)-O25=0,I25=0),\"\",MAX($O$3:O25)-O25),\"\")","v":""},"","","",null,null,null,null,{"$f":"IF(I25>0,IF(OR(MAX($W$3:W25)-W25=0,Q25=0),\"\",MAX($W$3:W25)-W25),\"\")","v":""},"","",""]
[null,null,null,{"$f":"IF(A26>0,IF(OR(MAX($G$3:G26)-G26=0,A26=0),\"\",MAX($G$3:G26)-G26),\"\")","v":""},"","","",null,null,null,null,{"$f":"IF(I26>0,IF(OR(MAX($O$3:O26)-O26=0,I26=0),\"\",MAX($O$3:O26)-O26),\"\")","v":""},"","","",null,null,null,null,{"$f":"IF(I26>0,IF(OR(MAX($W$3:W26)-W26=0,Q26=0),\"\",MAX($W$3:W26)-W26),\"\")","v":""},"","",""]
[null,null,null,{"$f":"IF(A27>0,IF(OR(MAX($G$3:G27)-G27=0,A27=0),\"\",MAX($G$3:G27)-G27),\"\")","v":""},"","","",null,null,null,null,{"$f":"IF(I27>0,IF(OR(MAX($O$3:O27)-O27=0,I27=0),\"\",MAX($O$3:O27)-O27),\"\")","v":""},"","","",null,null,null,null,{"$f":"IF(I27>0,IF(OR(MAX($W$3:W27)-W27=0,Q27=0),\"\",MAX($W$3:W27)-W27),\"\")","v":""},"","",""]
[null,null,null,{"$f":"IF(A28>0,IF(OR(MAX($G$3:G28)-G28=0,A28=0),\"\",MAX($G$3:G28)-G28),\"\")","v":""},"","","",null,null,null,null,{"$f":"IF(I28>0,IF(OR(MAX($O$3:O28)-O28=0,I28=0),\"\",MAX($O$3:O28)-O28),\"\")","v":""},"","","",null,null,null,null,{"$f":"IF(I28>0,IF(OR(MAX($W$3:W28)-W28=0,Q28=0),\"\",MAX($W$3:W28)-W28),\"\")","v":""},"","",""]
[null,null,null,{"$f":"IF(A29>0,IF(OR(MAX($G$3:G29)-G29=0,A29=0),\"\",MAX($G$3:G29)-G29),\"\")","v":""},"","","",null,null,null,null,{"$f":"IF(I29>0,IF(OR(MAX($O$3:O29)-O29=0,I29=0),\"\",MAX($O$3:O29)-O29),\"\")","v":""},"","","",null,null,null,null,{"$f":"IF(I29>0,IF(OR(MAX($W$3:W29)-W29=0,Q29=0),\"\",MAX($W$3:W29)-W29),\"\")","v":""},"","",""]
[null,null,null,{"$f":"IF(A30>0,IF(OR(MAX($G$3:G30)-G30=0,A30=0),\"\",MAX($G$3:G30)-G30),\"\")","v":""},"","","",null,null,null,null,{"$f":"IF(I30>0,IF(OR(MAX($O$3:O30)-O30=0,I30=0),\"\",MAX($O$3:O30)-O30),\"\")","v":""},"","","",null,null,null,null,{"$f":"IF(I30>0,IF(OR(MAX($W$3:W30)-W30=0,Q30=0),\"\",MAX($W$3:W30)-W30),\"\")","v":""},"","",""]
[null,null,null,{"$f":"IF(A31>0,IF(OR(MAX($G$3:G31)-G31=0,A31=0),\"\",MAX($G$3:G31)-G31),\"\")","v":""},"","","",null,null,null,null,{"$f":"IF(I31>0,IF(OR(MAX($O$3:O31)-O31=0,I31=0),\"\",MAX($O$3:O31)-O31),\"\")","v":""},"","","",null,null,null,null,{"$f":"IF(I31>0,IF(OR(MAX($W$3:W31)-W31=0,Q31=0),\"\",MAX($W$3:W31)-W31),\"\")","v":""},"","",""]
[null,null,null,{"$f":"IF(A32>0,IF(OR(MAX($G$3:G32)-G32=0,A32=0),\"\",MAX($G$3:G32)-G32),\"\")","v":""},"","","",null,null,null,null,{"$f":"IF(I32>0,IF(OR(MAX($O$3:O32)-O32=0,I32=0),\"\",MAX($O$3:O32)-O32),\"\")","v":""},"","","",null,null,null,null,{"$f":"IF(I32>0,IF(OR(MAX($W$3:W32)-W32=0,Q32=0),\"\",MAX($W$3:W32)-W32),\"\")","v":""},"","",""]
[null,null,null,{"$f":"IF(A33>0,IF(OR(MAX($G$3:G33)-G33=0,A33=0),\"\",MAX($G$3:G33)-G33),\"\")","v":""},"","","",null,null,null,null,{"$f":"IF(I33>0,IF(OR(MAX($O$3:O33)-O33=0,I33=0),\"\",MAX($O$3:O33)-O33),\"\")","v":""},"","","",null,null,null,null,{"$f":"IF(I33>0,IF(OR(MAX($W$3:W33)-W33=0,Q33=0),\"\",MAX($W$3:W33)-W33),\"\")","v":""},"","",""]
[null,null,null,{"$f":"IF(A34>0,IF(OR(MAX($G$3:G34)-G34=0,A34=0),\"\",MAX($G$3:G34)-G34),\"\")","v":""},"","","",null,null,null,null,{"$f":"IF(I34>0,IF(OR(MAX($O$3:O34)-O34=0,I34=0),\"\",MAX($O$3:O34)-O34),\"\")","v":""},"","","",null,null,null,null,{"$f":"IF(I34>0,IF(OR(MAX($W$3:W34)-W34=0,Q34=0),\"\",MAX($W$3:W34)-W34),\"\")","v":""},"","",""]
[null,null,null,{"$f":"IF(A35>0,IF(OR(MAX($G$3:G35)-G35=0,A35=0),\"\",MAX($G$3:G35)-G35),\"\")","v":""},"","","",null,null,null,null,{"$f":"IF(I35>0,IF(OR(MAX($O$3:O35)-O35=0,I35=0),\"\",MAX($O$3:O35)-O35),\"\")","v":""},"","","",null,null,null,null,{"$f":"IF(I35>0,IF(OR(MAX($W$3:W35)-W35=0,Q35=0),\"\",MAX($W$3:W35)-W35),\"\")","v":""},"","",""]
[null,null,null,{"$f":"IF(A36>0,IF(OR(MAX($G$3:G36)-G36=0,A36=0),\"\",MAX($G$3:G36)-G36),\"\")","v":""},"","","",null,null,null,null,{"$f":"IF(I36>0,IF(OR(MAX($O$3:O36)-O36=0,I36=0),\"\",MAX($O$3:O36)-O36),\"\")","v":""},"","","",null,null,null,null,{"$f":"IF(I36>0,IF(OR(MAX($W$3:W36)-W36=0,Q36=0),\"\",MAX($W$3:W36)-W36),\"\")","v":""},"","",""]
[null,null,null,{"$f":"IF(A37>0,IF(OR(MAX($G$3:G37)-G37=0,A37=0),\"\",MAX($G$3:G37)-G37),\"\")","v":""},"","","",null,null,null,null,{"$f":"IF(I37>0,IF(OR(MAX($O$3:O37)-O37=0,I37=0),\"\",MAX($O$3:O37)-O37),\"\")","v":""},"","","",null,null,null,null,{"$f":"IF(I37>0,IF(OR(MAX($W$3:W37)-W37=0,Q37=0),\"\",MAX($W$3:W37)-W37),\"\")","v":""},"","",""]
[null,null,null,{"$f":"IF(A38>0,IF(OR(MAX($G$3:G38)-G38=0,A38=0),\"\",MAX($G$3:G38)-G38),\"\")","v":""},"","","",null,null,null,null,{"$f":"IF(I38>0,IF(OR(MAX($O$3:O38)-O38=0,I38=0),\"\",MAX($O$3:O38)-O38),\"\")","v":""},"","","",null,null,null,null,{"$f":"IF(I38>0,IF(OR(MAX($W$3:W38)-W38=0,Q38=0),\"\",MAX($W$3:W38)-W38),\"\")","v":""},"","",""]
[null,null,null,{"$f":"IF(A39>0,IF(OR(MAX($G$3:G39)-G39=0,A39=0),\"\",MAX($G$3:G39)-G39),\"\")","v":""},"","","",null,null,null,null,{"$f":"IF(I39>0,IF(OR(MAX($O$3:O39)-O39=0,I39=0),\"\",MAX($O$3:O39)-O39),\"\")","v":""},"","","",null,null,null,null,{"$f":"IF(I39>0,IF(OR(MAX($W$3:W39)-W39=0,Q39=0),\"\",MAX($W$3:W39)-W39),\"\")","v":""},"","",""]
[null,null,null,{"$f":"IF(A40>0,IF(OR(MAX($G$3:G40)-G40=0,A40=0),\"\",MAX($G$3:G40)-G40),\"\")","v":""},"","","",null,null,null,null,{"$f":"IF(I40>0,IF(OR(MAX($O$3:O40)-O40=0,I40=0),\"\",MAX($O$3:O40)-O40),\"\")","v":""},"","","",null,null,null,null,{"$f":"IF(I40>0,IF(OR(MAX($W$3:W40)-W40=0,Q40=0),\"\",MAX($W$3:W40)-W40),\"\")","v":""},"","",""]
[null,null,null,{"$f":"IF(A41>0,IF(OR(MAX($G$3:G41)-G41=0,A41=0),\"\",MAX($G$3:G41)-G41),\"\")","v":""},"","","",null,null,null,null,{"$f":"IF(I41>0,IF(OR(MAX($O$3:O41)-O41=0,I41=0),\"\",MAX($O$3:O41)-O41),\"\")","v":""},"","","",null,null,null,null,{"$f":"IF(I41>0,IF(OR(MAX($W$3:W41)-W41=0,Q41=0),\"\",MAX($W$3:W41)-W41),\"\")","v":""},"","",""]
[null,null,null,{"$f":"IF(A42>0,IF(OR(MAX($G$3:G42)-G42=0,A42=0),\"\",MAX($G$3:G42)-G42),\"\")","v":""},"","","",null,null,null,null,{"$f":"IF(I42>0,IF(OR(MAX($O$3:O42)-O42=0,I42=0),\"\",MAX($O$3:O42)-O42),\"\")","v":""},"","","",null,null,null,null,{"$f":"IF(I42>0,IF(OR(MAX($W$3:W42)-W42=0,Q42=0),\"\",MAX($W$3:W42)-W42),\"\")","v":""},"","",""]
[null,null,null,{"$f":"IF(A43>0,IF(OR(MAX($G$3:G43)-G43=0,A43=0),\"\",MAX($G$3:G43)-G43),\"\")","v":""},"","","",null,null,null,null,{"$f":"IF(I43>0,IF(OR(MAX($O$3:O43)-O43=0,I43=0),\"\",MAX($O$3:O43)-O43),\"\")","v":""},"","","",null,null,null,null,{"$f":"IF(I43>0,IF(OR(MAX($W$3:W43)-W43=0,Q43=0),\"\",MAX($W$3:W43)-W43),\"\")","v":""},"","",""]
[null,null,null,{"$f":"IF(A44>0,IF(OR(MAX($G$3:G44)-G44=0,A44=0),\"\",MAX($G$3:G44)-G44),\"\")","v":""},"","","",null,null,null,null,{"$f":"IF(I44>0,IF(OR(MAX($O$3:O44)-O44=0,I44=0),\"\",MAX($O$3:O44)-O44),\"\")","v":""},"","","",null,null,null,null,{"$f":"IF(I44>0,IF(OR(MAX($W$3:W44)-W44=0,Q44=0),\"\",MAX($W$3:W44)-W44),\"\")","v":""},"","",""]
[null,null,null,{"$f":"IF(A45>0,IF(OR(MAX($G$3:G45)-G45=0,A45=0),\"\",MAX($G$3:G45)-G45),\"\")","v":""},"","","",null,null,null,null,{"$f":"IF(I45>0,IF(OR(MAX($O$3:O45)-O45=0,I45=0),\"\",MAX($O$3:O45)-O45),\"\")","v":""},"","","",null,null,null,null,{"$f":"IF(I45>0,IF(OR(MAX($W$3:W45)-W45=0,Q45=0),\"\",MAX($W$3:W45)-W45),\"\")","v":""},"","",""]
[null,null,null,{"$f":"IF(A46>0,IF(OR(MAX($G$3:G46)-G46=0,A46=0),\"\",MAX($G$3:G46)-G46),\"\")","v":""},"","","",null,null,null,null,{"$f":"IF(I46>0,IF(OR(MAX($O$3:O46)-O46=0,I46=0),\"\",MAX($O$3:O46)-O46),\"\")","v":""},"","","",null,null,null,null,{"$f":"IF(I46>0,IF(OR(MAX($W$3:W46)-W46=0,Q46=0),\"\",MAX($W$3:W46)-W46),\"\")","v":""},"","",""]
[null,null,null,{"$f":"IF(A47>0,IF(OR(MAX($G$3:G47)-G47=0,A47=0),\"\",MAX($G$3:G47)-G47),\"\")","v":""},"","","",null,null,null,null,{"$f":"IF(I47>0,IF(OR(MAX($O$3:O47)-O47=0,I47=0),\"\",MAX($O$3:O47)-O47),\"\")","v":""},"","","",null,null,null,null,{"$f":"IF(I47>0,IF(OR(MAX($W$3:W47)-W47=0,Q47=0),\"\",MAX($W$3:W47)-W47),\"\")","v":""},"","",""]
[null,null,null,{"$f":"IF(A48>0,IF(OR(MAX($G$3:G48)-G48=0,A48=0),\"\",MAX($G$3:G48)-G48),\"\")","v":""},"","","",null,null,null,null,{"$f":"IF(I48>0,IF(OR(MAX($O$3:O48)-O48=0,I48=0),\"\",MAX($O$3:O48)-O48),\"\")","v":""},"","","",null,null,null,null,{"$f":"IF(I48>0,IF(OR(MAX($W$3:W48)-W48=0,Q48=0),\"\",MAX($W$3:W48)-W48),\"\")","v":""},"","",""]
[null,null,null,{"$f":"IF(A49>0,IF(OR(MAX($G$3:G49)-G49=0,A49=0),\"\",MAX($G$3:G49)-G49),\"\")","v":""},"","","",null,null,null,null,{"$f":"IF(I49>0,IF(OR(MAX($O$3:O49)-O49=0,I49=0),\"\",MAX($O$3:O49)-O49),\"\")","v":""},"","","",null,null,null,null,{"$f":"IF(I49>0,IF(OR(MAX($W$3:W49)-W49=0,Q49=0),\"\",MAX($W$3:W49)-W49),\"\")","v":""},"","",""]
[null,null,null,{"$f":"IF(A50>0,IF(OR(MAX($G$3:G50)-G50=0,A50=0),\"\",MAX($G$3:G50)-G50),\"\")","v":""},"","","",null,null,null,null,{"$f":"IF(I50>0,IF(OR(MAX($O$3:O50)-O50=0,I50=0),\"\",MAX($O$3:O50)-O50),\"\")","v":""},"","","",null,null,null,null,{"$f":"IF(I50>0,IF(OR(MAX($W$3:W50)-W50=0,Q50=0),\"\",MAX($W$3:W50)-W50),\"\")","v":""},"","",""]
[null,null,null,{"$f":"IF(A51>0,IF(OR(MAX($G$3:G51)-G51=0,A51=0),\"\",MAX($G$3:G51)-G51),\"\")","v":""},"","","",null,null,null,null,{"$f":"IF(I51>0,IF(OR(MAX($O$3:O51)-O51=0,I51=0),\"\",MAX($O$3:O51)-O51),\"\")","v":""},"","","",null,null,null,null,{"$f":"IF(I51>0,IF(OR(MAX($W$3:W51)-W51=0,Q51=0),\"\",MAX($W$3:W51)-W51),\"\")","v":""},"","",""]
[null,null,null,{"$f":"IF(A52>0,IF(OR(MAX($G$3:G52)-G52=0,A52=0),\"\",MAX($G$3:G52)-G52),\"\")","v":""},"","","",null,null,null,null,{"$f":"IF(I52>0,IF(OR(MAX($O$3:O52)-O52=0,I52=0),\"\",MAX($O$3:O52)-O52),\"\")","v":""},"","","",null,null,null,null,{"$f":"IF(I52>0,IF(OR(MAX($W$3:W52)-W52=0,Q52=0),\"\",MAX($W$3:W52)-W52),\"\")","v":""},"","",""]
[null,null,null,{"$f":"IF(A53>0,IF(OR(MAX($G$3:G53)-G53=0,A53=0),\"\",MAX($G$3:G53)-G53),\"\")","v":""},"","","",null,null,null,null,{"$f":"IF(I53>0,IF(OR(MAX($O$3:O53)-O53=0,I53=0),\"\",MAX($O$3:O53)-O53),\"\")","v":""},"","","",null,null,null,null,{"$f":"IF(I53>0,IF(OR(MAX($W$3:W53)-W53=0,Q53=0),\"\",MAX($W$3:W53)-W53),\"\")","v":""},"","",""]
[null,null,null,{"$f":"IF(A54>0,IF(OR(MAX($G$3:G54)-G54=0,A54=0),\"\",MAX($G$3:G54)-G54),\"\")","v":""},"","","",null,null,null,null,{"$f":"IF(I54>0,IF(OR(MAX($O$3:O54)-O54=0,I54=0),\"\",MAX($O$3:O54)-O54),\"\")","v":""},"","","",null,null,null,null,{"$f":"IF(I54>0,IF(OR(MAX($W$3:W54)-W54=0,Q54=0),\"\",MAX($W$3:W54)-W54),\"\")","v":""},"","",""]
[null,null,null,{"$f":"IF(A55>0,IF(OR(MAX($G$3:G55)-G55=0,A55=0),\"\",MAX($G$3:G55)-G55),\"\")","v":""},"","","",null,null,null,null,{"$f":"IF(I55>0,IF(OR(MAX($O$3:O55)-O55=0,I55=0),\"\",MAX($O$3:O55)-O55),\"\")","v":""},"","","",null,null,null,null,{"$f":"IF(I55>0,IF(OR(MAX($W$3:W55)-W55=0,Q55=0),\"\",MAX($W$3:W55)-W55),\"\")","v":""},"","",""]
[null,null,null,{"$f":"IF(A56>0,IF(OR(MAX($G$3:G56)-G56=0,A56=0),\"\",MAX($G$3:G56)-G56),\"\")","v":""},"","","",null,null,null,null,{"$f":"IF(I56>0,IF(OR(MAX($O$3:O56)-O56=0,I56=0),\"\",MAX($O$3:O56)-O56),\"\")","v":""},"","","",null,null,null,null,{"$f":"IF(I56>0,IF(OR(MAX($W$3:W56)-W56=0,Q56=0),\"\",MAX($W$3:W56)-W56),\"\")","v":""},"","",""]
[null,null,null,{"$f":"IF(A57>0,IF(OR(MAX($G$3:G57)-G57=0,A57=0),\"\",MAX($G$3:G57)-G57),\"\")","v":""},"","","",null,null,null,null,{"$f":"IF(I57>0,IF(OR(MAX($O$3:O57)-O57=0,I57=0),\"\",MAX($O$3:O57)-O57),\"\")","v":""},"","","",null,null,null,null,{"$f":"IF(I57>0,IF(OR(MAX($W$3:W57)-W57=0,Q57=0),\"\",MAX($W$3:W57)-W57),\"\")","v":""},"","",""]
[null,null,null,{"$f":"IF(A58>0,IF(OR(MAX($G$3:G58)-G58=0,A58=0),\"\",MAX($G$3:G58)-G58),\"\")","v":""},"","","",null,null,null,null,{"$f":"IF(I58>0,IF(OR(MAX($O$3:O58)-O58=0,I58=0),\"\",MAX($O$3:O58)-O58),\"\")","v":""},"","","",null,null,null,null,{"$f":"IF(I58>0,IF(OR(MAX($W$3:W58)-W58=0,Q58=0),\"\",MAX($W$3:W58)-W58),\"\")","v":""},"","",""]
[null,null,null,{"$f":"IF(A59>0,IF(OR(MAX($G$3:G59)-G59=0,A59=0),\"\",MAX($G$3:G59)-G59),\"\")","v":""},"","","",null,null,null,null,{"$f":"IF(I59>0,IF(OR(MAX($O$3:O59)-O59=0,I59=0),\"\",MAX($O$3:O59)-O59),\"\")","v":""},"","","",null,null,null,null,{"$f":"IF(I59>0,IF(OR(MAX($W$3:W59)-W59=0,Q59=0),\"\",MAX($W$3:W59)-W59),\"\")","v":""},"","",""]
[null,null,null,{"$f":"IF(A60>0,IF(OR(MAX($G$3:G60)-G60=0,A60=0),\"\",MAX($G$3:G60)-G60),\"\")","v":""},"","","",null,null,null,null,{"$f":"IF(I60>0,IF(OR(MAX($O$3:O60)-O60=0,I60=0),\"\",MAX($O$3:O60)-O60),\"\")","v":""},"","","",null,null,null,null,{"$f":"IF(I60>0,IF(OR(MAX($W$3:W60)-W60=0,Q60=0),\"\",MAX($W$3:W60)-W60),\"\")","v":""},"","",""]
[null,null,null,{"$f":"IF(A61>0,IF(OR(MAX($G$3:G61)-G61=0,A61=0),\"\",MAX($G$3:G61)-G61),\"\")","v":""},"","","",null,null,null,null,{"$f":"IF(I61>0,IF(OR(MAX($O$3:O61)-O61=0,I61=0),\"\",MAX($O$3:O61)-O61),\"\")","v":""},"","","",null,null,null,null,{"$f":"IF(I61>0,IF(OR(MAX($W$3:W61)-W61=0,Q61=0),\"\",MAX($W$3:W61)-W61),\"\")","v":""},"","",""]
[null,null,null,{"$f":"IF(A62>0,IF(OR(MAX($G$3:G62)-G62=0,A62=0),\"\",MAX($G$3:G62)-G62),\"\")","v":""},"","","",null,null,null,null,{"$f":"IF(I62>0,IF(OR(MAX($O$3:O62)-O62=0,I62=0),\"\",MAX($O$3:O62)-O62),\"\")","v":""},"","","",null,null,null,null,{"$f":"IF(I62>0,IF(OR(MAX($W$3:W62)-W62=0,Q62=0),\"\",MAX($W$3:W62)-W62),\"\")","v":""},"","",""]
[null,null,null,{"$f":"IF(A63>0,IF(OR(MAX($G$3:G63)-G63=0,A63=0),\"\",MAX($G$3:G63)-G63),\"\")","v":""},"","","",null,null,null,null,{"$f":"IF(I63>0,IF(OR(MAX($O$3:O63)-O63=0,I63=0),\"\",MAX($O$3:O63)-O63),\"\")","v":""},"","","",null,null,null,null,{"$f":"IF(I63>0,IF(OR(MAX($W$3:W63)-W63=0,Q63=0),\"\",MAX($W$3:W63)-W63),\"\")","v":""},"","",""]
[null,null,null,{"$f":"IF(A64>0,IF(OR(MAX($G$3:G64)-G64=0,A64=0),\"\",MAX($G$3:G64)-G64),\"\")","v":""},"","","",null,null,null,null,{"$f":"IF(I64>0,IF(OR(MAX($O$3:O64)-O64=0,I64=0),\"\",MAX($O$3:O64)-O64),\"\")","v":""},"","","",null,null,null,null,{"$f":"IF(I64>0,IF(OR(MAX($W$3:W64)-W64=0,Q64=0),\"\",MAX($W$3:W64)-W64),\"\")","v":""},"","",""]
[null,null,null,{"$f":"IF(A65>0,IF(OR(MAX($G$3:G65)-G65=0,A65=0),\"\",MAX($G$3:G65)-G65),\"\")","v":""},"","","",null,null,null,null,{"$f":"IF(I65>0,IF(OR(MAX($O$3:O65)-O65=0,I65=0),\"\",MAX($O$3:O65)-O65),\"\")","v":""},"","","",null,null,null,null,{"$f":"IF(I65>0,IF(OR(MAX($W$3:W65)-W65=0,Q65=0),\"\",MAX($W$3:W65)-W65),\"\")","v":""},"","",""]
[null,null,null,{"$f":"IF(A66>0,IF(OR(MAX($G$3:G66)-G66=0,A66=0),\"\",MAX($G$3:G66)-G66),\"\")","v":""},"","","",null,null,null,null,{"$f":"IF(I66>0,IF(OR(MAX($O$3:O66)-O66=0,I66=0),\"\",MAX($O$3:O66)-O66),\"\")","v":""},"","","",null,null,null,null,{"$f":"IF(I66>0,IF(OR(MAX($W$3:W66)-W66=0,Q66=0),\"\",MAX($W$3:W66)-W66),\"\")","v":""},"","",""]
[null,null,null,{"$f":"IF(A67>0,IF(OR(MAX($G$3:G67)-G67=0,A67=0),\"\",MAX($G$3:G67)-G67),\"\")","v":""},"","","",null,null,null,null,{"$f":"IF(I67>0,IF(OR(MAX($O$3:O67)-O67=0,I67=0),\"\",MAX($O$3:O67)-O67),\"\")","v":""},"","","",null,null,null,null,{"$f":"IF(I67>0,IF(OR(MAX($W$3:W67)-W67=0,Q67=0),\"\",MAX($W$3:W67)-W67),\"\")","v":""},"","",""]
[null,null,null,{"$f":"IF(A68>0,IF(OR(MAX($G$3:G68)-G68=0,A68=0),\"\",MAX($G$3:G68)-G68),\"\")","v":""},"","","",null,null,null,null,{"$f":"IF(I68>0,IF(OR(MAX($O$3:O68)-O68=0,I68=0),\"\",MAX($O$3:O68)-O68),\"\")","v":""},"","","",null,null,null,null,{"$f":"IF(I68>0,IF(OR(MAX($W$3:W68)-W68=0,Q68=0),\"\",MAX($W$3:W68)-W68),\"\")","v":""},"","",""]
[null,null,null,{"$f":"IF(A69>0,IF(OR(MAX($G$3:G69)-G69=0,A69=0),\"\",MAX($G$3:G69)-G69),\"\")","v":""},"","","",null,null,null,null,{"$f":"IF(I69>0,IF(OR(MAX($O$3:O69)-O69=0,I69=0),\"\",MAX($O$3:O69)-O69),\"\")","v":""},"","","",null,null,null,null,{"$f":"IF(I69>0,IF(OR(MAX($W$3:W69)-W69=0,Q69=0),\"\",MAX($W$3:W69)-W69),\"\")","v":""},"","",""]
[null,null,null,{"$f":"IF(A70>0,IF(OR(MAX($G$3:G70)-G70=0,A70=0),\"\",MAX($G$3:G70)-G70),\"\")","v":""},"","","",null,null,null,null,{"$f":"IF(I70>0,IF(OR(MAX($O$3:O70)-O70=0,I70=0),\"\",MAX($O$3:O70)-O70),\"\")","v":""},{"$f":"IF(L70=\"\",\"\",L70/(N70+O69))","v":""},{"$f":"IF(I70>0,N69+K70,\"\")","v":""},{"$f":"IF(I70>0,O69+K70,\"\")","v":""},null,null,null,null,{"$f":"IF(I70>0,IF(OR(MAX($W$3:W70)-W70=0,Q70=0),\"\",MAX($W$3:W70)-W70),\"\")","v":""},{"$f":"IF(T70=\"\",\"\",T70/(V70+W69))","v":""},{"$f":"IF(Q70>0,V69+S70,\"\")","v":""},{"$f":"IF(Q70>0,W69+S70,\"\")","v":""}]
[null,null,null,{"$f":"IF(A71>0,IF(OR(MAX($G$3:G71)-G71=0,A71=0),\"\",MAX($G$3:G71)-G71),\"\")","v":""},"","","",null,null,null,null,{"$f":"IF(I71>0,IF(OR(MAX($O$3:O71)-O71=0,I71=0),\"\",MAX($O$3:O71)-O71),\"\")","v":""},"","","",null,null,null,null,{"$f":"IF(I71>0,IF(OR(MAX($W$3:W71)-W71=0,Q71=0),\"\",MAX($W$3:W71)-W71),\"\")","v":""},"","",""]
[null,null,null,{"$f":"IF(A72>0,IF(OR(MAX($G$3:G72)-G72=0,A72=0),\"\",MAX($G$3:G72)-G72),\"\")","v":""},{"$f":"IF(D72=\"\",\"\",D72/(F72+G71))","v":""},{"$f":"IF(A72>0,F71+C72,\"\")","v":""},{"$f":"IF(A72>0,G71+C72,\"\")","v":""},null,null,null,null,{"$f":"IF(I72>0,IF(OR(MAX($O$3:O72)-O72=0,I72=0),\"\",MAX($O$3:O72)-O72),\"\")","v":""},"","","",null,null,null,null,{"$f":"IF(I72>0,IF(OR(MAX($W$3:W72)-W72=0,Q72=0),\"\",MAX($W$3:W72)-W72),\"\")","v":""},"","",""]
[null,null,null,{"$f":"IF(A73>0,IF(OR(MAX($G$3:G73)-G73=0,A73=0),\"\",MAX($G$3:G73)-G73),\"\")","v":""},"","","",null,null,null,null,{"$f":"IF(I73>0,IF(OR(MAX($O$3:O73)-O73=0,I73=0),\"\",MAX($O$3:O73)-O73),\"\")","v":""},"","","",null,null,null,null,{"$f":"IF(I73>0,IF(OR(MAX($W$3:W73)-W73=0,Q73=0),\"\",MAX($W$3:W73)-W73),\"\")","v":""},"","",""]
[null,null,null,{"$f":"IF(A74>0,IF(OR(MAX($G$3:G74)-G74=0,A74=0),\"\",MAX($G$3:G74)-G74),\"\")","v":""},"","","",null,null,null,null,{"$f":"IF(I74>0,IF(OR(MAX($O$3:O74)-O74=0,I74=0),\"\",MAX($O$3:O74)-O74),\"\")","v":""},"","","",null,null,null,null,{"$f":"IF(I74>0,IF(OR(MAX($W$3:W74)-W74=0,Q74=0),\"\",MAX($W$3:W74)-W74),\"\")","v":""},"","",""]
[null,null,null,{"$f":"IF(A75>0,IF(OR(MAX($G$3:G75)-G75=0,A75=0),\"\",MAX($G$3:G75)-G75),\"\")","v":""},"","","",null,null,null,null,{"$f":"IF(I75>0,IF(OR(MAX($O$3:O75)-O75=0,I75=0),\"\",MAX($O$3:O75)-O75),\"\")","v":""},"","","",null,null,null,null,{"$f":"IF(I75>0,IF(OR(MAX($W$3:W75)-W75=0,Q75=0),\"\",MAX($W$3:W75)-W75),\"\")","v":""},"","",""]
[null,null,null,{"$f":"IF(A76>0,IF(OR(MAX($G$3:G76)-G76=0,A76=0),\"\",MAX($G$3:G76)-G76),\"\")","v":""},"","","",null,null,null,null,{"$f":"IF(I76>0,IF(OR(MAX($O$3:O76)-O76=0,I76=0),\"\",MAX($O$3:O76)-O76),\"\")","v":""},"","","",null,null,null,null,{"$f":"IF(I76>0,IF(OR(MAX($W$3:W76)-W76=0,Q76=0),\"\",MAX($W$3:W76)-W76),\"\")","v":""},"","",""]
[null,null,null,{"$f":"IF(A77>0,IF(OR(MAX($G$3:G77)-G77=0,A77=0),\"\",MAX($G$3:G77)-G77),\"\")","v":""},"","","",null,null,null,null,{"$f":"IF(I77>0,IF(OR(MAX($O$3:O77)-O77=0,I77=0),\"\",MAX($O$3:O77)-O77),\"\")","v":""},"","","",null,null,null,null,{"$f":"IF(I77>0,IF(OR(MAX($W$3:W77)-W77=0,Q77=0),\"\",MAX($W$3:W77)-W77),\"\")","v":""},"","",""]
[null,null,null,{"$f":"IF(A78>0,IF(OR(MAX($G$3:G78)-G78=0,A78=0),\"\",MAX($G$3:G78)-G78),\"\")","v":""},"","","",null,null,null,null,{"$f":"IF(I78>0,IF(OR(MAX($O$3:O78)-O78=0,I78=0),\"\",MAX($O$3:O78)-O78),\"\")","v":""},"","","",null,null,null,null,{"$f":"IF(I78>0,IF(OR(MAX($W$3:W78)-W78=0,Q78=0),\"\",MAX($W$3:W78)-W78),\"\")","v":""},"","",""]
[null,null,null,{"$f":"IF(A79>0,IF(OR(MAX($G$3:G79)-G79=0,A79=0),\"\",MAX($G$3:G79)-G79),\"\")","v":""},"","","",null,null,null,null,{"$f":"IF(I79>0,IF(OR(MAX($O$3:O79)-O79=0,I79=0),\"\",MAX($O$3:O79)-O79),\"\")","v":""},"","","",null,null,null,null,{"$f":"IF(I79>0,IF(OR(MAX($W$3:W79)-W79=0,Q79=0),\"\",MAX($W$3:W79)-W79),\"\")","v":""},"","",""]
[null,null,null,{"$f":"IF(A80>0,IF(OR(MAX($G$3:G80)-G80=0,A80=0),\"\",MAX($G$3:G80)-G80),\"\")","v":""},"","","",null,null,null,null,{"$f":"IF(I80>0,IF(OR(MAX($O$3:O80)-O80=0,I80=0),\"\",MAX($O$3:O80)-O80),\"\")","v":""},"","","",null,null,null,null,{"$f":"IF(I80>0,IF(OR(MAX($W$3:W80)-W80=0,Q80=0),\"\",MAX($W$3:W80)-W80),\"\")","v":""},"","",""]
[null,null,null,{"$f":"IF(A81>0,IF(OR(MAX($G$3:G81)-G81=0,A81=0),\"\",MAX($G$3:G81)-G81),\"\")","v":""},"","","",null,null,null,null,{"$f":"IF(I81>0,IF(OR(MAX($O$3:O81)-O81=0,I81=0),\"\",MAX($O$3:O81)-O81),\"\")","v":""},"","","",null,null,null,null,{"$f":"IF(I81>0,IF(OR(MAX($W$3:W81)-W81=0,Q81=0),\"\",MAX($W$3:W81)-W81),\"\")","v":""},"","",""]
[null,null,null,{"$f":"IF(A82>0,IF(OR(MAX($G$3:G82)-G82=0,A82=0),\"\",MAX($G$3:G82)-G82),\"\")","v":""},"","","",null,null,null,null,{"$f":"IF(I82>0,IF(OR(MAX($O$3:O82)-O82=0,I82=0),\"\",MAX($O$3:O82)-O82),\"\")","v":""},"","","",null,null,null,null,{"$f":"IF(I82>0,IF(OR(MAX($W$3:W82)-W82=0,Q82=0),\"\",MAX($W$3:W82)-W82),\"\")","v":""},"","",""]
[null,null,null,{"$f":"IF(A83>0,IF(OR(MAX($G$3:G83)-G83=0,A83=0),\"\",MAX($G$3:G83)-G83),\"\")","v":""},"","","",null,null,null,null,{"$f":"IF(I83>0,IF(OR(MAX($O$3:O83)-O83=0,I83=0),\"\",MAX($O$3:O83)-O83),\"\")","v":""},"","","",null,null,null,null,{"$f":"IF(I83>0,IF(OR(MAX($W$3:W83)-W83=0,Q83=0),\"\",MAX($W$3:W83)-W83),\"\")","v":""},"","",""]
[null,null,null,{"$f":"IF(A84>0,IF(OR(MAX($G$3:G84)-G84=0,A84=0),\"\",MAX($G$3:G84)-G84),\"\")","v":""},"","","",null,null,null,null,{"$f":"IF(I84>0,IF(OR(MAX($O$3:O84)-O84=0,I84=0),\"\",MAX($O$3:O84)-O84),\"\")","v":""},"","","",null,null,null,null,{"$f":"IF(I84>0,IF(OR(MAX($W$3:W84)-W84=0,Q84=0),\"\",MAX($W$3:W84)-W84),\"\")","v":""},"","",""]
[null,null,null,{"$f":"IF(A85>0,IF(OR(MAX($G$3:G85)-G85=0,A85=0),\"\",MAX($G$3:G85)-G85),\"\")","v":""},"","","",null,null,null,null,{"$f":"IF(I85>0,IF(OR(MAX($O$3:O85)-O85=0,I85=0),\"\",MAX($O$3:O85)-O85),\"\")","v":""},"","","",null,null,null,null,{"$f":"IF(I85>0,IF(OR(MAX($W$3:W85)-W85=0,Q85=0),\"\",MAX($W$3:W85)-W85),\"\")","v":""},"","",""]
[null,null,null,{"$f":"IF(A86>0,IF(OR(MAX($G$3:G86)-G86=0,A86=0),\"\",MAX($G$3:G86)-G86),\"\")","v":""},"","","",null,null,null,null,{"$f":"IF(I86>0,IF(OR(MAX($O$3:O86)-O86=0,I86=0),\"\",MAX($O$3:O86)-O86),\"\")","v":""},"","","",null,null,null,null,{"$f":"IF(I86>0,IF(OR(MAX($W$3:W86)-W86=0,Q86=0),\"\",MAX($W$3:W86)-W86),\"\")","v":""},"","",""]
[null,null,null,{"$f":"IF(A87>0,IF(OR(MAX($G$3:G87)-G87=0,A87=0),\"\",MAX($G$3:G87)-G87),\"\")","v":""},"","","",null,null,null,null,{"$f":"IF(I87>0,IF(OR(MAX($O$3:O87)-O87=0,I87=0),\"\",MAX($O$3:O87)-O87),\"\")","v":""},"","","",null,null,null,null,{"$f":"IF(I87>0,IF(OR(MAX($W$3:W87)-W87=0,Q87=0),\"\",MAX($W$3:W87)-W87),\"\")","v":""},"","",""]
[null,null,null,{"$f":"IF(A88>0,IF(OR(MAX($G$3:G88)-G88=0,A88=0),\"\",MAX($G$3:G88)-G88),\"\")","v":""},"","","",null,null,null,null,{"$f":"IF(I88>0,IF(OR(MAX($O$3:O88)-O88=0,I88=0),\"\",MAX($O$3:O88)-O88),\"\")","v":""},"","","",null,null,null,null,{"$f":"IF(I88>0,IF(OR(MAX($W$3:W88)-W88=0,Q88=0),\"\",MAX($W$3:W88)-W88),\"\")","v":""},"","",""]
[null,null,null,{"$f":"IF(A89>0,IF(OR(MAX($G$3:G89)-G89=0,A89=0),\"\",MAX($G$3:G89)-G89),\"\")","v":""},"","","",null,null,null,null,{"$f":"IF(I89>0,IF(OR(MAX($O$3:O89)-O89=0,I89=0),\"\",MAX($O$3:O89)-O89),\"\")","v":""},"","","",null,null,null,null,{"$f":"IF(I89>0,IF(OR(MAX($W$3:W89)-W89=0,Q89=0),\"\",MAX($W$3:W89)-W89),\"\")","v":""},"","",""]
[null,null,null,{"$f":"IF(A90>0,IF(OR(MAX($G$3:G90)-G90=0,A90=0),\"\",MAX($G$3:G90)-G90),\"\")","v":""},"","","",null,null,null,null,{"$f":"IF(I90>0,IF(OR(MAX($O$3:O90)-O90=0,I90=0),\"\",MAX($O$3:O90)-O90),\"\")","v":""},"","","",null,null,null,null,{"$f":"IF(I90>0,IF(OR(MAX($W$3:W90)-W90=0,Q90=0),\"\",MAX($W$3:W90)-W90),\"\")","v":""},"","",""]
[null,null,null,{"$f":"IF(A91>0,IF(OR(MAX($G$3:G91)-G91=0,A91=0),\"\",MAX($G$3:G91)-G91),\"\")","v":""},"","","",null,null,null,null,{"$f":"IF(I91>0,IF(OR(MAX($O$3:O91)-O91=0,I91=0),\"\",MAX($O$3:O91)-O91),\"\")","v":""},"","","",null,null,null,null,{"$f":"IF(I91>0,IF(OR(MAX($W$3:W91)-W91=0,Q91=0),\"\",MAX($W$3:W91)-W91),\"\")","v":""},"","",""]
[null,null,null,{"$f":"IF(A92>0,IF(OR(MAX($G$3:G92)-G92=0,A92=0),\"\",MAX($G$3:G92)-G92),\"\")","v":""},"","","",null,null,null,null,{"$f":"IF(I92>0,IF(OR(MAX($O$3:O92)-O92=0,I92=0),\"\",MAX($O$3:O92)-O92),\"\")","v":""},"","","",null,null,null,null,{"$f":"IF(I92>0,IF(OR(MAX($W$3:W92)-W92=0,Q92=0),\"\",MAX($W$3:W92)-W92),\"\")","v":""},"","",""]
[null,null,null,{"$f":"IF(A93>0,IF(OR(MAX($G$3:G93)-G93=0,A93=0),\"\",MAX($G$3:G93)-G93),\"\")","v":""},"","","",null,null,null,null,{"$f":"IF(I93>0,IF(OR(MAX($O$3:O93)-O93=0,I93=0),\"\",MAX($O$3:O93)-O93),\"\")","v":""},"","","",null,null,null,null,{"$f":"IF(I93>0,IF(OR(MAX($W$3:W93)-W93=0,Q93=0),\"\",MAX($W$3:W93)-W93),\"\")","v":""},"","",""]
[null,null,null,{"$f":"IF(A94>0,IF(OR(MAX($G$3:G94)-G94=0,A94=0),\"\",MAX($G$3:G94)-G94),\"\")","v":""},"","","",null,null,null,null,{"$f":"IF(I94>0,IF(OR(MAX($O$3:O94)-O94=0,I94=0),\"\",MAX($O$3:O94)-O94),\"\")","v":""},"","","",null,null,null,null,{"$f":"IF(I94>0,IF(OR(MAX($W$3:W94)-W94=0,Q94=0),\"\",MAX($W$3:W94)-W94),\"\")","v":""},"","",""]
[null,null,null,{"$f":"IF(A95>0,IF(OR(MAX($G$3:G95)-G95=0,A95=0),\"\",MAX($G$3:G95)-G95),\"\")","v":""},"","","",null,null,null,null,{"$f":"IF(I95>0,IF(OR(MAX($O$3:O95)-O95=0,I95=0),\"\",MAX($O$3:O95)-O95),\"\")","v":""},"","","",null,null,null,null,{"$f":"IF(I95>0,IF(OR(MAX($W$3:W95)-W95=0,Q95=0),\"\",MAX($W$3:W95)-W95),\"\")","v":""},"","",""]
[null,null,null,{"$f":"IF(A96>0,IF(OR(MAX($G$3:G96)-G96=0,A96=0),\"\",MAX($G$3:G96)-G96),\"\")","v":""},"","","",null,null,null,null,{"$f":"IF(I96>0,IF(OR(MAX($O$3:O96)-O96=0,I96=0),\"\",MAX($O$3:O96)-O96),\"\")","v":""},"","","",null,null,null,null,{"$f":"IF(I96>0,IF(OR(MAX($W$3:W96)-W96=0,Q96=0),\"\",MAX($W$3:W96)-W96),\"\")","v":""},"","",""]
[null,null,null,{"$f":"IF(A97>0,IF(OR(MAX($G$3:G97)-G97=0,A97=0),\"\",MAX($G$3:G97)-G97),\"\")","v":""},"","","",null,null,null,null,{"$f":"IF(I97>0,IF(OR(MAX($O$3:O97)-O97=0,I97=0),\"\",MAX($O$3:O97)-O97),\"\")","v":""},"","","",null,null,null,null,{"$f":"IF(I97>0,IF(OR(MAX($W$3:W97)-W97=0,Q97=0),\"\",MAX($W$3:W97)-W97),\"\")","v":""},"","",""]
[null,null,null,{"$f":"IF(A98>0,IF(OR(MAX($G$3:G98)-G98=0,A98=0),\"\",MAX($G$3:G98)-G98),\"\")","v":""},"","","",null,null,null,null,{"$f":"IF(I98>0,IF(OR(MAX($O$3:O98)-O98=0,I98=0),\"\",MAX($O$3:O98)-O98),\"\")","v":""},"","","",null,null,null,null,{"$f":"IF(I98>0,IF(OR(MAX($W$3:W98)-W98=0,Q98=0),\"\",MAX($W$3:W98)-W98),\"\")","v":""},"","",""]
[null,null,null,{"$f":"IF(A99>0,IF(OR(MAX($G$3:G99)-G99=0,A99=0),\"\",MAX($G$3:G99)-G99),\"\")","v":""},"","","",null,null,null,null,{"$f":"IF(I99>0,IF(OR(MAX($O$3:O99)-O99=0,I99=0),\"\",MAX($O$3:O99)-O99),\"\")","v":""},"","","",null,null,null,null,{"$f":"IF(I99>0,IF(OR(MAX($W$3:W99)-W99=0,Q99=0),\"\",MAX($W$3:W99)-W99),\"\")","v":""},"","",""]
[null,null,null,{"$f":"IF(A100>0,IF(OR(MAX($G$3:G100)-G100=0,A100=0),\"\",MAX($G$3:G100)-G100),\"\")","v":""},"","","",null,null,null,null,{"$f":"IF(I100>0,IF(OR(MAX($O$3:O100)-O100=0,I100=0),\"\",MAX($O$3:O100)-O100),\"\")","v":""},"","","",null,null,null,null,{"$f":"IF(I100>0,IF(OR(MAX($W$3:W100)-W100=0,Q100=0),\"\",MAX($W$3:W100)-W100),\"\")","v":""},"","",""]
[null,null,null,{"$f":"IF(A101>0,IF(OR(MAX($G$3:G101)-G101=0,A101=0),\"\",MAX($G$3:G101)-G101),\"\")","v":""},"","","",null,null,null,null,{"$f":"IF(I101>0,IF(OR(MAX($O$3:O101)-O101=0,I101=0),\"\",MAX($O$3:O101)-O101),\"\")","v":""},"","","",null,null,null,null,{"$f":"IF(I101>0,IF(OR(MAX($W$3:W101)-W101=0,Q101=0),\"\",MAX($W$3:W101)-W101),\"\")","v":""},"","",""]
[null,null,null,{"$f":"IF(A102>0,IF(OR(MAX($G$3:G102)-G102=0,A102=0),\"\",MAX($G$3:G102)-G102),\"\")","v":""},"","","",null,null,null,null,{"$f":"IF(I102>0,IF(OR(MAX($O$3:O102)-O102=0,I102=0),\"\",MAX($O$3:O102)-O102),\"\")","v":""},"","","",null,null,null,null,{"$f":"IF(I102>0,IF(OR(MAX($W$3:W102)-W102=0,Q102=0),\"\",MAX($W$3:W102)-W102),\"\")","v":""},"","",""]
[null,null,null,{"$f":"IF(A103>0,IF(OR(MAX($G$3:G103)-G103=0,A103=0),\"\",MAX($G$3:G103)-G103),\"\")","v":""},"","","",null,null,null,null,{"$f":"IF(I103>0,IF(OR(MAX($O$3:O103)-O103=0,I103=0),\"\",MAX($O$3:O103)-O103),\"\")","v":""},"","","",null,null,null,null,{"$f":"IF(I103>0,IF(OR(MAX($W$3:W103)-W103=0,Q103=0),\"\",MAX($W$3:W103)-W103),\"\")","v":""},"","",""]
[null,null,null,{"$f":"IF(A104>0,IF(OR(MAX($G$3:G104)-G104=0,A104=0),\"\",MAX($G$3:G104)-G104),\"\")","v":""},"","","",null,null,null,null,{"$f":"IF(I104>0,IF(OR(MAX($O$3:O104)-O104=0,I104=0),\"\",MAX($O$3:O104)-O104),\"\")","v":""},"","","",null,null,null,null,{"$f":"IF(I104>0,IF(OR(MAX($W$3:W104)-W104=0,Q104=0),\"\",MAX($W$3:W104)-W104),\"\")","v":""},"","",""]
[null,null,null,{"$f":"IF(A105>0,IF(OR(MAX($G$3:G105)-G105=0,A105=0),\"\",MAX($G$3:G105)-G105),\"\")","v":""},"","","",null,null,null,null,{"$f":"IF(I105>0,IF(OR(MAX($O$3:O105)-O105=0,I105=0),\"\",MAX($O$3:O105)-O105),\"\")","v":""},"","","",null,null,null,null,{"$f":"IF(I105>0,IF(OR(MAX($W$3:W105)-W105=0,Q105=0),\"\",MAX($W$3:W105)-W105),\"\")","v":""},"","",""]
[null,null,null,{"$f":"IF(A106>0,IF(OR(MAX($G$3:G106)-G106=0,A106=0),\"\",MAX($G$3:G106)-G106),\"\")","v":""},"","","",null,null,null,null,{"$f":"IF(I106>0,IF(OR(MAX($O$3:O106)-O106=0,I106=0),\"\",MAX($O$3:O106)-O106),\"\")","v":""},"","","",null,null,null,null,{"$f":"IF(I106>0,IF(OR(MAX($W$3:W106)-W106=0,Q106=0),\"\",MAX($W$3:W106)-W106),\"\")","v":""},"","",""]
[null,null,null,{"$f":"IF(A107>0,IF(OR(MAX($G$3:G107)-G107=0,A107=0),\"\",MAX($G$3:G107)-G107),\"\")","v":""},"","","",null,null,null,null,{"$f":"IF(I107>0,IF(OR(MAX($O$3:O107)-O107=0,I107=0),\"\",MAX($O$3:O107)-O107),\"\")","v":""},"","","",null,null,null,null,{"$f":"IF(I107>0,IF(OR(MAX($W$3:W107)-W107=0,Q107=0),\"\",MAX($W$3:W107)-W107),\"\")","v":""},"","",""]
[null,null,null,{"$f":"IF(A108>0,IF(OR(MAX($G$3:G108)-G108=0,A108=0),\"\",MAX($G$3:G108)-G108),\"\")","v":""},"","","",null,null,null,null,{"$f":"IF(I108>0,IF(OR(MAX($O$3:O108)-O108=0,I108=0),\"\",MAX($O$3:O108)-O108),\"\")","v":""},"","","",null,null,null,null,{"$f":"IF(I108>0,IF(OR(MAX($W$3:W108)-W108=0,Q108=0),\"\",MAX($W$3:W108)-W108),\"\")","v":""},"","",""]
[null,null,null,{"$f":"IF(A109>0,IF(OR(MAX($G$3:G109)-G109=0,A109=0),\"\",MAX($G$3:G109)-G109),\"\")","v":""},"","","",null,null,null,null,{"$f":"IF(I109>0,IF(OR(MAX($O$3:O109)-O109=0,I109=0),\"\",MAX($O$3:O109)-O109),\"\")","v":""},"","","",null,null,null,null,{"$f":"IF(I109>0,IF(OR(MAX($W$3:W109)-W109=0,Q109=0),\"\",MAX($W$3:W109)-W109),\"\")","v":""},"","",""]
[null,null,null,{"$f":"IF(A110>0,IF(OR(MAX($G$3:G110)-G110=0,A110=0),\"\",MAX($G$3:G110)-G110),\"\")","v":""},"","","",null,null,null,null,{"$f":"IF(I110>0,IF(OR(MAX($O$3:O110)-O110=0,I110=0),\"\",MAX($O$3:O110)-O110),\"\")","v":""},"","","",null,null,null,null,{"$f":"IF(I110>0,IF(OR(MAX($W$3:W110)-W110=0,Q110=0),\"\",MAX($W$3:W110)-W110),\"\")","v":""},"","",""]
[null,null,null,{"$f":"IF(A111>0,IF(OR(MAX($G$3:G111)-G111=0,A111=0),\"\",MAX($G$3:G111)-G111),\"\")","v":""},"","","",null,null,null,null,{"$f":"IF(I111>0,IF(OR(MAX($O$3:O111)-O111=0,I111=0),\"\",MAX($O$3:O111)-O111),\"\")","v":""},"","","",null,null,null,null,{"$f":"IF(I111>0,IF(OR(MAX($W$3:W111)-W111=0,Q111=0),\"\",MAX($W$3:W111)-W111),\"\")","v":""},"","",""]
[null,null,null,{"$f":"IF(A112>0,IF(OR(MAX($G$3:G112)-G112=0,A112=0),\"\",MAX($G$3:G112)-G112),\"\")","v":""},"","","",null,null,null,null,{"$f":"IF(I112>0,IF(OR(MAX($O$3:O112)-O112=0,I112=0),\"\",MAX($O$3:O112)-O112),\"\")","v":""},"","","",null,null,null,null,{"$f":"IF(I112>0,IF(OR(MAX($W$3:W112)-W112=0,Q112=0),\"\",MAX($W$3:W112)-W112),\"\")","v":""},"","",""]
[null,null,null,{"$f":"IF(A113>0,IF(OR(MAX($G$3:G113)-G113=0,A113=0),\"\",MAX($G$3:G113)-G113),\"\")","v":""},"","","",null,null,null,null,{"$f":"IF(I113>0,IF(OR(MAX($O$3:O113)-O113=0,I113=0),\"\",MAX($O$3:O113)-O113),\"\")","v":""},"","","",null,null,null,null,{"$f":"IF(I113>0,IF(OR(MAX($W$3:W113)-W113=0,Q113=0),\"\",MAX($W$3:W113)-W113),\"\")","v":""},"","",""]
[null,null,null,{"$f":"IF(A114>0,IF(OR(MAX($G$3:G114)-G114=0,A114=0),\"\",MAX($G$3:G114)-G114),\"\")","v":""},"","","",null,null,null,null,{"$f":"IF(I114>0,IF(OR(MAX($O$3:O114)-O114=0,I114=0),\"\",MAX($O$3:O114)-O114),\"\")","v":""},"","","",null,null,null,null,{"$f":"IF(I114>0,IF(OR(MAX($W$3:W114)-W114=0,Q114=0),\"\",MAX($W$3:W114)-W114),\"\")","v":""},"","",""]
[null,null,null,{"$f":"IF(A115>0,IF(OR(MAX($G$3:G115)-G115=0,A115=0),\"\",MAX($G$3:G115)-G115),\"\")","v":""},"","","",null,null,null,null,{"$f":"IF(I115>0,IF(OR(MAX($O$3:O115)-O115=0,I115=0),\"\",MAX($O$3:O115)-O115),\"\")","v":""},"","","",null,null,null,null,{"$f":"IF(I115>0,IF(OR(MAX($W$3:W115)-W115=0,Q115=0),\"\",MAX($W$3:W115)-W115),\"\")","v":""},"","",""]
[null,null,null,{"$f":"IF(A116>0,IF(OR(MAX($G$3:G116)-G116=0,A116=0),\"\",MAX($G$3:G116)-G116),\"\")","v":""},"","","",null,null,null,null,{"$f":"IF(I116>0,IF(OR(MAX($O$3:O116)-O116=0,I116=0),\"\",MAX($O$3:O116)-O116),\"\")","v":""},"","","",null,null,null,null,{"$f":"IF(I116>0,IF(OR(MAX($W$3:W116)-W116=0,Q116=0),\"\",MAX($W$3:W116)-W116),\"\")","v":""},"","",""]
[null,null,null,{"$f":"IF(A117>0,IF(OR(MAX($G$3:G117)-G117=0,A117=0),\"\",MAX($G$3:G117)-G117),\"\")","v":""},"","","",null,null,null,null,{"$f":"IF(I117>0,IF(OR(MAX($O$3:O117)-O117=0,I117=0),\"\",MAX($O$3:O117)-O117),\"\")","v":""},"","","",null,null,null,null,{"$f":"IF(I117>0,IF(OR(MAX($W$3:W117)-W117=0,Q117=0),\"\",MAX($W$3:W117)-W117),\"\")","v":""},"","",""]
[null,null,null,{"$f":"IF(A118>0,IF(OR(MAX($G$3:G118)-G118=0,A118=0),\"\",MAX($G$3:G118)-G118),\"\")","v":""},"","","",null,null,null,null,{"$f":"IF(I118>0,IF(OR(MAX($O$3:O118)-O118=0,I118=0),\"\",MAX($O$3:O118)-O118),\"\")","v":""},"","","",null,null,null,null,{"$f":"IF(I118>0,IF(OR(MAX($W$3:W118)-W118=0,Q118=0),\"\",MAX($W$3:W118)-W118),\"\")","v":""},"","",""]
[null,null,null,{"$f":"IF(A119>0,IF(OR(MAX($G$3:G119)-G119=0,A119=0),\"\",MAX($G$3:G119)-G119),\"\")","v":""},"","","",null,null,null,null,{"$f":"IF(I119>0,IF(OR(MAX($O$3:O119)-O119=0,I119=0),\"\",MAX($O$3:O119)-O119),\"\")","v":""},"","","",null,null,null,null,{"$f":"IF(I119>0,IF(OR(MAX($W$3:W119)-W119=0,Q119=0),\"\",MAX($W$3:W119)-W119),\"\")","v":""},"","",""]
[null,null,null,{"$f":"IF(A120>0,IF(OR(MAX($G$3:G120)-G120=0,A120=0),\"\",MAX($G$3:G120)-G120),\"\")","v":""},"","","",null,null,null,null,{"$f":"IF(I120>0,IF(OR(MAX($O$3:O120)-O120=0,I120=0),\"\",MAX($O$3:O120)-O120),\"\")","v":""},"","","",null,null,null,null,{"$f":"IF(I120>0,IF(OR(MAX($W$3:W120)-W120=0,Q120=0),\"\",MAX($W$3:W120)-W120),\"\")","v":""},"","",""]
[null,null,null,{"$f":"IF(A121>0,IF(OR(MAX($G$3:G121)-G121=0,A121=0),\"\",MAX($G$3:G121)-G121),\"\")","v":""},"","","",null,null,null,null,{"$f":"IF(I121>0,IF(OR(MAX($O$3:O121)-O121=0,I121=0),\"\",MAX($O$3:O121)-O121),\"\")","v":""},"","","",null,null,null,null,{"$f":"IF(I121>0,IF(OR(MAX($W$3:W121)-W121=0,Q121=0),\"\",MAX($W$3:W121)-W121),\"\")","v":""},"","",""]
[null,null,null,{"$f":"IF(A122>0,IF(OR(MAX($G$3:G122)-G122=0,A122=0),\"\",MAX($G$3:G122)-G122),\"\")","v":""},"","","",null,null,null,null,{"$f":"IF(I122>0,IF(OR(MAX($O$3:O122)-O122=0,I122=0),\"\",MAX($O$3:O122)-O122),\"\")","v":""},"","","",null,null,null,null,{"$f":"IF(I122>0,IF(OR(MAX($W$3:W122)-W122=0,Q122=0),\"\",MAX($W$3:W122)-W122),\"\")","v":""},"","",""]
[null,null,null,{"$f":"IF(A123>0,IF(OR(MAX($G$3:G123)-G123=0,A123=0),\"\",MAX($G$3:G123)-G123),\"\")","v":""},"","","",null,null,null,null,{"$f":"IF(I123>0,IF(OR(MAX($O$3:O123)-O123=0,I123=0),\"\",MAX($O$3:O123)-O123),\"\")","v":""},"","","",null,null,null,null,{"$f":"IF(I123>0,IF(OR(MAX($W$3:W123)-W123=0,Q123=0),\"\",MAX($W$3:W123)-W123),\"\")","v":""},"","",""]
[null,null,null,{"$f":"IF(A124>0,IF(OR(MAX($G$3:G124)-G124=0,A124=0),\"\",MAX($G$3:G124)-G124),\"\")","v":""},"","","",null,null,null,null,{"$f":"IF(I124>0,IF(OR(MAX($O$3:O124)-O124=0,I124=0),\"\",MAX($O$3:O124)-O124),\"\")","v":""},"","","",null,null,null,null,{"$f":"IF(I124>0,IF(OR(MAX($W$3:W124)-W124=0,Q124=0),\"\",MAX($W$3:W124)-W124),\"\")","v":""},"","",""]
[null,null,null,{"$f":"IF(A125>0,IF(OR(MAX($G$3:G125)-G125=0,A125=0),\"\",MAX($G$3:G125)-G125),\"\")","v":""},"","","",null,null,null,null,{"$f":"IF(I125>0,IF(OR(MAX($O$3:O125)-O125=0,I125=0),\"\",MAX($O$3:O125)-O125),\"\")","v":""},"","","",null,null,null,null,{"$f":"IF(I125>0,IF(OR(MAX($W$3:W125)-W125=0,Q125=0),\"\",MAX($W$3:W125)-W125),\"\")","v":""},"","",""]
[null,null,null,{"$f":"IF(A126>0,IF(OR(MAX($G$3:G126)-G126=0,A126=0),\"\",MAX($G$3:G126)-G126),\"\")","v":""},"","","",null,null,null,null,{"$f":"IF(I126>0,IF(OR(MAX($O$3:O126)-O126=0,I126=0),\"\",MAX($O$3:O126)-O126),\"\")","v":""},"","","",null,null,null,null,{"$f":"IF(I126>0,IF(OR(MAX($W$3:W126)-W126=0,Q126=0),\"\",MAX($W$3:W126)-W126),\"\")","v":""},"","",""]
[null,null,null,{"$f":"IF(A127>0,IF(OR(MAX($G$3:G127)-G127=0,A127=0),\"\",MAX($G$3:G127)-G127),\"\")","v":""},"","","",null,null,null,null,{"$f":"IF(I127>0,IF(OR(MAX($O$3:O127)-O127=0,I127=0),\"\",MAX($O$3:O127)-O127),\"\")","v":""},"","","",null,null,null,null,{"$f":"IF(I127>0,IF(OR(MAX($W$3:W127)-W127=0,Q127=0),\"\",MAX($W$3:W127)-W127),\"\")","v":""},"","",""]
[null,null,null,{"$f":"IF(A128>0,IF(OR(MAX($G$3:G128)-G128=0,A128=0),\"\",MAX($G$3:G128)-G128),\"\")","v":""},"","","",null,null,null,null,{"$f":"IF(I128>0,IF(OR(MAX($O$3:O128)-O128=0,I128=0),\"\",MAX($O$3:O128)-O128),\"\")","v":""},"","","",null,null,null,null,{"$f":"IF(I128>0,IF(OR(MAX($W$3:W128)-W128=0,Q128=0),\"\",MAX($W$3:W128)-W128),\"\")","v":""},"","",""]
[null,null,null,{"$f":"IF(A129>0,IF(OR(MAX($G$3:G129)-G129=0,A129=0),\"\",MAX($G$3:G129)-G129),\"\")","v":""},"","","",null,null,null,null,{"$f":"IF(I129>0,IF(OR(MAX($O$3:O129)-O129=0,I129=0),\"\",MAX($O$3:O129)-O129),\"\")","v":""},"","","",null,null,null,null,{"$f":"IF(I129>0,IF(OR(MAX($W$3:W129)-W129=0,Q129=0),\"\",MAX($W$3:W129)-W129),\"\")","v":""},"","",""]
[null,null,null,{"$f":"IF(A130>0,IF(OR(MAX($G$3:G130)-G130=0,A130=0),\"\",MAX($G$3:G130)-G130),\"\")","v":""},"","","",null,null,null,null,{"$f":"IF(I130>0,IF(OR(MAX($O$3:O130)-O130=0,I130=0),\"\",MAX($O$3:O130)-O130),\"\")","v":""},"","","",null,null,null,null,{"$f":"IF(I130>0,IF(OR(MAX($W$3:W130)-W130=0,Q130=0),\"\",MAX($W$3:W130)-W130),\"\")","v":""},"","",""]
[null,null,null,{"$f":"IF(A131>0,IF(OR(MAX($G$3:G131)-G131=0,A131=0),\"\",MAX($G$3:G131)-G131),\"\")","v":""},"","","",null,null,null,null,{"$f":"IF(I131>0,IF(OR(MAX($O$3:O131)-O131=0,I131=0),\"\",MAX($O$3:O131)-O131),\"\")","v":""},"","","",null,null,null,null,{"$f":"IF(I131>0,IF(OR(MAX($W$3:W131)-W131=0,Q131=0),\"\",MAX($W$3:W131)-W131),\"\")","v":""},"","",""]
[null,null,null,{"$f":"IF(A132>0,IF(OR(MAX($G$3:G132)-G132=0,A132=0),\"\",MAX($G$3:G132)-G132),\"\")","v":""},"","","",null,null,null,null,{"$f":"IF(I132>0,IF(OR(MAX($O$3:O132)-O132=0,I132=0),\"\",MAX($O$3:O132)-O132),\"\")","v":""},"","","",null,null,null,null,{"$f":"IF(I132>0,IF(OR(MAX($W$3:W132)-W132=0,Q132=0),\"\",MAX($W$3:W132)-W132),\"\")","v":""},"","",""]
[null,null,null,{"$f":"IF(A133>0,IF(OR(MAX($G$3:G133)-G133=0,A133=0),\"\",MAX($G$3:G133)-G133),\"\")","v":""},"","","",null,null,null,null,{"$f":"IF(I133>0,IF(OR(MAX($O$3:O133)-O133=0,I133=0),\"\",MAX($O$3:O133)-O133),\"\")","v":""},"","","",null,null,null,null,{"$f":"IF(I133>0,IF(OR(MAX($W$3:W133)-W133=0,Q133=0),\"\",MAX($W$3:W133)-W133),\"\")","v":""},"","",""]
[null,null,null,{"$f":"IF(A134>0,IF(OR(MAX($G$3:G134)-G134=0,A134=0),\"\",MAX($G$3:G134)-G134),\"\")","v":""},"","","",null,null,null,null,{"$f":"IF(I134>0,IF(OR(MAX($O$3:O134)-O134=0,I134=0),\"\",MAX($O$3:O134)-O134),\"\")","v":""},{"$f":"IF(L134=\"\",\"\",L134/(N134+O133))","v":""},{"$f":"IF(I134>0,N133+K134,\"\")","v":""},{"$f":"IF(I134>0,O133+K134,\"\")","v":""},null,null,null,null,{"$f":"IF(I134>0,IF(OR(MAX($W$3:W134)-W134=0,Q134=0),\"\",MAX($W$3:W134)-W134),\"\")","v":""},{"$f":"IF(T134=\"\",\"\",T134/(V134+W133))","v":""},{"$f":"IF(Q134>0,V133+S134,\"\")","v":""},{"$f":"IF(Q134>0,W133+S134,\"\")","v":""}]
[null,null,null,{"$f":"IF(A135>0,IF(OR(MAX($G$3:G135)-G135=0,A135=0),\"\",MAX($G$3:G135)-G135),\"\")","v":""},"","","",null,null,null,null,{"$f":"IF(I135>0,IF(OR(MAX($O$3:O135)-O135=0,I135=0),\"\",MAX($O$3:O135)-O135),\"\")","v":""},"","","",null,null,null,null,{"$f":"IF(I135>0,IF(OR(MAX($W$3:W135)-W135=0,Q135=0),\"\",MAX($W$3:W135)-W135),\"\")","v":""},"","",""]
[null,null,null,{"$f":"IF(A136>0,IF(OR(MAX($G$3:G136)-G136=0,A136=0),\"\",MAX($G$3:G136)-G136),\"\")","v":""},{"$f":"IF(D136=\"\",\"\",D136/(F136+G135))","v":""},{"$f":"IF(A136>0,F135+C136,\"\")","v":""},{"$f":"IF(A136>0,G135+C136,\"\")","v":""},null,null,null,null,{"$f":"IF(I136>0,IF(OR(MAX($O$3:O136)-O136=0,I136=0),\"\",MAX($O$3:O136)-O136),\"\")","v":""},"","","",null,null,null,null,{"$f":"IF(I136>0,IF(OR(MAX($W$3:W136)-W136=0,Q136=0),\"\",MAX($W$3:W136)-W136),\"\")","v":""},"","",""]
[null,null,null,{"$f":"IF(A137>0,IF(OR(MAX($G$3:G137)-G137=0,A137=0),\"\",MAX($G$3:G137)-G137),\"\")","v":""},"","","",null,null,null,null,{"$f":"IF(I137>0,IF(OR(MAX($O$3:O137)-O137=0,I137=0),\"\",MAX($O$3:O137)-O137),\"\")","v":""},"","","",null,null,null,null,{"$f":"IF(I137>0,IF(OR(MAX($W$3:W137)-W137=0,Q137=0),\"\",MAX($W$3:W137)-W137),\"\")","v":""},"","",""]
[null,null,null,{"$f":"IF(A138>0,IF(OR(MAX($G$3:G138)-G138=0,A138=0),\"\",MAX($G$3:G138)-G138),\"\")","v":""},"","","",null,null,null,null,{"$f":"IF(I138>0,IF(OR(MAX($O$3:O138)-O138=0,I138=0),\"\",MAX($O$3:O138)-O138),\"\")","v":""},"","","",null,null,null,null,{"$f":"IF(I138>0,IF(OR(MAX($W$3:W138)-W138=0,Q138=0),\"\",MAX($W$3:W138)-W138),\"\")","v":""},"","",""]
[null,null,null,{"$f":"IF(A139>0,IF(OR(MAX($G$3:G139)-G139=0,A139=0),\"\",MAX($G$3:G139)-G139),\"\")","v":""},"","","",null,null,null,null,{"$f":"IF(I139>0,IF(OR(MAX($O$3:O139)-O139=0,I139=0),\"\",MAX($O$3:O139)-O139),\"\")","v":""},"","","",null,null,null,null,{"$f":"IF(I139>0,IF(OR(MAX($W$3:W139)-W139=0,Q139=0),\"\",MAX($W$3:W139)-W139),\"\")","v":""},"","",""]
[null,null,null,{"$f":"IF(A140>0,IF(OR(MAX($G$3:G140)-G140=0,A140=0),\"\",MAX($G$3:G140)-G140),\"\")","v":""},"","","",null,null,null,null,{"$f":"IF(I140>0,IF(OR(MAX($O$3:O140)-O140=0,I140=0),\"\",MAX($O$3:O140)-O140),\"\")","v":""},"","","",null,null,null,null,{"$f":"IF(I140>0,IF(OR(MAX($W$3:W140)-W140=0,Q140=0),\"\",MAX($W$3:W140)-W140),\"\")","v":""},"","",""]
[null,null,null,{"$f":"IF(A141>0,IF(OR(MAX($G$3:G141)-G141=0,A141=0),\"\",MAX($G$3:G141)-G141),\"\")","v":""},"","","",null,null,null,null,{"$f":"IF(I141>0,IF(OR(MAX($O$3:O141)-O141=0,I141=0),\"\",MAX($O$3:O141)-O141),\"\")","v":""},"","","",null,null,null,null,{"$f":"IF(I141>0,IF(OR(MAX($W$3:W141)-W141=0,Q141=0),\"\",MAX($W$3:W141)-W141),\"\")","v":""},"","",""]
[null,null,null,{"$f":"IF(A142>0,IF(OR(MAX($G$3:G142)-G142=0,A142=0),\"\",MAX($G$3:G142)-G142),\"\")","v":""},"","","",null,null,null,null,{"$f":"IF(I142>0,IF(OR(MAX($O$3:O142)-O142=0,I142=0),\"\",MAX($O$3:O142)-O142),\"\")","v":""},"","","",null,null,null,null,{"$f":"IF(I142>0,IF(OR(MAX($W$3:W142)-W142=0,Q142=0),\"\",MAX($W$3:W142)-W142),\"\")","v":""},"","",""]
[null,null,null,{"$f":"IF(A143>0,IF(OR(MAX($G$3:G143)-G143=0,A143=0),\"\",MAX($G$3:G143)-G143),\"\")","v":""},"","","",null,null,null,null,{"$f":"IF(I143>0,IF(OR(MAX($O$3:O143)-O143=0,I143=0),\"\",MAX($O$3:O143)-O143),\"\")","v":""},"","","",null,null,null,null,{"$f":"IF(I143>0,IF(OR(MAX($W$3:W143)-W143=0,Q143=0),\"\",MAX($W$3:W143)-W143),\"\")","v":""},"","",""]
[null,null,null,{"$f":"IF(A144>0,IF(OR(MAX($G$3:G144)-G144=0,A144=0),\"\",MAX($G$3:G144)-G144),\"\")","v":""},"","","",null,null,null,null,{"$f":"IF(I144>0,IF(OR(MAX($O$3:O144)-O144=0,I144=0),\"\",MAX($O$3:O144)-O144),\"\")","v":""},"","","",null,null,null,null,{"$f":"IF(I144>0,IF(OR(MAX($W$3:W144)-W144=0,Q144=0),\"\",MAX($W$3:W144)-W144),\"\")","v":""},"","",""]
[null,null,null,{"$f":"IF(A145>0,IF(OR(MAX($G$3:G145)-G145=0,A145=0),\"\",MAX($G$3:G145)-G145),\"\")","v":""},"","","",null,null,null,null,{"$f":"IF(I145>0,IF(OR(MAX($O$3:O145)-O145=0,I145=0),\"\",MAX($O$3:O145)-O145),\"\")","v":""},"","","",null,null,null,null,{"$f":"IF(I145>0,IF(OR(MAX($W$3:W145)-W145=0,Q145=0),\"\",MAX($W$3:W145)-W145),\"\")","v":""},"","",""]
[null,null,null,{"$f":"IF(A146>0,IF(OR(MAX($G$3:G146)-G146=0,A146=0),\"\",MAX($G$3:G146)-G146),\"\")","v":""},"","","",null,null,null,null,{"$f":"IF(I146>0,IF(OR(MAX($O$3:O146)-O146=0,I146=0),\"\",MAX($O$3:O146)-O146),\"\")","v":""},"","","",null,null,null,null,{"$f":"IF(I146>0,IF(OR(MAX($W$3:W146)-W146=0,Q146=0),\"\",MAX($W$3:W146)-W146),\"\")","v":""},"","",""]
[null,null,null,{"$f":"IF(A147>0,IF(OR(MAX($G$3:G147)-G147=0,A147=0),\"\",MAX($G$3:G147)-G147),\"\")","v":""},"","","",null,null,null,null,{"$f":"IF(I147>0,IF(OR(MAX($O$3:O147)-O147=0,I147=0),\"\",MAX($O$3:O147)-O147),\"\")","v":""},"","","",null,null,null,null,{"$f":"IF(I147>0,IF(OR(MAX($W$3:W147)-W147=0,Q147=0),\"\",MAX($W$3:W147)-W147),\"\")","v":""},"","",""]
[null,null,null,{"$f":"IF(A148>0,IF(OR(MAX($G$3:G148)-G148=0,A148=0),\"\",MAX($G$3:G148)-G148),\"\")","v":""},"","","",null,null,null,null,{"$f":"IF(I148>0,IF(OR(MAX($O$3:O148)-O148=0,I148=0),\"\",MAX($O$3:O148)-O148),\"\")","v":""},"","","",null,null,null,null,{"$f":"IF(I148>0,IF(OR(MAX($W$3:W148)-W148=0,Q148=0),\"\",MAX($W$3:W148)-W148),\"\")","v":""},"","",""]
[null,null,null,{"$f":"IF(A149>0,IF(OR(MAX($G$3:G149)-G149=0,A149=0),\"\",MAX($G$3:G149)-G149),\"\")","v":""},"","","",null,null,null,null,{"$f":"IF(I149>0,IF(OR(MAX($O$3:O149)-O149=0,I149=0),\"\",MAX($O$3:O149)-O149),\"\")","v":""},"","","",null,null,null,null,{"$f":"IF(I149>0,IF(OR(MAX($W$3:W149)-W149=0,Q149=0),\"\",MAX($W$3:W149)-W149),\"\")","v":""},"","",""]
[null,null,null,{"$f":"IF(A150>0,IF(OR(MAX($G$3:G150)-G150=0,A150=0),\"\",MAX($G$3:G150)-G150),\"\")","v":""},"","","",null,null,null,null,{"$f":"IF(I150>0,IF(OR(MAX($O$3:O150)-O150=0,I150=0),\"\",MAX($O$3:O150)-O150),\"\")","v":""},"","","",null,null,null,null,{"$f":"IF(I150>0,IF(OR(MAX($W$3:W150)-W150=0,Q150=0),\"\",MAX($W$3:W150)-W150),\"\")","v":""},"","",""]
[null,null,null,{"$f":"IF(A151>0,IF(OR(MAX($G$3:G151)-G151=0,A151=0),\"\",MAX($G$3:G151)-G151),\"\")","v":""},"","","",null,null,null,null,{"$f":"IF(I151>0,IF(OR(MAX($O$3:O151)-O151=0,I151=0),\"\",MAX($O$3:O151)-O151),\"\")","v":""},"","","",null,null,null,null,{"$f":"IF(I151>0,IF(OR(MAX($W$3:W151)-W151=0,Q151=0),\"\",MAX($W$3:W151)-W151),\"\")","v":""},"","",""]
[null,null,null,{"$f":"IF(A152>0,IF(OR(MAX($G$3:G152)-G152=0,A152=0),\"\",MAX($G$3:G152)-G152),\"\")","v":""},"","","",null,null,null,null,{"$f":"IF(I152>0,IF(OR(MAX($O$3:O152)-O152=0,I152=0),\"\",MAX($O$3:O152)-O152),\"\")","v":""},"","","",null,null,null,null,{"$f":"IF(I152>0,IF(OR(MAX($W$3:W152)-W152=0,Q152=0),\"\",MAX($W$3:W152)-W152),\"\")","v":""},"","",""]
[null,null,null,{"$f":"IF(A153>0,IF(OR(MAX($G$3:G153)-G153=0,A153=0),\"\",MAX($G$3:G153)-G153),\"\")","v":""},"","","",null,null,null,null,{"$f":"IF(I153>0,IF(OR(MAX($O$3:O153)-O153=0,I153=0),\"\",MAX($O$3:O153)-O153),\"\")","v":""},"","","",null,null,null,null,{"$f":"IF(I153>0,IF(OR(MAX($W$3:W153)-W153=0,Q153=0),\"\",MAX($W$3:W153)-W153),\"\")","v":""},"","",""]
[null,null,null,{"$f":"IF(A154>0,IF(OR(MAX($G$3:G154)-G154=0,A154=0),\"\",MAX($G$3:G154)-G154),\"\")","v":""},"","","",null,null,null,null,{"$f":"IF(I154>0,IF(OR(MAX($O$3:O154)-O154=0,I154=0),\"\",MAX($O$3:O154)-O154),\"\")","v":""},"","","",null,null,null,null,{"$f":"IF(I154>0,IF(OR(MAX($W$3:W154)-W154=0,Q154=0),\"\",MAX($W$3:W154)-W154),\"\")","v":""},"","",""]
[null,null,null,{"$f":"IF(A155>0,IF(OR(MAX($G$3:G155)-G155=0,A155=0),\"\",MAX($G$3:G155)-G155),\"\")","v":""},"","","",null,null,null,null,{"$f":"IF(I155>0,IF(OR(MAX($O$3:O155)-O155=0,I155=0),\"\",MAX($O$3:O155)-O155),\"\")","v":""},"","","",null,null,null,null,{"$f":"IF(I155>0,IF(OR(MAX($W$3:W155)-W155=0,Q155=0),\"\",MAX($W$3:W155)-W155),\"\")","v":""},"","",""]
[null,null,null,{"$f":"IF(A156>0,IF(OR(MAX($G$3:G156)-G156=0,A156=0),\"\",MAX($G$3:G156)-G156),\"\")","v":""},"","","",null,null,null,null,{"$f":"IF(I156>0,IF(OR(MAX($O$3:O156)-O156=0,I156=0),\"\",MAX($O$3:O156)-O156),\"\")","v":""},"","","",null,null,null,null,{"$f":"IF(I156>0,IF(OR(MAX($W$3:W156)-W156=0,Q156=0),\"\",MAX($W$3:W156)-W156),\"\")","v":""},"","",""]
[null,null,null,{"$f":"IF(A157>0,IF(OR(MAX($G$3:G157)-G157=0,A157=0),\"\",MAX($G$3:G157)-G157),\"\")","v":""},"","","",null,null,null,null,{"$f":"IF(I157>0,IF(OR(MAX($O$3:O157)-O157=0,I157=0),\"\",MAX($O$3:O157)-O157),\"\")","v":""},"","","",null,null,null,null,{"$f":"IF(I157>0,IF(OR(MAX($W$3:W157)-W157=0,Q157=0),\"\",MAX($W$3:W157)-W157),\"\")","v":""},"","",""]
[null,null,null,{"$f":"IF(A158>0,IF(OR(MAX($G$3:G158)-G158=0,A158=0),\"\",MAX($G$3:G158)-G158),\"\")","v":""},"","","",null,null,null,null,{"$f":"IF(I158>0,IF(OR(MAX($O$3:O158)-O158=0,I158=0),\"\",MAX($O$3:O158)-O158),\"\")","v":""},"","","",null,null,null,null,{"$f":"IF(I158>0,IF(OR(MAX($W$3:W158)-W158=0,Q158=0),\"\",MAX($W$3:W158)-W158),\"\")","v":""},"","",""]
[null,null,null,{"$f":"IF(A159>0,IF(OR(MAX($G$3:G159)-G159=0,A159=0),\"\",MAX($G$3:G159)-G159),\"\")","v":""},"","","",null,null,null,null,{"$f":"IF(I159>0,IF(OR(MAX($O$3:O159)-O159=0,I159=0),\"\",MAX($O$3:O159)-O159),\"\")","v":""},"","","",null,null,null,null,{"$f":"IF(I159>0,IF(OR(MAX($W$3:W159)-W159=0,Q159=0),\"\",MAX($W$3:W159)-W159),\"\")","v":""},"","",""]
[null,null,null,{"$f":"IF(A160>0,IF(OR(MAX($G$3:G160)-G160=0,A160=0),\"\",MAX($G$3:G160)-G160),\"\")","v":""},"","","",null,null,null,null,{"$f":"IF(I160>0,IF(OR(MAX($O$3:O160)-O160=0,I160=0),\"\",MAX($O$3:O160)-O160),\"\")","v":""},"","","",null,null,null,null,{"$f":"IF(I160>0,IF(OR(MAX($W$3:W160)-W160=0,Q160=0),\"\",MAX($W$3:W160)-W160),\"\")","v":""},"","",""]
[null,null,null,{"$f":"IF(A161>0,IF(OR(MAX($G$3:G161)-G161=0,A161=0),\"\",MAX($G$3:G161)-G161),\"\")","v":""},"","","",null,null,null,null,{"$f":"IF(I161>0,IF(OR(MAX($O$3:O161)-O161=0,I161=0),\"\",MAX($O$3:O161)-O161),\"\")","v":""},"","","",null,null,null,null,{"$f":"IF(I161>0,IF(OR(MAX($W$3:W161)-W161=0,Q161=0),\"\",MAX($W$3:W161)-W161),\"\")","v":""},"","",""]
[null,null,null,{"$f":"IF(A162>0,IF(OR(MAX($G$3:G162)-G162=0,A162=0),\"\",MAX($G$3:G162)-G162),\"\")","v":""},"","","",null,null,null,null,{"$f":"IF(I162>0,IF(OR(MAX($O$3:O162)-O162=0,I162=0),\"\",MAX($O$3:O162)-O162),\"\")","v":""},"","","",null,null,null,null,{"$f":"IF(I162>0,IF(OR(MAX($W$3:W162)-W162=0,Q162=0),\"\",MAX($W$3:W162)-W162),\"\")","v":""},"","",""]
[null,null,null,{"$f":"IF(A163>0,IF(OR(MAX($G$3:G163)-G163=0,A163=0),\"\",MAX($G$3:G163)-G163),\"\")","v":""},"","","",null,null,null,null,{"$f":"IF(I163>0,IF(OR(MAX($O$3:O163)-O163=0,I163=0),\"\",MAX($O$3:O163)-O163),\"\")","v":""},"","","",null,null,null,null,{"$f":"IF(I163>0,IF(OR(MAX($W$3:W163)-W163=0,Q163=0),\"\",MAX($W$3:W163)-W163),\"\")","v":""},"","",""]
[null,null,null,{"$f":"IF(A164>0,IF(OR(MAX($G$3:G164)-G164=0,A164=0),\"\",MAX($G$3:G164)-G164),\"\")","v":""},"","","",null,null,null,null,{"$f":"IF(I164>0,IF(OR(MAX($O$3:O164)-O164=0,I164=0),\"\",MAX($O$3:O164)-O164),\"\")","v":""},"","","",null,null,null,null,{"$f":"IF(I164>0,IF(OR(MAX($W$3:W164)-W164=0,Q164=0),\"\",MAX($W$3:W164)-W164),\"\")","v":""},"","",""]
[null,null,null,{"$f":"IF(A165>0,IF(OR(MAX($G$3:G165)-G165=0,A165=0),\"\",MAX($G$3:G165)-G165),\"\")","v":""},"","","",null,null,null,null,{"$f":"IF(I165>0,IF(OR(MAX($O$3:O165)-O165=0,I165=0),\"\",MAX($O$3:O165)-O165),\"\")","v":""},"","","",null,null,null,null,{"$f":"IF(I165>0,IF(OR(MAX($W$3:W165)-W165=0,Q165=0),\"\",MAX($W$3:W165)-W165),\"\")","v":""},"","",""]
[null,null,null,{"$f":"IF(A166>0,IF(OR(MAX($G$3:G166)-G166=0,A166=0),\"\",MAX($G$3:G166)-G166),\"\")","v":""},"","","",null,null,null,null,{"$f":"IF(I166>0,IF(OR(MAX($O$3:O166)-O166=0,I166=0),\"\",MAX($O$3:O166)-O166),\"\")","v":""},"","","",null,null,null,null,{"$f":"IF(I166>0,IF(OR(MAX($W$3:W166)-W166=0,Q166=0),\"\",MAX($W$3:W166)-W166),\"\")","v":""},"","",""]
[null,null,null,{"$f":"IF(A167>0,IF(OR(MAX($G$3:G167)-G167=0,A167=0),\"\",MAX($G$3:G167)-G167),\"\")","v":""},"","","",null,null,null,null,{"$f":"IF(I167>0,IF(OR(MAX($O$3:O167)-O167=0,I167=0),\"\",MAX($O$3:O167)-O167),\"\")","v":""},"","","",null,null,null,null,{"$f":"IF(I167>0,IF(OR(MAX($W$3:W167)-W167=0,Q167=0),\"\",MAX($W$3:W167)-W167),\"\")","v":""},"","",""]
[null,null,null,{"$f":"IF(A168>0,IF(OR(MAX($G$3:G168)-G168=0,A168=0),\"\",MAX($G$3:G168)-G168),\"\")","v":""},"","","",null,null,null,null,{"$f":"IF(I168>0,IF(OR(MAX($O$3:O168)-O168=0,I168=0),\"\",MAX($O$3:O168)-O168),\"\")","v":""},"","","",null,null,null,null,{"$f":"IF(I168>0,IF(OR(MAX($W$3:W168)-W168=0,Q168=0),\"\",MAX($W$3:W168)-W168),\"\")","v":""},"","",""]
[null,null,null,{"$f":"IF(A169>0,IF(OR(MAX($G$3:G169)-G169=0,A169=0),\"\",MAX($G$3:G169)-G169),\"\")","v":""},"","","",null,null,null,null,{"$f":"IF(I169>0,IF(OR(MAX($O$3:O169)-O169=0,I169=0),\"\",MAX($O$3:O169)-O169),\"\")","v":""},"","","",null,null,null,null,{"$f":"IF(I169>0,IF(OR(MAX($W$3:W169)-W169=0,Q169=0),\"\",MAX($W$3:W169)-W169),\"\")","v":""},"","",""]
[null,null,null,{"$f":"IF(A170>0,IF(OR(MAX($G$3:G170)-G170=0,A170=0),\"\",MAX($G$3:G170)-G170),\"\")","v":""},"","","",null,null,null,null,{"$f":"IF(I170>0,IF(OR(MAX($O$3:O170)-O170=0,I170=0),\"\",MAX($O$3:O170)-O170),\"\")","v":""},"","","",null,null,null,null,{"$f":"IF(I170>0,IF(OR(MAX($W$3:W170)-W170=0,Q170=0),\"\",MAX($W$3:W170)-W170),\"\")","v":""},"","",""]
[null,null,null,{"$f":"IF(A171>0,IF(OR(MAX($G$3:G171)-G171=0,A171=0),\"\",MAX($G$3:G171)-G171),\"\")","v":""},"","","",null,null,null,null,{"$f":"IF(I171>0,IF(OR(MAX($O$3:O171)-O171=0,I171=0),\"\",MAX($O$3:O171)-O171),\"\")","v":""},"","","",null,null,null,null,{"$f":"IF(I171>0,IF(OR(MAX($W$3:W171)-W171=0,Q171=0),\"\",MAX($W$3:W171)-W171),\"\")","v":""},"","",""]
[null,null,null,{"$f":"IF(A172>0,IF(OR(MAX($G$3:G172)-G172=0,A172=0),\"\",MAX($G$3:G172)-G172),\"\")","v":""},"","","",null,null,null,null,{"$f":"IF(I172>0,IF(OR(MAX($O$3:O172)-O172=0,I172=0),\"\",MAX($O$3:O172)-O172),\"\")","v":""},"","","",null,null,null,null,{"$f":"IF(I172>0,IF(OR(MAX($W$3:W172)-W172=0,Q172=0),\"\",MAX($W$3:W172)-W172),\"\")","v":""},"","",""]
[null,null,null,{"$f":"IF(A173>0,IF(OR(MAX($G$3:G173)-G173=0,A173=0),\"\",MAX($G$3:G173)-G173),\"\")","v":""},"","","",null,null,null,null,{"$f":"IF(I173>0,IF(OR(MAX($O$3:O173)-O173=0,I173=0),\"\",MAX($O$3:O173)-O173),\"\")","v":""},"","","",null,null,null,null,{"$f":"IF(I173>0,IF(OR(MAX($W$3:W173)-W173=0,Q173=0),\"\",MAX($W$3:W173)-W173),\"\")","v":""},"","",""]
[null,null,null,{"$f":"IF(A174>0,IF(OR(MAX($G$3:G174)-G174=0,A174=0),\"\",MAX($G$3:G174)-G174),\"\")","v":""},"","","",null,null,null,null,{"$f":"IF(I174>0,IF(OR(MAX($O$3:O174)-O174=0,I174=0),\"\",MAX($O$3:O174)-O174),\"\")","v":""},"","","",null,null,null,null,{"$f":"IF(I174>0,IF(OR(MAX($W$3:W174)-W174=0,Q174=0),\"\",MAX($W$3:W174)-W174),\"\")","v":""},"","",""]
[null,null,null,{"$f":"IF(A175>0,IF(OR(MAX($G$3:G175)-G175=0,A175=0),\"\",MAX($G$3:G175)-G175),\"\")","v":""},"","","",null,null,null,null,{"$f":"IF(I175>0,IF(OR(MAX($O$3:O175)-O175=0,I175=0),\"\",MAX($O$3:O175)-O175),\"\")","v":""},"","","",null,null,null,null,{"$f":"IF(I175>0,IF(OR(MAX($W$3:W175)-W175=0,Q175=0),\"\",MAX($W$3:W175)-W175),\"\")","v":""},"","",""]
[null,null,null,{"$f":"IF(A176>0,IF(OR(MAX($G$3:G176)-G176=0,A176=0),\"\",MAX($G$3:G176)-G176),\"\")","v":""},"","","",null,null,null,null,{"$f":"IF(I176>0,IF(OR(MAX($O$3:O176)-O176=0,I176=0),\"\",MAX($O$3:O176)-O176),\"\")","v":""},"","","",null,null,null,null,{"$f":"IF(I176>0,IF(OR(MAX($W$3:W176)-W176=0,Q176=0),\"\",MAX($W$3:W176)-W176),\"\")","v":""},"","",""]
[null,null,null,{"$f":"IF(A177>0,IF(OR(MAX($G$3:G177)-G177=0,A177=0),\"\",MAX($G$3:G177)-G177),\"\")","v":""},"","","",null,null,null,null,{"$f":"IF(I177>0,IF(OR(MAX($O$3:O177)-O177=0,I177=0),\"\",MAX($O$3:O177)-O177),\"\")","v":""},"","","",null,null,null,null,{"$f":"IF(I177>0,IF(OR(MAX($W$3:W177)-W177=0,Q177=0),\"\",MAX($W$3:W177)-W177),\"\")","v":""},"","",""]
[null,null,null,{"$f":"IF(A178>0,IF(OR(MAX($G$3:G178)-G178=0,A178=0),\"\",MAX($G$3:G178)-G178),\"\")","v":""},"","","",null,null,null,null,{"$f":"IF(I178>0,IF(OR(MAX($O$3:O178)-O178=0,I178=0),\"\",MAX($O$3:O178)-O178),\"\")","v":""},"","","",null,null,null,null,{"$f":"IF(I178>0,IF(OR(MAX($W$3:W178)-W178=0,Q178=0),\"\",MAX($W$3:W178)-W178),\"\")","v":""},"","",""]
[null,null,null,{"$f":"IF(A179>0,IF(OR(MAX($G$3:G179)-G179=0,A179=0),\"\",MAX($G$3:G179)-G179),\"\")","v":""},"","","",null,null,null,null,{"$f":"IF(I179>0,IF(OR(MAX($O$3:O179)-O179=0,I179=0),\"\",MAX($O$3:O179)-O179),\"\")","v":""},"","","",null,null,null,null,{"$f":"IF(I179>0,IF(OR(MAX($W$3:W179)-W179=0,Q179=0),\"\",MAX($W$3:W179)-W179),\"\")","v":""},"","",""]
[null,null,null,{"$f":"IF(A180>0,IF(OR(MAX($G$3:G180)-G180=0,A180=0),\"\",MAX($G$3:G180)-G180),\"\")","v":""},"","","",null,null,null,null,{"$f":"IF(I180>0,IF(OR(MAX($O$3:O180)-O180=0,I180=0),\"\",MAX($O$3:O180)-O180),\"\")","v":""},"","","",null,null,null,null,{"$f":"IF(I180>0,IF(OR(MAX($W$3:W180)-W180=0,Q180=0),\"\",MAX($W$3:W180)-W180),\"\")","v":""},"","",""]
[null,null,null,{"$f":"IF(A181>0,IF(OR(MAX($G$3:G181)-G181=0,A181=0),\"\",MAX($G$3:G181)-G181),\"\")","v":""},"","","",null,null,null,null,{"$f":"IF(I181>0,IF(OR(MAX($O$3:O181)-O181=0,I181=0),\"\",MAX($O$3:O181)-O181),\"\")","v":""},"","","",null,null,null,null,{"$f":"IF(I181>0,IF(OR(MAX($W$3:W181)-W181=0,Q181=0),\"\",MAX($W$3:W181)-W181),\"\")","v":""},"","",""]
[null,null,null,{"$f":"IF(A182>0,IF(OR(MAX($G$3:G182)-G182=0,A182=0),\"\",MAX($G$3:G182)-G182),\"\")","v":""},"","","",null,null,null,null,{"$f":"IF(I182>0,IF(OR(MAX($O$3:O182)-O182=0,I182=0),\"\",MAX($O$3:O182)-O182),\"\")","v":""},"","","",null,null,null,null,{"$f":"IF(I182>0,IF(OR(MAX($W$3:W182)-W182=0,Q182=0),\"\",MAX($W$3:W182)-W182),\"\")","v":""},"","",""]
[null,null,null,{"$f":"IF(A183>0,IF(OR(MAX($G$3:G183)-G183=0,A183=0),\"\",MAX($G$3:G183)-G183),\"\")","v":""},"","","",null,null,null,null,{"$f":"IF(I183>0,IF(OR(MAX($O$3:O183)-O183=0,I183=0),\"\",MAX($O$3:O183)-O183),\"\")","v":""},"","","",null,null,null,null,{"$f":"IF(I183>0,IF(OR(MAX($W$3:W183)-W183=0,Q183=0),\"\",MAX($W$3:W183)-W183),\"\")","v":""},"","",""]
[null,null,null,{"$f":"IF(A184>0,IF(OR(MAX($G$3:G184)-G184=0,A184=0),\"\",MAX($G$3:G184)-G184),\"\")","v":""},"","","",null,null,null,null,{"$f":"IF(I184>0,IF(OR(MAX($O$3:O184)-O184=0,I184=0),\"\",MAX($O$3:O184)-O184),\"\")","v":""},"","","",null,null,null,null,{"$f":"IF(I184>0,IF(OR(MAX($W$3:W184)-W184=0,Q184=0),\"\",MAX($W$3:W184)-W184),\"\")","v":""},"","",""]
[null,null,null,{"$f":"IF(A185>0,IF(OR(MAX($G$3:G185)-G185=0,A185=0),\"\",MAX($G$3:G185)-G185),\"\")","v":""},"","","",null,null,null,null,{"$f":"IF(I185>0,IF(OR(MAX($O$3:O185)-O185=0,I185=0),\"\",MAX($O$3:O185)-O185),\"\")","v":""},"","","",null,null,null,null,{"$f":"IF(I185>0,IF(OR(MAX($W$3:W185)-W185=0,Q185=0),\"\",MAX($W$3:W185)-W185),\"\")","v":""},"","",""]
[null,null,null,{"$f":"IF(A186>0,IF(OR(MAX($G$3:G186)-G186=0,A186=0),\"\",MAX($G$3:G186)-G186),\"\")","v":""},"","","",null,null,null,null,{"$f":"IF(I186>0,IF(OR(MAX($O$3:O186)-O186=0,I186=0),\"\",MAX($O$3:O186)-O186),\"\")","v":""},"","","",null,null,null,null,{"$f":"IF(I186>0,IF(OR(MAX($W$3:W186)-W186=0,Q186=0),\"\",MAX($W$3:W186)-W186),\"\")","v":""},"","",""]
[null,null,null,{"$f":"IF(A187>0,IF(OR(MAX($G$3:G187)-G187=0,A187=0),\"\",MAX($G$3:G187)-G187),\"\")","v":""},"","","",null,null,null,null,{"$f":"IF(I187>0,IF(OR(MAX($O$3:O187)-O187=0,I187=0),\"\",MAX($O$3:O187)-O187),\"\")","v":""},"","","",null,null,null,null,{"$f":"IF(I187>0,IF(OR(MAX($W$3:W187)-W187=0,Q187=0),\"\",MAX($W$3:W187)-W187),\"\")","v":""},"","",""]
[null,null,null,{"$f":"IF(A188>0,IF(OR(MAX($G$3:G188)-G188=0,A188=0),\"\",MAX($G$3:G188)-G188),\"\")","v":""},"","","",null,null,null,null,{"$f":"IF(I188>0,IF(OR(MAX($O$3:O188)-O188=0,I188=0),\"\",MAX($O$3:O188)-O188),\"\")","v":""},"","","",null,null,null,null,{"$f":"IF(I188>0,IF(OR(MAX($W$3:W188)-W188=0,Q188=0),\"\",MAX($W$3:W188)-W188),\"\")","v":""},"","",""]
[null,null,null,{"$f":"IF(A189>0,IF(OR(MAX($G$3:G189)-G189=0,A189=0),\"\",MAX($G$3:G189)-G189),\"\")","v":""},"","","",null,null,null,null,{"$f":"IF(I189>0,IF(OR(MAX($O$3:O189)-O189=0,I189=0),\"\",MAX($O$3:O189)-O189),\"\")","v":""},"","","",null,null,null,null,{"$f":"IF(I189>0,IF(OR(MAX($W$3:W189)-W189=0,Q189=0),\"\",MAX($W$3:W189)-W189),\"\")","v":""},"","",""]
[null,null,null,{"$f":"IF(A190>0,IF(OR(MAX($G$3:G190)-G190=0,A190=0),\"\",MAX($G$3:G190)-G190),\"\")","v":""},"","","",null,null,null,null,{"$f":"IF(I190>0,IF(OR(MAX($O$3:O190)-O190=0,I190=0),\"\",MAX($O$3:O190)-O190),\"\")","v":""},"","","",null,null,null,null,{"$f":"IF(I190>0,IF(OR(MAX($W$3:W190)-W190=0,Q190=0),\"\",MAX($W$3:W190)-W190),\"\")","v":""},"","",""]
[null,null,null,{"$f":"IF(A191>0,IF(OR(MAX($G$3:G191)-G191=0,A191=0),\"\",MAX($G$3:G191)-G191),\"\")","v":""},"","","",null,null,null,null,{"$f":"IF(I191>0,IF(OR(MAX($O$3:O191)-O191=0,I191=0),\"\",MAX($O$3:O191)-O191),\"\")","v":""},"","","",null,null,null,null,{"$f":"IF(I191>0,IF(OR(MAX($W$3:W191)-W191=0,Q191=0),\"\",MAX($W$3:W191)-W191),\"\")","v":""},"","",""]
[null,null,null,{"$f":"IF(A192>0,IF(OR(MAX($G$3:G192)-G192=0,A192=0),\"\",MAX($G$3:G192)-G192),\"\")","v":""},"","","",null,null,null,null,{"$f":"IF(I192>0,IF(OR(MAX($O$3:O192)-O192=0,I192=0),\"\",MAX($O$3:O192)-O192),\"\")","v":""},"","","",null,null,null,null,{"$f":"IF(I192>0,IF(OR(MAX($W$3:W192)-W192=0,Q192=0),\"\",MAX($W$3:W192)-W192),\"\")","v":""},"","",""]
[null,null,null,{"$f":"IF(A193>0,IF(OR(MAX($G$3:G193)-G193=0,A193=0),\"\",MAX($G$3:G193)-G193),\"\")","v":""},"","","",null,null,null,null,{"$f":"IF(I193>0,IF(OR(MAX($O$3:O193)-O193=0,I193=0),\"\",MAX($O$3:O193)-O193),\"\")","v":""},"","","",null,null,null,null,{"$f":"IF(I193>0,IF(OR(MAX($W$3:W193)-W193=0,Q193=0),\"\",MAX($W$3:W193)-W193),\"\")","v":""},"","",""]
[null,null,null,{"$f":"IF(A194>0,IF(OR(MAX($G$3:G194)-G194=0,A194=0),\"\",MAX($G$3:G194)-G194),\"\")","v":""},"","","",null,null,null,null,{"$f":"IF(I194>0,IF(OR(MAX($O$3:O194)-O194=0,I194=0),\"\",MAX($O$3:O194)-O194),\"\")","v":""},"","","",null,null,null,null,{"$f":"IF(I194>0,IF(OR(MAX($W$3:W194)-W194=0,Q194=0),\"\",MAX($W$3:W194)-W194),\"\")","v":""},"","",""]
[null,null,null,{"$f":"IF(A195>0,IF(OR(MAX($G$3:G195)-G195=0,A195=0),\"\",MAX($G$3:G195)-G195),\"\")","v":""},"","","",null,null,null,null,{"$f":"IF(I195>0,IF(OR(MAX($O$3:O195)-O195=0,I195=0),\"\",MAX($O$3:O195)-O195),\"\")","v":""},"","","",null,null,null,null,{"$f":"IF(I195>0,IF(OR(MAX($W$3:W195)-W195=0,Q195=0),\"\",MAX($W$3:W195)-W195),\"\")","v":""},"","",""]
[null,null,null,{"$f":"IF(A196>0,IF(OR(MAX($G$3:G196)-G196=0,A196=0),\"\",MAX($G$3:G196)-G196),\"\")","v":""},"","","",null,null,null,null,{"$f":"IF(I196>0,IF(OR(MAX($O$3:O196)-O196=0,I196=0),\"\",MAX($O$3:O196)-O196),\"\")","v":""},"","","",null,null,null,null,{"$f":"IF(I196>0,IF(OR(MAX($W$3:W196)-W196=0,Q196=0),\"\",MAX($W$3:W196)-W196),\"\")","v":""},"","",""]
[null,null,null,{"$f":"IF(A197>0,IF(OR(MAX($G$3:G197)-G197=0,A197=0),\"\",MAX($G$3:G197)-G197),\"\")","v":""},"","","",null,null,null,null,{"$f":"IF(I197>0,IF(OR(MAX($O$3:O197)-O197=0,I197=0),\"\",MAX($O$3:O197)-O197),\"\")","v":""},"","","",null,null,null,null,{"$f":"IF(I197>0,IF(OR(MAX($W$3:W197)-W197=0,Q197=0),\"\",MAX($W$3:W197)-W197),\"\")","v":""},"","",""]
[null,null,null,{"$f":"IF(A198>0,IF(OR(MAX($G$3:G198)-G198=0,A198=0),\"\",MAX($G$3:G198)-G198),\"\")","v":""},"","","",null,null,null,null,{"$f":"IF(I198>0,IF(OR(MAX($O$3:O198)-O198=0,I198=0),\"\",MAX($O$3:O198)-O198),\"\")","v":""},{"$f":"IF(L198=\"\",\"\",L198/(N198+O197))","v":""},{"$f":"IF(I198>0,N197+K198,\"\")","v":""},{"$f":"IF(I198>0,O197+K198,\"\")","v":""},null,null,null,null,{"$f":"IF(I198>0,IF(OR(MAX($W$3:W198)-W198=0,Q198=0),\"\",MAX($W$3:W198)-W198),\"\")","v":""},{"$f":"IF(T198=\"\",\"\",T198/(V198+W197))","v":""},{"$f":"IF(Q198>0,V197+S198,\"\")","v":""},{"$f":"IF(Q198>0,W197+S198,\"\")","v":""}]
[null,null,null,{"$f":"IF(A199>0,IF(OR(MAX($G$3:G199)-G199=0,A199=0),\"\",MAX($G$3:G199)-G199),\"\")","v":""},"","","",null,null,null,null,{"$f":"IF(I199>0,IF(OR(MAX($O$3:O199)-O199=0,I199=0),\"\",MAX($O$3:O199)-O199),\"\")","v":""},"","","",null,null,null,null,{"$f":"IF(I199>0,IF(OR(MAX($W$3:W199)-W199=0,Q199=0),\"\",MAX($W$3:W199)-W199),\"\")","v":""},"","",""]
[null,null,null,{"$f":"IF(A200>0,IF(OR(MAX($G$3:G200)-G200=0,A200=0),\"\",MAX($G$3:G200)-G200),\"\")","v":""},{"$f":"IF(D200=\"\",\"\",D200/(F200+G199))","v":""},{"$f":"IF(A200>0,F199+C200,\"\")","v":""},{"$f":"IF(A200>0,G199+C200,\"\")","v":""},null,null,null,null,{"$f":"IF(I200>0,IF(OR(MAX($O$3:O200)-O200=0,I200=0),\"\",MAX($O$3:O200)-O200),\"\")","v":""},"","","",null,null,null,null,{"$f":"IF(I200>0,IF(OR(MAX($W$3:W200)-W200=0,Q200=0),\"\",MAX($W$3:W200)-W200),\"\")","v":""},"","",""]
[null,null,null,{"$f":"IF(A201>0,IF(OR(MAX($G$3:G201)-G201=0,A201=0),\"\",MAX($G$3:G201)-G201),\"\")","v":""},"","","",null,null,null,null,{"$f":"IF(I201>0,IF(OR(MAX($O$3:O201)-O201=0,I201=0),\"\",MAX($O$3:O201)-O201),\"\")","v":""},"","","",null,null,null,null,{"$f":"IF(I201>0,IF(OR(MAX($W$3:W201)-W201=0,Q201=0),\"\",MAX($W$3:W201)-W201),\"\")","v":""},"","",""]
[null,null,null,{"$f":"IF(A202>0,IF(OR(MAX($G$3:G202)-G202=0,A202=0),\"\",MAX($G$3:G202)-G202),\"\")","v":""},"","","",null,null,null,null,{"$f":"IF(I202>0,IF(OR(MAX($O$3:O202)-O202=0,I202=0),\"\",MAX($O$3:O202)-O202),\"\")","v":""},"","","",null,null,null,null,{"$f":"IF(I202>0,IF(OR(MAX($W$3:W202)-W202=0,Q202=0),\"\",MAX($W$3:W202)-W202),\"\")","v":""},"","",""]
[null,null,null,{"$f":"IF(A203>0,IF(OR(MAX($G$3:G203)-G203=0,A203=0),\"\",MAX($G$3:G203)-G203),\"\")","v":""},"","","",null,null,null,null,{"$f":"IF(I203>0,IF(OR(MAX($O$3:O203)-O203=0,I203=0),\"\",MAX($O$3:O203)-O203),\"\")","v":""},"","","",null,null,null,null,{"$f":"IF(I203>0,IF(OR(MAX($W$3:W203)-W203=0,Q203=0),\"\",MAX($W$3:W203)-W203),\"\")","v":""},"","",""]
[null,null,null,{"$f":"IF(A204>0,IF(OR(MAX($G$3:G204)-G204=0,A204=0),\"\",MAX($G$3:G204)-G204),\"\")","v":""},"","","",null,null,null,null,{"$f":"IF(I204>0,IF(OR(MAX($O$3:O204)-O204=0,I204=0),\"\",MAX($O$3:O204)-O204),\"\")","v":""},"","","",null,null,null,null,{"$f":"IF(I204>0,IF(OR(MAX($W$3:W204)-W204=0,Q204=0),\"\",MAX($W$3:W204)-W204),\"\")","v":""},"","",""]
[null,null,null,{"$f":"IF(A205>0,IF(OR(MAX($G$3:G205)-G205=0,A205=0),\"\",MAX($G$3:G205)-G205),\"\")","v":""},"","","",null,null,null,null,{"$f":"IF(I205>0,IF(OR(MAX($O$3:O205)-O205=0,I205=0),\"\",MAX($O$3:O205)-O205),\"\")","v":""},"","","",null,null,null,null,{"$f":"IF(I205>0,IF(OR(MAX($W$3:W205)-W205=0,Q205=0),\"\",MAX($W$3:W205)-W205),\"\")","v":""},"","",""]
[null,null,null,{"$f":"IF(A206>0,IF(OR(MAX($G$3:G206)-G206=0,A206=0),\"\",MAX($G$3:G206)-G206),\"\")","v":""},"","","",null,null,null,null,{"$f":"IF(I206>0,IF(OR(MAX($O$3:O206)-O206=0,I206=0),\"\",MAX($O$3:O206)-O206),\"\")","v":""},"","","",null,null,null,null,{"$f":"IF(I206>0,IF(OR(MAX($W$3:W206)-W206=0,Q206=0),\"\",MAX($W$3:W206)-W206),\"\")","v":""},"","",""]
[null,null,null,{"$f":"IF(A207>0,IF(OR(MAX($G$3:G207)-G207=0,A207=0),\"\",MAX($G$3:G207)-G207),\"\")","v":""},"","","",null,null,null,null,{"$f":"IF(I207>0,IF(OR(MAX($O$3:O207)-O207=0,I207=0),\"\",MAX($O$3:O207)-O207),\"\")","v":""},"","","",null,null,null,null,{"$f":"IF(I207>0,IF(OR(MAX($W$3:W207)-W207=0,Q207=0),\"\",MAX($W$3:W207)-W207),\"\")","v":""},"","",""]
[null,null,null,{"$f":"IF(A208>0,IF(OR(MAX($G$3:G208)-G208=0,A208=0),\"\",MAX($G$3:G208)-G208),\"\")","v":""},"","","",null,null,null,null,{"$f":"IF(I208>0,IF(OR(MAX($O$3:O208)-O208=0,I208=0),\"\",MAX($O$3:O208)-O208),\"\")","v":""},"","","",null,null,null,null,{"$f":"IF(I208>0,IF(OR(MAX($W$3:W208)-W208=0,Q208=0),\"\",MAX($W$3:W208)-W208),\"\")","v":""},"","",""]
[null,null,null,{"$f":"IF(A209>0,IF(OR(MAX($G$3:G209)-G209=0,A209=0),\"\",MAX($G$3:G209)-G209),\"\")","v":""},"","","",null,null,null,null,{"$f":"IF(I209>0,IF(OR(MAX($O$3:O209)-O209=0,I209=0),\"\",MAX($O$3:O209)-O209),\"\")","v":""},"","","",null,null,null,null,{"$f":"IF(I209>0,IF(OR(MAX($W$3:W209)-W209=0,Q209=0),\"\",MAX($W$3:W209)-W209),\"\")","v":""},"","",""]
[null,null,null,{"$f":"IF(A210>0,IF(OR(MAX($G$3:G210)-G210=0,A210=0),\"\",MAX($G$3:G210)-G210),\"\")","v":""},"","","",null,null,null,null,{"$f":"IF(I210>0,IF(OR(MAX($O$3:O210)-O210=0,I210=0),\"\",MAX($O$3:O210)-O210),\"\")","v":""},"","","",null,null,null,null,{"$f":"IF(I210>0,IF(OR(MAX($W$3:W210)-W210=0,Q210=0),\"\",MAX($W$3:W210)-W210),\"\")","v":""},"","",""]
[null,null,null,{"$f":"IF(A211>0,IF(OR(MAX($G$3:G211)-G211=0,A211=0),\"\",MAX($G$3:G211)-G211),\"\")","v":""},"","","",null,null,null,null,{"$f":"IF(I211>0,IF(OR(MAX($O$3:O211)-O211=0,I211=0),\"\",MAX($O$3:O211)-O211),\"\")","v":""},"","","",null,null,null,null,{"$f":"IF(I211>0,IF(OR(MAX($W$3:W211)-W211=0,Q211=0),\"\",MAX($W$3:W211)-W211),\"\")","v":""},"","",""]
[null,null,null,{"$f":"IF(A212>0,IF(OR(MAX($G$3:G212)-G212=0,A212=0),\"\",MAX($G$3:G212)-G212),\"\")","v":""},"","","",null,null,null,null,{"$f":"IF(I212>0,IF(OR(MAX($O$3:O212)-O212=0,I212=0),\"\",MAX($O$3:O212)-O212),\"\")","v":""},"","","",null,null,null,null,{"$f":"IF(I212>0,IF(OR(MAX($W$3:W212)-W212=0,Q212=0),\"\",MAX($W$3:W212)-W212),\"\")","v":""},"","",""]
[null,null,null,{"$f":"IF(A213>0,IF(OR(MAX($G$3:G213)-G213=0,A213=0),\"\",MAX($G$3:G213)-G213),\"\")","v":""},"","","",null,null,null,null,{"$f":"IF(I213>0,IF(OR(MAX($O$3:O213)-O213=0,I213=0),\"\",MAX($O$3:O213)-O213),\"\")","v":""},"","","",null,null,null,null,{"$f":"IF(I213>0,IF(OR(MAX($W$3:W213)-W213=0,Q213=0),\"\",MAX($W$3:W213)-W213),\"\")","v":""},"","",""]
[null,null,null,{"$f":"IF(A214>0,IF(OR(MAX($G$3:G214)-G214=0,A214=0),\"\",MAX($G$3:G214)-G214),\"\")","v":""},"","","",null,null,null,null,{"$f":"IF(I214>0,IF(OR(MAX($O$3:O214)-O214=0,I214=0),\"\",MAX($O$3:O214)-O214),\"\")","v":""},"","","",null,null,null,null,{"$f":"IF(I214>0,IF(OR(MAX($W$3:W214)-W214=0,Q214=0),\"\",MAX($W$3:W214)-W214),\"\")","v":""},"","",""]
[null,null,null,{"$f":"IF(A215>0,IF(OR(MAX($G$3:G215)-G215=0,A215=0),\"\",MAX($G$3:G215)-G215),\"\")","v":""},"","","",null,null,null,null,{"$f":"IF(I215>0,IF(OR(MAX($O$3:O215)-O215=0,I215=0),\"\",MAX($O$3:O215)-O215),\"\")","v":""},"","","",null,null,null,null,{"$f":"IF(I215>0,IF(OR(MAX($W$3:W215)-W215=0,Q215=0),\"\",MAX($W$3:W215)-W215),\"\")","v":""},"","",""]
[null,null,null,{"$f":"IF(A216>0,IF(OR(MAX($G$3:G216)-G216=0,A216=0),\"\",MAX($G$3:G216)-G216),\"\")","v":""},"","","",null,null,null,null,{"$f":"IF(I216>0,IF(OR(MAX($O$3:O216)-O216=0,I216=0),\"\",MAX($O$3:O216)-O216),\"\")","v":""},"","","",null,null,null,null,{"$f":"IF(I216>0,IF(OR(MAX($W$3:W216)-W216=0,Q216=0),\"\",MAX($W$3:W216)-W216),\"\")","v":""},"","",""]
[null,null,null,{"$f":"IF(A217>0,IF(OR(MAX($G$3:G217)-G217=0,A217=0),\"\",MAX($G$3:G217)-G217),\"\")","v":""},"","","",null,null,null,null,{"$f":"IF(I217>0,IF(OR(MAX($O$3:O217)-O217=0,I217=0),\"\",MAX($O$3:O217)-O217),\"\")","v":""},"","","",null,null,null,null,{"$f":"IF(I217>0,IF(OR(MAX($W$3:W217)-W217=0,Q217=0),\"\",MAX($W$3:W217)-W217),\"\")","v":""},"","",""]
[null,null,null,{"$f":"IF(A218>0,IF(OR(MAX($G$3:G218)-G218=0,A218=0),\"\",MAX($G$3:G218)-G218),\"\")","v":""},"","","",null,null,null,null,{"$f":"IF(I218>0,IF(OR(MAX($O$3:O218)-O218=0,I218=0),\"\",MAX($O$3:O218)-O218),\"\")","v":""},"","","",null,null,null,null,{"$f":"IF(I218>0,IF(OR(MAX($W$3:W218)-W218=0,Q218=0),\"\",MAX($W$3:W218)-W218),\"\")","v":""},"","",""]
[null,null,null,{"$f":"IF(A219>0,IF(OR(MAX($G$3:G219)-G219=0,A219=0),\"\",MAX($G$3:G219)-G219),\"\")","v":""},"","","",null,null,null,null,{"$f":"IF(I219>0,IF(OR(MAX($O$3:O219)-O219=0,I219=0),\"\",MAX($O$3:O219)-O219),\"\")","v":""},"","","",null,null,null,null,{"$f":"IF(I219>0,IF(OR(MAX($W$3:W219)-W219=0,Q219=0),\"\",MAX($W$3:W219)-W219),\"\")","v":""},"","",""]
[null,null,null,{"$f":"IF(A220>0,IF(OR(MAX($G$3:G220)-G220=0,A220=0),\"\",MAX($G$3:G220)-G220),\"\")","v":""},"","","",null,null,null,null,{"$f":"IF(I220>0,IF(OR(MAX($O$3:O220)-O220=0,I220=0),\"\",MAX($O$3:O220)-O220),\"\")","v":""},"","","",null,null,null,null,{"$f":"IF(I220>0,IF(OR(MAX($W$3:W220)-W220=0,Q220=0),\"\",MAX($W$3:W220)-W220),\"\")","v":""},"","",""]
[null,null,null,{"$f":"IF(A221>0,IF(OR(MAX($G$3:G221)-G221=0,A221=0),\"\",MAX($G$3:G221)-G221),\"\")","v":""},"","","",null,null,null,null,{"$f":"IF(I221>0,IF(OR(MAX($O$3:O221)-O221=0,I221=0),\"\",MAX($O$3:O221)-O221),\"\")","v":""},"","","",null,null,null,null,{"$f":"IF(I221>0,IF(OR(MAX($W$3:W221)-W221=0,Q221=0),\"\",MAX($W$3:W221)-W221),\"\")","v":""},"","",""]
[null,null,null,{"$f":"IF(A222>0,IF(OR(MAX($G$3:G222)-G222=0,A222=0),\"\",MAX($G$3:G222)-G222),\"\")","v":""},"","","",null,null,null,null,{"$f":"IF(I222>0,IF(OR(MAX($O$3:O222)-O222=0,I222=0),\"\",MAX($O$3:O222)-O222),\"\")","v":""},"","","",null,null,null,null,{"$f":"IF(I222>0,IF(OR(MAX($W$3:W222)-W222=0,Q222=0),\"\",MAX($W$3:W222)-W222),\"\")","v":""},"","",""]
[null,null,null,{"$f":"IF(A223>0,IF(OR(MAX($G$3:G223)-G223=0,A223=0),\"\",MAX($G$3:G223)-G223),\"\")","v":""},"","","",null,null,null,null,{"$f":"IF(I223>0,IF(OR(MAX($O$3:O223)-O223=0,I223=0),\"\",MAX($O$3:O223)-O223),\"\")","v":""},"","","",null,null,null,null,{"$f":"IF(I223>0,IF(OR(MAX($W$3:W223)-W223=0,Q223=0),\"\",MAX($W$3:W223)-W223),\"\")","v":""},"","",""]
[null,null,null,{"$f":"IF(A224>0,IF(OR(MAX($G$3:G224)-G224=0,A224=0),\"\",MAX($G$3:G224)-G224),\"\")","v":""},"","","",null,null,null,null,{"$f":"IF(I224>0,IF(OR(MAX($O$3:O224)-O224=0,I224=0),\"\",MAX($O$3:O224)-O224),\"\")","v":""},"","","",null,null,null,null,{"$f":"IF(I224>0,IF(OR(MAX($W$3:W224)-W224=0,Q224=0),\"\",MAX($W$3:W224)-W224),\"\")","v":""},"","",""]
[null,null,null,{"$f":"IF(A225>0,IF(OR(MAX($G$3:G225)-G225=0,A225=0),\"\",MAX($G$3:G225)-G225),\"\")","v":""},"","","",null,null,null,null,{"$f":"IF(I225>0,IF(OR(MAX($O$3:O225)-O225=0,I225=0),\"\",MAX($O$3:O225)-O225),\"\")","v":""},"","","",null,null,null,null,{"$f":"IF(I225>0,IF(OR(MAX($W$3:W225)-W225=0,Q225=0),\"\",MAX($W$3:W225)-W225),\"\")","v":""},"","",""]
[null,null,null,{"$f":"IF(A226>0,IF(OR(MAX($G$3:G226)-G226=0,A226=0),\"\",MAX($G$3:G226)-G226),\"\")","v":""},"","","",null,null,null,null,{"$f":"IF(I226>0,IF(OR(MAX($O$3:O226)-O226=0,I226=0),\"\",MAX($O$3:O226)-O226),\"\")","v":""},"","","",null,null,null,null,{"$f":"IF(I226>0,IF(OR(MAX($W$3:W226)-W226=0,Q226=0),\"\",MAX($W$3:W226)-W226),\"\")","v":""},"","",""]
[null,null,null,{"$f":"IF(A227>0,IF(OR(MAX($G$3:G227)-G227=0,A227=0),\"\",MAX($G$3:G227)-G227),\"\")","v":""},"","","",null,null,null,null,{"$f":"IF(I227>0,IF(OR(MAX($O$3:O227)-O227=0,I227=0),\"\",MAX($O$3:O227)-O227),\"\")","v":""},"","","",null,null,null,null,{"$f":"IF(I227>0,IF(OR(MAX($W$3:W227)-W227=0,Q227=0),\"\",MAX($W$3:W227)-W227),\"\")","v":""},"","",""]
[null,null,null,{"$f":"IF(A228>0,IF(OR(MAX($G$3:G228)-G228=0,A228=0),\"\",MAX($G$3:G228)-G228),\"\")","v":""},"","","",null,null,null,null,{"$f":"IF(I228>0,IF(OR(MAX($O$3:O228)-O228=0,I228=0),\"\",MAX($O$3:O228)-O228),\"\")","v":""},"","","",null,null,null,null,{"$f":"IF(I228>0,IF(OR(MAX($W$3:W228)-W228=0,Q228=0),\"\",MAX($W$3:W228)-W228),\"\")","v":""},"","",""]
[null,null,null,{"$f":"IF(A229>0,IF(OR(MAX($G$3:G229)-G229=0,A229=0),\"\",MAX($G$3:G229)-G229),\"\")","v":""},"","","",null,null,null,null,{"$f":"IF(I229>0,IF(OR(MAX($O$3:O229)-O229=0,I229=0),\"\",MAX($O$3:O229)-O229),\"\")","v":""},"","","",null,null,null,null,{"$f":"IF(I229>0,IF(OR(MAX($W$3:W229)-W229=0,Q229=0),\"\",MAX($W$3:W229)-W229),\"\")","v":""},"","",""]
[null,null,null,{"$f":"IF(A230>0,IF(OR(MAX($G$3:G230)-G230=0,A230=0),\"\",MAX($G$3:G230)-G230),\"\")","v":""},"","","",null,null,null,null,{"$f":"IF(I230>0,IF(OR(MAX($O$3:O230)-O230=0,I230=0),\"\",MAX($O$3:O230)-O230),\"\")","v":""},"","","",null,null,null,null,{"$f":"IF(I230>0,IF(OR(MAX($W$3:W230)-W230=0,Q230=0),\"\",MAX($W$3:W230)-W230),\"\")","v":""},"","",""]
[null,null,null,{"$f":"IF(A231>0,IF(OR(MAX($G$3:G231)-G231=0,A231=0),\"\",MAX($G$3:G231)-G231),\"\")","v":""},"","","",null,null,null,null,{"$f":"IF(I231>0,IF(OR(MAX($O$3:O231)-O231=0,I231=0),\"\",MAX($O$3:O231)-O231),\"\")","v":""},"","","",null,null,null,null,{"$f":"IF(I231>0,IF(OR(MAX($W$3:W231)-W231=0,Q231=0),\"\",MAX($W$3:W231)-W231),\"\")","v":""},"","",""]
[null,null,null,{"$f":"IF(A232>0,IF(OR(MAX($G$3:G232)-G232=0,A232=0),\"\",MAX($G$3:G232)-G232),\"\")","v":""},"","","",null,null,null,null,{"$f":"IF(I232>0,IF(OR(MAX($O$3:O232)-O232=0,I232=0),\"\",MAX($O$3:O232)-O232),\"\")","v":""},"","","",null,null,null,null,{"$f":"IF(I232>0,IF(OR(MAX($W$3:W232)-W232=0,Q232=0),\"\",MAX($W$3:W232)-W232),\"\")","v":""},"","",""]
[null,null,null,{"$f":"IF(A233>0,IF(OR(MAX($G$3:G233)-G233=0,A233=0),\"\",MAX($G$3:G233)-G233),\"\")","v":""},"","","",null,null,null,null,{"$f":"IF(I233>0,IF(OR(MAX($O$3:O233)-O233=0,I233=0),\"\",MAX($O$3:O233)-O233),\"\")","v":""},"","","",null,null,null,null,{"$f":"IF(I233>0,IF(OR(MAX($W$3:W233)-W233=0,Q233=0),\"\",MAX($W$3:W233)-W233),\"\")","v":""},"","",""]
[null,null,null,{"$f":"IF(A234>0,IF(OR(MAX($G$3:G234)-G234=0,A234=0),\"\",MAX($G$3:G234)-G234),\"\")","v":""},"","","",null,null,null,null,{"$f":"IF(I234>0,IF(OR(MAX($O$3:O234)-O234=0,I234=0),\"\",MAX($O$3:O234)-O234),\"\")","v":""},"","","",null,null,null,null,{"$f":"IF(I234>0,IF(OR(MAX($W$3:W234)-W234=0,Q234=0),\"\",MAX($W$3:W234)-W234),\"\")","v":""},"","",""]
[null,null,null,{"$f":"IF(A235>0,IF(OR(MAX($G$3:G235)-G235=0,A235=0),\"\",MAX($G$3:G235)-G235),\"\")","v":""},"","","",null,null,null,null,{"$f":"IF(I235>0,IF(OR(MAX($O$3:O235)-O235=0,I235=0),\"\",MAX($O$3:O235)-O235),\"\")","v":""},"","","",null,null,null,null,{"$f":"IF(I235>0,IF(OR(MAX($W$3:W235)-W235=0,Q235=0),\"\",MAX($W$3:W235)-W235),\"\")","v":""},"","",""]
[null,null,null,{"$f":"IF(A236>0,IF(OR(MAX($G$3:G236)-G236=0,A236=0),\"\",MAX($G$3:G236)-G236),\"\")","v":""},"","","",null,null,null,null,{"$f":"IF(I236>0,IF(OR(MAX($O$3:O236)-O236=0,I236=0),\"\",MAX($O$3:O236)-O236),\"\")","v":""},"","","",null,null,null,null,{"$f":"IF(I236>0,IF(OR(MAX($W$3:W236)-W236=0,Q236=0),\"\",MAX($W$3:W236)-W236),\"\")","v":""},"","",""]
[null,null,null,{"$f":"IF(A237>0,IF(OR(MAX($G$3:G237)-G237=0,A237=0),\"\",MAX($G$3:G237)-G237),\"\")","v":""},"","","",null,null,null,null,{"$f":"IF(I237>0,IF(OR(MAX($O$3:O237)-O237=0,I237=0),\"\",MAX($O$3:O237)-O237),\"\")","v":""},"","","",null,null,null,null,{"$f":"IF(I237>0,IF(OR(MAX($W$3:W237)-W237=0,Q237=0),\"\",MAX($W$3:W237)-W237),\"\")","v":""},"","",""]
[null,null,null,{"$f":"IF(A238>0,IF(OR(MAX($G$3:G238)-G238=0,A238=0),\"\",MAX($G$3:G238)-G238),\"\")","v":""},"","","",null,null,null,null,{"$f":"IF(I238>0,IF(OR(MAX($O$3:O238)-O238=0,I238=0),\"\",MAX($O$3:O238)-O238),\"\")","v":""},"","","",null,null,null,null,{"$f":"IF(I238>0,IF(OR(MAX($W$3:W238)-W238=0,Q238=0),\"\",MAX($W$3:W238)-W238),\"\")","v":""},"","",""]
[null,null,null,{"$f":"IF(A239>0,IF(OR(MAX($G$3:G239)-G239=0,A239=0),\"\",MAX($G$3:G239)-G239),\"\")","v":""},"","","",null,null,null,null,{"$f":"IF(I239>0,IF(OR(MAX($O$3:O239)-O239=0,I239=0),\"\",MAX($O$3:O239)-O239),\"\")","v":""},"","","",null,null,null,null,{"$f":"IF(I239>0,IF(OR(MAX($W$3:W239)-W239=0,Q239=0),\"\",MAX($W$3:W239)-W239),\"\")","v":""},"","",""]
[null,null,null,{"$f":"IF(A240>0,IF(OR(MAX($G$3:G240)-G240=0,A240=0),\"\",MAX($G$3:G240)-G240),\"\")","v":""},"","","",null,null,null,null,{"$f":"IF(I240>0,IF(OR(MAX($O$3:O240)-O240=0,I240=0),\"\",MAX($O$3:O240)-O240),\"\")","v":""},"","","",null,null,null,null,{"$f":"IF(I240>0,IF(OR(MAX($W$3:W240)-W240=0,Q240=0),\"\",MAX($W$3:W240)-W240),\"\")","v":""},"","",""]
[null,null,null,{"$f":"IF(A241>0,IF(OR(MAX($G$3:G241)-G241=0,A241=0),\"\",MAX($G$3:G241)-G241),\"\")","v":""},"","","",null,null,null,null,{"$f":"IF(I241>0,IF(OR(MAX($O$3:O241)-O241=0,I241=0),\"\",MAX($O$3:O241)-O241),\"\")","v":""},"","","",null,null,null,null,{"$f":"IF(I241>0,IF(OR(MAX($W$3:W241)-W241=0,Q241=0),\"\",MAX($W$3:W241)-W241),\"\")","v":""},"","",""]
[null,null,null,{"$f":"IF(A242>0,IF(OR(MAX($G$3:G242)-G242=0,A242=0),\"\",MAX($G$3:G242)-G242),\"\")","v":""},"","","",null,null,null,null,{"$f":"IF(I242>0,IF(OR(MAX($O$3:O242)-O242=0,I242=0),\"\",MAX($O$3:O242)-O242),\"\")","v":""},"","","",null,null,null,null,{"$f":"IF(I242>0,IF(OR(MAX($W$3:W242)-W242=0,Q242=0),\"\",MAX($W$3:W242)-W242),\"\")","v":""},"","",""]
[null,null,null,{"$f":"IF(A243>0,IF(OR(MAX($G$3:G243)-G243=0,A243=0),\"\",MAX($G$3:G243)-G243),\"\")","v":""},"","","",null,null,null,null,{"$f":"IF(I243>0,IF(OR(MAX($O$3:O243)-O243=0,I243=0),\"\",MAX($O$3:O243)-O243),\"\")","v":""},"","","",null,null,null,null,{"$f":"IF(I243>0,IF(OR(MAX($W$3:W243)-W243=0,Q243=0),\"\",MAX($W$3:W243)-W243),\"\")","v":""},"","",""]
[null,null,null,{"$f":"IF(A244>0,IF(OR(MAX($G$3:G244)-G244=0,A244=0),\"\",MAX($G$3:G244)-G244),\"\")","v":""},"","","",null,null,null,null,{"$f":"IF(I244>0,IF(OR(MAX($O$3:O244)-O244=0,I244=0),\"\",MAX($O$3:O244)-O244),\"\")","v":""},"","","",null,null,null,null,{"$f":"IF(I244>0,IF(OR(MAX($W$3:W244)-W244=0,Q244=0),\"\",MAX($W$3:W244)-W244),\"\")","v":""},"","",""]
[null,null,null,{"$f":"IF(A245>0,IF(OR(MAX($G$3:G245)-G245=0,A245=0),\"\",MAX($G$3:G245)-G245),\"\")","v":""},"","","",null,null,null,null,{"$f":"IF(I245>0,IF(OR(MAX($O$3:O245)-O245=0,I245=0),\"\",MAX($O$3:O245)-O245),\"\")","v":""},"","","",null,null,null,null,{"$f":"IF(I245>0,IF(OR(MAX($W$3:W245)-W245=0,Q245=0),\"\",MAX($W$3:W245)-W245),\"\")","v":""},"","",""]
[null,null,null,{"$f":"IF(A246>0,IF(OR(MAX($G$3:G246)-G246=0,A246=0),\"\",MAX($G$3:G246)-G246),\"\")","v":""},"","","",null,null,null,null,{"$f":"IF(I246>0,IF(OR(MAX($O$3:O246)-O246=0,I246=0),\"\",MAX($O$3:O246)-O246),\"\")","v":""},"","","",null,null,null,null,{"$f":"IF(I246>0,IF(OR(MAX($W$3:W246)-W246=0,Q246=0),\"\",MAX($W$3:W246)-W246),\"\")","v":""},"","",""]
[null,null,null,{"$f":"IF(A247>0,IF(OR(MAX($G$3:G247)-G247=0,A247=0),\"\",MAX($G$3:G247)-G247),\"\")","v":""},"","","",null,null,null,null,{"$f":"IF(I247>0,IF(OR(MAX($O$3:O247)-O247=0,I247=0),\"\",MAX($O$3:O247)-O247),\"\")","v":""},"","","",null,null,null,null,{"$f":"IF(I247>0,IF(OR(MAX($W$3:W247)-W247=0,Q247=0),\"\",MAX($W$3:W247)-W247),\"\")","v":""},"","",""]
[null,null,null,{"$f":"IF(A248>0,IF(OR(MAX($G$3:G248)-G248=0,A248=0),\"\",MAX($G$3:G248)-G248),\"\")","v":""},"","","",null,null,null,null,{"$f":"IF(I248>0,IF(OR(MAX($O$3:O248)-O248=0,I248=0),\"\",MAX($O$3:O248)-O248),\"\")","v":""},"","","",null,null,null,null,{"$f":"IF(I248>0,IF(OR(MAX($W$3:W248)-W248=0,Q248=0),\"\",MAX($W$3:W248)-W248),\"\")","v":""},"","",""]
[null,null,null,{"$f":"IF(A249>0,IF(OR(MAX($G$3:G249)-G249=0,A249=0),\"\",MAX($G$3:G249)-G249),\"\")","v":""},"","","",null,null,null,null,{"$f":"IF(I249>0,IF(OR(MAX($O$3:O249)-O249=0,I249=0),\"\",MAX($O$3:O249)-O249),\"\")","v":""},"","","",null,null,null,null,{"$f":"IF(I249>0,IF(OR(MAX($W$3:W249)-W249=0,Q249=0),\"\",MAX($W$3:W249)-W249),\"\")","v":""},"","",""]
[null,null,null,{"$f":"IF(A250>0,IF(OR(MAX($G$3:G250)-G250=0,A250=0),\"\",MAX($G$3:G250)-G250),\"\")","v":""},"","","",null,null,null,null,{"$f":"IF(I250>0,IF(OR(MAX($O$3:O250)-O250=0,I250=0),\"\",MAX($O$3:O250)-O250),\"\")","v":""},"","","",null,null,null,null,{"$f":"IF(I250>0,IF(OR(MAX($W$3:W250)-W250=0,Q250=0),\"\",MAX($W$3:W250)-W250),\"\")","v":""},"","",""]
[null,null,null,{"$f":"IF(A251>0,IF(OR(MAX($G$3:G251)-G251=0,A251=0),\"\",MAX($G$3:G251)-G251),\"\")","v":""},"","","",null,null,null,null,{"$f":"IF(I251>0,IF(OR(MAX($O$3:O251)-O251=0,I251=0),\"\",MAX($O$3:O251)-O251),\"\")","v":""},"","","",null,null,null,null,{"$f":"IF(I251>0,IF(OR(MAX($W$3:W251)-W251=0,Q251=0),\"\",MAX($W$3:W251)-W251),\"\")","v":""},"","",""]
[null,null,null,{"$f":"IF(A252>0,IF(OR(MAX($G$3:G252)-G252=0,A252=0),\"\",MAX($G$3:G252)-G252),\"\")","v":""},"","","",null,null,null,null,{"$f":"IF(I252>0,IF(OR(MAX($O$3:O252)-O252=0,I252=0),\"\",MAX($O$3:O252)-O252),\"\")","v":""},"","","",null,null,null,null,{"$f":"IF(I252>0,IF(OR(MAX($W$3:W252)-W252=0,Q252=0),\"\",MAX($W$3:W252)-W252),\"\")","v":""},"","",""]
[null,null,null,{"$f":"IF(A253>0,IF(OR(MAX($G$3:G253)-G253=0,A253=0),\"\",MAX($G$3:G253)-G253),\"\")","v":""},"","","",null,null,null,null,{"$f":"IF(I253>0,IF(OR(MAX($O$3:O253)-O253=0,I253=0),\"\",MAX($O$3:O253)-O253),\"\")","v":""},"","","",null,null,null,null,{"$f":"IF(I253>0,IF(OR(MAX($W$3:W253)-W253=0,Q253=0),\"\",MAX($W$3:W253)-W253),\"\")","v":""},"","",""]
[null,null,null,{"$f":"IF(A254>0,IF(OR(MAX($G$3:G254)-G254=0,A254=0),\"\",MAX($G$3:G254)-G254),\"\")","v":""},"","","",null,null,null,null,{"$f":"IF(I254>0,IF(OR(MAX($O$3:O254)-O254=0,I254=0),\"\",MAX($O$3:O254)-O254),\"\")","v":""},"","","",null,null,null,null,{"$f":"IF(I254>0,IF(OR(MAX($W$3:W254)-W254=0,Q254=0),\"\",MAX($W$3:W254)-W254),\"\")","v":""},"","",""]
[null,null,null,{"$f":"IF(A255>0,IF(OR(MAX($G$3:G255)-G255=0,A255=0),\"\",MAX($G$3:G255)-G255),\"\")","v":""},"","","",null,null,null,null,{"$f":"IF(I255>0,IF(OR(MAX($O$3:O255)-O255=0,I255=0),\"\",MAX($O$3:O255)-O255),\"\")","v":""},"","","",null,null,null,null,{"$f":"IF(I255>0,IF(OR(MAX($W$3:W255)-W255=0,Q255=0),\"\",MAX($W$3:W255)-W255),\"\")","v":""},"","",""]
[null,null,null,{"$f":"IF(A256>0,IF(OR(MAX($G$3:G256)-G256=0,A256=0),\"\",MAX($G$3:G256)-G256),\"\")","v":""},"","","",null,null,null,null,{"$f":"IF(I256>0,IF(OR(MAX($O$3:O256)-O256=0,I256=0),\"\",MAX($O$3:O256)-O256),\"\")","v":""},"","","",null,null,null,null,{"$f":"IF(I256>0,IF(OR(MAX($W$3:W256)-W256=0,Q256=0),\"\",MAX($W$3:W256)-W256),\"\")","v":""},"","",""]
[null,null,null,{"$f":"IF(A257>0,IF(OR(MAX($G$3:G257)-G257=0,A257=0),\"\",MAX($G$3:G257)-G257),\"\")","v":""},"","","",null,null,null,null,{"$f":"IF(I257>0,IF(OR(MAX($O$3:O257)-O257=0,I257=0),\"\",MAX($O$3:O257)-O257),\"\")","v":""},"","","",null,null,null,null,{"$f":"IF(I257>0,IF(OR(MAX($W$3:W257)-W257=0,Q257=0),\"\",MAX($W$3:W257)-W257),\"\")","v":""},"","",""]
[null,null,null,{"$f":"IF(A258>0,IF(OR(MAX($G$3:G258)-G258=0,A258=0),\"\",MAX($G$3:G258)-G258),\"\")","v":""},"","","",null,null,null,null,{"$f":"IF(I258>0,IF(OR(MAX($O$3:O258)-O258=0,I258=0),\"\",MAX($O$3:O258)-O258),\"\")","v":""},"","","",null,null,null,null,{"$f":"IF(I258>0,IF(OR(MAX($W$3:W258)-W258=0,Q258=0),\"\",MAX($W$3:W258)-W258),\"\")","v":""},"","",""]
[null,null,null,{"$f":"IF(A259>0,IF(OR(MAX($G$3:G259)-G259=0,A259=0),\"\",MAX($G$3:G259)-G259),\"\")","v":""},"","","",null,null,null,null,{"$f":"IF(I259>0,IF(OR(MAX($O$3:O259)-O259=0,I259=0),\"\",MAX($O$3:O259)-O259),\"\")","v":""},"","","",null,null,null,null,{"$f":"IF(I259>0,IF(OR(MAX($W$3:W259)-W259=0,Q259=0),\"\",MAX($W$3:W259)-W259),\"\")","v":""},"","",""]
[null,null,null,{"$f":"IF(A260>0,IF(OR(MAX($G$3:G260)-G260=0,A260=0),\"\",MAX($G$3:G260)-G260),\"\")","v":""},"","","",null,null,null,null,{"$f":"IF(I260>0,IF(OR(MAX($O$3:O260)-O260=0,I260=0),\"\",MAX($O$3:O260)-O260),\"\")","v":""},"","","",null,null,null,null,{"$f":"IF(I260>0,IF(OR(MAX($W$3:W260)-W260=0,Q260=0),\"\",MAX($W$3:W260)-W260),\"\")","v":""},"","",""]
[null,null,null,{"$f":"IF(A261>0,IF(OR(MAX($G$3:G261)-G261=0,A261=0),\"\",MAX($G$3:G261)-G261),\"\")","v":""},"","","",null,null,null,null,{"$f":"IF(I261>0,IF(OR(MAX($O$3:O261)-O261=0,I261=0),\"\",MAX($O$3:O261)-O261),\"\")","v":""},"","","",null,null,null,null,{"$f":"IF(I261>0,IF(OR(MAX($W$3:W261)-W261=0,Q261=0),\"\",MAX($W$3:W261)-W261),\"\")","v":""},"","",""]
[null,null,null,{"$f":"IF(A262>0,IF(OR(MAX($G$3:G262)-G262=0,A262=0),\"\",MAX($G$3:G262)-G262),\"\")","v":""},"","","",null,null,null,null,{"$f":"IF(I262>0,IF(OR(MAX($O$3:O262)-O262=0,I262=0),\"\",MAX($O$3:O262)-O262),\"\")","v":""},{"$f":"IF(L262=\"\",\"\",L262/(N262+O261))","v":""},{"$f":"IF(I262>0,N261+K262,\"\")","v":""},{"$f":"IF(I262>0,O261+K262,\"\")","v":""},null,null,null,null,{"$f":"IF(I262>0,IF(OR(MAX($W$3:W262)-W262=0,Q262=0),\"\",MAX($W$3:W262)-W262),\"\")","v":""},{"$f":"IF(T262=\"\",\"\",T262/(V262+W261))","v":""},{"$f":"IF(Q262>0,V261+S262,\"\")","v":""},{"$f":"IF(Q262>0,W261+S262,\"\")","v":""}]
[null,null,null,{"$f":"IF(A263>0,IF(OR(MAX($G$3:G263)-G263=0,A263=0),\"\",MAX($G$3:G263)-G263),\"\")","v":""},"","","",null,null,null,null,{"$f":"IF(I263>0,IF(OR(MAX($O$3:O263)-O263=0,I263=0),\"\",MAX($O$3:O263)-O263),\"\")","v":""},"","","",null,null,null,null,{"$f":"IF(I263>0,IF(OR(MAX($W$3:W263)-W263=0,Q263=0),\"\",MAX($W$3:W263)-W263),\"\")","v":""},"","",""]
[null,null,null,{"$f":"IF(A264>0,IF(OR(MAX($G$3:G264)-G264=0,A264=0),\"\",MAX($G$3:G264)-G264),\"\")","v":""},{"$f":"IF(D264=\"\",\"\",D264/(F264+G263))","v":""},{"$f":"IF(A264>0,F263+C264,\"\")","v":""},{"$f":"IF(A264>0,G263+C264,\"\")","v":""},null,null,null,null,{"$f":"IF(I264>0,IF(OR(MAX($O$3:O264)-O264=0,I264=0),\"\",MAX($O$3:O264)-O264),\"\")","v":""},"","","",null,null,null,null,{"$f":"IF(I264>0,IF(OR(MAX($W$3:W264)-W264=0,Q264=0),\"\",MAX($W$3:W264)-W264),\"\")","v":""},"","",""]
[null,null,null,{"$f":"IF(A265>0,IF(OR(MAX($G$3:G265)-G265=0,A265=0),\"\",MAX($G$3:G265)-G265),\"\")","v":""},"","","",null,null,null,null,{"$f":"IF(I265>0,IF(OR(MAX($O$3:O265)-O265=0,I265=0),\"\",MAX($O$3:O265)-O265),\"\")","v":""},"","","",null,null,null,null,{"$f":"IF(I265>0,IF(OR(MAX($W$3:W265)-W265=0,Q265=0),\"\",MAX($W$3:W265)-W265),\"\")","v":""},"","",""]
[null,null,null,{"$f":"IF(A266>0,IF(OR(MAX($G$3:G266)-G266=0,A266=0),\"\",MAX($G$3:G266)-G266),\"\")","v":""},"","","",null,null,null,null,{"$f":"IF(I266>0,IF(OR(MAX($O$3:O266)-O266=0,I266=0),\"\",MAX($O$3:O266)-O266),\"\")","v":""},"","","",null,null,null,null,{"$f":"IF(I266>0,IF(OR(MAX($W$3:W266)-W266=0,Q266=0),\"\",MAX($W$3:W266)-W266),\"\")","v":""},"","",""]
[null,null,null,{"$f":"IF(A267>0,IF(OR(MAX($G$3:G267)-G267=0,A267=0),\"\",MAX($G$3:G267)-G267),\"\")","v":""},"","","",null,null,null,null,{"$f":"IF(I267>0,IF(OR(MAX($O$3:O267)-O267=0,I267=0),\"\",MAX($O$3:O267)-O267),\"\")","v":""},"","","",null,null,null,null,{"$f":"IF(I267>0,IF(OR(MAX($W$3:W267)-W267=0,Q267=0),\"\",MAX($W$3:W267)-W267),\"\")","v":""},"","",""]
[null,null,null,{"$f":"IF(A268>0,IF(OR(MAX($G$3:G268)-G268=0,A268=0),\"\",MAX($G$3:G268)-G268),\"\")","v":""},"","","",null,null,null,null,{"$f":"IF(I268>0,IF(OR(MAX($O$3:O268)-O268=0,I268=0),\"\",MAX($O$3:O268)-O268),\"\")","v":""},"","","",null,null,null,null,{"$f":"IF(I268>0,IF(OR(MAX($W$3:W268)-W268=0,Q268=0),\"\",MAX($W$3:W268)-W268),\"\")","v":""},"","",""]
[null,null,null,{"$f":"IF(A269>0,IF(OR(MAX($G$3:G269)-G269=0,A269=0),\"\",MAX($G$3:G269)-G269),\"\")","v":""},"","","",null,null,null,null,{"$f":"IF(I269>0,IF(OR(MAX($O$3:O269)-O269=0,I269=0),\"\",MAX($O$3:O269)-O269),\"\")","v":""},"","","",null,null,null,null,{"$f":"IF(I269>0,IF(OR(MAX($W$3:W269)-W269=0,Q269=0),\"\",MAX($W$3:W269)-W269),\"\")","v":""},"","",""]
[null,null,null,{"$f":"IF(A270>0,IF(OR(MAX($G$3:G270)-G270=0,A270=0),\"\",MAX($G$3:G270)-G270),\"\")","v":""},"","","",null,null,null,null,{"$f":"IF(I270>0,IF(OR(MAX($O$3:O270)-O270=0,I270=0),\"\",MAX($O$3:O270)-O270),\"\")","v":""},"","","",null,null,null,null,{"$f":"IF(I270>0,IF(OR(MAX($W$3:W270)-W270=0,Q270=0),\"\",MAX($W$3:W270)-W270),\"\")","v":""},"","",""]
[null,null,null,{"$f":"IF(A271>0,IF(OR(MAX($G$3:G271)-G271=0,A271=0),\"\",MAX($G$3:G271)-G271),\"\")","v":""},"","","",null,null,null,null,{"$f":"IF(I271>0,IF(OR(MAX($O$3:O271)-O271=0,I271=0),\"\",MAX($O$3:O271)-O271),\"\")","v":""},"","","",null,null,null,null,{"$f":"IF(I271>0,IF(OR(MAX($W$3:W271)-W271=0,Q271=0),\"\",MAX($W$3:W271)-W271),\"\")","v":""},"","",""]
[null,null,null,{"$f":"IF(A272>0,IF(OR(MAX($G$3:G272)-G272=0,A272=0),\"\",MAX($G$3:G272)-G272),\"\")","v":""},"","","",null,null,null,null,{"$f":"IF(I272>0,IF(OR(MAX($O$3:O272)-O272=0,I272=0),\"\",MAX($O$3:O272)-O272),\"\")","v":""},"","","",null,null,null,null,{"$f":"IF(I272>0,IF(OR(MAX($W$3:W272)-W272=0,Q272=0),\"\",MAX($W$3:W272)-W272),\"\")","v":""},"","",""]
[null,null,null,{"$f":"IF(A273>0,IF(OR(MAX($G$3:G273)-G273=0,A273=0),\"\",MAX($G$3:G273)-G273),\"\")","v":""},"","","",null,null,null,null,{"$f":"IF(I273>0,IF(OR(MAX($O$3:O273)-O273=0,I273=0),\"\",MAX($O$3:O273)-O273),\"\")","v":""},"","","",null,null,null,null,{"$f":"IF(I273>0,IF(OR(MAX($W$3:W273)-W273=0,Q273=0),\"\",MAX($W$3:W273)-W273),\"\")","v":""},"","",""]
[null,null,null,{"$f":"IF(A274>0,IF(OR(MAX($G$3:G274)-G274=0,A274=0),\"\",MAX($G$3:G274)-G274),\"\")","v":""},"","","",null,null,null,null,{"$f":"IF(I274>0,IF(OR(MAX($O$3:O274)-O274=0,I274=0),\"\",MAX($O$3:O274)-O274),\"\")","v":""},"","","",null,null,null,null,{"$f":"IF(I274>0,IF(OR(MAX($W$3:W274)-W274=0,Q274=0),\"\",MAX($W$3:W274)-W274),\"\")","v":""},"","",""]
[null,null,null,{"$f":"IF(A275>0,IF(OR(MAX($G$3:G275)-G275=0,A275=0),\"\",MAX($G$3:G275)-G275),\"\")","v":""},"","","",null,null,null,null,{"$f":"IF(I275>0,IF(OR(MAX($O$3:O275)-O275=0,I275=0),\"\",MAX($O$3:O275)-O275),\"\")","v":""},"","","",null,null,null,null,{"$f":"IF(I275>0,IF(OR(MAX($W$3:W275)-W275=0,Q275=0),\"\",MAX($W$3:W275)-W275),\"\")","v":""},"","",""]
[null,null,null,{"$f":"IF(A276>0,IF(OR(MAX($G$3:G276)-G276=0,A276=0),\"\",MAX($G$3:G276)-G276),\"\")","v":""},"","","",null,null,null,null,{"$f":"IF(I276>0,IF(OR(MAX($O$3:O276)-O276=0,I276=0),\"\",MAX($O$3:O276)-O276),\"\")","v":""},"","","",null,null,null,null,{"$f":"IF(I276>0,IF(OR(MAX($W$3:W276)-W276=0,Q276=0),\"\",MAX($W$3:W276)-W276),\"\")","v":""},"","",""]
[null,null,null,{"$f":"IF(A277>0,IF(OR(MAX($G$3:G277)-G277=0,A277=0),\"\",MAX($G$3:G277)-G277),\"\")","v":""},"","","",null,null,null,null,{"$f":"IF(I277>0,IF(OR(MAX($O$3:O277)-O277=0,I277=0),\"\",MAX($O$3:O277)-O277),\"\")","v":""},"","","",null,null,null,null,{"$f":"IF(I277>0,IF(OR(MAX($W$3:W277)-W277=0,Q277=0),\"\",MAX($W$3:W277)-W277),\"\")","v":""},"","",""]
[null,null,null,{"$f":"IF(A278>0,IF(OR(MAX($G$3:G278)-G278=0,A278=0),\"\",MAX($G$3:G278)-G278),\"\")","v":""},"","","",null,null,null,null,{"$f":"IF(I278>0,IF(OR(MAX($O$3:O278)-O278=0,I278=0),\"\",MAX($O$3:O278)-O278),\"\")","v":""},"","","",null,null,null,null,{"$f":"IF(I278>0,IF(OR(MAX($W$3:W278)-W278=0,Q278=0),\"\",MAX($W$3:W278)-W278),\"\")","v":""},"","",""]
[null,null,null,{"$f":"IF(A279>0,IF(OR(MAX($G$3:G279)-G279=0,A279=0),\"\",MAX($G$3:G279)-G279),\"\")","v":""},"","","",null,null,null,null,{"$f":"IF(I279>0,IF(OR(MAX($O$3:O279)-O279=0,I279=0),\"\",MAX($O$3:O279)-O279),\"\")","v":""},"","","",null,null,null,null,{"$f":"IF(I279>0,IF(OR(MAX($W$3:W279)-W279=0,Q279=0),\"\",MAX($W$3:W279)-W279),\"\")","v":""},"","",""]
[null,null,null,{"$f":"IF(A280>0,IF(OR(MAX($G$3:G280)-G280=0,A280=0),\"\",MAX($G$3:G280)-G280),\"\")","v":""},"","","",null,null,null,null,{"$f":"IF(I280>0,IF(OR(MAX($O$3:O280)-O280=0,I280=0),\"\",MAX($O$3:O280)-O280),\"\")","v":""},"","","",null,null,null,null,{"$f":"IF(I280>0,IF(OR(MAX($W$3:W280)-W280=0,Q280=0),\"\",MAX($W$3:W280)-W280),\"\")","v":""},"","",""]
[null,null,null,{"$f":"IF(A281>0,IF(OR(MAX($G$3:G281)-G281=0,A281=0),\"\",MAX($G$3:G281)-G281),\"\")","v":""},"","","",null,null,null,null,{"$f":"IF(I281>0,IF(OR(MAX($O$3:O281)-O281=0,I281=0),\"\",MAX($O$3:O281)-O281),\"\")","v":""},"","","",null,null,null,null,{"$f":"IF(I281>0,IF(OR(MAX($W$3:W281)-W281=0,Q281=0),\"\",MAX($W$3:W281)-W281),\"\")","v":""},"","",""]
[null,null,null,{"$f":"IF(A282>0,IF(OR(MAX($G$3:G282)-G282=0,A282=0),\"\",MAX($G$3:G282)-G282),\"\")","v":""},"","","",null,null,null,null,{"$f":"IF(I282>0,IF(OR(MAX($O$3:O282)-O282=0,I282=0),\"\",MAX($O$3:O282)-O282),\"\")","v":""},"","","",null,null,null,null,{"$f":"IF(I282>0,IF(OR(MAX($W$3:W282)-W282=0,Q282=0),\"\",MAX($W$3:W282)-W282),\"\")","v":""},"","",""]
[null,null,null,{"$f":"IF(A283>0,IF(OR(MAX($G$3:G283)-G283=0,A283=0),\"\",MAX($G$3:G283)-G283),\"\")","v":""},"","","",null,null,null,null,{"$f":"IF(I283>0,IF(OR(MAX($O$3:O283)-O283=0,I283=0),\"\",MAX($O$3:O283)-O283),\"\")","v":""},"","","",null,null,null,null,{"$f":"IF(I283>0,IF(OR(MAX($W$3:W283)-W283=0,Q283=0),\"\",MAX($W$3:W283)-W283),\"\")","v":""},"","",""]
[null,null,null,{"$f":"IF(A284>0,IF(OR(MAX($G$3:G284)-G284=0,A284=0),\"\",MAX($G$3:G284)-G284),\"\")","v":""},"","","",null,null,null,null,{"$f":"IF(I284>0,IF(OR(MAX($O$3:O284)-O284=0,I284=0),\"\",MAX($O$3:O284)-O284),\"\")","v":""},"","","",null,null,null,null,{"$f":"IF(I284>0,IF(OR(MAX($W$3:W284)-W284=0,Q284=0),\"\",MAX($W$3:W284)-W284),\"\")","v":""},"","",""]
[null,null,null,{"$f":"IF(A285>0,IF(OR(MAX($G$3:G285)-G285=0,A285=0),\"\",MAX($G$3:G285)-G285),\"\")","v":""},"","","",null,null,null,null,{"$f":"IF(I285>0,IF(OR(MAX($O$3:O285)-O285=0,I285=0),\"\",MAX($O$3:O285)-O285),\"\")","v":""},"","","",null,null,null,null,{"$f":"IF(I285>0,IF(OR(MAX($W$3:W285)-W285=0,Q285=0),\"\",MAX($W$3:W285)-W285),\"\")","v":""},"","",""]
[null,null,null,{"$f":"IF(A286>0,IF(OR(MAX($G$3:G286)-G286=0,A286=0),\"\",MAX($G$3:G286)-G286),\"\")","v":""},"","","",null,null,null,null,{"$f":"IF(I286>0,IF(OR(MAX($O$3:O286)-O286=0,I286=0),\"\",MAX($O$3:O286)-O286),\"\")","v":""},"","","",null,null,null,null,{"$f":"IF(I286>0,IF(OR(MAX($W$3:W286)-W286=0,Q286=0),\"\",MAX($W$3:W286)-W286),\"\")","v":""},"","",""]
[null,null,null,{"$f":"IF(A287>0,IF(OR(MAX($G$3:G287)-G287=0,A287=0),\"\",MAX($G$3:G287)-G287),\"\")","v":""},"","","",null,null,null,null,{"$f":"IF(I287>0,IF(OR(MAX($O$3:O287)-O287=0,I287=0),\"\",MAX($O$3:O287)-O287),\"\")","v":""},"","","",null,null,null,null,{"$f":"IF(I287>0,IF(OR(MAX($W$3:W287)-W287=0,Q287=0),\"\",MAX($W$3:W287)-W287),\"\")","v":""},"","",""]
[null,null,null,{"$f":"IF(A288>0,IF(OR(MAX($G$3:G288)-G288=0,A288=0),\"\",MAX($G$3:G288)-G288),\"\")","v":""},"","","",null,null,null,null,{"$f":"IF(I288>0,IF(OR(MAX($O$3:O288)-O288=0,I288=0),\"\",MAX($O$3:O288)-O288),\"\")","v":""},"","","",null,null,null,null,{"$f":"IF(I288>0,IF(OR(MAX($W$3:W288)-W288=0,Q288=0),\"\",MAX($W$3:W288)-W288),\"\")","v":""},"","",""]
[null,null,null,{"$f":"IF(A289>0,IF(OR(MAX($G$3:G289)-G289=0,A289=0),\"\",MAX($G$3:G289)-G289),\"\")","v":""},"","","",null,null,null,null,{"$f":"IF(I289>0,IF(OR(MAX($O$3:O289)-O289=0,I289=0),\"\",MAX($O$3:O289)-O289),\"\")","v":""},"","","",null,null,null,null,{"$f":"IF(I289>0,IF(OR(MAX($W$3:W289)-W289=0,Q289=0),\"\",MAX($W$3:W289)-W289),\"\")","v":""},"","",""]
[null,null,null,{"$f":"IF(A290>0,IF(OR(MAX($G$3:G290)-G290=0,A290=0),\"\",MAX($G$3:G290)-G290),\"\")","v":""},"","","",null,null,null,null,{"$f":"IF(I290>0,IF(OR(MAX($O$3:O290)-O290=0,I290=0),\"\",MAX($O$3:O290)-O290),\"\")","v":""},"","","",null,null,null,null,{"$f":"IF(I290>0,IF(OR(MAX($W$3:W290)-W290=0,Q290=0),\"\",MAX($W$3:W290)-W290),\"\")","v":""},"","",""]
[null,null,null,{"$f":"IF(A291>0,IF(OR(MAX($G$3:G291)-G291=0,A291=0),\"\",MAX($G$3:G291)-G291),\"\")","v":""},"","","",null,null,null,null,{"$f":"IF(I291>0,IF(OR(MAX($O$3:O291)-O291=0,I291=0),\"\",MAX($O$3:O291)-O291),\"\")","v":""},"","","",null,null,null,null,{"$f":"IF(I291>0,IF(OR(MAX($W$3:W291)-W291=0,Q291=0),\"\",MAX($W$3:W291)-W291),\"\")","v":""},"","",""]
[null,null,null,{"$f":"IF(A292>0,IF(OR(MAX($G$3:G292)-G292=0,A292=0),\"\",MAX($G$3:G292)-G292),\"\")","v":""},"","","",null,null,null,null,{"$f":"IF(I292>0,IF(OR(MAX($O$3:O292)-O292=0,I292=0),\"\",MAX($O$3:O292)-O292),\"\")","v":""},"","","",null,null,null,null,{"$f":"IF(I292>0,IF(OR(MAX($W$3:W292)-W292=0,Q292=0),\"\",MAX($W$3:W292)-W292),\"\")","v":""},"","",""]
[null,null,null,{"$f":"IF(A293>0,IF(OR(MAX($G$3:G293)-G293=0,A293=0),\"\",MAX($G$3:G293)-G293),\"\")","v":""},"","","",null,null,null,null,{"$f":"IF(I293>0,IF(OR(MAX($O$3:O293)-O293=0,I293=0),\"\",MAX($O$3:O293)-O293),\"\")","v":""},"","","",null,null,null,null,{"$f":"IF(I293>0,IF(OR(MAX($W$3:W293)-W293=0,Q293=0),\"\",MAX($W$3:W293)-W293),\"\")","v":""},"","",""]
[null,null,null,{"$f":"IF(A294>0,IF(OR(MAX($G$3:G294)-G294=0,A294=0),\"\",MAX($G$3:G294)-G294),\"\")","v":""},"","","",null,null,null,null,{"$f":"IF(I294>0,IF(OR(MAX($O$3:O294)-O294=0,I294=0),\"\",MAX($O$3:O294)-O294),\"\")","v":""},"","","",null,null,null,null,{"$f":"IF(I294>0,IF(OR(MAX($W$3:W294)-W294=0,Q294=0),\"\",MAX($W$3:W294)-W294),\"\")","v":""},"","",""]
[null,null,null,{"$f":"IF(A295>0,IF(OR(MAX($G$3:G295)-G295=0,A295=0),\"\",MAX($G$3:G295)-G295),\"\")","v":""},"","","",null,null,null,null,{"$f":"IF(I295>0,IF(OR(MAX($O$3:O295)-O295=0,I295=0),\"\",MAX($O$3:O295)-O295),\"\")","v":""},"","","",null,null,null,null,{"$f":"IF(I295>0,IF(OR(MAX($W$3:W295)-W295=0,Q295=0),\"\",MAX($W$3:W295)-W295),\"\")","v":""},"","",""]
[null,null,null,{"$f":"IF(A296>0,IF(OR(MAX($G$3:G296)-G296=0,A296=0),\"\",MAX($G$3:G296)-G296),\"\")","v":""},"","","",null,null,null,null,{"$f":"IF(I296>0,IF(OR(MAX($O$3:O296)-O296=0,I296=0),\"\",MAX($O$3:O296)-O296),\"\")","v":""},"","","",null,null,null,null,{"$f":"IF(I296>0,IF(OR(MAX($W$3:W296)-W296=0,Q296=0),\"\",MAX($W$3:W296)-W296),\"\")","v":""},"","",""]
[null,null,null,{"$f":"IF(A297>0,IF(OR(MAX($G$3:G297)-G297=0,A297=0),\"\",MAX($G$3:G297)-G297),\"\")","v":""},"","","",null,null,null,null,{"$f":"IF(I297>0,IF(OR(MAX($O$3:O297)-O297=0,I297=0),\"\",MAX($O$3:O297)-O297),\"\")","v":""},"","","",null,null,null,null,{"$f":"IF(I297>0,IF(OR(MAX($W$3:W297)-W297=0,Q297=0),\"\",MAX($W$3:W297)-W297),\"\")","v":""},"","",""]
[null,null,null,{"$f":"IF(A298>0,IF(OR(MAX($G$3:G298)-G298=0,A298=0),\"\",MAX($G$3:G298)-G298),\"\")","v":""},"","","",null,null,null,null,{"$f":"IF(I298>0,IF(OR(MAX($O$3:O298)-O298=0,I298=0),\"\",MAX($O$3:O298)-O298),\"\")","v":""},"","","",null,null,null,null,{"$f":"IF(I298>0,IF(OR(MAX($W$3:W298)-W298=0,Q298=0),\"\",MAX($W$3:W298)-W298),\"\")","v":""},"","",""]
[null,null,null,{"$f":"IF(A299>0,IF(OR(MAX($G$3:G299)-G299=0,A299=0),\"\",MAX($G$3:G299)-G299),\"\")","v":""},"","","",null,null,null,null,{"$f":"IF(I299>0,IF(OR(MAX($O$3:O299)-O299=0,I299=0),\"\",MAX($O$3:O299)-O299),\"\")","v":""},"","","",null,null,null,null,{"$f":"IF(I299>0,IF(OR(MAX($W$3:W299)-W299=0,Q299=0),\"\",MAX($W$3:W299)-W299),\"\")","v":""},"","",""]
[null,null,null,{"$f":"IF(A300>0,IF(OR(MAX($G$3:G300)-G300=0,A300=0),\"\",MAX($G$3:G300)-G300),\"\")","v":""},"","","",null,null,null,null,{"$f":"IF(I300>0,IF(OR(MAX($O$3:O300)-O300=0,I300=0),\"\",MAX($O$3:O300)-O300),\"\")","v":""},"","","",null,null,null,null,{"$f":"IF(I300>0,IF(OR(MAX($W$3:W300)-W300=0,Q300=0),\"\",MAX($W$3:W300)-W300),\"\")","v":""},"","",""]
[null,null,null,{"$f":"IF(A301>0,IF(OR(MAX($G$3:G301)-G301=0,A301=0),\"\",MAX($G$3:G301)-G301),\"\")","v":""},"","","",null,null,null,null,{"$f":"IF(I301>0,IF(OR(MAX($O$3:O301)-O301=0,I301=0),\"\",MAX($O$3:O301)-O301),\"\")","v":""},"","","",null,null,null,null,{"$f":"IF(I301>0,IF(OR(MAX($W$3:W301)-W301=0,Q301=0),\"\",MAX($W$3:W301)-W301),\"\")","v":""},"","",""]
[null,null,null,{"$f":"IF(A302>0,IF(OR(MAX($G$3:G302)-G302=0,A302=0),\"\",MAX($G$3:G302)-G302),\"\")","v":""},"","","",null,null,null,null,{"$f":"IF(I302>0,IF(OR(MAX($O$3:O302)-O302=0,I302=0),\"\",MAX($O$3:O302)-O302),\"\")","v":""},"","","",null,null,null,null,{"$f":"IF(I302>0,IF(OR(MAX($W$3:W302)-W302=0,Q302=0),\"\",MAX($W$3:W302)-W302),\"\")","v":""},"","",""]
[null,null,null,{"$f":"IF(A303>0,IF(OR(MAX($G$3:G303)-G303=0,A303=0),\"\",MAX($G$3:G303)-G303),\"\")","v":""},"","","",null,null,null,null,{"$f":"IF(I303>0,IF(OR(MAX($O$3:O303)-O303=0,I303=0),\"\",MAX($O$3:O303)-O303),\"\")","v":""},"","","",null,null,null,null,{"$f":"IF(I303>0,IF(OR(MAX($W$3:W303)-W303=0,Q303=0),\"\",MAX($W$3:W303)-W303),\"\")","v":""},"","",""]
[null,null,null,{"$f":"IF(A304>0,IF(OR(MAX($G$3:G304)-G304=0,A304=0),\"\",MAX($G$3:G304)-G304),\"\")","v":""},"","","",null,null,null,null,{"$f":"IF(I304>0,IF(OR(MAX($O$3:O304)-O304=0,I304=0),\"\",MAX($O$3:O304)-O304),\"\")","v":""},"","","",null,null,null,null,{"$f":"IF(I304>0,IF(OR(MAX($W$3:W304)-W304=0,Q304=0),\"\",MAX($W$3:W304)-W304),\"\")","v":""},"","",""]
[null,null,null,{"$f":"IF(A305>0,IF(OR(MAX($G$3:G305)-G305=0,A305=0),\"\",MAX($G$3:G305)-G305),\"\")","v":""},"","","",null,null,null,null,{"$f":"IF(I305>0,IF(OR(MAX($O$3:O305)-O305=0,I305=0),\"\",MAX($O$3:O305)-O305),\"\")","v":""},"","","",null,null,null,null,{"$f":"IF(I305>0,IF(OR(MAX($W$3:W305)-W305=0,Q305=0),\"\",MAX($W$3:W305)-W305),\"\")","v":""},"","",""]
[null,null,null,{"$f":"IF(A306>0,IF(OR(MAX($G$3:G306)-G306=0,A306=0),\"\",MAX($G$3:G306)-G306),\"\")","v":""},"","","",null,null,null,null,{"$f":"IF(I306>0,IF(OR(MAX($O$3:O306)-O306=0,I306=0),\"\",MAX($O$3:O306)-O306),\"\")","v":""},"","","",null,null,null,null,{"$f":"IF(I306>0,IF(OR(MAX($W$3:W306)-W306=0,Q306=0),\"\",MAX($W$3:W306)-W306),\"\")","v":""},"","",""]
[null,null,null,{"$f":"IF(A307>0,IF(OR(MAX($G$3:G307)-G307=0,A307=0),\"\",MAX($G$3:G307)-G307),\"\")","v":""},"","","",null,null,null,null,{"$f":"IF(I307>0,IF(OR(MAX($O$3:O307)-O307=0,I307=0),\"\",MAX($O$3:O307)-O307),\"\")","v":""},"","","",null,null,null,null,{"$f":"IF(I307>0,IF(OR(MAX($W$3:W307)-W307=0,Q307=0),\"\",MAX($W$3:W307)-W307),\"\")","v":""},"","",""]
[null,null,null,{"$f":"IF(A308>0,IF(OR(MAX($G$3:G308)-G308=0,A308=0),\"\",MAX($G$3:G308)-G308),\"\")","v":""},"","","",null,null,null,null,{"$f":"IF(I308>0,IF(OR(MAX($O$3:O308)-O308=0,I308=0),\"\",MAX($O$3:O308)-O308),\"\")","v":""},"","","",null,null,null,null,{"$f":"IF(I308>0,IF(OR(MAX($W$3:W308)-W308=0,Q308=0),\"\",MAX($W$3:W308)-W308),\"\")","v":""},"","",""]
[null,null,null,{"$f":"IF(A309>0,IF(OR(MAX($G$3:G309)-G309=0,A309=0),\"\",MAX($G$3:G309)-G309),\"\")","v":""},"","","",null,null,null,null,{"$f":"IF(I309>0,IF(OR(MAX($O$3:O309)-O309=0,I309=0),\"\",MAX($O$3:O309)-O309),\"\")","v":""},"","","",null,null,null,null,{"$f":"IF(I309>0,IF(OR(MAX($W$3:W309)-W309=0,Q309=0),\"\",MAX($W$3:W309)-W309),\"\")","v":""},"","",""]
[null,null,null,{"$f":"IF(A310>0,IF(OR(MAX($G$3:G310)-G310=0,A310=0),\"\",MAX($G$3:G310)-G310),\"\")","v":""},"","","",null,null,null,null,{"$f":"IF(I310>0,IF(OR(MAX($O$3:O310)-O310=0,I310=0),\"\",MAX($O$3:O310)-O310),\"\")","v":""},"","","",null,null,null,null,{"$f":"IF(I310>0,IF(OR(MAX($W$3:W310)-W310=0,Q310=0),\"\",MAX($W$3:W310)-W310),\"\")","v":""},"","",""]
[null,null,null,{"$f":"IF(A311>0,IF(OR(MAX($G$3:G311)-G311=0,A311=0),\"\",MAX($G$3:G311)-G311),\"\")","v":""},"","","",null,null,null,null,{"$f":"IF(I311>0,IF(OR(MAX($O$3:O311)-O311=0,I311=0),\"\",MAX($O$3:O311)-O311),\"\")","v":""},"","","",null,null,null,null,{"$f":"IF(I311>0,IF(OR(MAX($W$3:W311)-W311=0,Q311=0),\"\",MAX($W$3:W311)-W311),\"\")","v":""},"","",""]
[null,null,null,{"$f":"IF(A312>0,IF(OR(MAX($G$3:G312)-G312=0,A312=0),\"\",MAX($G$3:G312)-G312),\"\")","v":""},"","","",null,null,null,null,{"$f":"IF(I312>0,IF(OR(MAX($O$3:O312)-O312=0,I312=0),\"\",MAX($O$3:O312)-O312),\"\")","v":""},"","","",null,null,null,null,{"$f":"IF(I312>0,IF(OR(MAX($W$3:W312)-W312=0,Q312=0),\"\",MAX($W$3:W312)-W312),\"\")","v":""},"","",""]
[null,null,null,{"$f":"IF(A313>0,IF(OR(MAX($G$3:G313)-G313=0,A313=0),\"\",MAX($G$3:G313)-G313),\"\")","v":""},"","","",null,null,null,null,{"$f":"IF(I313>0,IF(OR(MAX($O$3:O313)-O313=0,I313=0),\"\",MAX($O$3:O313)-O313),\"\")","v":""},"","","",null,null,null,null,{"$f":"IF(I313>0,IF(OR(MAX($W$3:W313)-W313=0,Q313=0),\"\",MAX($W$3:W313)-W313),\"\")","v":""},"","",""]
[null,null,null,{"$f":"IF(A314>0,IF(OR(MAX($G$3:G314)-G314=0,A314=0),\"\",MAX($G$3:G314)-G314),\"\")","v":""},"","","",null,null,null,null,{"$f":"IF(I314>0,IF(OR(MAX($O$3:O314)-O314=0,I314=0),\"\",MAX($O$3:O314)-O314),\"\")","v":""},"","","",null,null,null,null,{"$f":"IF(I314>0,IF(OR(MAX($W$3:W314)-W314=0,Q314=0),\"\",MAX($W$3:W314)-W314),\"\")","v":""},"","",""]
[null,null,null,{"$f":"IF(A315>0,IF(OR(MAX($G$3:G315)-G315=0,A315=0),\"\",MAX($G$3:G315)-G315),\"\")","v":""},"","","",null,null,null,null,{"$f":"IF(I315>0,IF(OR(MAX($O$3:O315)-O315=0,I315=0),\"\",MAX($O$3:O315)-O315),\"\")","v":""},"","","",null,null,null,null,{"$f":"IF(I315>0,IF(OR(MAX($W$3:W315)-W315=0,Q315=0),\"\",MAX($W$3:W315)-W315),\"\")","v":""},"","",""]
[null,null,null,{"$f":"IF(A316>0,IF(OR(MAX($G$3:G316)-G316=0,A316=0),\"\",MAX($G$3:G316)-G316),\"\")","v":""},"","","",null,null,null,null,{"$f":"IF(I316>0,IF(OR(MAX($O$3:O316)-O316=0,I316=0),\"\",MAX($O$3:O316)-O316),\"\")","v":""},"","","",null,null,null,null,{"$f":"IF(I316>0,IF(OR(MAX($W$3:W316)-W316=0,Q316=0),\"\",MAX($W$3:W316)-W316),\"\")","v":""},"","",""]
[null,null,null,{"$f":"IF(A317>0,IF(OR(MAX($G$3:G317)-G317=0,A317=0),\"\",MAX($G$3:G317)-G317),\"\")","v":""},"","","",null,null,null,null,{"$f":"IF(I317>0,IF(OR(MAX($O$3:O317)-O317=0,I317=0),\"\",MAX($O$3:O317)-O317),\"\")","v":""},"","","",null,null,null,null,{"$f":"IF(I317>0,IF(OR(MAX($W$3:W317)-W317=0,Q317=0),\"\",MAX($W$3:W317)-W317),\"\")","v":""},"","",""]
[null,null,null,{"$f":"IF(A318>0,IF(OR(MAX($G$3:G318)-G318=0,A318=0),\"\",MAX($G$3:G318)-G318),\"\")","v":""},"","","",null,null,null,null,{"$f":"IF(I318>0,IF(OR(MAX($O$3:O318)-O318=0,I318=0),\"\",MAX($O$3:O318)-O318),\"\")","v":""},"","","",null,null,null,null,{"$f":"IF(I318>0,IF(OR(MAX($W$3:W318)-W318=0,Q318=0),\"\",MAX($W$3:W318)-W318),\"\")","v":""},"","",""]
[null,null,null,{"$f":"IF(A319>0,IF(OR(MAX($G$3:G319)-G319=0,A319=0),\"\",MAX($G$3:G319)-G319),\"\")","v":""},"","","",null,null,null,null,{"$f":"IF(I319>0,IF(OR(MAX($O$3:O319)-O319=0,I319=0),\"\",MAX($O$3:O319)-O319),\"\")","v":""},"","","",null,null,null,null,{"$f":"IF(I319>0,IF(OR(MAX($W$3:W319)-W319=0,Q319=0),\"\",MAX($W$3:W319)-W319),\"\")","v":""},"","",""]
[null,null,null,{"$f":"IF(A320>0,IF(OR(MAX($G$3:G320)-G320=0,A320=0),\"\",MAX($G$3:G320)-G320),\"\")","v":""},"","","",null,null,null,null,{"$f":"IF(I320>0,IF(OR(MAX($O$3:O320)-O320=0,I320=0),\"\",MAX($O$3:O320)-O320),\"\")","v":""},"","","",null,null,null,null,{"$f":"IF(I320>0,IF(OR(MAX($W$3:W320)-W320=0,Q320=0),\"\",MAX($W$3:W320)-W320),\"\")","v":""},"","",""]
[null,null,null,{"$f":"IF(A321>0,IF(OR(MAX($G$3:G321)-G321=0,A321=0),\"\",MAX($G$3:G321)-G321),\"\")","v":""},"","","",null,null,null,null,{"$f":"IF(I321>0,IF(OR(MAX($O$3:O321)-O321=0,I321=0),\"\",MAX($O$3:O321)-O321),\"\")","v":""},"","","",null,null,null,null,{"$f":"IF(I321>0,IF(OR(MAX($W$3:W321)-W321=0,Q321=0),\"\",MAX($W$3:W321)-W321),\"\")","v":""},"","",""]
[null,null,null,{"$f":"IF(A322>0,IF(OR(MAX($G$3:G322)-G322=0,A322=0),\"\",MAX($G$3:G322)-G322),\"\")","v":""},"","","",null,null,null,null,{"$f":"IF(I322>0,IF(OR(MAX($O$3:O322)-O322=0,I322=0),\"\",MAX($O$3:O322)-O322),\"\")","v":""},"","","",null,null,null,null,{"$f":"IF(I322>0,IF(OR(MAX($W$3:W322)-W322=0,Q322=0),\"\",MAX($W$3:W322)-W322),\"\")","v":""},"","",""]
[null,null,null,{"$f":"IF(A323>0,IF(OR(MAX($G$3:G323)-G323=0,A323=0),\"\",MAX($G$3:G323)-G323),\"\")","v":""},"","","",null,null,null,null,{"$f":"IF(I323>0,IF(OR(MAX($O$3:O323)-O323=0,I323=0),\"\",MAX($O$3:O323)-O323),\"\")","v":""},"","","",null,null,null,null,{"$f":"IF(I323>0,IF(OR(MAX($W$3:W323)-W323=0,Q323=0),\"\",MAX($W$3:W323)-W323),\"\")","v":""},"","",""]
[null,null,null,{"$f":"IF(A324>0,IF(OR(MAX($G$3:G324)-G324=0,A324=0),\"\",MAX($G$3:G324)-G324),\"\")","v":""},"","","",null,null,null,null,{"$f":"IF(I324>0,IF(OR(MAX($O$3:O324)-O324=0,I324=0),\"\",MAX($O$3:O324)-O324),\"\")","v":""},"","","",null,null,null,null,{"$f":"IF(I324>0,IF(OR(MAX($W$3:W324)-W324=0,Q324=0),\"\",MAX($W$3:W324)-W324),\"\")","v":""},"","",""]
[null,null,null,{"$f":"IF(A325>0,IF(OR(MAX($G$3:G325)-G325=0,A325=0),\"\",MAX($G$3:G325)-G325),\"\")","v":""},"","","",null,null,null,null,{"$f":"IF(I325>0,IF(OR(MAX($O$3:O325)-O325=0,I325=0),\"\",MAX($O$3:O325)-O325),\"\")","v":""},"","","",null,null,null,null,{"$f":"IF(I325>0,IF(OR(MAX($W$3:W325)-W325=0,Q325=0),\"\",MAX($W$3:W325)-W325),\"\")","v":""},"","",""]
[null,null,null,{"$f":"IF(A326>0,IF(OR(MAX($G$3:G326)-G326=0,A326=0),\"\",MAX($G$3:G326)-G326),\"\")","v":""},"","","",null,null,null,null,{"$f":"IF(I326>0,IF(OR(MAX($O$3:O326)-O326=0,I326=0),\"\",MAX($O$3:O326)-O326),\"\")","v":""},{"$f":"IF(L326=\"\",\"\",L326/(N326+O325))","v":""},{"$f":"IF(I326>0,N325+K326,\"\")","v":""},{"$f":"IF(I326>0,O325+K326,\"\")","v":""},null,null,null,null,{"$f":"IF(I326>0,IF(OR(MAX($W$3:W326)-W326=0,Q326=0),\"\",MAX($W$3:W326)-W326),\"\")","v":""},{"$f":"IF(T326=\"\",\"\",T326/(V326+W325))","v":""},{"$f":"IF(Q326>0,V325+S326,\"\")","v":""},{"$f":"IF(Q326>0,W325+S326,\"\")","v":""}]
[null,null,null,{"$f":"IF(A327>0,IF(OR(MAX($G$3:G327)-G327=0,A327=0),\"\",MAX($G$3:G327)-G327),\"\")","v":""},"","","",null,null,null,null,{"$f":"IF(I327>0,IF(OR(MAX($O$3:O327)-O327=0,I327=0),\"\",MAX($O$3:O327)-O327),\"\")","v":""},"","","",null,null,null,null,{"$f":"IF(I327>0,IF(OR(MAX($W$3:W327)-W327=0,Q327=0),\"\",MAX($W$3:W327)-W327),\"\")","v":""},"","",""]
[null,null,null,{"$f":"IF(A328>0,IF(OR(MAX($G$3:G328)-G328=0,A328=0),\"\",MAX($G$3:G328)-G328),\"\")","v":""},{"$f":"IF(D328=\"\",\"\",D328/(F328+G327))","v":""},{"$f":"IF(A328>0,F327+C328,\"\")","v":""},{"$f":"IF(A328>0,G327+C328,\"\")","v":""},null,null,null,null,{"$f":"IF(I328>0,IF(OR(MAX($O$3:O328)-O328=0,I328=0),\"\",MAX($O$3:O328)-O328),\"\")","v":""},"","","",null,null,null,null,{"$f":"IF(I328>0,IF(OR(MAX($W$3:W328)-W328=0,Q328=0),\"\",MAX($W$3:W328)-W328),\"\")","v":""},"","",""]
[null,null,null,{"$f":"IF(A329>0,IF(OR(MAX($G$3:G329)-G329=0,A329=0),\"\",MAX($G$3:G329)-G329),\"\")","v":""},"","","",null,null,null,null,{"$f":"IF(I329>0,IF(OR(MAX($O$3:O329)-O329=0,I329=0),\"\",MAX($O$3:O329)-O329),\"\")","v":""},"","","",null,null,null,null,{"$f":"IF(I329>0,IF(OR(MAX($W$3:W329)-W329=0,Q329=0),\"\",MAX($W$3:W329)-W329),\"\")","v":""},"","",""]
[null,null,null,{"$f":"IF(A330>0,IF(OR(MAX($G$3:G330)-G330=0,A330=0),\"\",MAX($G$3:G330)-G330),\"\")","v":""},"","","",null,null,null,null,{"$f":"IF(I330>0,IF(OR(MAX($O$3:O330)-O330=0,I330=0),\"\",MAX($O$3:O330)-O330),\"\")","v":""},"","","",null,null,null,null,{"$f":"IF(I330>0,IF(OR(MAX($W$3:W330)-W330=0,Q330=0),\"\",MAX($W$3:W330)-W330),\"\")","v":""},"","",""]
[null,null,null,{"$f":"IF(A331>0,IF(OR(MAX($G$3:G331)-G331=0,A331=0),\"\",MAX($G$3:G331)-G331),\"\")","v":""},"","","",null,null,null,null,{"$f":"IF(I331>0,IF(OR(MAX($O$3:O331)-O331=0,I331=0),\"\",MAX($O$3:O331)-O331),\"\")","v":""},"","","",null,null,null,null,{"$f":"IF(I331>0,IF(OR(MAX($W$3:W331)-W331=0,Q331=0),\"\",MAX($W$3:W331)-W331),\"\")","v":""},"","",""]
[null,null,null,{"$f":"IF(A332>0,IF(OR(MAX($G$3:G332)-G332=0,A332=0),\"\",MAX($G$3:G332)-G332),\"\")","v":""},"","","",null,null,null,null,{"$f":"IF(I332>0,IF(OR(MAX($O$3:O332)-O332=0,I332=0),\"\",MAX($O$3:O332)-O332),\"\")","v":""},"","","",null,null,null,null,{"$f":"IF(I332>0,IF(OR(MAX($W$3:W332)-W332=0,Q332=0),\"\",MAX($W$3:W332)-W332),\"\")","v":""},"","",""]
[null,null,null,{"$f":"IF(A333>0,IF(OR(MAX($G$3:G333)-G333=0,A333=0),\"\",MAX($G$3:G333)-G333),\"\")","v":""},"","","",null,null,null,null,{"$f":"IF(I333>0,IF(OR(MAX($O$3:O333)-O333=0,I333=0),\"\",MAX($O$3:O333)-O333),\"\")","v":""},"","","",null,null,null,null,{"$f":"IF(I333>0,IF(OR(MAX($W$3:W333)-W333=0,Q333=0),\"\",MAX($W$3:W333)-W333),\"\")","v":""},"","",""]
[null,null,null,{"$f":"IF(A334>0,IF(OR(MAX($G$3:G334)-G334=0,A334=0),\"\",MAX($G$3:G334)-G334),\"\")","v":""},"","","",null,null,null,null,{"$f":"IF(I334>0,IF(OR(MAX($O$3:O334)-O334=0,I334=0),\"\",MAX($O$3:O334)-O334),\"\")","v":""},"","","",null,null,null,null,{"$f":"IF(I334>0,IF(OR(MAX($W$3:W334)-W334=0,Q334=0),\"\",MAX($W$3:W334)-W334),\"\")","v":""},"","",""]
[null,null,null,{"$f":"IF(A335>0,IF(OR(MAX($G$3:G335)-G335=0,A335=0),\"\",MAX($G$3:G335)-G335),\"\")","v":""},"","","",null,null,null,null,{"$f":"IF(I335>0,IF(OR(MAX($O$3:O335)-O335=0,I335=0),\"\",MAX($O$3:O335)-O335),\"\")","v":""},"","","",null,null,null,null,{"$f":"IF(I335>0,IF(OR(MAX($W$3:W335)-W335=0,Q335=0),\"\",MAX($W$3:W335)-W335),\"\")","v":""},"","",""]
[null,null,null,{"$f":"IF(A336>0,IF(OR(MAX($G$3:G336)-G336=0,A336=0),\"\",MAX($G$3:G336)-G336),\"\")","v":""},"","","",null,null,null,null,{"$f":"IF(I336>0,IF(OR(MAX($O$3:O336)-O336=0,I336=0),\"\",MAX($O$3:O336)-O336),\"\")","v":""},"","","",null,null,null,null,{"$f":"IF(I336>0,IF(OR(MAX($W$3:W336)-W336=0,Q336=0),\"\",MAX($W$3:W336)-W336),\"\")","v":""},"","",""]
[null,null,null,{"$f":"IF(A337>0,IF(OR(MAX($G$3:G337)-G337=0,A337=0),\"\",MAX($G$3:G337)-G337),\"\")","v":""},"","","",null,null,null,null,{"$f":"IF(I337>0,IF(OR(MAX($O$3:O337)-O337=0,I337=0),\"\",MAX($O$3:O337)-O337),\"\")","v":""},"","","",null,null,null,null,{"$f":"IF(I337>0,IF(OR(MAX($W$3:W337)-W337=0,Q337=0),\"\",MAX($W$3:W337)-W337),\"\")","v":""},"","",""]
[null,null,null,{"$f":"IF(A338>0,IF(OR(MAX($G$3:G338)-G338=0,A338=0),\"\",MAX($G$3:G338)-G338),\"\")","v":""},"","","",null,null,null,null,{"$f":"IF(I338>0,IF(OR(MAX($O$3:O338)-O338=0,I338=0),\"\",MAX($O$3:O338)-O338),\"\")","v":""},"","","",null,null,null,null,{"$f":"IF(I338>0,IF(OR(MAX($W$3:W338)-W338=0,Q338=0),\"\",MAX($W$3:W338)-W338),\"\")","v":""},"","",""]
[null,null,null,{"$f":"IF(A339>0,IF(OR(MAX($G$3:G339)-G339=0,A339=0),\"\",MAX($G$3:G339)-G339),\"\")","v":""},"","","",null,null,null,null,{"$f":"IF(I339>0,IF(OR(MAX($O$3:O339)-O339=0,I339=0),\"\",MAX($O$3:O339)-O339),\"\")","v":""},"","","",null,null,null,null,{"$f":"IF(I339>0,IF(OR(MAX($W$3:W339)-W339=0,Q339=0),\"\",MAX($W$3:W339)-W339),\"\")","v":""},"","",""]
[null,null,null,{"$f":"IF(A340>0,IF(OR(MAX($G$3:G340)-G340=0,A340=0),\"\",MAX($G$3:G340)-G340),\"\")","v":""},"","","",null,null,null,null,{"$f":"IF(I340>0,IF(OR(MAX($O$3:O340)-O340=0,I340=0),\"\",MAX($O$3:O340)-O340),\"\")","v":""},"","","",null,null,null,null,{"$f":"IF(I340>0,IF(OR(MAX($W$3:W340)-W340=0,Q340=0),\"\",MAX($W$3:W340)-W340),\"\")","v":""},"","",""]
[null,null,null,{"$f":"IF(A341>0,IF(OR(MAX($G$3:G341)-G341=0,A341=0),\"\",MAX($G$3:G341)-G341),\"\")","v":""},"","","",null,null,null,null,{"$f":"IF(I341>0,IF(OR(MAX($O$3:O341)-O341=0,I341=0),\"\",MAX($O$3:O341)-O341),\"\")","v":""},"","","",null,null,null,null,{"$f":"IF(I341>0,IF(OR(MAX($W$3:W341)-W341=0,Q341=0),\"\",MAX($W$3:W341)-W341),\"\")","v":""},"","",""]
[null,null,null,{"$f":"IF(A342>0,IF(OR(MAX($G$3:G342)-G342=0,A342=0),\"\",MAX($G$3:G342)-G342),\"\")","v":""},"","","",null,null,null,null,{"$f":"IF(I342>0,IF(OR(MAX($O$3:O342)-O342=0,I342=0),\"\",MAX($O$3:O342)-O342),\"\")","v":""},"","","",null,null,null,null,{"$f":"IF(I342>0,IF(OR(MAX($W$3:W342)-W342=0,Q342=0),\"\",MAX($W$3:W342)-W342),\"\")","v":""},"","",""]
[null,null,null,{"$f":"IF(A343>0,IF(OR(MAX($G$3:G343)-G343=0,A343=0),\"\",MAX($G$3:G343)-G343),\"\")","v":""},"","","",null,null,null,null,{"$f":"IF(I343>0,IF(OR(MAX($O$3:O343)-O343=0,I343=0),\"\",MAX($O$3:O343)-O343),\"\")","v":""},"","","",null,null,null,null,{"$f":"IF(I343>0,IF(OR(MAX($W$3:W343)-W343=0,Q343=0),\"\",MAX($W$3:W343)-W343),\"\")","v":""},"","",""]
[null,null,null,{"$f":"IF(A344>0,IF(OR(MAX($G$3:G344)-G344=0,A344=0),\"\",MAX($G$3:G344)-G344),\"\")","v":""},"","","",null,null,null,null,{"$f":"IF(I344>0,IF(OR(MAX($O$3:O344)-O344=0,I344=0),\"\",MAX($O$3:O344)-O344),\"\")","v":""},"","","",null,null,null,null,{"$f":"IF(I344>0,IF(OR(MAX($W$3:W344)-W344=0,Q344=0),\"\",MAX($W$3:W344)-W344),\"\")","v":""},"","",""]
[null,null,null,{"$f":"IF(A345>0,IF(OR(MAX($G$3:G345)-G345=0,A345=0),\"\",MAX($G$3:G345)-G345),\"\")","v":""},"","","",null,null,null,null,{"$f":"IF(I345>0,IF(OR(MAX($O$3:O345)-O345=0,I345=0),\"\",MAX($O$3:O345)-O345),\"\")","v":""},"","","",null,null,null,null,{"$f":"IF(I345>0,IF(OR(MAX($W$3:W345)-W345=0,Q345=0),\"\",MAX($W$3:W345)-W345),\"\")","v":""},"","",""]
[null,null,null,{"$f":"IF(A346>0,IF(OR(MAX($G$3:G346)-G346=0,A346=0),\"\",MAX($G$3:G346)-G346),\"\")","v":""},"","","",null,null,null,null,{"$f":"IF(I346>0,IF(OR(MAX($O$3:O346)-O346=0,I346=0),\"\",MAX($O$3:O346)-O346),\"\")","v":""},"","","",null,null,null,null,{"$f":"IF(I346>0,IF(OR(MAX($W$3:W346)-W346=0,Q346=0),\"\",MAX($W$3:W346)-W346),\"\")","v":""},"","",""]
[null,null,null,{"$f":"IF(A347>0,IF(OR(MAX($G$3:G347)-G347=0,A347=0),\"\",MAX($G$3:G347)-G347),\"\")","v":""},"","","",null,null,null,null,{"$f":"IF(I347>0,IF(OR(MAX($O$3:O347)-O347=0,I347=0),\"\",MAX($O$3:O347)-O347),\"\")","v":""},"","","",null,null,null,null,{"$f":"IF(I347>0,IF(OR(MAX($W$3:W347)-W347=0,Q347=0),\"\",MAX($W$3:W347)-W347),\"\")","v":""},"","",""]
[null,null,null,{"$f":"IF(A348>0,IF(OR(MAX($G$3:G348)-G348=0,A348=0),\"\",MAX($G$3:G348)-G348),\"\")","v":""},"","","",null,null,null,null,{"$f":"IF(I348>0,IF(OR(MAX($O$3:O348)-O348=0,I348=0),\"\",MAX($O$3:O348)-O348),\"\")","v":""},"","","",null,null,null,null,{"$f":"IF(I348>0,IF(OR(MAX($W$3:W348)-W348=0,Q348=0),\"\",MAX($W$3:W348)-W348),\"\")","v":""},"","",""]
[null,null,null,{"$f":"IF(A349>0,IF(OR(MAX($G$3:G349)-G349=0,A349=0),\"\",MAX($G$3:G349)-G349),\"\")","v":""},"","","",null,null,null,null,{"$f":"IF(I349>0,IF(OR(MAX($O$3:O349)-O349=0,I349=0),\"\",MAX($O$3:O349)-O349),\"\")","v":""},"","","",null,null,null,null,{"$f":"IF(I349>0,IF(OR(MAX($W$3:W349)-W349=0,Q349=0),\"\",MAX($W$3:W349)-W349),\"\")","v":""},"","",""]
[null,null,null,{"$f":"IF(A350>0,IF(OR(MAX($G$3:G350)-G350=0,A350=0),\"\",MAX($G$3:G350)-G350),\"\")","v":""},"","","",null,null,null,null,{"$f":"IF(I350>0,IF(OR(MAX($O$3:O350)-O350=0,I350=0),\"\",MAX($O$3:O350)-O350),\"\")","v":""},"","","",null,null,null,null,{"$f":"IF(I350>0,IF(OR(MAX($W$3:W350)-W350=0,Q350=0),\"\",MAX($W$3:W350)-W350),\"\")","v":""},"","",""]
[null,null,null,{"$f":"IF(A351>0,IF(OR(MAX($G$3:G351)-G351=0,A351=0),\"\",MAX($G$3:G351)-G351),\"\")","v":""},"","","",null,null,null,null,{"$f":"IF(I351>0,IF(OR(MAX($O$3:O351)-O351=0,I351=0),\"\",MAX($O$3:O351)-O351),\"\")","v":""},"","","",null,null,null,null,{"$f":"IF(I351>0,IF(OR(MAX($W$3:W351)-W351=0,Q351=0),\"\",MAX($W$3:W351)-W351),\"\")","v":""},"","",""]
[null,null,null,{"$f":"IF(A352>0,IF(OR(MAX($G$3:G352)-G352=0,A352=0),\"\",MAX($G$3:G352)-G352),\"\")","v":""},"","","",null,null,null,null,{"$f":"IF(I352>0,IF(OR(MAX($O$3:O352)-O352=0,I352=0),\"\",MAX($O$3:O352)-O352),\"\")","v":""},"","","",null,null,null,null,{"$f":"IF(I352>0,IF(OR(MAX($W$3:W352)-W352=0,Q352=0),\"\",MAX($W$3:W352)-W352),\"\")","v":""},"","",""]
[null,null,null,{"$f":"IF(A353>0,IF(OR(MAX($G$3:G353)-G353=0,A353=0),\"\",MAX($G$3:G353)-G353),\"\")","v":""},"","","",null,null,null,null,{"$f":"IF(I353>0,IF(OR(MAX($O$3:O353)-O353=0,I353=0),\"\",MAX($O$3:O353)-O353),\"\")","v":""},"","","",null,null,null,null,{"$f":"IF(I353>0,IF(OR(MAX($W$3:W353)-W353=0,Q353=0),\"\",MAX($W$3:W353)-W353),\"\")","v":""},"","",""]
[null,null,null,{"$f":"IF(A354>0,IF(OR(MAX($G$3:G354)-G354=0,A354=0),\"\",MAX($G$3:G354)-G354),\"\")","v":""},"","","",null,null,null,null,{"$f":"IF(I354>0,IF(OR(MAX($O$3:O354)-O354=0,I354=0),\"\",MAX($O$3:O354)-O354),\"\")","v":""},"","","",null,null,null,null,{"$f":"IF(I354>0,IF(OR(MAX($W$3:W354)-W354=0,Q354=0),\"\",MAX($W$3:W354)-W354),\"\")","v":""},"","",""]
[null,null,null,{"$f":"IF(A355>0,IF(OR(MAX($G$3:G355)-G355=0,A355=0),\"\",MAX($G$3:G355)-G355),\"\")","v":""},"","","",null,null,null,null,{"$f":"IF(I355>0,IF(OR(MAX($O$3:O355)-O355=0,I355=0),\"\",MAX($O$3:O355)-O355),\"\")","v":""},"","","",null,null,null,null,{"$f":"IF(I355>0,IF(OR(MAX($W$3:W355)-W355=0,Q355=0),\"\",MAX($W$3:W355)-W355),\"\")","v":""},"","",""]
[null,null,null,{"$f":"IF(A356>0,IF(OR(MAX($G$3:G356)-G356=0,A356=0),\"\",MAX($G$3:G356)-G356),\"\")","v":""},"","","",null,null,null,null,{"$f":"IF(I356>0,IF(OR(MAX($O$3:O356)-O356=0,I356=0),\"\",MAX($O$3:O356)-O356),\"\")","v":""},"","","",null,null,null,null,{"$f":"IF(I356>0,IF(OR(MAX($W$3:W356)-W356=0,Q356=0),\"\",MAX($W$3:W356)-W356),\"\")","v":""},"","",""]
[null,null,null,{"$f":"IF(A357>0,IF(OR(MAX($G$3:G357)-G357=0,A357=0),\"\",MAX($G$3:G357)-G357),\"\")","v":""},"","","",null,null,null,null,{"$f":"IF(I357>0,IF(OR(MAX($O$3:O357)-O357=0,I357=0),\"\",MAX($O$3:O357)-O357),\"\")","v":""},"","","",null,null,null,null,{"$f":"IF(I357>0,IF(OR(MAX($W$3:W357)-W357=0,Q357=0),\"\",MAX($W$3:W357)-W357),\"\")","v":""},"","",""]
[null,null,null,{"$f":"IF(A358>0,IF(OR(MAX($G$3:G358)-G358=0,A358=0),\"\",MAX($G$3:G358)-G358),\"\")","v":""},"","","",null,null,null,null,{"$f":"IF(I358>0,IF(OR(MAX($O$3:O358)-O358=0,I358=0),\"\",MAX($O$3:O358)-O358),\"\")","v":""},"","","",null,null,null,null,{"$f":"IF(I358>0,IF(OR(MAX($W$3:W358)-W358=0,Q358=0),\"\",MAX($W$3:W358)-W358),\"\")","v":""},"","",""]
[null,null,null,{"$f":"IF(A359>0,IF(OR(MAX($G$3:G359)-G359=0,A359=0),\"\",MAX($G$3:G359)-G359),\"\")","v":""},"","","",null,null,null,null,{"$f":"IF(I359>0,IF(OR(MAX($O$3:O359)-O359=0,I359=0),\"\",MAX($O$3:O359)-O359),\"\")","v":""},"","","",null,null,null,null,{"$f":"IF(I359>0,IF(OR(MAX($W$3:W359)-W359=0,Q359=0),\"\",MAX($W$3:W359)-W359),\"\")","v":""},"","",""]
[null,null,null,{"$f":"IF(A360>0,IF(OR(MAX($G$3:G360)-G360=0,A360=0),\"\",MAX($G$3:G360)-G360),\"\")","v":""},"","","",null,null,null,null,{"$f":"IF(I360>0,IF(OR(MAX($O$3:O360)-O360=0,I360=0),\"\",MAX($O$3:O360)-O360),\"\")","v":""},"","","",null,null,null,null,{"$f":"IF(I360>0,IF(OR(MAX($W$3:W360)-W360=0,Q360=0),\"\",MAX($W$3:W360)-W360),\"\")","v":""},"","",""]
[null,null,null,{"$f":"IF(A361>0,IF(OR(MAX($G$3:G361)-G361=0,A361=0),\"\",MAX($G$3:G361)-G361),\"\")","v":""},"","","",null,null,null,null,{"$f":"IF(I361>0,IF(OR(MAX($O$3:O361)-O361=0,I361=0),\"\",MAX($O$3:O361)-O361),\"\")","v":""},"","","",null,null,null,null,{"$f":"IF(I361>0,IF(OR(MAX($W$3:W361)-W361=0,Q361=0),\"\",MAX($W$3:W361)-W361),\"\")","v":""},"","",""]
[null,null,null,{"$f":"IF(A362>0,IF(OR(MAX($G$3:G362)-G362=0,A362=0),\"\",MAX($G$3:G362)-G362),\"\")","v":""},"","","",null,null,null,null,{"$f":"IF(I362>0,IF(OR(MAX($O$3:O362)-O362=0,I362=0),\"\",MAX($O$3:O362)-O362),\"\")","v":""},"","","",null,null,null,null,{"$f":"IF(I362>0,IF(OR(MAX($W$3:W362)-W362=0,Q362=0),\"\",MAX($W$3:W362)-W362),\"\")","v":""},"","",""]
[null,null,null,{"$f":"IF(A363>0,IF(OR(MAX($G$3:G363)-G363=0,A363=0),\"\",MAX($G$3:G363)-G363),\"\")","v":""},"","","",null,null,null,null,{"$f":"IF(I363>0,IF(OR(MAX($O$3:O363)-O363=0,I363=0),\"\",MAX($O$3:O363)-O363),\"\")","v":""},"","","",null,null,null,null,{"$f":"IF(I363>0,IF(OR(MAX($W$3:W363)-W363=0,Q363=0),\"\",MAX($W$3:W363)-W363),\"\")","v":""},"","",""]
[null,null,null,{"$f":"IF(A364>0,IF(OR(MAX($G$3:G364)-G364=0,A364=0),\"\",MAX($G$3:G364)-G364),\"\")","v":""},"","","",null,null,null,null,{"$f":"IF(I364>0,IF(OR(MAX($O$3:O364)-O364=0,I364=0),\"\",MAX($O$3:O364)-O364),\"\")","v":""},"","","",null,null,null,null,{"$f":"IF(I364>0,IF(OR(MAX($W$3:W364)-W364=0,Q364=0),\"\",MAX($W$3:W364)-W364),\"\")","v":""},"","",""]
[null,null,null,{"$f":"IF(A365>0,IF(OR(MAX($G$3:G365)-G365=0,A365=0),\"\",MAX($G$3:G365)-G365),\"\")","v":""},"","","",null,null,null,null,{"$f":"IF(I365>0,IF(OR(MAX($O$3:O365)-O365=0,I365=0),\"\",MAX($O$3:O365)-O365),\"\")","v":""},"","","",null,null,null,null,{"$f":"IF(I365>0,IF(OR(MAX($W$3:W365)-W365=0,Q365=0),\"\",MAX($W$3:W365)-W365),\"\")","v":""},"","",""]
[null,null,null,{"$f":"IF(A366>0,IF(OR(MAX($G$3:G366)-G366=0,A366=0),\"\",MAX($G$3:G366)-G366),\"\")","v":""},"","","",null,null,null,null,{"$f":"IF(I366>0,IF(OR(MAX($O$3:O366)-O366=0,I366=0),\"\",MAX($O$3:O366)-O366),\"\")","v":""},"","","",null,null,null,null,{"$f":"IF(I366>0,IF(OR(MAX($W$3:W366)-W366=0,Q366=0),\"\",MAX($W$3:W366)-W366),\"\")","v":""},"","",""]
[null,null,null,{"$f":"IF(A367>0,IF(OR(MAX($G$3:G367)-G367=0,A367=0),\"\",MAX($G$3:G367)-G367),\"\")","v":""},"","","",null,null,null,null,{"$f":"IF(I367>0,IF(OR(MAX($O$3:O367)-O367=0,I367=0),\"\",MAX($O$3:O367)-O367),\"\")","v":""},"","","",null,null,null,null,{"$f":"IF(I367>0,IF(OR(MAX($W$3:W367)-W367=0,Q367=0),\"\",MAX($W$3:W367)-W367),\"\")","v":""},"","",""]
[null,null,null,{"$f":"IF(A368>0,IF(OR(MAX($G$3:G368)-G368=0,A368=0),\"\",MAX($G$3:G368)-G368),\"\")","v":""},"","","",null,null,null,null,{"$f":"IF(I368>0,IF(OR(MAX($O$3:O368)-O368=0,I368=0),\"\",MAX($O$3:O368)-O368),\"\")","v":""},"","","",null,null,null,null,{"$f":"IF(I368>0,IF(OR(MAX($W$3:W368)-W368=0,Q368=0),\"\",MAX($W$3:W368)-W368),\"\")","v":""},"","",""]
[null,null,null,{"$f":"IF(A369>0,IF(OR(MAX($G$3:G369)-G369=0,A369=0),\"\",MAX($G$3:G369)-G369),\"\")","v":""},"","","",null,null,null,null,{"$f":"IF(I369>0,IF(OR(MAX($O$3:O369)-O369=0,I369=0),\"\",MAX($O$3:O369)-O369),\"\")","v":""},"","","",null,null,null,null,{"$f":"IF(I369>0,IF(OR(MAX($W$3:W369)-W369=0,Q369=0),\"\",MAX($W$3:W369)-W369),\"\")","v":""},"","",""]
[null,null,null,{"$f":"IF(A370>0,IF(OR(MAX($G$3:G370)-G370=0,A370=0),\"\",MAX($G$3:G370)-G370),\"\")","v":""},"","","",null,null,null,null,{"$f":"IF(I370>0,IF(OR(MAX($O$3:O370)-O370=0,I370=0),\"\",MAX($O$3:O370)-O370),\"\")","v":""},"","","",null,null,null,null,{"$f":"IF(I370>0,IF(OR(MAX($W$3:W370)-W370=0,Q370=0),\"\",MAX($W$3:W370)-W370),\"\")","v":""},"","",""]
[null,null,null,{"$f":"IF(A371>0,IF(OR(MAX($G$3:G371)-G371=0,A371=0),\"\",MAX($G$3:G371)-G371),\"\")","v":""},"","","",null,null,null,null,{"$f":"IF(I371>0,IF(OR(MAX($O$3:O371)-O371=0,I371=0),\"\",MAX($O$3:O371)-O371),\"\")","v":""},"","","",null,null,null,null,{"$f":"IF(I371>0,IF(OR(MAX($W$3:W371)-W371=0,Q371=0),\"\",MAX($W$3:W371)-W371),\"\")","v":""},"","",""]
[null,null,null,{"$f":"IF(A372>0,IF(OR(MAX($G$3:G372)-G372=0,A372=0),\"\",MAX($G$3:G372)-G372),\"\")","v":""},"","","",null,null,null,null,{"$f":"IF(I372>0,IF(OR(MAX($O$3:O372)-O372=0,I372=0),\"\",MAX($O$3:O372)-O372),\"\")","v":""},"","","",null,null,null,null,{"$f":"IF(I372>0,IF(OR(MAX($W$3:W372)-W372=0,Q372=0),\"\",MAX($W$3:W372)-W372),\"\")","v":""},"","",""]
[null,null,null,{"$f":"IF(A373>0,IF(OR(MAX($G$3:G373)-G373=0,A373=0),\"\",MAX($G$3:G373)-G373),\"\")","v":""},"","","",null,null,null,null,{"$f":"IF(I373>0,IF(OR(MAX($O$3:O373)-O373=0,I373=0),\"\",MAX($O$3:O373)-O373),\"\")","v":""},"","","",null,null,null,null,{"$f":"IF(I373>0,IF(OR(MAX($W$3:W373)-W373=0,Q373=0),\"\",MAX($W$3:W373)-W373),\"\")","v":""},"","",""]
[null,null,null,{"$f":"IF(A374>0,IF(OR(MAX($G$3:G374)-G374=0,A374=0),\"\",MAX($G$3:G374)-G374),\"\")","v":""},"","","",null,null,null,null,{"$f":"IF(I374>0,IF(OR(MAX($O$3:O374)-O374=0,I374=0),\"\",MAX($O$3:O374)-O374),\"\")","v":""},"","","",null,null,null,null,{"$f":"IF(I374>0,IF(OR(MAX($W$3:W374)-W374=0,Q374=0),\"\",MAX($W$3:W374)-W374),\"\")","v":""},"","",""]
[null,null,null,{"$f":"IF(A375>0,IF(OR(MAX($G$3:G375)-G375=0,A375=0),\"\",MAX($G$3:G375)-G375),\"\")","v":""},"","","",null,null,null,null,{"$f":"IF(I375>0,IF(OR(MAX($O$3:O375)-O375=0,I375=0),\"\",MAX($O$3:O375)-O375),\"\")","v":""},"","","",null,null,null,null,{"$f":"IF(I375>0,IF(OR(MAX($W$3:W375)-W375=0,Q375=0),\"\",MAX($W$3:W375)-W375),\"\")","v":""},"","",""]
[null,null,null,{"$f":"IF(A376>0,IF(OR(MAX($G$3:G376)-G376=0,A376=0),\"\",MAX($G$3:G376)-G376),\"\")","v":""},"","","",null,null,null,null,{"$f":"IF(I376>0,IF(OR(MAX($O$3:O376)-O376=0,I376=0),\"\",MAX($O$3:O376)-O376),\"\")","v":""},"","","",null,null,null,null,{"$f":"IF(I376>0,IF(OR(MAX($W$3:W376)-W376=0,Q376=0),\"\",MAX($W$3:W376)-W376),\"\")","v":""},"","",""]
[null,null,null,{"$f":"IF(A377>0,IF(OR(MAX($G$3:G377)-G377=0,A377=0),\"\",MAX($G$3:G377)-G377),\"\")","v":""},"","","",null,null,null,null,{"$f":"IF(I377>0,IF(OR(MAX($O$3:O377)-O377=0,I377=0),\"\",MAX($O$3:O377)-O377),\"\")","v":""},"","","",null,null,null,null,{"$f":"IF(I377>0,IF(OR(MAX($W$3:W377)-W377=0,Q377=0),\"\",MAX($W$3:W377)-W377),\"\")","v":""},"","",""]
[null,null,null,{"$f":"IF(A378>0,IF(OR(MAX($G$3:G378)-G378=0,A378=0),\"\",MAX($G$3:G378)-G378),\"\")","v":""},"","","",null,null,null,null,{"$f":"IF(I378>0,IF(OR(MAX($O$3:O378)-O378=0,I378=0),\"\",MAX($O$3:O378)-O378),\"\")","v":""},"","","",null,null,null,null,{"$f":"IF(I378>0,IF(OR(MAX($W$3:W378)-W378=0,Q378=0),\"\",MAX($W$3:W378)-W378),\"\")","v":""},"","",""]
[null,null,null,{"$f":"IF(A379>0,IF(OR(MAX($G$3:G379)-G379=0,A379=0),\"\",MAX($G$3:G379)-G379),\"\")","v":""},"","","",null,null,null,null,{"$f":"IF(I379>0,IF(OR(MAX($O$3:O379)-O379=0,I379=0),\"\",MAX($O$3:O379)-O379),\"\")","v":""},"","","",null,null,null,null,{"$f":"IF(I379>0,IF(OR(MAX($W$3:W379)-W379=0,Q379=0),\"\",MAX($W$3:W379)-W379),\"\")","v":""},"","",""]
[null,null,null,{"$f":"IF(A380>0,IF(OR(MAX($G$3:G380)-G380=0,A380=0),\"\",MAX($G$3:G380)-G380),\"\")","v":""},"","","",null,null,null,null,{"$f":"IF(I380>0,IF(OR(MAX($O$3:O380)-O380=0,I380=0),\"\",MAX($O$3:O380)-O380),\"\")","v":""},"","","",null,null,null,null,{"$f":"IF(I380>0,IF(OR(MAX($W$3:W380)-W380=0,Q380=0),\"\",MAX($W$3:W380)-W380),\"\")","v":""},"","",""]
[null,null,null,{"$f":"IF(A381>0,IF(OR(MAX($G$3:G381)-G381=0,A381=0),\"\",MAX($G$3:G381)-G381),\"\")","v":""},"","","",null,null,null,null,{"$f":"IF(I381>0,IF(OR(MAX($O$3:O381)-O381=0,I381=0),\"\",MAX($O$3:O381)-O381),\"\")","v":""},"","","",null,null,null,null,{"$f":"IF(I381>0,IF(OR(MAX($W$3:W381)-W381=0,Q381=0),\"\",MAX($W$3:W381)-W381),\"\")","v":""},"","",""]
[null,null,null,{"$f":"IF(A382>0,IF(OR(MAX($G$3:G382)-G382=0,A382=0),\"\",MAX($G$3:G382)-G382),\"\")","v":""},"","","",null,null,null,null,{"$f":"IF(I382>0,IF(OR(MAX($O$3:O382)-O382=0,I382=0),\"\",MAX($O$3:O382)-O382),\"\")","v":""},"","","",null,null,null,null,{"$f":"IF(I382>0,IF(OR(MAX($W$3:W382)-W382=0,Q382=0),\"\",MAX($W$3:W382)-W382),\"\")","v":""},"","",""]
[null,null,null,{"$f":"IF(A383>0,IF(OR(MAX($G$3:G383)-G383=0,A383=0),\"\",MAX($G$3:G383)-G383),\"\")","v":""},"","","",null,null,null,null,{"$f":"IF(I383>0,IF(OR(MAX($O$3:O383)-O383=0,I383=0),\"\",MAX($O$3:O383)-O383),\"\")","v":""},"","","",null,null,null,null,{"$f":"IF(I383>0,IF(OR(MAX($W$3:W383)-W383=0,Q383=0),\"\",MAX($W$3:W383)-W383),\"\")","v":""},"","",""]
[null,null,null,{"$f":"IF(A384>0,IF(OR(MAX($G$3:G384)-G384=0,A384=0),\"\",MAX($G$3:G384)-G384),\"\")","v":""},"","","",null,null,null,null,{"$f":"IF(I384>0,IF(OR(MAX($O$3:O384)-O384=0,I384=0),\"\",MAX($O$3:O384)-O384),\"\")","v":""},"","","",null,null,null,null,{"$f":"IF(I384>0,IF(OR(MAX($W$3:W384)-W384=0,Q384=0),\"\",MAX($W$3:W384)-W384),\"\")","v":""},"","",""]
[null,null,null,{"$f":"IF(A385>0,IF(OR(MAX($G$3:G385)-G385=0,A385=0),\"\",MAX($G$3:G385)-G385),\"\")","v":""},"","","",null,null,null,null,{"$f":"IF(I385>0,IF(OR(MAX($O$3:O385)-O385=0,I385=0),\"\",MAX($O$3:O385)-O385),\"\")","v":""},"","","",null,null,null,null,{"$f":"IF(I385>0,IF(OR(MAX($W$3:W385)-W385=0,Q385=0),\"\",MAX($W$3:W385)-W385),\"\")","v":""},"","",""]
[null,null,null,{"$f":"IF(A386>0,IF(OR(MAX($G$3:G386)-G386=0,A386=0),\"\",MAX($G$3:G386)-G386),\"\")","v":""},"","","",null,null,null,null,{"$f":"IF(I386>0,IF(OR(MAX($O$3:O386)-O386=0,I386=0),\"\",MAX($O$3:O386)-O386),\"\")","v":""},"","","",null,null,null,null,{"$f":"IF(I386>0,IF(OR(MAX($W$3:W386)-W386=0,Q386=0),\"\",MAX($W$3:W386)-W386),\"\")","v":""},"","",""]
[null,null,null,{"$f":"IF(A387>0,IF(OR(MAX($G$3:G387)-G387=0,A387=0),\"\",MAX($G$3:G387)-G387),\"\")","v":""},"","","",null,null,null,null,{"$f":"IF(I387>0,IF(OR(MAX($O$3:O387)-O387=0,I387=0),\"\",MAX($O$3:O387)-O387),\"\")","v":""},"","","",null,null,null,null,{"$f":"IF(I387>0,IF(OR(MAX($W$3:W387)-W387=0,Q387=0),\"\",MAX($W$3:W387)-W387),\"\")","v":""},"","",""]
[null,null,null,{"$f":"IF(A388>0,IF(OR(MAX($G$3:G388)-G388=0,A388=0),\"\",MAX($G$3:G388)-G388),\"\")","v":""},"","","",null,null,null,null,{"$f":"IF(I388>0,IF(OR(MAX($O$3:O388)-O388=0,I388=0),\"\",MAX($O$3:O388)-O388),\"\")","v":""},"","","",null,null,null,null,{"$f":"IF(I388>0,IF(OR(MAX($W$3:W388)-W388=0,Q388=0),\"\",MAX($W$3:W388)-W388),\"\")","v":""},"","",""]
[null,null,null,{"$f":"IF(A389>0,IF(OR(MAX($G$3:G389)-G389=0,A389=0),\"\",MAX($G$3:G389)-G389),\"\")","v":""},"","","",null,null,null,null,{"$f":"IF(I389>0,IF(OR(MAX($O$3:O389)-O389=0,I389=0),\"\",MAX($O$3:O389)-O389),\"\")","v":""},"","","",null,null,null,null,{"$f":"IF(I389>0,IF(OR(MAX($W$3:W389)-W389=0,Q389=0),\"\",MAX($W$3:W389)-W389),\"\")","v":""},"","",""]
[null,null,null,{"$f":"IF(A390>0,IF(OR(MAX($G$3:G390)-G390=0,A390=0),\"\",MAX($G$3:G390)-G390),\"\")","v":""},"","","",null,null,null,null,{"$f":"IF(I390>0,IF(OR(MAX($O$3:O390)-O390=0,I390=0),\"\",MAX($O$3:O390)-O390),\"\")","v":""},{"$f":"IF(L390=\"\",\"\",L390/(N390+O389))","v":""},{"$f":"IF(I390>0,N389+K390,\"\")","v":""},{"$f":"IF(I390>0,O389+K390,\"\")","v":""},null,null,null,null,{"$f":"IF(I390>0,IF(OR(MAX($W$3:W390)-W390=0,Q390=0),\"\",MAX($W$3:W390)-W390),\"\")","v":""},{"$f":"IF(T390=\"\",\"\",T390/(V390+W389))","v":""},{"$f":"IF(Q390>0,V389+S390,\"\")","v":""},{"$f":"IF(Q390>0,W389+S390,\"\")","v":""}]
[null,null,null,{"$f":"IF(A391>0,IF(OR(MAX($G$3:G391)-G391=0,A391=0),\"\",MAX($G$3:G391)-G391),\"\")","v":""},"","","",null,null,null,null,{"$f":"IF(I391>0,IF(OR(MAX($O$3:O391)-O391=0,I391=0),\"\",MAX($O$3:O391)-O391),\"\")","v":""},"","","",null,null,null,null,{"$f":"IF(I391>0,IF(OR(MAX($W$3:W391)-W391=0,Q391=0),\"\",MAX($W$3:W391)-W391),\"\")","v":""},"","",""]
[null,null,null,{"$f":"IF(A392>0,IF(OR(MAX($G$3:G392)-G392=0,A392=0),\"\",MAX($G$3:G392)-G392),\"\")","v":""},{"$f":"IF(D392=\"\",\"\",D392/(F392+G391))","v":""},{"$f":"IF(A392>0,F391+C392,\"\")","v":""},{"$f":"IF(A392>0,G391+C392,\"\")","v":""},null,null,null,null,{"$f":"IF(I392>0,IF(OR(MAX($O$3:O392)-O392=0,I392=0),\"\",MAX($O$3:O392)-O392),\"\")","v":""},"","","",null,null,null,null,{"$f":"IF(I392>0,IF(OR(MAX($W$3:W392)-W392=0,Q392=0),\"\",MAX($W$3:W392)-W392),\"\")","v":""},"","",""]
[null,null,null,{"$f":"IF(A393>0,IF(OR(MAX($G$3:G393)-G393=0,A393=0),\"\",MAX($G$3:G393)-G393),\"\")","v":""},"","","",null,null,null,null,{"$f":"IF(I393>0,IF(OR(MAX($O$3:O393)-O393=0,I393=0),\"\",MAX($O$3:O393)-O393),\"\")","v":""},"","","",null,null,null,null,{"$f":"IF(I393>0,IF(OR(MAX($W$3:W393)-W393=0,Q393=0),\"\",MAX($W$3:W393)-W393),\"\")","v":""},"","",""]
[null,null,null,{"$f":"IF(A394>0,IF(OR(MAX($G$3:G394)-G394=0,A394=0),\"\",MAX($G$3:G394)-G394),\"\")","v":""},"","","",null,null,null,null,{"$f":"IF(I394>0,IF(OR(MAX($O$3:O394)-O394=0,I394=0),\"\",MAX($O$3:O394)-O394),\"\")","v":""},"","","",null,null,null,null,{"$f":"IF(I394>0,IF(OR(MAX($W$3:W394)-W394=0,Q394=0),\"\",MAX($W$3:W394)-W394),\"\")","v":""},"","",""]
[null,null,null,{"$f":"IF(A395>0,IF(OR(MAX($G$3:G395)-G395=0,A395=0),\"\",MAX($G$3:G395)-G395),\"\")","v":""},"","","",null,null,null,null,{"$f":"IF(I395>0,IF(OR(MAX($O$3:O395)-O395=0,I395=0),\"\",MAX($O$3:O395)-O395),\"\")","v":""},"","","",null,null,null,null,{"$f":"IF(I395>0,IF(OR(MAX($W$3:W395)-W395=0,Q395=0),\"\",MAX($W$3:W395)-W395),\"\")","v":""},"","",""]
[null,null,null,{"$f":"IF(A396>0,IF(OR(MAX($G$3:G396)-G396=0,A396=0),\"\",MAX($G$3:G396)-G396),\"\")","v":""},"","","",null,null,null,null,{"$f":"IF(I396>0,IF(OR(MAX($O$3:O396)-O396=0,I396=0),\"\",MAX($O$3:O396)-O396),\"\")","v":""},"","","",null,null,null,null,{"$f":"IF(I396>0,IF(OR(MAX($W$3:W396)-W396=0,Q396=0),\"\",MAX($W$3:W396)-W396),\"\")","v":""},"","",""]
[null,null,null,{"$f":"IF(A397>0,IF(OR(MAX($G$3:G397)-G397=0,A397=0),\"\",MAX($G$3:G397)-G397),\"\")","v":""},"","","",null,null,null,null,{"$f":"IF(I397>0,IF(OR(MAX($O$3:O397)-O397=0,I397=0),\"\",MAX($O$3:O397)-O397),\"\")","v":""},"","","",null,null,null,null,{"$f":"IF(I397>0,IF(OR(MAX($W$3:W397)-W397=0,Q397=0),\"\",MAX($W$3:W397)-W397),\"\")","v":""},"","",""]
[null,null,null,{"$f":"IF(A398>0,IF(OR(MAX($G$3:G398)-G398=0,A398=0),\"\",MAX($G$3:G398)-G398),\"\")","v":""},"","","",null,null,null,null,{"$f":"IF(I398>0,IF(OR(MAX($O$3:O398)-O398=0,I398=0),\"\",MAX($O$3:O398)-O398),\"\")","v":""},"","","",null,null,null,null,{"$f":"IF(I398>0,IF(OR(MAX($W$3:W398)-W398=0,Q398=0),\"\",MAX($W$3:W398)-W398),\"\")","v":""},"","",""]
[null,null,null,{"$f":"IF(A399>0,IF(OR(MAX($G$3:G399)-G399=0,A399=0),\"\",MAX($G$3:G399)-G399),\"\")","v":""},"","","",null,null,null,null,{"$f":"IF(I399>0,IF(OR(MAX($O$3:O399)-O399=0,I399=0),\"\",MAX($O$3:O399)-O399),\"\")","v":""},"","","",null,null,null,null,{"$f":"IF(I399>0,IF(OR(MAX($W$3:W399)-W399=0,Q399=0),\"\",MAX($W$3:W399)-W399),\"\")","v":""},"","",""]
[null,null,null,{"$f":"IF(A400>0,IF(OR(MAX($G$3:G400)-G400=0,A400=0),\"\",MAX($G$3:G400)-G400),\"\")","v":""},"","","",null,null,null,null,{"$f":"IF(I400>0,IF(OR(MAX($O$3:O400)-O400=0,I400=0),\"\",MAX($O$3:O400)-O400),\"\")","v":""},"","","",null,null,null,null,{"$f":"IF(I400>0,IF(OR(MAX($W$3:W400)-W400=0,Q400=0),\"\",MAX($W$3:W400)-W400),\"\")","v":""},"","",""]
[null,null,null,{"$f":"IF(A401>0,IF(OR(MAX($G$3:G401)-G401=0,A401=0),\"\",MAX($G$3:G401)-G401),\"\")","v":""},"","","",null,null,null,null,{"$f":"IF(I401>0,IF(OR(MAX($O$3:O401)-O401=0,I401=0),\"\",MAX($O$3:O401)-O401),\"\")","v":""},"","","",null,null,null,null,{"$f":"IF(I401>0,IF(OR(MAX($W$3:W401)-W401=0,Q401=0),\"\",MAX($W$3:W401)-W401),\"\")","v":""},"","",""]
[null,null,null,{"$f":"IF(A402>0,IF(OR(MAX($G$3:G402)-G402=0,A402=0),\"\",MAX($G$3:G402)-G402),\"\")","v":""},"","","",null,null,null,null,{"$f":"IF(I402>0,IF(OR(MAX($O$3:O402)-O402=0,I402=0),\"\",MAX($O$3:O402)-O402),\"\")","v":""},"","","",null,null,null,null,{"$f":"IF(I402>0,IF(OR(MAX($W$3:W402)-W402=0,Q402=0),\"\",MAX($W$3:W402)-W402),\"\")","v":""},"","",""]
[null,null,null,{"$f":"IF(A403>0,IF(OR(MAX($G$3:G403)-G403=0,A403=0),\"\",MAX($G$3:G403)-G403),\"\")","v":""},"","","",null,null,null,null,{"$f":"IF(I403>0,IF(OR(MAX($O$3:O403)-O403=0,I403=0),\"\",MAX($O$3:O403)-O403),\"\")","v":""},"","","",null,null,null,null,{"$f":"IF(I403>0,IF(OR(MAX($W$3:W403)-W403=0,Q403=0),\"\",MAX($W$3:W403)-W403),\"\")","v":""},"","",""]
[null,null,null,{"$f":"IF(A404>0,IF(OR(MAX($G$3:G404)-G404=0,A404=0),\"\",MAX($G$3:G404)-G404),\"\")","v":""},"","","",null,null,null,null,{"$f":"IF(I404>0,IF(OR(MAX($O$3:O404)-O404=0,I404=0),\"\",MAX($O$3:O404)-O404),\"\")","v":""},"","","",null,null,null,null,{"$f":"IF(I404>0,IF(OR(MAX($W$3:W404)-W404=0,Q404=0),\"\",MAX($W$3:W404)-W404),\"\")","v":""},"","",""]
[null,null,null,{"$f":"IF(A405>0,IF(OR(MAX($G$3:G405)-G405=0,A405=0),\"\",MAX($G$3:G405)-G405),\"\")","v":""},"","","",null,null,null,null,{"$f":"IF(I405>0,IF(OR(MAX($O$3:O405)-O405=0,I405=0),\"\",MAX($O$3:O405)-O405),\"\")","v":""},"","","",null,null,null,null,{"$f":"IF(I405>0,IF(OR(MAX($W$3:W405)-W405=0,Q405=0),\"\",MAX($W$3:W405)-W405),\"\")","v":""},"","",""]
[null,null,null,{"$f":"IF(A406>0,IF(OR(MAX($G$3:G406)-G406=0,A406=0),\"\",MAX($G$3:G406)-G406),\"\")","v":""},"","","",null,null,null,null,{"$f":"IF(I406>0,IF(OR(MAX($O$3:O406)-O406=0,I406=0),\"\",MAX($O$3:O406)-O406),\"\")","v":""},"","","",null,null,null,null,{"$f":"IF(I406>0,IF(OR(MAX($W$3:W406)-W406=0,Q406=0),\"\",MAX($W$3:W406)-W406),\"\")","v":""},"","",""]
[null,null,null,{"$f":"IF(A407>0,IF(OR(MAX($G$3:G407)-G407=0,A407=0),\"\",MAX($G$3:G407)-G407),\"\")","v":""},"","","",null,null,null,null,{"$f":"IF(I407>0,IF(OR(MAX($O$3:O407)-O407=0,I407=0),\"\",MAX($O$3:O407)-O407),\"\")","v":""},"","","",null,null,null,null,{"$f":"IF(I407>0,IF(OR(MAX($W$3:W407)-W407=0,Q407=0),\"\",MAX($W$3:W407)-W407),\"\")","v":""},"","",""]
[null,null,null,{"$f":"IF(A408>0,IF(OR(MAX($G$3:G408)-G408=0,A408=0),\"\",MAX($G$3:G408)-G408),\"\")","v":""},"","","",null,null,null,null,{"$f":"IF(I408>0,IF(OR(MAX($O$3:O408)-O408=0,I408=0),\"\",MAX($O$3:O408)-O408),\"\")","v":""},"","","",null,null,null,null,{"$f":"IF(I408>0,IF(OR(MAX($W$3:W408)-W408=0,Q408=0),\"\",MAX($W$3:W408)-W408),\"\")","v":""},"","",""]
[null,null,null,{"$f":"IF(A409>0,IF(OR(MAX($G$3:G409)-G409=0,A409=0),\"\",MAX($G$3:G409)-G409),\"\")","v":""},"","","",null,null,null,null,{"$f":"IF(I409>0,IF(OR(MAX($O$3:O409)-O409=0,I409=0),\"\",MAX($O$3:O409)-O409),\"\")","v":""},"","","",null,null,null,null,{"$f":"IF(I409>0,IF(OR(MAX($W$3:W409)-W409=0,Q409=0),\"\",MAX($W$3:W409)-W409),\"\")","v":""},"","",""]
[null,null,null,{"$f":"IF(A410>0,IF(OR(MAX($G$3:G410)-G410=0,A410=0),\"\",MAX($G$3:G410)-G410),\"\")","v":""},"","","",null,null,null,null,{"$f":"IF(I410>0,IF(OR(MAX($O$3:O410)-O410=0,I410=0),\"\",MAX($O$3:O410)-O410),\"\")","v":""},"","","",null,null,null,null,{"$f":"IF(I410>0,IF(OR(MAX($W$3:W410)-W410=0,Q410=0),\"\",MAX($W$3:W410)-W410),\"\")","v":""},"","",""]
[null,null,null,{"$f":"IF(A411>0,IF(OR(MAX($G$3:G411)-G411=0,A411=0),\"\",MAX($G$3:G411)-G411),\"\")","v":""},"","","",null,null,null,null,{"$f":"IF(I411>0,IF(OR(MAX($O$3:O411)-O411=0,I411=0),\"\",MAX($O$3:O411)-O411),\"\")","v":""},"","","",null,null,null,null,{"$f":"IF(I411>0,IF(OR(MAX($W$3:W411)-W411=0,Q411=0),\"\",MAX($W$3:W411)-W411),\"\")","v":""},"","",""]
[null,null,null,{"$f":"IF(A412>0,IF(OR(MAX($G$3:G412)-G412=0,A412=0),\"\",MAX($G$3:G412)-G412),\"\")","v":""},"","","",null,null,null,null,{"$f":"IF(I412>0,IF(OR(MAX($O$3:O412)-O412=0,I412=0),\"\",MAX($O$3:O412)-O412),\"\")","v":""},"","","",null,null,null,null,{"$f":"IF(I412>0,IF(OR(MAX($W$3:W412)-W412=0,Q412=0),\"\",MAX($W$3:W412)-W412),\"\")","v":""},"","",""]
[null,null,null,{"$f":"IF(A413>0,IF(OR(MAX($G$3:G413)-G413=0,A413=0),\"\",MAX($G$3:G413)-G413),\"\")","v":""},"","","",null,null,null,null,{"$f":"IF(I413>0,IF(OR(MAX($O$3:O413)-O413=0,I413=0),\"\",MAX($O$3:O413)-O413),\"\")","v":""},"","","",null,null,null,null,{"$f":"IF(I413>0,IF(OR(MAX($W$3:W413)-W413=0,Q413=0),\"\",MAX($W$3:W413)-W413),\"\")","v":""},"","",""]
[null,null,null,{"$f":"IF(A414>0,IF(OR(MAX($G$3:G414)-G414=0,A414=0),\"\",MAX($G$3:G414)-G414),\"\")","v":""},"","","",null,null,null,null,{"$f":"IF(I414>0,IF(OR(MAX($O$3:O414)-O414=0,I414=0),\"\",MAX($O$3:O414)-O414),\"\")","v":""},"","","",null,null,null,null,{"$f":"IF(I414>0,IF(OR(MAX($W$3:W414)-W414=0,Q414=0),\"\",MAX($W$3:W414)-W414),\"\")","v":""},"","",""]
[null,null,null,{"$f":"IF(A415>0,IF(OR(MAX($G$3:G415)-G415=0,A415=0),\"\",MAX($G$3:G415)-G415),\"\")","v":""},"","","",null,null,null,null,{"$f":"IF(I415>0,IF(OR(MAX($O$3:O415)-O415=0,I415=0),\"\",MAX($O$3:O415)-O415),\"\")","v":""},"","","",null,null,null,null,{"$f":"IF(I415>0,IF(OR(MAX($W$3:W415)-W415=0,Q415=0),\"\",MAX($W$3:W415)-W415),\"\")","v":""},"","",""]
[null,null,null,{"$f":"IF(A416>0,IF(OR(MAX($G$3:G416)-G416=0,A416=0),\"\",MAX($G$3:G416)-G416),\"\")","v":""},"","","",null,null,null,null,{"$f":"IF(I416>0,IF(OR(MAX($O$3:O416)-O416=0,I416=0),\"\",MAX($O$3:O416)-O416),\"\")","v":""},"","","",null,null,null,null,{"$f":"IF(I416>0,IF(OR(MAX($W$3:W416)-W416=0,Q416=0),\"\",MAX($W$3:W416)-W416),\"\")","v":""},"","",""]
[null,null,null,{"$f":"IF(A417>0,IF(OR(MAX($G$3:G417)-G417=0,A417=0),\"\",MAX($G$3:G417)-G417),\"\")","v":""},"","","",null,null,null,null,{"$f":"IF(I417>0,IF(OR(MAX($O$3:O417)-O417=0,I417=0),\"\",MAX($O$3:O417)-O417),\"\")","v":""},"","","",null,null,null,null,{"$f":"IF(I417>0,IF(OR(MAX($W$3:W417)-W417=0,Q417=0),\"\",MAX($W$3:W417)-W417),\"\")","v":""},"","",""]
[null,null,null,{"$f":"IF(A418>0,IF(OR(MAX($G$3:G418)-G418=0,A418=0),\"\",MAX($G$3:G418)-G418),\"\")","v":""},"","","",null,null,null,null,{"$f":"IF(I418>0,IF(OR(MAX($O$3:O418)-O418=0,I418=0),\"\",MAX($O$3:O418)-O418),\"\")","v":""},"","","",null,null,null,null,{"$f":"IF(I418>0,IF(OR(MAX($W$3:W418)-W418=0,Q418=0),\"\",MAX($W$3:W418)-W418),\"\")","v":""},"","",""]
[null,null,null,{"$f":"IF(A419>0,IF(OR(MAX($G$3:G419)-G419=0,A419=0),\"\",MAX($G$3:G419)-G419),\"\")","v":""},"","","",null,null,null,null,{"$f":"IF(I419>0,IF(OR(MAX($O$3:O419)-O419=0,I419=0),\"\",MAX($O$3:O419)-O419),\"\")","v":""},"","","",null,null,null,null,{"$f":"IF(I419>0,IF(OR(MAX($W$3:W419)-W419=0,Q419=0),\"\",MAX($W$3:W419)-W419),\"\")","v":""},"","",""]
[null,null,null,{"$f":"IF(A420>0,IF(OR(MAX($G$3:G420)-G420=0,A420=0),\"\",MAX($G$3:G420)-G420),\"\")","v":""},"","","",null,null,null,null,{"$f":"IF(I420>0,IF(OR(MAX($O$3:O420)-O420=0,I420=0),\"\",MAX($O$3:O420)-O420),\"\")","v":""},"","","",null,null,null,null,{"$f":"IF(I420>0,IF(OR(MAX($W$3:W420)-W420=0,Q420=0),\"\",MAX($W$3:W420)-W420),\"\")","v":""},"","",""]
[null,null,null,{"$f":"IF(A421>0,IF(OR(MAX($G$3:G421)-G421=0,A421=0),\"\",MAX($G$3:G421)-G421),\"\")","v":""},"","","",null,null,null,null,{"$f":"IF(I421>0,IF(OR(MAX($O$3:O421)-O421=0,I421=0),\"\",MAX($O$3:O421)-O421),\"\")","v":""},"","","",null,null,null,null,{"$f":"IF(I421>0,IF(OR(MAX($W$3:W421)-W421=0,Q421=0),\"\",MAX($W$3:W421)-W421),\"\")","v":""},"","",""]
[null,null,null,{"$f":"IF(A422>0,IF(OR(MAX($G$3:G422)-G422=0,A422=0),\"\",MAX($G$3:G422)-G422),\"\")","v":""},"","","",null,null,null,null,{"$f":"IF(I422>0,IF(OR(MAX($O$3:O422)-O422=0,I422=0),\"\",MAX($O$3:O422)-O422),\"\")","v":""},"","","",null,null,null,null,{"$f":"IF(I422>0,IF(OR(MAX($W$3:W422)-W422=0,Q422=0),\"\",MAX($W$3:W422)-W422),\"\")","v":""},"","",""]
[null,null,null,{"$f":"IF(A423>0,IF(OR(MAX($G$3:G423)-G423=0,A423=0),\"\",MAX($G$3:G423)-G423),\"\")","v":""},"","","",null,null,null,null,{"$f":"IF(I423>0,IF(OR(MAX($O$3:O423)-O423=0,I423=0),\"\",MAX($O$3:O423)-O423),\"\")","v":""},"","","",null,null,null,null,{"$f":"IF(I423>0,IF(OR(MAX($W$3:W423)-W423=0,Q423=0),\"\",MAX($W$3:W423)-W423),\"\")","v":""},"","",""]
[null,null,null,{"$f":"IF(A424>0,IF(OR(MAX($G$3:G424)-G424=0,A424=0),\"\",MAX($G$3:G424)-G424),\"\")","v":""},"","","",null,null,null,null,{"$f":"IF(I424>0,IF(OR(MAX($O$3:O424)-O424=0,I424=0),\"\",MAX($O$3:O424)-O424),\"\")","v":""},"","","",null,null,null,null,{"$f":"IF(I424>0,IF(OR(MAX($W$3:W424)-W424=0,Q424=0),\"\",MAX($W$3:W424)-W424),\"\")","v":""},"","",""]
[null,null,null,{"$f":"IF(A425>0,IF(OR(MAX($G$3:G425)-G425=0,A425=0),\"\",MAX($G$3:G425)-G425),\"\")","v":""},"","","",null,null,null,null,{"$f":"IF(I425>0,IF(OR(MAX($O$3:O425)-O425=0,I425=0),\"\",MAX($O$3:O425)-O425),\"\")","v":""},"","","",null,null,null,null,{"$f":"IF(I425>0,IF(OR(MAX($W$3:W425)-W425=0,Q425=0),\"\",MAX($W$3:W425)-W425),\"\")","v":""},"","",""]
[null,null,null,{"$f":"IF(A426>0,IF(OR(MAX($G$3:G426)-G426=0,A426=0),\"\",MAX($G$3:G426)-G426),\"\")","v":""},"","","",null,null,null,null,{"$f":"IF(I426>0,IF(OR(MAX($O$3:O426)-O426=0,I426=0),\"\",MAX($O$3:O426)-O426),\"\")","v":""},"","","",null,null,null,null,{"$f":"IF(I426>0,IF(OR(MAX($W$3:W426)-W426=0,Q426=0),\"\",MAX($W$3:W426)-W426),\"\")","v":""},"","",""]
[null,null,null,{"$f":"IF(A427>0,IF(OR(MAX($G$3:G427)-G427=0,A427=0),\"\",MAX($G$3:G427)-G427),\"\")","v":""},"","","",null,null,null,null,{"$f":"IF(I427>0,IF(OR(MAX($O$3:O427)-O427=0,I427=0),\"\",MAX($O$3:O427)-O427),\"\")","v":""},"","","",null,null,null,null,{"$f":"IF(I427>0,IF(OR(MAX($W$3:W427)-W427=0,Q427=0),\"\",MAX($W$3:W427)-W427),\"\")","v":""},"","",""]
[null,null,null,{"$f":"IF(A428>0,IF(OR(MAX($G$3:G428)-G428=0,A428=0),\"\",MAX($G$3:G428)-G428),\"\")","v":""},"","","",null,null,null,null,{"$f":"IF(I428>0,IF(OR(MAX($O$3:O428)-O428=0,I428=0),\"\",MAX($O$3:O428)-O428),\"\")","v":""},"","","",null,null,null,null,{"$f":"IF(I428>0,IF(OR(MAX($W$3:W428)-W428=0,Q428=0),\"\",MAX($W$3:W428)-W428),\"\")","v":""},"","",""]
[null,null,null,{"$f":"IF(A429>0,IF(OR(MAX($G$3:G429)-G429=0,A429=0),\"\",MAX($G$3:G429)-G429),\"\")","v":""},"","","",null,null,null,null,{"$f":"IF(I429>0,IF(OR(MAX($O$3:O429)-O429=0,I429=0),\"\",MAX($O$3:O429)-O429),\"\")","v":""},"","","",null,null,null,null,{"$f":"IF(I429>0,IF(OR(MAX($W$3:W429)-W429=0,Q429=0),\"\",MAX($W$3:W429)-W429),\"\")","v":""},"","",""]
[null,null,null,{"$f":"IF(A430>0,IF(OR(MAX($G$3:G430)-G430=0,A430=0),\"\",MAX($G$3:G430)-G430),\"\")","v":""},"","","",null,null,null,null,{"$f":"IF(I430>0,IF(OR(MAX($O$3:O430)-O430=0,I430=0),\"\",MAX($O$3:O430)-O430),\"\")","v":""},"","","",null,null,null,null,{"$f":"IF(I430>0,IF(OR(MAX($W$3:W430)-W430=0,Q430=0),\"\",MAX($W$3:W430)-W430),\"\")","v":""},"","",""]
[null,null,null,{"$f":"IF(A431>0,IF(OR(MAX($G$3:G431)-G431=0,A431=0),\"\",MAX($G$3:G431)-G431),\"\")","v":""},"","","",null,null,null,null,{"$f":"IF(I431>0,IF(OR(MAX($O$3:O431)-O431=0,I431=0),\"\",MAX($O$3:O431)-O431),\"\")","v":""},"","","",null,null,null,null,{"$f":"IF(I431>0,IF(OR(MAX($W$3:W431)-W431=0,Q431=0),\"\",MAX($W$3:W431)-W431),\"\")","v":""},"","",""]
[null,null,null,{"$f":"IF(A432>0,IF(OR(MAX($G$3:G432)-G432=0,A432=0),\"\",MAX($G$3:G432)-G432),\"\")","v":""},"","","",null,null,null,null,{"$f":"IF(I432>0,IF(OR(MAX($O$3:O432)-O432=0,I432=0),\"\",MAX($O$3:O432)-O432),\"\")","v":""},"","","",null,null,null,null,{"$f":"IF(I432>0,IF(OR(MAX($W$3:W432)-W432=0,Q432=0),\"\",MAX($W$3:W432)-W432),\"\")","v":""},"","",""]
[null,null,null,{"$f":"IF(A433>0,IF(OR(MAX($G$3:G433)-G433=0,A433=0),\"\",MAX($G$3:G433)-G433),\"\")","v":""},"","","",null,null,null,null,{"$f":"IF(I433>0,IF(OR(MAX($O$3:O433)-O433=0,I433=0),\"\",MAX($O$3:O433)-O433),\"\")","v":""},"","","",null,null,null,null,{"$f":"IF(I433>0,IF(OR(MAX($W$3:W433)-W433=0,Q433=0),\"\",MAX($W$3:W433)-W433),\"\")","v":""},"","",""]
[null,null,null,{"$f":"IF(A434>0,IF(OR(MAX($G$3:G434)-G434=0,A434=0),\"\",MAX($G$3:G434)-G434),\"\")","v":""},"","","",null,null,null,null,{"$f":"IF(I434>0,IF(OR(MAX($O$3:O434)-O434=0,I434=0),\"\",MAX($O$3:O434)-O434),\"\")","v":""},"","","",null,null,null,null,{"$f":"IF(I434>0,IF(OR(MAX($W$3:W434)-W434=0,Q434=0),\"\",MAX($W$3:W434)-W434),\"\")","v":""},"","",""]
[null,null,null,{"$f":"IF(A435>0,IF(OR(MAX($G$3:G435)-G435=0,A435=0),\"\",MAX($G$3:G435)-G435),\"\")","v":""},"","","",null,null,null,null,{"$f":"IF(I435>0,IF(OR(MAX($O$3:O435)-O435=0,I435=0),\"\",MAX($O$3:O435)-O435),\"\")","v":""},"","","",null,null,null,null,{"$f":"IF(I435>0,IF(OR(MAX($W$3:W435)-W435=0,Q435=0),\"\",MAX($W$3:W435)-W435),\"\")","v":""},"","",""]
[null,null,null,{"$f":"IF(A436>0,IF(OR(MAX($G$3:G436)-G436=0,A436=0),\"\",MAX($G$3:G436)-G436),\"\")","v":""},"","","",null,null,null,null,{"$f":"IF(I436>0,IF(OR(MAX($O$3:O436)-O436=0,I436=0),\"\",MAX($O$3:O436)-O436),\"\")","v":""},"","","",null,null,null,null,{"$f":"IF(I436>0,IF(OR(MAX($W$3:W436)-W436=0,Q436=0),\"\",MAX($W$3:W436)-W436),\"\")","v":""},"","",""]
[null,null,null,{"$f":"IF(A437>0,IF(OR(MAX($G$3:G437)-G437=0,A437=0),\"\",MAX($G$3:G437)-G437),\"\")","v":""},"","","",null,null,null,null,{"$f":"IF(I437>0,IF(OR(MAX($O$3:O437)-O437=0,I437=0),\"\",MAX($O$3:O437)-O437),\"\")","v":""},"","","",null,null,null,null,{"$f":"IF(I437>0,IF(OR(MAX($W$3:W437)-W437=0,Q437=0),\"\",MAX($W$3:W437)-W437),\"\")","v":""},"","",""]
[null,null,null,{"$f":"IF(A438>0,IF(OR(MAX($G$3:G438)-G438=0,A438=0),\"\",MAX($G$3:G438)-G438),\"\")","v":""},"","","",null,null,null,null,{"$f":"IF(I438>0,IF(OR(MAX($O$3:O438)-O438=0,I438=0),\"\",MAX($O$3:O438)-O438),\"\")","v":""},"","","",null,null,null,null,{"$f":"IF(I438>0,IF(OR(MAX($W$3:W438)-W438=0,Q438=0),\"\",MAX($W$3:W438)-W438),\"\")","v":""},"","",""]
[null,null,null,{"$f":"IF(A439>0,IF(OR(MAX($G$3:G439)-G439=0,A439=0),\"\",MAX($G$3:G439)-G439),\"\")","v":""},"","","",null,null,null,null,{"$f":"IF(I439>0,IF(OR(MAX($O$3:O439)-O439=0,I439=0),\"\",MAX($O$3:O439)-O439),\"\")","v":""},"","","",null,null,null,null,{"$f":"IF(I439>0,IF(OR(MAX($W$3:W439)-W439=0,Q439=0),\"\",MAX($W$3:W439)-W439),\"\")","v":""},"","",""]
[null,null,null,{"$f":"IF(A440>0,IF(OR(MAX($G$3:G440)-G440=0,A440=0),\"\",MAX($G$3:G440)-G440),\"\")","v":""},"","","",null,null,null,null,{"$f":"IF(I440>0,IF(OR(MAX($O$3:O440)-O440=0,I440=0),\"\",MAX($O$3:O440)-O440),\"\")","v":""},"","","",null,null,null,null,{"$f":"IF(I440>0,IF(OR(MAX($W$3:W440)-W440=0,Q440=0),\"\",MAX($W$3:W440)-W440),\"\")","v":""},"","",""]
[null,null,null,{"$f":"IF(A441>0,IF(OR(MAX($G$3:G441)-G441=0,A441=0),\"\",MAX($G$3:G441)-G441),\"\")","v":""},"","","",null,null,null,null,{"$f":"IF(I441>0,IF(OR(MAX($O$3:O441)-O441=0,I441=0),\"\",MAX($O$3:O441)-O441),\"\")","v":""},"","","",null,null,null,null,{"$f":"IF(I441>0,IF(OR(MAX($W$3:W441)-W441=0,Q441=0),\"\",MAX($W$3:W441)-W441),\"\")","v":""},"","",""]
[null,null,null,{"$f":"IF(A442>0,IF(OR(MAX($G$3:G442)-G442=0,A442=0),\"\",MAX($G$3:G442)-G442),\"\")","v":""},"","","",null,null,null,null,{"$f":"IF(I442>0,IF(OR(MAX($O$3:O442)-O442=0,I442=0),\"\",MAX($O$3:O442)-O442),\"\")","v":""},"","","",null,null,null,null,{"$f":"IF(I442>0,IF(OR(MAX($W$3:W442)-W442=0,Q442=0),\"\",MAX($W$3:W442)-W442),\"\")","v":""},"","",""]
[null,null,null,{"$f":"IF(A443>0,IF(OR(MAX($G$3:G443)-G443=0,A443=0),\"\",MAX($G$3:G443)-G443),\"\")","v":""},"","","",null,null,null,null,{"$f":"IF(I443>0,IF(OR(MAX($O$3:O443)-O443=0,I443=0),\"\",MAX($O$3:O443)-O443),\"\")","v":""},"","","",null,null,null,null,{"$f":"IF(I443>0,IF(OR(MAX($W$3:W443)-W443=0,Q443=0),\"\",MAX($W$3:W443)-W443),\"\")","v":""},"","",""]
[null,null,null,{"$f":"IF(A444>0,IF(OR(MAX($G$3:G444)-G444=0,A444=0),\"\",MAX($G$3:G444)-G444),\"\")","v":""},"","","",null,null,null,null,{"$f":"IF(I444>0,IF(OR(MAX($O$3:O444)-O444=0,I444=0),\"\",MAX($O$3:O444)-O444),\"\")","v":""},"","","",null,null,null,null,{"$f":"IF(I444>0,IF(OR(MAX($W$3:W444)-W444=0,Q444=0),\"\",MAX($W$3:W444)-W444),\"\")","v":""},"","",""]
[null,null,null,{"$f":"IF(A445>0,IF(OR(MAX($G$3:G445)-G445=0,A445=0),\"\",MAX($G$3:G445)-G445),\"\")","v":""},"","","",null,null,null,null,{"$f":"IF(I445>0,IF(OR(MAX($O$3:O445)-O445=0,I445=0),\"\",MAX($O$3:O445)-O445),\"\")","v":""},"","","",null,null,null,null,{"$f":"IF(I445>0,IF(OR(MAX($W$3:W445)-W445=0,Q445=0),\"\",MAX($W$3:W445)-W445),\"\")","v":""},"","",""]
[null,null,null,{"$f":"IF(A446>0,IF(OR(MAX($G$3:G446)-G446=0,A446=0),\"\",MAX($G$3:G446)-G446),\"\")","v":""},"","","",null,null,null,null,{"$f":"IF(I446>0,IF(OR(MAX($O$3:O446)-O446=0,I446=0),\"\",MAX($O$3:O446)-O446),\"\")","v":""},"","","",null,null,null,null,{"$f":"IF(I446>0,IF(OR(MAX($W$3:W446)-W446=0,Q446=0),\"\",MAX($W$3:W446)-W446),\"\")","v":""},"","",""]
[null,null,null,{"$f":"IF(A447>0,IF(OR(MAX($G$3:G447)-G447=0,A447=0),\"\",MAX($G$3:G447)-G447),\"\")","v":""},"","","",null,null,null,null,{"$f":"IF(I447>0,IF(OR(MAX($O$3:O447)-O447=0,I447=0),\"\",MAX($O$3:O447)-O447),\"\")","v":""},"","","",null,null,null,null,{"$f":"IF(I447>0,IF(OR(MAX($W$3:W447)-W447=0,Q447=0),\"\",MAX($W$3:W447)-W447),\"\")","v":""},"","",""]
[null,null,null,{"$f":"IF(A448>0,IF(OR(MAX($G$3:G448)-G448=0,A448=0),\"\",MAX($G$3:G448)-G448),\"\")","v":""},"","","",null,null,null,null,{"$f":"IF(I448>0,IF(OR(MAX($O$3:O448)-O448=0,I448=0),\"\",MAX($O$3:O448)-O448),\"\")","v":""},"","","",null,null,null,null,{"$f":"IF(I448>0,IF(OR(MAX($W$3:W448)-W448=0,Q448=0),\"\",MAX($W$3:W448)-W448),\"\")","v":""},"","",""]
[null,null,null,{"$f":"IF(A449>0,IF(OR(MAX($G$3:G449)-G449=0,A449=0),\"\",MAX($G$3:G449)-G449),\"\")","v":""},"","","",null,null,null,null,{"$f":"IF(I449>0,IF(OR(MAX($O$3:O449)-O449=0,I449=0),\"\",MAX($O$3:O449)-O449),\"\")","v":""},"","","",null,null,null,null,{"$f":"IF(I449>0,IF(OR(MAX($W$3:W449)-W449=0,Q449=0),\"\",MAX($W$3:W449)-W449),\"\")","v":""},"","",""]
[null,null,null,{"$f":"IF(A450>0,IF(OR(MAX($G$3:G450)-G450=0,A450=0),\"\",MAX($G$3:G450)-G450),\"\")","v":""},"","","",null,null,null,null,{"$f":"IF(I450>0,IF(OR(MAX($O$3:O450)-O450=0,I450=0),\"\",MAX($O$3:O450)-O450),\"\")","v":""},"","","",null,null,null,null,{"$f":"IF(I450>0,IF(OR(MAX($W$3:W450)-W450=0,Q450=0),\"\",MAX($W$3:W450)-W450),\"\")","v":""},"","",""]
[null,null,null,{"$f":"IF(A451>0,IF(OR(MAX($G$3:G451)-G451=0,A451=0),\"\",MAX($G$3:G451)-G451),\"\")","v":""},"","","",null,null,null,null,{"$f":"IF(I451>0,IF(OR(MAX($O$3:O451)-O451=0,I451=0),\"\",MAX($O$3:O451)-O451),\"\")","v":""},"","","",null,null,null,null,{"$f":"IF(I451>0,IF(OR(MAX($W$3:W451)-W451=0,Q451=0),\"\",MAX($W$3:W451)-W451),\"\")","v":""},"","",""]
[null,null,null,{"$f":"IF(A452>0,IF(OR(MAX($G$3:G452)-G452=0,A452=0),\"\",MAX($G$3:G452)-G452),\"\")","v":""},"","","",null,null,null,null,{"$f":"IF(I452>0,IF(OR(MAX($O$3:O452)-O452=0,I452=0),\"\",MAX($O$3:O452)-O452),\"\")","v":""},"","","",null,null,null,null,{"$f":"IF(I452>0,IF(OR(MAX($W$3:W452)-W452=0,Q452=0),\"\",MAX($W$3:W452)-W452),\"\")","v":""},"","",""]
[null,null,null,{"$f":"IF(A453>0,IF(OR(MAX($G$3:G453)-G453=0,A453=0),\"\",MAX($G$3:G453)-G453),\"\")","v":""},"","","",null,null,null,null,{"$f":"IF(I453>0,IF(OR(MAX($O$3:O453)-O453=0,I453=0),\"\",MAX($O$3:O453)-O453),\"\")","v":""},"","","",null,null,null,null,{"$f":"IF(I453>0,IF(OR(MAX($W$3:W453)-W453=0,Q453=0),\"\",MAX($W$3:W453)-W453),\"\")","v":""},"","",""]
[null,null,null,{"$f":"IF(A454>0,IF(OR(MAX($G$3:G454)-G454=0,A454=0),\"\",MAX($G$3:G454)-G454),\"\")","v":""},"","","",null,null,null,null,{"$f":"IF(I454>0,IF(OR(MAX($O$3:O454)-O454=0,I454=0),\"\",MAX($O$3:O454)-O454),\"\")","v":""},{"$f":"IF(L454=\"\",\"\",L454/(N454+O453))","v":""},{"$f":"IF(I454>0,N453+K454,\"\")","v":""},{"$f":"IF(I454>0,O453+K454,\"\")","v":""},null,null,null,null,{"$f":"IF(I454>0,IF(OR(MAX($W$3:W454)-W454=0,Q454=0),\"\",MAX($W$3:W454)-W454),\"\")","v":""},{"$f":"IF(T454=\"\",\"\",T454/(V454+W453))","v":""},{"$f":"IF(Q454>0,V453+S454,\"\")","v":""},{"$f":"IF(Q454>0,W453+S454,\"\")","v":""}]
[null,null,null,{"$f":"IF(A455>0,IF(OR(MAX($G$3:G455)-G455=0,A455=0),\"\",MAX($G$3:G455)-G455),\"\")","v":""},"","","",null,null,null,null,{"$f":"IF(I455>0,IF(OR(MAX($O$3:O455)-O455=0,I455=0),\"\",MAX($O$3:O455)-O455),\"\")","v":""},"","","",null,null,null,null,{"$f":"IF(I455>0,IF(OR(MAX($W$3:W455)-W455=0,Q455=0),\"\",MAX($W$3:W455)-W455),\"\")","v":""},"","",""]
[null,null,null,{"$f":"IF(A456>0,IF(OR(MAX($G$3:G456)-G456=0,A456=0),\"\",MAX($G$3:G456)-G456),\"\")","v":""},{"$f":"IF(D456=\"\",\"\",D456/(F456+G455))","v":""},{"$f":"IF(A456>0,F455+C456,\"\")","v":""},{"$f":"IF(A456>0,G455+C456,\"\")","v":""},null,null,null,null,{"$f":"IF(I456>0,IF(OR(MAX($O$3:O456)-O456=0,I456=0),\"\",MAX($O$3:O456)-O456),\"\")","v":""},"","","",null,null,null,null,{"$f":"IF(I456>0,IF(OR(MAX($W$3:W456)-W456=0,Q456=0),\"\",MAX($W$3:W456)-W456),\"\")","v":""},"","",""]
[null,null,null,{"$f":"IF(A457>0,IF(OR(MAX($G$3:G457)-G457=0,A457=0),\"\",MAX($G$3:G457)-G457),\"\")","v":""},"","","",null,null,null,null,{"$f":"IF(I457>0,IF(OR(MAX($O$3:O457)-O457=0,I457=0),\"\",MAX($O$3:O457)-O457),\"\")","v":""},"","","",null,null,null,null,{"$f":"IF(I457>0,IF(OR(MAX($W$3:W457)-W457=0,Q457=0),\"\",MAX($W$3:W457)-W457),\"\")","v":""},"","",""]
[null,null,null,{"$f":"IF(A458>0,IF(OR(MAX($G$3:G458)-G458=0,A458=0),\"\",MAX($G$3:G458)-G458),\"\")","v":""},"","","",null,null,null,null,{"$f":"IF(I458>0,IF(OR(MAX($O$3:O458)-O458=0,I458=0),\"\",MAX($O$3:O458)-O458),\"\")","v":""},"","","",null,null,null,null,{"$f":"IF(I458>0,IF(OR(MAX($W$3:W458)-W458=0,Q458=0),\"\",MAX($W$3:W458)-W458),\"\")","v":""},"","",""]
[null,null,null,{"$f":"IF(A459>0,IF(OR(MAX($G$3:G459)-G459=0,A459=0),\"\",MAX($G$3:G459)-G459),\"\")","v":""},"","","",null,null,null,null,{"$f":"IF(I459>0,IF(OR(MAX($O$3:O459)-O459=0,I459=0),\"\",MAX($O$3:O459)-O459),\"\")","v":""},"","","",null,null,null,null,{"$f":"IF(I459>0,IF(OR(MAX($W$3:W459)-W459=0,Q459=0),\"\",MAX($W$3:W459)-W459),\"\")","v":""},"","",""]
[null,null,null,{"$f":"IF(A460>0,IF(OR(MAX($G$3:G460)-G460=0,A460=0),\"\",MAX($G$3:G460)-G460),\"\")","v":""},"","","",null,null,null,null,{"$f":"IF(I460>0,IF(OR(MAX($O$3:O460)-O460=0,I460=0),\"\",MAX($O$3:O460)-O460),\"\")","v":""},"","","",null,null,null,null,{"$f":"IF(I460>0,IF(OR(MAX($W$3:W460)-W460=0,Q460=0),\"\",MAX($W$3:W460)-W460),\"\")","v":""},"","",""]
[null,null,null,{"$f":"IF(A461>0,IF(OR(MAX($G$3:G461)-G461=0,A461=0),\"\",MAX($G$3:G461)-G461),\"\")","v":""},"","","",null,null,null,null,{"$f":"IF(I461>0,IF(OR(MAX($O$3:O461)-O461=0,I461=0),\"\",MAX($O$3:O461)-O461),\"\")","v":""},"","","",null,null,null,null,{"$f":"IF(I461>0,IF(OR(MAX($W$3:W461)-W461=0,Q461=0),\"\",MAX($W$3:W461)-W461),\"\")","v":""},"","",""]
[null,null,null,{"$f":"IF(A462>0,IF(OR(MAX($G$3:G462)-G462=0,A462=0),\"\",MAX($G$3:G462)-G462),\"\")","v":""},"","","",null,null,null,null,{"$f":"IF(I462>0,IF(OR(MAX($O$3:O462)-O462=0,I462=0),\"\",MAX($O$3:O462)-O462),\"\")","v":""},"","","",null,null,null,null,{"$f":"IF(I462>0,IF(OR(MAX($W$3:W462)-W462=0,Q462=0),\"\",MAX($W$3:W462)-W462),\"\")","v":""},"","",""]
[null,null,null,{"$f":"IF(A463>0,IF(OR(MAX($G$3:G463)-G463=0,A463=0),\"\",MAX($G$3:G463)-G463),\"\")","v":""},"","","",null,null,null,null,{"$f":"IF(I463>0,IF(OR(MAX($O$3:O463)-O463=0,I463=0),\"\",MAX($O$3:O463)-O463),\"\")","v":""},"","","",null,null,null,null,{"$f":"IF(I463>0,IF(OR(MAX($W$3:W463)-W463=0,Q463=0),\"\",MAX($W$3:W463)-W463),\"\")","v":""},"","",""]
[null,null,null,{"$f":"IF(A464>0,IF(OR(MAX($G$3:G464)-G464=0,A464=0),\"\",MAX($G$3:G464)-G464),\"\")","v":""},"","","",null,null,null,null,{"$f":"IF(I464>0,IF(OR(MAX($O$3:O464)-O464=0,I464=0),\"\",MAX($O$3:O464)-O464),\"\")","v":""},"","","",null,null,null,null,{"$f":"IF(I464>0,IF(OR(MAX($W$3:W464)-W464=0,Q464=0),\"\",MAX($W$3:W464)-W464),\"\")","v":""},"","",""]
[null,null,null,{"$f":"IF(A465>0,IF(OR(MAX($G$3:G465)-G465=0,A465=0),\"\",MAX($G$3:G465)-G465),\"\")","v":""},"","","",null,null,null,null,{"$f":"IF(I465>0,IF(OR(MAX($O$3:O465)-O465=0,I465=0),\"\",MAX($O$3:O465)-O465),\"\")","v":""},"","","",null,null,null,null,{"$f":"IF(I465>0,IF(OR(MAX($W$3:W465)-W465=0,Q465=0),\"\",MAX($W$3:W465)-W465),\"\")","v":""},"","",""]
[null,null,null,{"$f":"IF(A466>0,IF(OR(MAX($G$3:G466)-G466=0,A466=0),\"\",MAX($G$3:G466)-G466),\"\")","v":""},"","","",null,null,null,null,{"$f":"IF(I466>0,IF(OR(MAX($O$3:O466)-O466=0,I466=0),\"\",MAX($O$3:O466)-O466),\"\")","v":""},"","","",null,null,null,null,{"$f":"IF(I466>0,IF(OR(MAX($W$3:W466)-W466=0,Q466=0),\"\",MAX($W$3:W466)-W466),\"\")","v":""},"","",""]
[null,null,null,{"$f":"IF(A467>0,IF(OR(MAX($G$3:G467)-G467=0,A467=0),\"\",MAX($G$3:G467)-G467),\"\")","v":""},"","","",null,null,null,null,{"$f":"IF(I467>0,IF(OR(MAX($O$3:O467)-O467=0,I467=0),\"\",MAX($O$3:O467)-O467),\"\")","v":""},"","","",null,null,null,null,{"$f":"IF(I467>0,IF(OR(MAX($W$3:W467)-W467=0,Q467=0),\"\",MAX($W$3:W467)-W467),\"\")","v":""},"","",""]
[null,null,null,{"$f":"IF(A468>0,IF(OR(MAX($G$3:G468)-G468=0,A468=0),\"\",MAX($G$3:G468)-G468),\"\")","v":""},"","","",null,null,null,null,{"$f":"IF(I468>0,IF(OR(MAX($O$3:O468)-O468=0,I468=0),\"\",MAX($O$3:O468)-O468),\"\")","v":""},"","","",null,null,null,null,{"$f":"IF(I468>0,IF(OR(MAX($W$3:W468)-W468=0,Q468=0),\"\",MAX($W$3:W468)-W468),\"\")","v":""},"","",""]
[null,null,null,{"$f":"IF(A469>0,IF(OR(MAX($G$3:G469)-G469=0,A469=0),\"\",MAX($G$3:G469)-G469),\"\")","v":""},"","","",null,null,null,null,{"$f":"IF(I469>0,IF(OR(MAX($O$3:O469)-O469=0,I469=0),\"\",MAX($O$3:O469)-O469),\"\")","v":""},"","","",null,null,null,null,{"$f":"IF(I469>0,IF(OR(MAX($W$3:W469)-W469=0,Q469=0),\"\",MAX($W$3:W469)-W469),\"\")","v":""},"","",""]
[null,null,null,{"$f":"IF(A470>0,IF(OR(MAX($G$3:G470)-G470=0,A470=0),\"\",MAX($G$3:G470)-G470),\"\")","v":""},"","","",null,null,null,null,{"$f":"IF(I470>0,IF(OR(MAX($O$3:O470)-O470=0,I470=0),\"\",MAX($O$3:O470)-O470),\"\")","v":""},"","","",null,null,null,null,{"$f":"IF(I470>0,IF(OR(MAX($W$3:W470)-W470=0,Q470=0),\"\",MAX($W$3:W470)-W470),\"\")","v":""},"","",""]
[null,null,null,{"$f":"IF(A471>0,IF(OR(MAX($G$3:G471)-G471=0,A471=0),\"\",MAX($G$3:G471)-G471),\"\")","v":""},"","","",null,null,null,null,{"$f":"IF(I471>0,IF(OR(MAX($O$3:O471)-O471=0,I471=0),\"\",MAX($O$3:O471)-O471),\"\")","v":""},"","","",null,null,null,null,{"$f":"IF(I471>0,IF(OR(MAX($W$3:W471)-W471=0,Q471=0),\"\",MAX($W$3:W471)-W471),\"\")","v":""},"","",""]
[null,null,null,{"$f":"IF(A472>0,IF(OR(MAX($G$3:G472)-G472=0,A472=0),\"\",MAX($G$3:G472)-G472),\"\")","v":""},"","","",null,null,null,null,{"$f":"IF(I472>0,IF(OR(MAX($O$3:O472)-O472=0,I472=0),\"\",MAX($O$3:O472)-O472),\"\")","v":""},"","","",null,null,null,null,{"$f":"IF(I472>0,IF(OR(MAX($W$3:W472)-W472=0,Q472=0),\"\",MAX($W$3:W472)-W472),\"\")","v":""},"","",""]
[null,null,null,{"$f":"IF(A473>0,IF(OR(MAX($G$3:G473)-G473=0,A473=0),\"\",MAX($G$3:G473)-G473),\"\")","v":""},"","","",null,null,null,null,{"$f":"IF(I473>0,IF(OR(MAX($O$3:O473)-O473=0,I473=0),\"\",MAX($O$3:O473)-O473),\"\")","v":""},"","","",null,null,null,null,{"$f":"IF(I473>0,IF(OR(MAX($W$3:W473)-W473=0,Q473=0),\"\",MAX($W$3:W473)-W473),\"\")","v":""},"","",""]
[null,null,null,{"$f":"IF(A474>0,IF(OR(MAX($G$3:G474)-G474=0,A474=0),\"\",MAX($G$3:G474)-G474),\"\")","v":""},"","","",null,null,null,null,{"$f":"IF(I474>0,IF(OR(MAX($O$3:O474)-O474=0,I474=0),\"\",MAX($O$3:O474)-O474),\"\")","v":""},"","","",null,null,null,null,{"$f":"IF(I474>0,IF(OR(MAX($W$3:W474)-W474=0,Q474=0),\"\",MAX($W$3:W474)-W474),\"\")","v":""},"","",""]
[null,null,null,{"$f":"IF(A475>0,IF(OR(MAX($G$3:G475)-G475=0,A475=0),\"\",MAX($G$3:G475)-G475),\"\")","v":""},"","","",null,null,null,null,{"$f":"IF(I475>0,IF(OR(MAX($O$3:O475)-O475=0,I475=0),\"\",MAX($O$3:O475)-O475),\"\")","v":""},"","","",null,null,null,null,{"$f":"IF(I475>0,IF(OR(MAX($W$3:W475)-W475=0,Q475=0),\"\",MAX($W$3:W475)-W475),\"\")","v":""},"","",""]
[null,null,null,{"$f":"IF(A476>0,IF(OR(MAX($G$3:G476)-G476=0,A476=0),\"\",MAX($G$3:G476)-G476),\"\")","v":""},"","","",null,null,null,null,{"$f":"IF(I476>0,IF(OR(MAX($O$3:O476)-O476=0,I476=0),\"\",MAX($O$3:O476)-O476),\"\")","v":""},"","","",null,null,null,null,{"$f":"IF(I476>0,IF(OR(MAX($W$3:W476)-W476=0,Q476=0),\"\",MAX($W$3:W476)-W476),\"\")","v":""},"","",""]
[null,null,null,{"$f":"IF(A477>0,IF(OR(MAX($G$3:G477)-G477=0,A477=0),\"\",MAX($G$3:G477)-G477),\"\")","v":""},"","","",null,null,null,null,{"$f":"IF(I477>0,IF(OR(MAX($O$3:O477)-O477=0,I477=0),\"\",MAX($O$3:O477)-O477),\"\")","v":""},"","","",null,null,null,null,{"$f":"IF(I477>0,IF(OR(MAX($W$3:W477)-W477=0,Q477=0),\"\",MAX($W$3:W477)-W477),\"\")","v":""},"","",""]
[null,null,null,{"$f":"IF(A478>0,IF(OR(MAX($G$3:G478)-G478=0,A478=0),\"\",MAX($G$3:G478)-G478),\"\")","v":""},"","","",null,null,null,null,{"$f":"IF(I478>0,IF(OR(MAX($O$3:O478)-O478=0,I478=0),\"\",MAX($O$3:O478)-O478),\"\")","v":""},"","","",null,null,null,null,{"$f":"IF(I478>0,IF(OR(MAX($W$3:W478)-W478=0,Q478=0),\"\",MAX($W$3:W478)-W478),\"\")","v":""},"","",""]
[null,null,null,{"$f":"IF(A479>0,IF(OR(MAX($G$3:G479)-G479=0,A479=0),\"\",MAX($G$3:G479)-G479),\"\")","v":""},"","","",null,null,null,null,{"$f":"IF(I479>0,IF(OR(MAX($O$3:O479)-O479=0,I479=0),\"\",MAX($O$3:O479)-O479),\"\")","v":""},"","","",null,null,null,null,{"$f":"IF(I479>0,IF(OR(MAX($W$3:W479)-W479=0,Q479=0),\"\",MAX($W$3:W479)-W479),\"\")","v":""},"","",""]
[null,null,null,{"$f":"IF(A480>0,IF(OR(MAX($G$3:G480)-G480=0,A480=0),\"\",MAX($G$3:G480)-G480),\"\")","v":""},"","","",null,null,null,null,{"$f":"IF(I480>0,IF(OR(MAX($O$3:O480)-O480=0,I480=0),\"\",MAX($O$3:O480)-O480),\"\")","v":""},"","","",null,null,null,null,{"$f":"IF(I480>0,IF(OR(MAX($W$3:W480)-W480=0,Q480=0),\"\",MAX($W$3:W480)-W480),\"\")","v":""},"","",""]
[null,null,null,{"$f":"IF(A481>0,IF(OR(MAX($G$3:G481)-G481=0,A481=0),\"\",MAX($G$3:G481)-G481),\"\")","v":""},"","","",null,null,null,null,{"$f":"IF(I481>0,IF(OR(MAX($O$3:O481)-O481=0,I481=0),\"\",MAX($O$3:O481)-O481),\"\")","v":""},"","","",null,null,null,null,{"$f":"IF(I481>0,IF(OR(MAX($W$3:W481)-W481=0,Q481=0),\"\",MAX($W$3:W481)-W481),\"\")","v":""},"","",""]
[null,null,null,{"$f":"IF(A482>0,IF(OR(MAX($G$3:G482)-G482=0,A482=0),\"\",MAX($G$3:G482)-G482),\"\")","v":""},"","","",null,null,null,null,{"$f":"IF(I482>0,IF(OR(MAX($O$3:O482)-O482=0,I482=0),\"\",MAX($O$3:O482)-O482),\"\")","v":""},"","","",null,null,null,null,{"$f":"IF(I482>0,IF(OR(MAX($W$3:W482)-W482=0,Q482=0),\"\",MAX($W$3:W482)-W482),\"\")","v":""},"","",""]
[null,null,null,{"$f":"IF(A483>0,IF(OR(MAX($G$3:G483)-G483=0,A483=0),\"\",MAX($G$3:G483)-G483),\"\")","v":""},"","","",null,null,null,null,{"$f":"IF(I483>0,IF(OR(MAX($O$3:O483)-O483=0,I483=0),\"\",MAX($O$3:O483)-O483),\"\")","v":""},"","","",null,null,null,null,{"$f":"IF(I483>0,IF(OR(MAX($W$3:W483)-W483=0,Q483=0),\"\",MAX($W$3:W483)-W483),\"\")","v":""},"","",""]
[null,null,null,{"$f":"IF(A484>0,IF(OR(MAX($G$3:G484)-G484=0,A484=0),\"\",MAX($G$3:G484)-G484),\"\")","v":""},"","","",null,null,null,null,{"$f":"IF(I484>0,IF(OR(MAX($O$3:O484)-O484=0,I484=0),\"\",MAX($O$3:O484)-O484),\"\")","v":""},"","","",null,null,null,null,{"$f":"IF(I484>0,IF(OR(MAX($W$3:W484)-W484=0,Q484=0),\"\",MAX($W$3:W484)-W484),\"\")","v":""},"","",""]
[null,null,null,{"$f":"IF(A485>0,IF(OR(MAX($G$3:G485)-G485=0,A485=0),\"\",MAX($G$3:G485)-G485),\"\")","v":""},"","","",null,null,null,null,{"$f":"IF(I485>0,IF(OR(MAX($O$3:O485)-O485=0,I485=0),\"\",MAX($O$3:O485)-O485),\"\")","v":""},"","","",null,null,null,null,{"$f":"IF(I485>0,IF(OR(MAX($W$3:W485)-W485=0,Q485=0),\"\",MAX($W$3:W485)-W485),\"\")","v":""},"","",""]
[null,null,null,{"$f":"IF(A486>0,IF(OR(MAX($G$3:G486)-G486=0,A486=0),\"\",MAX($G$3:G486)-G486),\"\")","v":""},"","","",null,null,null,null,{"$f":"IF(I486>0,IF(OR(MAX($O$3:O486)-O486=0,I486=0),\"\",MAX($O$3:O486)-O486),\"\")","v":""},"","","",null,null,null,null,{"$f":"IF(I486>0,IF(OR(MAX($W$3:W486)-W486=0,Q486=0),\"\",MAX($W$3:W486)-W486),\"\")","v":""},"","",""]
[null,null,null,{"$f":"IF(A487>0,IF(OR(MAX($G$3:G487)-G487=0,A487=0),\"\",MAX($G$3:G487)-G487),\"\")","v":""},"","","",null,null,null,null,{"$f":"IF(I487>0,IF(OR(MAX($O$3:O487)-O487=0,I487=0),\"\",MAX($O$3:O487)-O487),\"\")","v":""},"","","",null,null,null,null,{"$f":"IF(I487>0,IF(OR(MAX($W$3:W487)-W487=0,Q487=0),\"\",MAX($W$3:W487)-W487),\"\")","v":""},"","",""]
[null,null,null,{"$f":"IF(A488>0,IF(OR(MAX($G$3:G488)-G488=0,A488=0),\"\",MAX($G$3:G488)-G488),\"\")","v":""},"","","",null,null,null,null,{"$f":"IF(I488>0,IF(OR(MAX($O$3:O488)-O488=0,I488=0),\"\",MAX($O$3:O488)-O488),\"\")","v":""},"","","",null,null,null,null,{"$f":"IF(I488>0,IF(OR(MAX($W$3:W488)-W488=0,Q488=0),\"\",MAX($W$3:W488)-W488),\"\")","v":""},"","",""]
[null,null,null,{"$f":"IF(A489>0,IF(OR(MAX($G$3:G489)-G489=0,A489=0),\"\",MAX($G$3:G489)-G489),\"\")","v":""},"","","",null,null,null,null,{"$f":"IF(I489>0,IF(OR(MAX($O$3:O489)-O489=0,I489=0),\"\",MAX($O$3:O489)-O489),\"\")","v":""},"","","",null,null,null,null,{"$f":"IF(I489>0,IF(OR(MAX($W$3:W489)-W489=0,Q489=0),\"\",MAX($W$3:W489)-W489),\"\")","v":""},"","",""]
[null,null,null,{"$f":"IF(A490>0,IF(OR(MAX($G$3:G490)-G490=0,A490=0),\"\",MAX($G$3:G490)-G490),\"\")","v":""},"","","",null,null,null,null,{"$f":"IF(I490>0,IF(OR(MAX($O$3:O490)-O490=0,I490=0),\"\",MAX($O$3:O490)-O490),\"\")","v":""},"","","",null,null,null,null,{"$f":"IF(I490>0,IF(OR(MAX($W$3:W490)-W490=0,Q490=0),\"\",MAX($W$3:W490)-W490),\"\")","v":""},"","",""]
[null,null,null,{"$f":"IF(A491>0,IF(OR(MAX($G$3:G491)-G491=0,A491=0),\"\",MAX($G$3:G491)-G491),\"\")","v":""},"","","",null,null,null,null,{"$f":"IF(I491>0,IF(OR(MAX($O$3:O491)-O491=0,I491=0),\"\",MAX($O$3:O491)-O491),\"\")","v":""},"","","",null,null,null,null,{"$f":"IF(I491>0,IF(OR(MAX($W$3:W491)-W491=0,Q491=0),\"\",MAX($W$3:W491)-W491),\"\")","v":""},"","",""]
[null,null,null,{"$f":"IF(A492>0,IF(OR(MAX($G$3:G492)-G492=0,A492=0),\"\",MAX($G$3:G492)-G492),\"\")","v":""},"","","",null,null,null,null,{"$f":"IF(I492>0,IF(OR(MAX($O$3:O492)-O492=0,I492=0),\"\",MAX($O$3:O492)-O492),\"\")","v":""},"","","",null,null,null,null,{"$f":"IF(I492>0,IF(OR(MAX($W$3:W492)-W492=0,Q492=0),\"\",MAX($W$3:W492)-W492),\"\")","v":""},"","",""]
[null,null,null,{"$f":"IF(A493>0,IF(OR(MAX($G$3:G493)-G493=0,A493=0),\"\",MAX($G$3:G493)-G493),\"\")","v":""},"","","",null,null,null,null,{"$f":"IF(I493>0,IF(OR(MAX($O$3:O493)-O493=0,I493=0),\"\",MAX($O$3:O493)-O493),\"\")","v":""},"","","",null,null,null,null,{"$f":"IF(I493>0,IF(OR(MAX($W$3:W493)-W493=0,Q493=0),\"\",MAX($W$3:W493)-W493),\"\")","v":""},"","",""]
[null,null,null,{"$f":"IF(A494>0,IF(OR(MAX($G$3:G494)-G494=0,A494=0),\"\",MAX($G$3:G494)-G494),\"\")","v":""},"","","",null,null,null,null,{"$f":"IF(I494>0,IF(OR(MAX($O$3:O494)-O494=0,I494=0),\"\",MAX($O$3:O494)-O494),\"\")","v":""},"","","",null,null,null,null,{"$f":"IF(I494>0,IF(OR(MAX($W$3:W494)-W494=0,Q494=0),\"\",MAX($W$3:W494)-W494),\"\")","v":""},"","",""]
[null,null,null,{"$f":"IF(A495>0,IF(OR(MAX($G$3:G495)-G495=0,A495=0),\"\",MAX($G$3:G495)-G495),\"\")","v":""},"","","",null,null,null,null,{"$f":"IF(I495>0,IF(OR(MAX($O$3:O495)-O495=0,I495=0),\"\",MAX($O$3:O495)-O495),\"\")","v":""},"","","",null,null,null,null,{"$f":"IF(I495>0,IF(OR(MAX($W$3:W495)-W495=0,Q495=0),\"\",MAX($W$3:W495)-W495),\"\")","v":""},"","",""]
[null,null,null,{"$f":"IF(A496>0,IF(OR(MAX($G$3:G496)-G496=0,A496=0),\"\",MAX($G$3:G496)-G496),\"\")","v":""},"","","",null,null,null,null,{"$f":"IF(I496>0,IF(OR(MAX($O$3:O496)-O496=0,I496=0),\"\",MAX($O$3:O496)-O496),\"\")","v":""},"","","",null,null,null,null,{"$f":"IF(I496>0,IF(OR(MAX($W$3:W496)-W496=0,Q496=0),\"\",MAX($W$3:W496)-W496),\"\")","v":""},"","",""]
[null,null,null,{"$f":"IF(A497>0,IF(OR(MAX($G$3:G497)-G497=0,A497=0),\"\",MAX($G$3:G497)-G497),\"\")","v":""},"","","",null,null,null,null,{"$f":"IF(I497>0,IF(OR(MAX($O$3:O497)-O497=0,I497=0),\"\",MAX($O$3:O497)-O497),\"\")","v":""},"","","",null,null,null,null,{"$f":"IF(I497>0,IF(OR(MAX($W$3:W497)-W497=0,Q497=0),\"\",MAX($W$3:W497)-W497),\"\")","v":""},"","",""]
[null,null,null,{"$f":"IF(A498>0,IF(OR(MAX($G$3:G498)-G498=0,A498=0),\"\",MAX($G$3:G498)-G498),\"\")","v":""},"","","",null,null,null,null,{"$f":"IF(I498>0,IF(OR(MAX($O$3:O498)-O498=0,I498=0),\"\",MAX($O$3:O498)-O498),\"\")","v":""},"","","",null,null,null,null,{"$f":"IF(I498>0,IF(OR(MAX($W$3:W498)-W498=0,Q498=0),\"\",MAX($W$3:W498)-W498),\"\")","v":""},"","",""]
[null,null,null,{"$f":"IF(A499>0,IF(OR(MAX($G$3:G499)-G499=0,A499=0),\"\",MAX($G$3:G499)-G499),\"\")","v":""},"","","",null,null,null,null,{"$f":"IF(I499>0,IF(OR(MAX($O$3:O499)-O499=0,I499=0),\"\",MAX($O$3:O499)-O499),\"\")","v":""},"","","",null,null,null,null,{"$f":"IF(I499>0,IF(OR(MAX($W$3:W499)-W499=0,Q499=0),\"\",MAX($W$3:W499)-W499),\"\")","v":""},"","",""]
[null,null,null,{"$f":"IF(A500>0,IF(OR(MAX($G$3:G500)-G500=0,A500=0),\"\",MAX($G$3:G500)-G500),\"\")","v":""},"","","",null,null,null,null,{"$f":"IF(I500>0,IF(OR(MAX($O$3:O500)-O500=0,I500=0),\"\",MAX($O$3:O500)-O500),\"\")","v":""},"","","",null,null,null,null,{"$f":"IF(I500>0,IF(OR(MAX($W$3:W500)-W500=0,Q500=0),\"\",MAX($W$3:W500)-W500),\"\")","v":""},"","",""]
[null,null,null,{"$f":"IF(A501>0,IF(OR(MAX($G$3:G501)-G501=0,A501=0),\"\",MAX($G$3:G501)-G501),\"\")","v":""},"","","",null,null,null,null,{"$f":"IF(I501>0,IF(OR(MAX($O$3:O501)-O501=0,I501=0),\"\",MAX($O$3:O501)-O501),\"\")","v":""},"","","",null,null,null,null,{"$f":"IF(I501>0,IF(OR(MAX($W$3:W501)-W501=0,Q501=0),\"\",MAX($W$3:W501)-W501),\"\")","v":""},"","",""]
[null,null,null,{"$f":"IF(A502>0,IF(OR(MAX($G$3:G502)-G502=0,A502=0),\"\",MAX($G$3:G502)-G502),\"\")","v":""},"","","",null,null,null,null,{"$f":"IF(I502>0,IF(OR(MAX($O$3:O502)-O502=0,I502=0),\"\",MAX($O$3:O502)-O502),\"\")","v":""},"","","",null,null,null,null,{"$f":"IF(I502>0,IF(OR(MAX($W$3:W502)-W502=0,Q502=0),\"\",MAX($W$3:W502)-W502),\"\")","v":""},"","",""]
[null,null,null,{"$f":"IF(A503>0,IF(OR(MAX($G$3:G503)-G503=0,A503=0),\"\",MAX($G$3:G503)-G503),\"\")","v":""},"","","",null,null,null,null,{"$f":"IF(I503>0,IF(OR(MAX($O$3:O503)-O503=0,I503=0),\"\",MAX($O$3:O503)-O503),\"\")","v":""},"","","",null,null,null,null,{"$f":"IF(I503>0,IF(OR(MAX($W$3:W503)-W503=0,Q503=0),\"\",MAX($W$3:W503)-W503),\"\")","v":""},"","",""]
[null,null,null,{"$f":"IF(A504>0,IF(OR(MAX($G$3:G504)-G504=0,A504=0),\"\",MAX($G$3:G504)-G504),\"\")","v":""},"","","",null,null,null,null,{"$f":"IF(I504>0,IF(OR(MAX($O$3:O504)-O504=0,I504=0),\"\",MAX($O$3:O504)-O504),\"\")","v":""},"","","",null,null,null,null,{"$f":"IF(I504>0,IF(OR(MAX($W$3:W504)-W504=0,Q504=0),\"\",MAX($W$3:W504)-W504),\"\")","v":""},"","",""]
[null,null,null,{"$f":"IF(A505>0,IF(OR(MAX($G$3:G505)-G505=0,A505=0),\"\",MAX($G$3:G505)-G505),\"\")","v":""},"","","",null,null,null,null,{"$f":"IF(I505>0,IF(OR(MAX($O$3:O505)-O505=0,I505=0),\"\",MAX($O$3:O505)-O505),\"\")","v":""},"","","",null,null,null,null,{"$f":"IF(I505>0,IF(OR(MAX($W$3:W505)-W505=0,Q505=0),\"\",MAX($W$3:W505)-W505),\"\")","v":""},"","",""]
[null,null,null,{"$f":"IF(A506>0,IF(OR(MAX($G$3:G506)-G506=0,A506=0),\"\",MAX($G$3:G506)-G506),\"\")","v":""},"","","",null,null,null,null,{"$f":"IF(I506>0,IF(OR(MAX($O$3:O506)-O506=0,I506=0),\"\",MAX($O$3:O506)-O506),\"\")","v":""},"","","",null,null,null,null,{"$f":"IF(I506>0,IF(OR(MAX($W$3:W506)-W506=0,Q506=0),\"\",MAX($W$3:W506)-W506),\"\")","v":""},"","",""]
[null,null,null,{"$f":"IF(A507>0,IF(OR(MAX($G$3:G507)-G507=0,A507=0),\"\",MAX($G$3:G507)-G507),\"\")","v":""},"","","",null,null,null,null,{"$f":"IF(I507>0,IF(OR(MAX($O$3:O507)-O507=0,I507=0),\"\",MAX($O$3:O507)-O507),\"\")","v":""},"","","",null,null,null,null,{"$f":"IF(I507>0,IF(OR(MAX($W$3:W507)-W507=0,Q507=0),\"\",MAX($W$3:W507)-W507),\"\")","v":""},"","",""]
[null,null,null,{"$f":"IF(A508>0,IF(OR(MAX($G$3:G508)-G508=0,A508=0),\"\",MAX($G$3:G508)-G508),\"\")","v":""},"","","",null,null,null,null,{"$f":"IF(I508>0,IF(OR(MAX($O$3:O508)-O508=0,I508=0),\"\",MAX($O$3:O508)-O508),\"\")","v":""},"","","",null,null,null,null,{"$f":"IF(I508>0,IF(OR(MAX($W$3:W508)-W508=0,Q508=0),\"\",MAX($W$3:W508)-W508),\"\")","v":""},"","",""]
[null,null,null,{"$f":"IF(A509>0,IF(OR(MAX($G$3:G509)-G509=0,A509=0),\"\",MAX($G$3:G509)-G509),\"\")","v":""},"","","",null,null,null,null,{"$f":"IF(I509>0,IF(OR(MAX($O$3:O509)-O509=0,I509=0),\"\",MAX($O$3:O509)-O509),\"\")","v":""},"","","",null,null,null,null,{"$f":"IF(I509>0,IF(OR(MAX($W$3:W509)-W509=0,Q509=0),\"\",MAX($W$3:W509)-W509),\"\")","v":""},"","",""]
[null,null,null,{"$f":"IF(A510>0,IF(OR(MAX($G$3:G510)-G510=0,A510=0),\"\",MAX($G$3:G510)-G510),\"\")","v":""},"","","",null,null,null,null,{"$f":"IF(I510>0,IF(OR(MAX($O$3:O510)-O510=0,I510=0),\"\",MAX($O$3:O510)-O510),\"\")","v":""},"","","",null,null,null,null,{"$f":"IF(I510>0,IF(OR(MAX($W$3:W510)-W510=0,Q510=0),\"\",MAX($W$3:W510)-W510),\"\")","v":""},"","",""]
[null,null,null,{"$f":"IF(A511>0,IF(OR(MAX($G$3:G511)-G511=0,A511=0),\"\",MAX($G$3:G511)-G511),\"\")","v":""},"","","",null,null,null,null,{"$f":"IF(I511>0,IF(OR(MAX($O$3:O511)-O511=0,I511=0),\"\",MAX($O$3:O511)-O511),\"\")","v":""},"","","",null,null,null,null,{"$f":"IF(I511>0,IF(OR(MAX($W$3:W511)-W511=0,Q511=0),\"\",MAX($W$3:W511)-W511),\"\")","v":""},"","",""]
[null,null,null,{"$f":"IF(A512>0,IF(OR(MAX($G$3:G512)-G512=0,A512=0),\"\",MAX($G$3:G512)-G512),\"\")","v":""},"","","",null,null,null,null,{"$f":"IF(I512>0,IF(OR(MAX($O$3:O512)-O512=0,I512=0),\"\",MAX($O$3:O512)-O512),\"\")","v":""},"","","",null,null,null,null,{"$f":"IF(I512>0,IF(OR(MAX($W$3:W512)-W512=0,Q512=0),\"\",MAX($W$3:W512)-W512),\"\")","v":""},"","",""]
[null,null,null,{"$f":"IF(A513>0,IF(OR(MAX($G$3:G513)-G513=0,A513=0),\"\",MAX($G$3:G513)-G513),\"\")","v":""},"","","",null,null,null,null,{"$f":"IF(I513>0,IF(OR(MAX($O$3:O513)-O513=0,I513=0),\"\",MAX($O$3:O513)-O513),\"\")","v":""},"","","",null,null,null,null,{"$f":"IF(I513>0,IF(OR(MAX($W$3:W513)-W513=0,Q513=0),\"\",MAX($W$3:W513)-W513),\"\")","v":""},"","",""]
[null,null,null,{"$f":"IF(A514>0,IF(OR(MAX($G$3:G514)-G514=0,A514=0),\"\",MAX($G$3:G514)-G514),\"\")","v":""},"","","",null,null,null,null,{"$f":"IF(I514>0,IF(OR(MAX($O$3:O514)-O514=0,I514=0),\"\",MAX($O$3:O514)-O514),\"\")","v":""},"","","",null,null,null,null,{"$f":"IF(I514>0,IF(OR(MAX($W$3:W514)-W514=0,Q514=0),\"\",MAX($W$3:W514)-W514),\"\")","v":""},"","",""]
[null,null,null,{"$f":"IF(A515>0,IF(OR(MAX($G$3:G515)-G515=0,A515=0),\"\",MAX($G$3:G515)-G515),\"\")","v":""},"","","",null,null,null,null,{"$f":"IF(I515>0,IF(OR(MAX($O$3:O515)-O515=0,I515=0),\"\",MAX($O$3:O515)-O515),\"\")","v":""},"","","",null,null,null,null,{"$f":"IF(I515>0,IF(OR(MAX($W$3:W515)-W515=0,Q515=0),\"\",MAX($W$3:W515)-W515),\"\")","v":""},"","",""]
[null,null,null,{"$f":"IF(A516>0,IF(OR(MAX($G$3:G516)-G516=0,A516=0),\"\",MAX($G$3:G516)-G516),\"\")","v":""},"","","",null,null,null,null,{"$f":"IF(I516>0,IF(OR(MAX($O$3:O516)-O516=0,I516=0),\"\",MAX($O$3:O516)-O516),\"\")","v":""},"","","",null,null,null,null,{"$f":"IF(I516>0,IF(OR(MAX($W$3:W516)-W516=0,Q516=0),\"\",MAX($W$3:W516)-W516),\"\")","v":""},"","",""]
[null,null,null,{"$f":"IF(A517>0,IF(OR(MAX($G$3:G517)-G517=0,A517=0),\"\",MAX($G$3:G517)-G517),\"\")","v":""},"","","",null,null,null,null,{"$f":"IF(I517>0,IF(OR(MAX($O$3:O517)-O517=0,I517=0),\"\",MAX($O$3:O517)-O517),\"\")","v":""},"","","",null,null,null,null,{"$f":"IF(I517>0,IF(OR(MAX($W$3:W517)-W517=0,Q517=0),\"\",MAX($W$3:W517)-W517),\"\")","v":""},"","",""]
[null,null,null,{"$f":"IF(A518>0,IF(OR(MAX($G$3:G518)-G518=0,A518=0),\"\",MAX($G$3:G518)-G518),\"\")","v":""},"","","",null,null,null,null,{"$f":"IF(I518>0,IF(OR(MAX($O$3:O518)-O518=0,I518=0),\"\",MAX($O$3:O518)-O518),\"\")","v":""},{"$f":"IF(L518=\"\",\"\",L518/(N518+O517))","v":""},{"$f":"IF(I518>0,N517+K518,\"\")","v":""},{"$f":"IF(I518>0,O517+K518,\"\")","v":""},null,null,null,null,{"$f":"IF(I518>0,IF(OR(MAX($W$3:W518)-W518=0,Q518=0),\"\",MAX($W$3:W518)-W518),\"\")","v":""},{"$f":"IF(T518=\"\",\"\",T518/(V518+W517))","v":""},{"$f":"IF(Q518>0,V517+S518,\"\")","v":""},{"$f":"IF(Q518>0,W517+S518,\"\")","v":""}]
[null,null,null,{"$f":"IF(A519>0,IF(OR(MAX($G$3:G519)-G519=0,A519=0),\"\",MAX($G$3:G519)-G519),\"\")","v":""},"","","",null,null,null,null,{"$f":"IF(I519>0,IF(OR(MAX($O$3:O519)-O519=0,I519=0),\"\",MAX($O$3:O519)-O519),\"\")","v":""},"","","",null,null,null,null,{"$f":"IF(I519>0,IF(OR(MAX($W$3:W519)-W519=0,Q519=0),\"\",MAX($W$3:W519)-W519),\"\")","v":""},"","",""]
[null,null,null,{"$f":"IF(A520>0,IF(OR(MAX($G$3:G520)-G520=0,A520=0),\"\",MAX($G$3:G520)-G520),\"\")","v":""},{"$f":"IF(D520=\"\",\"\",D520/(F520+G519))","v":""},{"$f":"IF(A520>0,F519+C520,\"\")","v":""},{"$f":"IF(A520>0,G519+C520,\"\")","v":""},null,null,null,null,{"$f":"IF(I520>0,IF(OR(MAX($O$3:O520)-O520=0,I520=0),\"\",MAX($O$3:O520)-O520),\"\")","v":""},"","","",null,null,null,null,{"$f":"IF(I520>0,IF(OR(MAX($W$3:W520)-W520=0,Q520=0),\"\",MAX($W$3:W520)-W520),\"\")","v":""},"","",""]
[null,null,null,{"$f":"IF(A521>0,IF(OR(MAX($G$3:G521)-G521=0,A521=0),\"\",MAX($G$3:G521)-G521),\"\")","v":""},"","","",null,null,null,null,{"$f":"IF(I521>0,IF(OR(MAX($O$3:O521)-O521=0,I521=0),\"\",MAX($O$3:O521)-O521),\"\")","v":""},"","","",null,null,null,null,{"$f":"IF(I521>0,IF(OR(MAX($W$3:W521)-W521=0,Q521=0),\"\",MAX($W$3:W521)-W521),\"\")","v":""},"","",""]
[null,null,null,{"$f":"IF(A522>0,IF(OR(MAX($G$3:G522)-G522=0,A522=0),\"\",MAX($G$3:G522)-G522),\"\")","v":""},"","","",null,null,null,null,{"$f":"IF(I522>0,IF(OR(MAX($O$3:O522)-O522=0,I522=0),\"\",MAX($O$3:O522)-O522),\"\")","v":""},"","","",null,null,null,null,{"$f":"IF(I522>0,IF(OR(MAX($W$3:W522)-W522=0,Q522=0),\"\",MAX($W$3:W522)-W522),\"\")","v":""},"","",""]
[null,null,null,{"$f":"IF(A523>0,IF(OR(MAX($G$3:G523)-G523=0,A523=0),\"\",MAX($G$3:G523)-G523),\"\")","v":""},"","","",null,null,null,null,{"$f":"IF(I523>0,IF(OR(MAX($O$3:O523)-O523=0,I523=0),\"\",MAX($O$3:O523)-O523),\"\")","v":""},"","","",null,null,null,null,{"$f":"IF(I523>0,IF(OR(MAX($W$3:W523)-W523=0,Q523=0),\"\",MAX($W$3:W523)-W523),\"\")","v":""},"","",""]
[null,null,null,{"$f":"IF(A524>0,IF(OR(MAX($G$3:G524)-G524=0,A524=0),\"\",MAX($G$3:G524)-G524),\"\")","v":""},"","","",null,null,null,null,{"$f":"IF(I524>0,IF(OR(MAX($O$3:O524)-O524=0,I524=0),\"\",MAX($O$3:O524)-O524),\"\")","v":""},"","","",null,null,null,null,{"$f":"IF(I524>0,IF(OR(MAX($W$3:W524)-W524=0,Q524=0),\"\",MAX($W$3:W524)-W524),\"\")","v":""},"","",""]
[null,null,null,{"$f":"IF(A525>0,IF(OR(MAX($G$3:G525)-G525=0,A525=0),\"\",MAX($G$3:G525)-G525),\"\")","v":""},"","","",null,null,null,null,{"$f":"IF(I525>0,IF(OR(MAX($O$3:O525)-O525=0,I525=0),\"\",MAX($O$3:O525)-O525),\"\")","v":""},"","","",null,null,null,null,{"$f":"IF(I525>0,IF(OR(MAX($W$3:W525)-W525=0,Q525=0),\"\",MAX($W$3:W525)-W525),\"\")","v":""},"","",""]
[null,null,null,{"$f":"IF(A526>0,IF(OR(MAX($G$3:G526)-G526=0,A526=0),\"\",MAX($G$3:G526)-G526),\"\")","v":""},"","","",null,null,null,null,{"$f":"IF(I526>0,IF(OR(MAX($O$3:O526)-O526=0,I526=0),\"\",MAX($O$3:O526)-O526),\"\")","v":""},"","","",null,null,null,null,{"$f":"IF(I526>0,IF(OR(MAX($W$3:W526)-W526=0,Q526=0),\"\",MAX($W$3:W526)-W526),\"\")","v":""},"","",""]
[null,null,null,{"$f":"IF(A527>0,IF(OR(MAX($G$3:G527)-G527=0,A527=0),\"\",MAX($G$3:G527)-G527),\"\")","v":""},"","","",null,null,null,null,{"$f":"IF(I527>0,IF(OR(MAX($O$3:O527)-O527=0,I527=0),\"\",MAX($O$3:O527)-O527),\"\")","v":""},"","","",null,null,null,null,{"$f":"IF(I527>0,IF(OR(MAX($W$3:W527)-W527=0,Q527=0),\"\",MAX($W$3:W527)-W527),\"\")","v":""},"","",""]
[null,null,null,{"$f":"IF(A528>0,IF(OR(MAX($G$3:G528)-G528=0,A528=0),\"\",MAX($G$3:G528)-G528),\"\")","v":""},"","","",null,null,null,null,{"$f":"IF(I528>0,IF(OR(MAX($O$3:O528)-O528=0,I528=0),\"\",MAX($O$3:O528)-O528),\"\")","v":""},"","","",null,null,null,null,{"$f":"IF(I528>0,IF(OR(MAX($W$3:W528)-W528=0,Q528=0),\"\",MAX($W$3:W528)-W528),\"\")","v":""},"","",""]
[null,null,null,{"$f":"IF(A529>0,IF(OR(MAX($G$3:G529)-G529=0,A529=0),\"\",MAX($G$3:G529)-G529),\"\")","v":""},"","","",null,null,null,null,{"$f":"IF(I529>0,IF(OR(MAX($O$3:O529)-O529=0,I529=0),\"\",MAX($O$3:O529)-O529),\"\")","v":""},"","","",null,null,null,null,{"$f":"IF(I529>0,IF(OR(MAX($W$3:W529)-W529=0,Q529=0),\"\",MAX($W$3:W529)-W529),\"\")","v":""},"","",""]
[null,null,null,{"$f":"IF(A530>0,IF(OR(MAX($G$3:G530)-G530=0,A530=0),\"\",MAX($G$3:G530)-G530),\"\")","v":""},"","","",null,null,null,null,{"$f":"IF(I530>0,IF(OR(MAX($O$3:O530)-O530=0,I530=0),\"\",MAX($O$3:O530)-O530),\"\")","v":""},"","","",null,null,null,null,{"$f":"IF(I530>0,IF(OR(MAX($W$3:W530)-W530=0,Q530=0),\"\",MAX($W$3:W530)-W530),\"\")","v":""},"","",""]
[null,null,null,{"$f":"IF(A531>0,IF(OR(MAX($G$3:G531)-G531=0,A531=0),\"\",MAX($G$3:G531)-G531),\"\")","v":""},"","","",null,null,null,null,{"$f":"IF(I531>0,IF(OR(MAX($O$3:O531)-O531=0,I531=0),\"\",MAX($O$3:O531)-O531),\"\")","v":""},"","","",null,null,null,null,{"$f":"IF(I531>0,IF(OR(MAX($W$3:W531)-W531=0,Q531=0),\"\",MAX($W$3:W531)-W531),\"\")","v":""},"","",""]
[null,null,null,{"$f":"IF(A532>0,IF(OR(MAX($G$3:G532)-G532=0,A532=0),\"\",MAX($G$3:G532)-G532),\"\")","v":""},"","","",null,null,null,null,{"$f":"IF(I532>0,IF(OR(MAX($O$3:O532)-O532=0,I532=0),\"\",MAX($O$3:O532)-O532),\"\")","v":""},"","","",null,null,null,null,{"$f":"IF(I532>0,IF(OR(MAX($W$3:W532)-W532=0,Q532=0),\"\",MAX($W$3:W532)-W532),\"\")","v":""},"","",""]
[null,null,null,{"$f":"IF(A533>0,IF(OR(MAX($G$3:G533)-G533=0,A533=0),\"\",MAX($G$3:G533)-G533),\"\")","v":""},"","","",null,null,null,null,{"$f":"IF(I533>0,IF(OR(MAX($O$3:O533)-O533=0,I533=0),\"\",MAX($O$3:O533)-O533),\"\")","v":""},"","","",null,null,null,null,{"$f":"IF(I533>0,IF(OR(MAX($W$3:W533)-W533=0,Q533=0),\"\",MAX($W$3:W533)-W533),\"\")","v":""},"","",""]
[null,null,null,{"$f":"IF(A534>0,IF(OR(MAX($G$3:G534)-G534=0,A534=0),\"\",MAX($G$3:G534)-G534),\"\")","v":""},"","","",null,null,null,null,{"$f":"IF(I534>0,IF(OR(MAX($O$3:O534)-O534=0,I534=0),\"\",MAX($O$3:O534)-O534),\"\")","v":""},"","","",null,null,null,null,{"$f":"IF(I534>0,IF(OR(MAX($W$3:W534)-W534=0,Q534=0),\"\",MAX($W$3:W534)-W534),\"\")","v":""},"","",""]
[null,null,null,{"$f":"IF(A535>0,IF(OR(MAX($G$3:G535)-G535=0,A535=0),\"\",MAX($G$3:G535)-G535),\"\")","v":""},"","","",null,null,null,null,{"$f":"IF(I535>0,IF(OR(MAX($O$3:O535)-O535=0,I535=0),\"\",MAX($O$3:O535)-O535),\"\")","v":""},"","","",null,null,null,null,{"$f":"IF(I535>0,IF(OR(MAX($W$3:W535)-W535=0,Q535=0),\"\",MAX($W$3:W535)-W535),\"\")","v":""},"","",""]
[null,null,null,{"$f":"IF(A536>0,IF(OR(MAX($G$3:G536)-G536=0,A536=0),\"\",MAX($G$3:G536)-G536),\"\")","v":""},"","","",null,null,null,null,{"$f":"IF(I536>0,IF(OR(MAX($O$3:O536)-O536=0,I536=0),\"\",MAX($O$3:O536)-O536),\"\")","v":""},"","","",null,null,null,null,{"$f":"IF(I536>0,IF(OR(MAX($W$3:W536)-W536=0,Q536=0),\"\",MAX($W$3:W536)-W536),\"\")","v":""},"","",""]
[null,null,null,{"$f":"IF(A537>0,IF(OR(MAX($G$3:G537)-G537=0,A537=0),\"\",MAX($G$3:G537)-G537),\"\")","v":""},"","","",null,null,null,null,{"$f":"IF(I537>0,IF(OR(MAX($O$3:O537)-O537=0,I537=0),\"\",MAX($O$3:O537)-O537),\"\")","v":""},"","","",null,null,null,null,{"$f":"IF(I537>0,IF(OR(MAX($W$3:W537)-W537=0,Q537=0),\"\",MAX($W$3:W537)-W537),\"\")","v":""},"","",""]
[null,null,null,{"$f":"IF(A538>0,IF(OR(MAX($G$3:G538)-G538=0,A538=0),\"\",MAX($G$3:G538)-G538),\"\")","v":""},"","","",null,null,null,null,{"$f":"IF(I538>0,IF(OR(MAX($O$3:O538)-O538=0,I538=0),\"\",MAX($O$3:O538)-O538),\"\")","v":""},"","","",null,null,null,null,{"$f":"IF(I538>0,IF(OR(MAX($W$3:W538)-W538=0,Q538=0),\"\",MAX($W$3:W538)-W538),\"\")","v":""},"","",""]
[null,null,null,{"$f":"IF(A539>0,IF(OR(MAX($G$3:G539)-G539=0,A539=0),\"\",MAX($G$3:G539)-G539),\"\")","v":""},"","","",null,null,null,null,{"$f":"IF(I539>0,IF(OR(MAX($O$3:O539)-O539=0,I539=0),\"\",MAX($O$3:O539)-O539),\"\")","v":""},"","","",null,null,null,null,{"$f":"IF(I539>0,IF(OR(MAX($W$3:W539)-W539=0,Q539=0),\"\",MAX($W$3:W539)-W539),\"\")","v":""},"","",""]
[null,null,null,{"$f":"IF(A540>0,IF(OR(MAX($G$3:G540)-G540=0,A540=0),\"\",MAX($G$3:G540)-G540),\"\")","v":""},"","","",null,null,null,null,{"$f":"IF(I540>0,IF(OR(MAX($O$3:O540)-O540=0,I540=0),\"\",MAX($O$3:O540)-O540),\"\")","v":""},"","","",null,null,null,null,{"$f":"IF(I540>0,IF(OR(MAX($W$3:W540)-W540=0,Q540=0),\"\",MAX($W$3:W540)-W540),\"\")","v":""},"","",""]
[null,null,null,{"$f":"IF(A541>0,IF(OR(MAX($G$3:G541)-G541=0,A541=0),\"\",MAX($G$3:G541)-G541),\"\")","v":""},"","","",null,null,null,null,{"$f":"IF(I541>0,IF(OR(MAX($O$3:O541)-O541=0,I541=0),\"\",MAX($O$3:O541)-O541),\"\")","v":""},"","","",null,null,null,null,{"$f":"IF(I541>0,IF(OR(MAX($W$3:W541)-W541=0,Q541=0),\"\",MAX($W$3:W541)-W541),\"\")","v":""},"","",""]
[null,null,null,{"$f":"IF(A542>0,IF(OR(MAX($G$3:G542)-G542=0,A542=0),\"\",MAX($G$3:G542)-G542),\"\")","v":""},"","","",null,null,null,null,{"$f":"IF(I542>0,IF(OR(MAX($O$3:O542)-O542=0,I542=0),\"\",MAX($O$3:O542)-O542),\"\")","v":""},"","","",null,null,null,null,{"$f":"IF(I542>0,IF(OR(MAX($W$3:W542)-W542=0,Q542=0),\"\",MAX($W$3:W542)-W542),\"\")","v":""},"","",""]
[null,null,null,{"$f":"IF(A543>0,IF(OR(MAX($G$3:G543)-G543=0,A543=0),\"\",MAX($G$3:G543)-G543),\"\")","v":""},"","","",null,null,null,null,{"$f":"IF(I543>0,IF(OR(MAX($O$3:O543)-O543=0,I543=0),\"\",MAX($O$3:O543)-O543),\"\")","v":""},"","","",null,null,null,null,{"$f":"IF(I543>0,IF(OR(MAX($W$3:W543)-W543=0,Q543=0),\"\",MAX($W$3:W543)-W543),\"\")","v":""},"","",""]
[null,null,null,{"$f":"IF(A544>0,IF(OR(MAX($G$3:G544)-G544=0,A544=0),\"\",MAX($G$3:G544)-G544),\"\")","v":""},"","","",null,null,null,null,{"$f":"IF(I544>0,IF(OR(MAX($O$3:O544)-O544=0,I544=0),\"\",MAX($O$3:O544)-O544),\"\")","v":""},"","","",null,null,null,null,{"$f":"IF(I544>0,IF(OR(MAX($W$3:W544)-W544=0,Q544=0),\"\",MAX($W$3:W544)-W544),\"\")","v":""},"","",""]
[null,null,null,{"$f":"IF(A545>0,IF(OR(MAX($G$3:G545)-G545=0,A545=0),\"\",MAX($G$3:G545)-G545),\"\")","v":""},"","","",null,null,null,null,{"$f":"IF(I545>0,IF(OR(MAX($O$3:O545)-O545=0,I545=0),\"\",MAX($O$3:O545)-O545),\"\")","v":""},"","","",null,null,null,null,{"$f":"IF(I545>0,IF(OR(MAX($W$3:W545)-W545=0,Q545=0),\"\",MAX($W$3:W545)-W545),\"\")","v":""},"","",""]
[null,null,null,{"$f":"IF(A546>0,IF(OR(MAX($G$3:G546)-G546=0,A546=0),\"\",MAX($G$3:G546)-G546),\"\")","v":""},"","","",null,null,null,null,{"$f":"IF(I546>0,IF(OR(MAX($O$3:O546)-O546=0,I546=0),\"\",MAX($O$3:O546)-O546),\"\")","v":""},"","","",null,null,null,null,{"$f":"IF(I546>0,IF(OR(MAX($W$3:W546)-W546=0,Q546=0),\"\",MAX($W$3:W546)-W546),\"\")","v":""},"","",""]
[null,null,null,{"$f":"IF(A547>0,IF(OR(MAX($G$3:G547)-G547=0,A547=0),\"\",MAX($G$3:G547)-G547),\"\")","v":""},"","","",null,null,null,null,{"$f":"IF(I547>0,IF(OR(MAX($O$3:O547)-O547=0,I547=0),\"\",MAX($O$3:O547)-O547),\"\")","v":""},"","","",null,null,null,null,{"$f":"IF(I547>0,IF(OR(MAX($W$3:W547)-W547=0,Q547=0),\"\",MAX($W$3:W547)-W547),\"\")","v":""},"","",""]
[null,null,null,{"$f":"IF(A548>0,IF(OR(MAX($G$3:G548)-G548=0,A548=0),\"\",MAX($G$3:G548)-G548),\"\")","v":""},"","","",null,null,null,null,{"$f":"IF(I548>0,IF(OR(MAX($O$3:O548)-O548=0,I548=0),\"\",MAX($O$3:O548)-O548),\"\")","v":""},"","","",null,null,null,null,{"$f":"IF(I548>0,IF(OR(MAX($W$3:W548)-W548=0,Q548=0),\"\",MAX($W$3:W548)-W548),\"\")","v":""},"","",""]
[null,null,null,{"$f":"IF(A549>0,IF(OR(MAX($G$3:G549)-G549=0,A549=0),\"\",MAX($G$3:G549)-G549),\"\")","v":""},"","","",null,null,null,null,{"$f":"IF(I549>0,IF(OR(MAX($O$3:O549)-O549=0,I549=0),\"\",MAX($O$3:O549)-O549),\"\")","v":""},"","","",null,null,null,null,{"$f":"IF(I549>0,IF(OR(MAX($W$3:W549)-W549=0,Q549=0),\"\",MAX($W$3:W549)-W549),\"\")","v":""},"","",""]
[null,null,null,{"$f":"IF(A550>0,IF(OR(MAX($G$3:G550)-G550=0,A550=0),\"\",MAX($G$3:G550)-G550),\"\")","v":""},"","","",null,null,null,null,{"$f":"IF(I550>0,IF(OR(MAX($O$3:O550)-O550=0,I550=0),\"\",MAX($O$3:O550)-O550),\"\")","v":""},"","","",null,null,null,null,{"$f":"IF(I550>0,IF(OR(MAX($W$3:W550)-W550=0,Q550=0),\"\",MAX($W$3:W550)-W550),\"\")","v":""},"","",""]
[null,null,null,{"$f":"IF(A551>0,IF(OR(MAX($G$3:G551)-G551=0,A551=0),\"\",MAX($G$3:G551)-G551),\"\")","v":""},"","","",null,null,null,null,{"$f":"IF(I551>0,IF(OR(MAX($O$3:O551)-O551=0,I551=0),\"\",MAX($O$3:O551)-O551),\"\")","v":""},"","","",null,null,null,null,{"$f":"IF(I551>0,IF(OR(MAX($W$3:W551)-W551=0,Q551=0),\"\",MAX($W$3:W551)-W551),\"\")","v":""},"","",""]
[null,null,null,{"$f":"IF(A552>0,IF(OR(MAX($G$3:G552)-G552=0,A552=0),\"\",MAX($G$3:G552)-G552),\"\")","v":""},"","","",null,null,null,null,{"$f":"IF(I552>0,IF(OR(MAX($O$3:O552)-O552=0,I552=0),\"\",MAX($O$3:O552)-O552),\"\")","v":""},"","","",null,null,null,null,{"$f":"IF(I552>0,IF(OR(MAX($W$3:W552)-W552=0,Q552=0),\"\",MAX($W$3:W552)-W552),\"\")","v":""},"","",""]
[null,null,null,{"$f":"IF(A553>0,IF(OR(MAX($G$3:G553)-G553=0,A553=0),\"\",MAX($G$3:G553)-G553),\"\")","v":""},"","","",null,null,null,null,{"$f":"IF(I553>0,IF(OR(MAX($O$3:O553)-O553=0,I553=0),\"\",MAX($O$3:O553)-O553),\"\")","v":""},"","","",null,null,null,null,{"$f":"IF(I553>0,IF(OR(MAX($W$3:W553)-W553=0,Q553=0),\"\",MAX($W$3:W553)-W553),\"\")","v":""},"","",""]
[null,null,null,{"$f":"IF(A554>0,IF(OR(MAX($G$3:G554)-G554=0,A554=0),\"\",MAX($G$3:G554)-G554),\"\")","v":""},"","","",null,null,null,null,{"$f":"IF(I554>0,IF(OR(MAX($O$3:O554)-O554=0,I554=0),\"\",MAX($O$3:O554)-O554),\"\")","v":""},"","","",null,null,null,null,{"$f":"IF(I554>0,IF(OR(MAX($W$3:W554)-W554=0,Q554=0),\"\",MAX($W$3:W554)-W554),\"\")","v":""},"","",""]
[null,null,null,{"$f":"IF(A555>0,IF(OR(MAX($G$3:G555)-G555=0,A555=0),\"\",MAX($G$3:G555)-G555),\"\")","v":""},"","","",null,null,null,null,{"$f":"IF(I555>0,IF(OR(MAX($O$3:O555)-O555=0,I555=0),\"\",MAX($O$3:O555)-O555),\"\")","v":""},"","","",null,null,null,null,{"$f":"IF(I555>0,IF(OR(MAX($W$3:W555)-W555=0,Q555=0),\"\",MAX($W$3:W555)-W555),\"\")","v":""},"","",""]
[null,null,null,{"$f":"IF(A556>0,IF(OR(MAX($G$3:G556)-G556=0,A556=0),\"\",MAX($G$3:G556)-G556),\"\")","v":""},"","","",null,null,null,null,{"$f":"IF(I556>0,IF(OR(MAX($O$3:O556)-O556=0,I556=0),\"\",MAX($O$3:O556)-O556),\"\")","v":""},"","","",null,null,null,null,{"$f":"IF(I556>0,IF(OR(MAX($W$3:W556)-W556=0,Q556=0),\"\",MAX($W$3:W556)-W556),\"\")","v":""},"","",""]
[null,null,null,{"$f":"IF(A557>0,IF(OR(MAX($G$3:G557)-G557=0,A557=0),\"\",MAX($G$3:G557)-G557),\"\")","v":""},"","","",null,null,null,null,{"$f":"IF(I557>0,IF(OR(MAX($O$3:O557)-O557=0,I557=0),\"\",MAX($O$3:O557)-O557),\"\")","v":""},"","","",null,null,null,null,{"$f":"IF(I557>0,IF(OR(MAX($W$3:W557)-W557=0,Q557=0),\"\",MAX($W$3:W557)-W557),\"\")","v":""},"","",""]
[null,null,null,{"$f":"IF(A558>0,IF(OR(MAX($G$3:G558)-G558=0,A558=0),\"\",MAX($G$3:G558)-G558),\"\")","v":""},"","","",null,null,null,null,{"$f":"IF(I558>0,IF(OR(MAX($O$3:O558)-O558=0,I558=0),\"\",MAX($O$3:O558)-O558),\"\")","v":""},"","","",null,null,null,null,{"$f":"IF(I558>0,IF(OR(MAX($W$3:W558)-W558=0,Q558=0),\"\",MAX($W$3:W558)-W558),\"\")","v":""},"","",""]
[null,null,null,{"$f":"IF(A559>0,IF(OR(MAX($G$3:G559)-G559=0,A559=0),\"\",MAX($G$3:G559)-G559),\"\")","v":""},"","","",null,null,null,null,{"$f":"IF(I559>0,IF(OR(MAX($O$3:O559)-O559=0,I559=0),\"\",MAX($O$3:O559)-O559),\"\")","v":""},"","","",null,null,null,null,{"$f":"IF(I559>0,IF(OR(MAX($W$3:W559)-W559=0,Q559=0),\"\",MAX($W$3:W559)-W559),\"\")","v":""},"","",""]
[null,null,null,{"$f":"IF(A560>0,IF(OR(MAX($G$3:G560)-G560=0,A560=0),\"\",MAX($G$3:G560)-G560),\"\")","v":""},"","","",null,null,null,null,{"$f":"IF(I560>0,IF(OR(MAX($O$3:O560)-O560=0,I560=0),\"\",MAX($O$3:O560)-O560),\"\")","v":""},"","","",null,null,null,null,{"$f":"IF(I560>0,IF(OR(MAX($W$3:W560)-W560=0,Q560=0),\"\",MAX($W$3:W560)-W560),\"\")","v":""},"","",""]
[null,null,null,{"$f":"IF(A561>0,IF(OR(MAX($G$3:G561)-G561=0,A561=0),\"\",MAX($G$3:G561)-G561),\"\")","v":""},"","","",null,null,null,null,{"$f":"IF(I561>0,IF(OR(MAX($O$3:O561)-O561=0,I561=0),\"\",MAX($O$3:O561)-O561),\"\")","v":""},"","","",null,null,null,null,{"$f":"IF(I561>0,IF(OR(MAX($W$3:W561)-W561=0,Q561=0),\"\",MAX($W$3:W561)-W561),\"\")","v":""},"","",""]
[null,null,null,{"$f":"IF(A562>0,IF(OR(MAX($G$3:G562)-G562=0,A562=0),\"\",MAX($G$3:G562)-G562),\"\")","v":""},"","","",null,null,null,null,{"$f":"IF(I562>0,IF(OR(MAX($O$3:O562)-O562=0,I562=0),\"\",MAX($O$3:O562)-O562),\"\")","v":""},"","","",null,null,null,null,{"$f":"IF(I562>0,IF(OR(MAX($W$3:W562)-W562=0,Q562=0),\"\",MAX($W$3:W562)-W562),\"\")","v":""},"","",""]
[null,null,null,{"$f":"IF(A563>0,IF(OR(MAX($G$3:G563)-G563=0,A563=0),\"\",MAX($G$3:G563)-G563),\"\")","v":""},"","","",null,null,null,null,{"$f":"IF(I563>0,IF(OR(MAX($O$3:O563)-O563=0,I563=0),\"\",MAX($O$3:O563)-O563),\"\")","v":""},"","","",null,null,null,null,{"$f":"IF(I563>0,IF(OR(MAX($W$3:W563)-W563=0,Q563=0),\"\",MAX($W$3:W563)-W563),\"\")","v":""},"","",""]
[null,null,null,{"$f":"IF(A564>0,IF(OR(MAX($G$3:G564)-G564=0,A564=0),\"\",MAX($G$3:G564)-G564),\"\")","v":""},"","","",null,null,null,null,{"$f":"IF(I564>0,IF(OR(MAX($O$3:O564)-O564=0,I564=0),\"\",MAX($O$3:O564)-O564),\"\")","v":""},"","","",null,null,null,null,{"$f":"IF(I564>0,IF(OR(MAX($W$3:W564)-W564=0,Q564=0),\"\",MAX($W$3:W564)-W564),\"\")","v":""},"","",""]
[null,null,null,{"$f":"IF(A565>0,IF(OR(MAX($G$3:G565)-G565=0,A565=0),\"\",MAX($G$3:G565)-G565),\"\")","v":""},"","","",null,null,null,null,{"$f":"IF(I565>0,IF(OR(MAX($O$3:O565)-O565=0,I565=0),\"\",MAX($O$3:O565)-O565),\"\")","v":""},"","","",null,null,null,null,{"$f":"IF(I565>0,IF(OR(MAX($W$3:W565)-W565=0,Q565=0),\"\",MAX($W$3:W565)-W565),\"\")","v":""},"","",""]
[null,null,null,{"$f":"IF(A566>0,IF(OR(MAX($G$3:G566)-G566=0,A566=0),\"\",MAX($G$3:G566)-G566),\"\")","v":""},"","","",null,null,null,null,{"$f":"IF(I566>0,IF(OR(MAX($O$3:O566)-O566=0,I566=0),\"\",MAX($O$3:O566)-O566),\"\")","v":""},"","","",null,null,null,null,{"$f":"IF(I566>0,IF(OR(MAX($W$3:W566)-W566=0,Q566=0),\"\",MAX($W$3:W566)-W566),\"\")","v":""},"","",""]
[null,null,null,{"$f":"IF(A567>0,IF(OR(MAX($G$3:G567)-G567=0,A567=0),\"\",MAX($G$3:G567)-G567),\"\")","v":""},"","","",null,null,null,null,{"$f":"IF(I567>0,IF(OR(MAX($O$3:O567)-O567=0,I567=0),\"\",MAX($O$3:O567)-O567),\"\")","v":""},"","","",null,null,null,null,{"$f":"IF(I567>0,IF(OR(MAX($W$3:W567)-W567=0,Q567=0),\"\",MAX($W$3:W567)-W567),\"\")","v":""},"","",""]
[null,null,null,{"$f":"IF(A568>0,IF(OR(MAX($G$3:G568)-G568=0,A568=0),\"\",MAX($G$3:G568)-G568),\"\")","v":""},"","","",null,null,null,null,{"$f":"IF(I568>0,IF(OR(MAX($O$3:O568)-O568=0,I568=0),\"\",MAX($O$3:O568)-O568),\"\")","v":""},"","","",null,null,null,null,{"$f":"IF(I568>0,IF(OR(MAX($W$3:W568)-W568=0,Q568=0),\"\",MAX($W$3:W568)-W568),\"\")","v":""},"","",""]
[null,null,null,{"$f":"IF(A569>0,IF(OR(MAX($G$3:G569)-G569=0,A569=0),\"\",MAX($G$3:G569)-G569),\"\")","v":""},"","","",null,null,null,null,{"$f":"IF(I569>0,IF(OR(MAX($O$3:O569)-O569=0,I569=0),\"\",MAX($O$3:O569)-O569),\"\")","v":""},"","","",null,null,null,null,{"$f":"IF(I569>0,IF(OR(MAX($W$3:W569)-W569=0,Q569=0),\"\",MAX($W$3:W569)-W569),\"\")","v":""},"","",""]
[null,null,null,{"$f":"IF(A570>0,IF(OR(MAX($G$3:G570)-G570=0,A570=0),\"\",MAX($G$3:G570)-G570),\"\")","v":""},"","","",null,null,null,null,{"$f":"IF(I570>0,IF(OR(MAX($O$3:O570)-O570=0,I570=0),\"\",MAX($O$3:O570)-O570),\"\")","v":""},"","","",null,null,null,null,{"$f":"IF(I570>0,IF(OR(MAX($W$3:W570)-W570=0,Q570=0),\"\",MAX($W$3:W570)-W570),\"\")","v":""},"","",""]
[null,null,null,{"$f":"IF(A571>0,IF(OR(MAX($G$3:G571)-G571=0,A571=0),\"\",MAX($G$3:G571)-G571),\"\")","v":""},"","","",null,null,null,null,{"$f":"IF(I571>0,IF(OR(MAX($O$3:O571)-O571=0,I571=0),\"\",MAX($O$3:O571)-O571),\"\")","v":""},"","","",null,null,null,null,{"$f":"IF(I571>0,IF(OR(MAX($W$3:W571)-W571=0,Q571=0),\"\",MAX($W$3:W571)-W571),\"\")","v":""},"","",""]
[null,null,null,{"$f":"IF(A572>0,IF(OR(MAX($G$3:G572)-G572=0,A572=0),\"\",MAX($G$3:G572)-G572),\"\")","v":""},"","","",null,null,null,null,{"$f":"IF(I572>0,IF(OR(MAX($O$3:O572)-O572=0,I572=0),\"\",MAX($O$3:O572)-O572),\"\")","v":""},"","","",null,null,null,null,{"$f":"IF(I572>0,IF(OR(MAX($W$3:W572)-W572=0,Q572=0),\"\",MAX($W$3:W572)-W572),\"\")","v":""},"","",""]
[null,null,null,{"$f":"IF(A573>0,IF(OR(MAX($G$3:G573)-G573=0,A573=0),\"\",MAX($G$3:G573)-G573),\"\")","v":""},"","","",null,null,null,null,{"$f":"IF(I573>0,IF(OR(MAX($O$3:O573)-O573=0,I573=0),\"\",MAX($O$3:O573)-O573),\"\")","v":""},"","","",null,null,null,null,{"$f":"IF(I573>0,IF(OR(MAX($W$3:W573)-W573=0,Q573=0),\"\",MAX($W$3:W573)-W573),\"\")","v":""},"","",""]
[null,null,null,{"$f":"IF(A574>0,IF(OR(MAX($G$3:G574)-G574=0,A574=0),\"\",MAX($G$3:G574)-G574),\"\")","v":""},"","","",null,null,null,null,{"$f":"IF(I574>0,IF(OR(MAX($O$3:O574)-O574=0,I574=0),\"\",MAX($O$3:O574)-O574),\"\")","v":""},"","","",null,null,null,null,{"$f":"IF(I574>0,IF(OR(MAX($W$3:W574)-W574=0,Q574=0),\"\",MAX($W$3:W574)-W574),\"\")","v":""},"","",""]
[null,null,null,{"$f":"IF(A575>0,IF(OR(MAX($G$3:G575)-G575=0,A575=0),\"\",MAX($G$3:G575)-G575),\"\")","v":""},"","","",null,null,null,null,{"$f":"IF(I575>0,IF(OR(MAX($O$3:O575)-O575=0,I575=0),\"\",MAX($O$3:O575)-O575),\"\")","v":""},"","","",null,null,null,null,{"$f":"IF(I575>0,IF(OR(MAX($W$3:W575)-W575=0,Q575=0),\"\",MAX($W$3:W575)-W575),\"\")","v":""},"","",""]
[null,null,null,{"$f":"IF(A576>0,IF(OR(MAX($G$3:G576)-G576=0,A576=0),\"\",MAX($G$3:G576)-G576),\"\")","v":""},"","","",null,null,null,null,{"$f":"IF(I576>0,IF(OR(MAX($O$3:O576)-O576=0,I576=0),\"\",MAX($O$3:O576)-O576),\"\")","v":""},"","","",null,null,null,null,{"$f":"IF(I576>0,IF(OR(MAX($W$3:W576)-W576=0,Q576=0),\"\",MAX($W$3:W576)-W576),\"\")","v":""},"","",""]
[null,null,null,{"$f":"IF(A577>0,IF(OR(MAX($G$3:G577)-G577=0,A577=0),\"\",MAX($G$3:G577)-G577),\"\")","v":""},"","","",null,null,null,null,{"$f":"IF(I577>0,IF(OR(MAX($O$3:O577)-O577=0,I577=0),\"\",MAX($O$3:O577)-O577),\"\")","v":""},"","","",null,null,null,null,{"$f":"IF(I577>0,IF(OR(MAX($W$3:W577)-W577=0,Q577=0),\"\",MAX($W$3:W577)-W577),\"\")","v":""},"","",""]
[null,null,null,{"$f":"IF(A578>0,IF(OR(MAX($G$3:G578)-G578=0,A578=0),\"\",MAX($G$3:G578)-G578),\"\")","v":""},"","","",null,null,null,null,{"$f":"IF(I578>0,IF(OR(MAX($O$3:O578)-O578=0,I578=0),\"\",MAX($O$3:O578)-O578),\"\")","v":""},"","","",null,null,null,null,{"$f":"IF(I578>0,IF(OR(MAX($W$3:W578)-W578=0,Q578=0),\"\",MAX($W$3:W578)-W578),\"\")","v":""},"","",""]
[null,null,null,{"$f":"IF(A579>0,IF(OR(MAX($G$3:G579)-G579=0,A579=0),\"\",MAX($G$3:G579)-G579),\"\")","v":""},"","","",null,null,null,null,{"$f":"IF(I579>0,IF(OR(MAX($O$3:O579)-O579=0,I579=0),\"\",MAX($O$3:O579)-O579),\"\")","v":""},"","","",null,null,null,null,{"$f":"IF(I579>0,IF(OR(MAX($W$3:W579)-W579=0,Q579=0),\"\",MAX($W$3:W579)-W579),\"\")","v":""},"","",""]
[null,null,null,{"$f":"IF(A580>0,IF(OR(MAX($G$3:G580)-G580=0,A580=0),\"\",MAX($G$3:G580)-G580),\"\")","v":""},"","","",null,null,null,null,{"$f":"IF(I580>0,IF(OR(MAX($O$3:O580)-O580=0,I580=0),\"\",MAX($O$3:O580)-O580),\"\")","v":""},"","","",null,null,null,null,{"$f":"IF(I580>0,IF(OR(MAX($W$3:W580)-W580=0,Q580=0),\"\",MAX($W$3:W580)-W580),\"\")","v":""},"","",""]
[null,null,null,{"$f":"IF(A581>0,IF(OR(MAX($G$3:G581)-G581=0,A581=0),\"\",MAX($G$3:G581)-G581),\"\")","v":""},"","","",null,null,null,null,{"$f":"IF(I581>0,IF(OR(MAX($O$3:O581)-O581=0,I581=0),\"\",MAX($O$3:O581)-O581),\"\")","v":""},"","","",null,null,null,null,{"$f":"IF(I581>0,IF(OR(MAX($W$3:W581)-W581=0,Q581=0),\"\",MAX($W$3:W581)-W581),\"\")","v":""},"","",""]
[null,null,null,{"$f":"IF(A582>0,IF(OR(MAX($G$3:G582)-G582=0,A582=0),\"\",MAX($G$3:G582)-G582),\"\")","v":""},"","","",null,null,null,null,{"$f":"IF(I582>0,IF(OR(MAX($O$3:O582)-O582=0,I582=0),\"\",MAX($O$3:O582)-O582),\"\")","v":""},{"$f":"IF(L582=\"\",\"\",L582/(N582+O581))","v":""},{"$f":"IF(I582>0,N581+K582,\"\")","v":""},{"$f":"IF(I582>0,O581+K582,\"\")","v":""},null,null,null,null,{"$f":"IF(I582>0,IF(OR(MAX($W$3:W582)-W582=0,Q582=0),\"\",MAX($W$3:W582)-W582),\"\")","v":""},{"$f":"IF(T582=\"\",\"\",T582/(V582+W581))","v":""},{"$f":"IF(Q582>0,V581+S582,\"\")","v":""},{"$f":"IF(Q582>0,W581+S582,\"\")","v":""}]
[null,null,null,{"$f":"IF(A583>0,IF(OR(MAX($G$3:G583)-G583=0,A583=0),\"\",MAX($G$3:G583)-G583),\"\")","v":""},"","","",null,null,null,null,{"$f":"IF(I583>0,IF(OR(MAX($O$3:O583)-O583=0,I583=0),\"\",MAX($O$3:O583)-O583),\"\")","v":""},"","","",null,null,null,null,{"$f":"IF(I583>0,IF(OR(MAX($W$3:W583)-W583=0,Q583=0),\"\",MAX($W$3:W583)-W583),\"\")","v":""},"","",""]
[null,null,null,{"$f":"IF(A584>0,IF(OR(MAX($G$3:G584)-G584=0,A584=0),\"\",MAX($G$3:G584)-G584),\"\")","v":""},{"$f":"IF(D584=\"\",\"\",D584/(F584+G583))","v":""},{"$f":"IF(A584>0,F583+C584,\"\")","v":""},{"$f":"IF(A584>0,G583+C584,\"\")","v":""},null,null,null,null,{"$f":"IF(I584>0,IF(OR(MAX($O$3:O584)-O584=0,I584=0),\"\",MAX($O$3:O584)-O584),\"\")","v":""},"","","",null,null,null,null,{"$f":"IF(I584>0,IF(OR(MAX($W$3:W584)-W584=0,Q584=0),\"\",MAX($W$3:W584)-W584),\"\")","v":""},"","",""]
[null,null,null,{"$f":"IF(A585>0,IF(OR(MAX($G$3:G585)-G585=0,A585=0),\"\",MAX($G$3:G585)-G585),\"\")","v":""},"","","",null,null,null,null,{"$f":"IF(I585>0,IF(OR(MAX($O$3:O585)-O585=0,I585=0),\"\",MAX($O$3:O585)-O585),\"\")","v":""},"","","",null,null,null,null,{"$f":"IF(I585>0,IF(OR(MAX($W$3:W585)-W585=0,Q585=0),\"\",MAX($W$3:W585)-W585),\"\")","v":""},"","",""]
[null,null,null,{"$f":"IF(A586>0,IF(OR(MAX($G$3:G586)-G586=0,A586=0),\"\",MAX($G$3:G586)-G586),\"\")","v":""},"","","",null,null,null,null,{"$f":"IF(I586>0,IF(OR(MAX($O$3:O586)-O586=0,I586=0),\"\",MAX($O$3:O586)-O586),\"\")","v":""},"","","",null,null,null,null,{"$f":"IF(I586>0,IF(OR(MAX($W$3:W586)-W586=0,Q586=0),\"\",MAX($W$3:W586)-W586),\"\")","v":""},"","",""]
[null,null,null,{"$f":"IF(A587>0,IF(OR(MAX($G$3:G587)-G587=0,A587=0),\"\",MAX($G$3:G587)-G587),\"\")","v":""},"","","",null,null,null,null,{"$f":"IF(I587>0,IF(OR(MAX($O$3:O587)-O587=0,I587=0),\"\",MAX($O$3:O587)-O587),\"\")","v":""},"","","",null,null,null,null,{"$f":"IF(I587>0,IF(OR(MAX($W$3:W587)-W587=0,Q587=0),\"\",MAX($W$3:W587)-W587),\"\")","v":""},"","",""]
[null,null,null,{"$f":"IF(A588>0,IF(OR(MAX($G$3:G588)-G588=0,A588=0),\"\",MAX($G$3:G588)-G588),\"\")","v":""},"","","",null,null,null,null,{"$f":"IF(I588>0,IF(OR(MAX($O$3:O588)-O588=0,I588=0),\"\",MAX($O$3:O588)-O588),\"\")","v":""},"","","",null,null,null,null,{"$f":"IF(I588>0,IF(OR(MAX($W$3:W588)-W588=0,Q588=0),\"\",MAX($W$3:W588)-W588),\"\")","v":""},"","",""]
[null,null,null,{"$f":"IF(A589>0,IF(OR(MAX($G$3:G589)-G589=0,A589=0),\"\",MAX($G$3:G589)-G589),\"\")","v":""},"","","",null,null,null,null,{"$f":"IF(I589>0,IF(OR(MAX($O$3:O589)-O589=0,I589=0),\"\",MAX($O$3:O589)-O589),\"\")","v":""},"","","",null,null,null,null,{"$f":"IF(I589>0,IF(OR(MAX($W$3:W589)-W589=0,Q589=0),\"\",MAX($W$3:W589)-W589),\"\")","v":""},"","",""]
[null,null,null,{"$f":"IF(A590>0,IF(OR(MAX($G$3:G590)-G590=0,A590=0),\"\",MAX($G$3:G590)-G590),\"\")","v":""},"","","",null,null,null,null,{"$f":"IF(I590>0,IF(OR(MAX($O$3:O590)-O590=0,I590=0),\"\",MAX($O$3:O590)-O590),\"\")","v":""},"","","",null,null,null,null,{"$f":"IF(I590>0,IF(OR(MAX($W$3:W590)-W590=0,Q590=0),\"\",MAX($W$3:W590)-W590),\"\")","v":""},"","",""]
[null,null,null,{"$f":"IF(A591>0,IF(OR(MAX($G$3:G591)-G591=0,A591=0),\"\",MAX($G$3:G591)-G591),\"\")","v":""},"","","",null,null,null,null,{"$f":"IF(I591>0,IF(OR(MAX($O$3:O591)-O591=0,I591=0),\"\",MAX($O$3:O591)-O591),\"\")","v":""},"","","",null,null,null,null,{"$f":"IF(I591>0,IF(OR(MAX($W$3:W591)-W591=0,Q591=0),\"\",MAX($W$3:W591)-W591),\"\")","v":""},"","",""]
[null,null,null,{"$f":"IF(A592>0,IF(OR(MAX($G$3:G592)-G592=0,A592=0),\"\",MAX($G$3:G592)-G592),\"\")","v":""},"","","",null,null,null,null,{"$f":"IF(I592>0,IF(OR(MAX($O$3:O592)-O592=0,I592=0),\"\",MAX($O$3:O592)-O592),\"\")","v":""},"","","",null,null,null,null,{"$f":"IF(I592>0,IF(OR(MAX($W$3:W592)-W592=0,Q592=0),\"\",MAX($W$3:W592)-W592),\"\")","v":""},"","",""]
[null,null,null,{"$f":"IF(A593>0,IF(OR(MAX($G$3:G593)-G593=0,A593=0),\"\",MAX($G$3:G593)-G593),\"\")","v":""},"","","",null,null,null,null,{"$f":"IF(I593>0,IF(OR(MAX($O$3:O593)-O593=0,I593=0),\"\",MAX($O$3:O593)-O593),\"\")","v":""},"","","",null,null,null,null,{"$f":"IF(I593>0,IF(OR(MAX($W$3:W593)-W593=0,Q593=0),\"\",MAX($W$3:W593)-W593),\"\")","v":""},"","",""]
[null,null,null,{"$f":"IF(A594>0,IF(OR(MAX($G$3:G594)-G594=0,A594=0),\"\",MAX($G$3:G594)-G594),\"\")","v":""},"","","",null,null,null,null,{"$f":"IF(I594>0,IF(OR(MAX($O$3:O594)-O594=0,I594=0),\"\",MAX($O$3:O594)-O594),\"\")","v":""},"","","",null,null,null,null,{"$f":"IF(I594>0,IF(OR(MAX($W$3:W594)-W594=0,Q594=0),\"\",MAX($W$3:W594)-W594),\"\")","v":""},"","",""]
[null,null,null,{"$f":"IF(A595>0,IF(OR(MAX($G$3:G595)-G595=0,A595=0),\"\",MAX($G$3:G595)-G595),\"\")","v":""},"","","",null,null,null,null,{"$f":"IF(I595>0,IF(OR(MAX($O$3:O595)-O595=0,I595=0),\"\",MAX($O$3:O595)-O595),\"\")","v":""},"","","",null,null,null,null,{"$f":"IF(I595>0,IF(OR(MAX($W$3:W595)-W595=0,Q595=0),\"\",MAX($W$3:W595)-W595),\"\")","v":""},"","",""]
[null,null,null,{"$f":"IF(A596>0,IF(OR(MAX($G$3:G596)-G596=0,A596=0),\"\",MAX($G$3:G596)-G596),\"\")","v":""},"","","",null,null,null,null,{"$f":"IF(I596>0,IF(OR(MAX($O$3:O596)-O596=0,I596=0),\"\",MAX($O$3:O596)-O596),\"\")","v":""},"","","",null,null,null,null,{"$f":"IF(I596>0,IF(OR(MAX($W$3:W596)-W596=0,Q596=0),\"\",MAX($W$3:W596)-W596),\"\")","v":""},"","",""]
[null,null,null,{"$f":"IF(A597>0,IF(OR(MAX($G$3:G597)-G597=0,A597=0),\"\",MAX($G$3:G597)-G597),\"\")","v":""},"","","",null,null,null,null,{"$f":"IF(I597>0,IF(OR(MAX($O$3:O597)-O597=0,I597=0),\"\",MAX($O$3:O597)-O597),\"\")","v":""},"","","",null,null,null,null,{"$f":"IF(I597>0,IF(OR(MAX($W$3:W597)-W597=0,Q597=0),\"\",MAX($W$3:W597)-W597),\"\")","v":""},"","",""]
[null,null,null,{"$f":"IF(A598>0,IF(OR(MAX($G$3:G598)-G598=0,A598=0),\"\",MAX($G$3:G598)-G598),\"\")","v":""},"","","",null,null,null,null,{"$f":"IF(I598>0,IF(OR(MAX($O$3:O598)-O598=0,I598=0),\"\",MAX($O$3:O598)-O598),\"\")","v":""},"","","",null,null,null,null,{"$f":"IF(I598>0,IF(OR(MAX($W$3:W598)-W598=0,Q598=0),\"\",MAX($W$3:W598)-W598),\"\")","v":""},"","",""]
[null,null,null,{"$f":"IF(A599>0,IF(OR(MAX($G$3:G599)-G599=0,A599=0),\"\",MAX($G$3:G599)-G599),\"\")","v":""},"","","",null,null,null,null,{"$f":"IF(I599>0,IF(OR(MAX($O$3:O599)-O599=0,I599=0),\"\",MAX($O$3:O599)-O599),\"\")","v":""},"","","",null,null,null,null,{"$f":"IF(I599>0,IF(OR(MAX($W$3:W599)-W599=0,Q599=0),\"\",MAX($W$3:W599)-W599),\"\")","v":""},"","",""]
[null,null,null,{"$f":"IF(A600>0,IF(OR(MAX($G$3:G600)-G600=0,A600=0),\"\",MAX($G$3:G600)-G600),\"\")","v":""},"","","",null,null,null,null,{"$f":"IF(I600>0,IF(OR(MAX($O$3:O600)-O600=0,I600=0),\"\",MAX($O$3:O600)-O600),\"\")","v":""},"","","",null,null,null,null,{"$f":"IF(I600>0,IF(OR(MAX($W$3:W600)-W600=0,Q600=0),\"\",MAX($W$3:W600)-W600),\"\")","v":""},"","",""]
[null,null,null,{"$f":"IF(A601>0,IF(OR(MAX($G$3:G601)-G601=0,A601=0),\"\",MAX($G$3:G601)-G601),\"\")","v":""},"","","",null,null,null,null,{"$f":"IF(I601>0,IF(OR(MAX($O$3:O601)-O601=0,I601=0),\"\",MAX($O$3:O601)-O601),\"\")","v":""},"","","",null,null,null,null,{"$f":"IF(I601>0,IF(OR(MAX($W$3:W601)-W601=0,Q601=0),\"\",MAX($W$3:W601)-W601),\"\")","v":""},"","",""]
[null,null,null,{"$f":"IF(A602>0,IF(OR(MAX($G$3:G602)-G602=0,A602=0),\"\",MAX($G$3:G602)-G602),\"\")","v":""},"","","",null,null,null,null,{"$f":"IF(I602>0,IF(OR(MAX($O$3:O602)-O602=0,I602=0),\"\",MAX($O$3:O602)-O602),\"\")","v":""},"","","",null,null,null,null,{"$f":"IF(I602>0,IF(OR(MAX($W$3:W602)-W602=0,Q602=0),\"\",MAX($W$3:W602)-W602),\"\")","v":""},"","",""]
[null,null,null,{"$f":"IF(A603>0,IF(OR(MAX($G$3:G603)-G603=0,A603=0),\"\",MAX($G$3:G603)-G603),\"\")","v":""},"","","",null,null,null,null,{"$f":"IF(I603>0,IF(OR(MAX($O$3:O603)-O603=0,I603=0),\"\",MAX($O$3:O603)-O603),\"\")","v":""},"","","",null,null,null,null,{"$f":"IF(I603>0,IF(OR(MAX($W$3:W603)-W603=0,Q603=0),\"\",MAX($W$3:W603)-W603),\"\")","v":""},"","",""]
[null,null,null,{"$f":"IF(A604>0,IF(OR(MAX($G$3:G604)-G604=0,A604=0),\"\",MAX($G$3:G604)-G604),\"\")","v":""},"","","",null,null,null,null,{"$f":"IF(I604>0,IF(OR(MAX($O$3:O604)-O604=0,I604=0),\"\",MAX($O$3:O604)-O604),\"\")","v":""},"","","",null,null,null,null,{"$f":"IF(I604>0,IF(OR(MAX($W$3:W604)-W604=0,Q604=0),\"\",MAX($W$3:W604)-W604),\"\")","v":""},"","",""]
[null,null,null,{"$f":"IF(A605>0,IF(OR(MAX($G$3:G605)-G605=0,A605=0),\"\",MAX($G$3:G605)-G605),\"\")","v":""},"","","",null,null,null,null,{"$f":"IF(I605>0,IF(OR(MAX($O$3:O605)-O605=0,I605=0),\"\",MAX($O$3:O605)-O605),\"\")","v":""},"","","",null,null,null,null,{"$f":"IF(I605>0,IF(OR(MAX($W$3:W605)-W605=0,Q605=0),\"\",MAX($W$3:W605)-W605),\"\")","v":""},"","",""]
[null,null,null,{"$f":"IF(A606>0,IF(OR(MAX($G$3:G606)-G606=0,A606=0),\"\",MAX($G$3:G606)-G606),\"\")","v":""},"","","",null,null,null,null,{"$f":"IF(I606>0,IF(OR(MAX($O$3:O606)-O606=0,I606=0),\"\",MAX($O$3:O606)-O606),\"\")","v":""},"","","",null,null,null,null,{"$f":"IF(I606>0,IF(OR(MAX($W$3:W606)-W606=0,Q606=0),\"\",MAX($W$3:W606)-W606),\"\")","v":""},"","",""]
[null,null,null,{"$f":"IF(A607>0,IF(OR(MAX($G$3:G607)-G607=0,A607=0),\"\",MAX($G$3:G607)-G607),\"\")","v":""},"","","",null,null,null,null,{"$f":"IF(I607>0,IF(OR(MAX($O$3:O607)-O607=0,I607=0),\"\",MAX($O$3:O607)-O607),\"\")","v":""},"","","",null,null,null,null,{"$f":"IF(I607>0,IF(OR(MAX($W$3:W607)-W607=0,Q607=0),\"\",MAX($W$3:W607)-W607),\"\")","v":""},"","",""]
[null,null,null,{"$f":"IF(A608>0,IF(OR(MAX($G$3:G608)-G608=0,A608=0),\"\",MAX($G$3:G608)-G608),\"\")","v":""},"","","",null,null,null,null,{"$f":"IF(I608>0,IF(OR(MAX($O$3:O608)-O608=0,I608=0),\"\",MAX($O$3:O608)-O608),\"\")","v":""},"","","",null,null,null,null,{"$f":"IF(I608>0,IF(OR(MAX($W$3:W608)-W608=0,Q608=0),\"\",MAX($W$3:W608)-W608),\"\")","v":""},"","",""]
[null,null,null,{"$f":"IF(A609>0,IF(OR(MAX($G$3:G609)-G609=0,A609=0),\"\",MAX($G$3:G609)-G609),\"\")","v":""},"","","",null,null,null,null,{"$f":"IF(I609>0,IF(OR(MAX($O$3:O609)-O609=0,I609=0),\"\",MAX($O$3:O609)-O609),\"\")","v":""},"","","",null,null,null,null,{"$f":"IF(I609>0,IF(OR(MAX($W$3:W609)-W609=0,Q609=0),\"\",MAX($W$3:W609)-W609),\"\")","v":""},"","",""]
[null,null,null,{"$f":"IF(A610>0,IF(OR(MAX($G$3:G610)-G610=0,A610=0),\"\",MAX($G$3:G610)-G610),\"\")","v":""},"","","",null,null,null,null,{"$f":"IF(I610>0,IF(OR(MAX($O$3:O610)-O610=0,I610=0),\"\",MAX($O$3:O610)-O610),\"\")","v":""},"","","",null,null,null,null,{"$f":"IF(I610>0,IF(OR(MAX($W$3:W610)-W610=0,Q610=0),\"\",MAX($W$3:W610)-W610),\"\")","v":""},"","",""]
[null,null,null,{"$f":"IF(A611>0,IF(OR(MAX($G$3:G611)-G611=0,A611=0),\"\",MAX($G$3:G611)-G611),\"\")","v":""},"","","",null,null,null,null,{"$f":"IF(I611>0,IF(OR(MAX($O$3:O611)-O611=0,I611=0),\"\",MAX($O$3:O611)-O611),\"\")","v":""},"","","",null,null,null,null,{"$f":"IF(I611>0,IF(OR(MAX($W$3:W611)-W611=0,Q611=0),\"\",MAX($W$3:W611)-W611),\"\")","v":""},"","",""]
[null,null,null,{"$f":"IF(A612>0,IF(OR(MAX($G$3:G612)-G612=0,A612=0),\"\",MAX($G$3:G612)-G612),\"\")","v":""},"","","",null,null,null,null,{"$f":"IF(I612>0,IF(OR(MAX($O$3:O612)-O612=0,I612=0),\"\",MAX($O$3:O612)-O612),\"\")","v":""},"","","",null,null,null,null,{"$f":"IF(I612>0,IF(OR(MAX($W$3:W612)-W612=0,Q612=0),\"\",MAX($W$3:W612)-W612),\"\")","v":""},"","",""]
[null,null,null,{"$f":"IF(A613>0,IF(OR(MAX($G$3:G613)-G613=0,A613=0),\"\",MAX($G$3:G613)-G613),\"\")","v":""},"","","",null,null,null,null,{"$f":"IF(I613>0,IF(OR(MAX($O$3:O613)-O613=0,I613=0),\"\",MAX($O$3:O613)-O613),\"\")","v":""},"","","",null,null,null,null,{"$f":"IF(I613>0,IF(OR(MAX($W$3:W613)-W613=0,Q613=0),\"\",MAX($W$3:W613)-W613),\"\")","v":""},"","",""]
[null,null,null,{"$f":"IF(A614>0,IF(OR(MAX($G$3:G614)-G614=0,A614=0),\"\",MAX($G$3:G614)-G614),\"\")","v":""},"","","",null,null,null,null,{"$f":"IF(I614>0,IF(OR(MAX($O$3:O614)-O614=0,I614=0),\"\",MAX($O$3:O614)-O614),\"\")","v":""},"","","",null,null,null,null,{"$f":"IF(I614>0,IF(OR(MAX($W$3:W614)-W614=0,Q614=0),\"\",MAX($W$3:W614)-W614),\"\")","v":""},"","",""]
[null,null,null,{"$f":"IF(A615>0,IF(OR(MAX($G$3:G615)-G615=0,A615=0),\"\",MAX($G$3:G615)-G615),\"\")","v":""},"","","",null,null,null,null,{"$f":"IF(I615>0,IF(OR(MAX($O$3:O615)-O615=0,I615=0),\"\",MAX($O$3:O615)-O615),\"\")","v":""},"","","",null,null,null,null,{"$f":"IF(I615>0,IF(OR(MAX($W$3:W615)-W615=0,Q615=0),\"\",MAX($W$3:W615)-W615),\"\")","v":""},"","",""]
[null,null,null,{"$f":"IF(A616>0,IF(OR(MAX($G$3:G616)-G616=0,A616=0),\"\",MAX($G$3:G616)-G616),\"\")","v":""},"","","",null,null,null,null,{"$f":"IF(I616>0,IF(OR(MAX($O$3:O616)-O616=0,I616=0),\"\",MAX($O$3:O616)-O616),\"\")","v":""},"","","",null,null,null,null,{"$f":"IF(I616>0,IF(OR(MAX($W$3:W616)-W616=0,Q616=0),\"\",MAX($W$3:W616)-W616),\"\")","v":""},"","",""]
[null,null,null,{"$f":"IF(A617>0,IF(OR(MAX($G$3:G617)-G617=0,A617=0),\"\",MAX($G$3:G617)-G617),\"\")","v":""},"","","",null,null,null,null,{"$f":"IF(I617>0,IF(OR(MAX($O$3:O617)-O617=0,I617=0),\"\",MAX($O$3:O617)-O617),\"\")","v":""},"","","",null,null,null,null,{"$f":"IF(I617>0,IF(OR(MAX($W$3:W617)-W617=0,Q617=0),\"\",MAX($W$3:W617)-W617),\"\")","v":""},"","",""]
[null,null,null,{"$f":"IF(A618>0,IF(OR(MAX($G$3:G618)-G618=0,A618=0),\"\",MAX($G$3:G618)-G618),\"\")","v":""},"","","",null,null,null,null,{"$f":"IF(I618>0,IF(OR(MAX($O$3:O618)-O618=0,I618=0),\"\",MAX($O$3:O618)-O618),\"\")","v":""},"","","",null,null,null,null,{"$f":"IF(I618>0,IF(OR(MAX($W$3:W618)-W618=0,Q618=0),\"\",MAX($W$3:W618)-W618),\"\")","v":""},"","",""]
[null,null,null,{"$f":"IF(A619>0,IF(OR(MAX($G$3:G619)-G619=0,A619=0),\"\",MAX($G$3:G619)-G619),\"\")","v":""},"","","",null,null,null,null,{"$f":"IF(I619>0,IF(OR(MAX($O$3:O619)-O619=0,I619=0),\"\",MAX($O$3:O619)-O619),\"\")","v":""},"","","",null,null,null,null,{"$f":"IF(I619>0,IF(OR(MAX($W$3:W619)-W619=0,Q619=0),\"\",MAX($W$3:W619)-W619),\"\")","v":""},"","",""]
[null,null,null,{"$f":"IF(A620>0,IF(OR(MAX($G$3:G620)-G620=0,A620=0),\"\",MAX($G$3:G620)-G620),\"\")","v":""},"","","",null,null,null,null,{"$f":"IF(I620>0,IF(OR(MAX($O$3:O620)-O620=0,I620=0),\"\",MAX($O$3:O620)-O620),\"\")","v":""},"","","",null,null,null,null,{"$f":"IF(I620>0,IF(OR(MAX($W$3:W620)-W620=0,Q620=0),\"\",MAX($W$3:W620)-W620),\"\")","v":""},"","",""]
[null,null,null,{"$f":"IF(A621>0,IF(OR(MAX($G$3:G621)-G621=0,A621=0),\"\",MAX($G$3:G621)-G621),\"\")","v":""},"","","",null,null,null,null,{"$f":"IF(I621>0,IF(OR(MAX($O$3:O621)-O621=0,I621=0),\"\",MAX($O$3:O621)-O621),\"\")","v":""},"","","",null,null,null,null,{"$f":"IF(I621>0,IF(OR(MAX($W$3:W621)-W621=0,Q621=0),\"\",MAX($W$3:W621)-W621),\"\")","v":""},"","",""]
[null,null,null,{"$f":"IF(A622>0,IF(OR(MAX($G$3:G622)-G622=0,A622=0),\"\",MAX($G$3:G622)-G622),\"\")","v":""},"","","",null,null,null,null,{"$f":"IF(I622>0,IF(OR(MAX($O$3:O622)-O622=0,I622=0),\"\",MAX($O$3:O622)-O622),\"\")","v":""},"","","",null,null,null,null,{"$f":"IF(I622>0,IF(OR(MAX($W$3:W622)-W622=0,Q622=0),\"\",MAX($W$3:W622)-W622),\"\")","v":""},"","",""]
[null,null,null,{"$f":"IF(A623>0,IF(OR(MAX($G$3:G623)-G623=0,A623=0),\"\",MAX($G$3:G623)-G623),\"\")","v":""},"","","",null,null,null,null,{"$f":"IF(I623>0,IF(OR(MAX($O$3:O623)-O623=0,I623=0),\"\",MAX($O$3:O623)-O623),\"\")","v":""},"","","",null,null,null,null,{"$f":"IF(I623>0,IF(OR(MAX($W$3:W623)-W623=0,Q623=0),\"\",MAX($W$3:W623)-W623),\"\")","v":""},"","",""]
[null,null,null,{"$f":"IF(A624>0,IF(OR(MAX($G$3:G624)-G624=0,A624=0),\"\",MAX($G$3:G624)-G624),\"\")","v":""},"","","",null,null,null,null,{"$f":"IF(I624>0,IF(OR(MAX($O$3:O624)-O624=0,I624=0),\"\",MAX($O$3:O624)-O624),\"\")","v":""},"","","",null,null,null,null,{"$f":"IF(I624>0,IF(OR(MAX($W$3:W624)-W624=0,Q624=0),\"\",MAX($W$3:W624)-W624),\"\")","v":""},"","",""]
[null,null,null,{"$f":"IF(A625>0,IF(OR(MAX($G$3:G625)-G625=0,A625=0),\"\",MAX($G$3:G625)-G625),\"\")","v":""},"","","",null,null,null,null,{"$f":"IF(I625>0,IF(OR(MAX($O$3:O625)-O625=0,I625=0),\"\",MAX($O$3:O625)-O625),\"\")","v":""},"","","",null,null,null,null,{"$f":"IF(I625>0,IF(OR(MAX($W$3:W625)-W625=0,Q625=0),\"\",MAX($W$3:W625)-W625),\"\")","v":""},"","",""]
[null,null,null,{"$f":"IF(A626>0,IF(OR(MAX($G$3:G626)-G626=0,A626=0),\"\",MAX($G$3:G626)-G626),\"\")","v":""},"","","",null,null,null,null,{"$f":"IF(I626>0,IF(OR(MAX($O$3:O626)-O626=0,I626=0),\"\",MAX($O$3:O626)-O626),\"\")","v":""},"","","",null,null,null,null,{"$f":"IF(I626>0,IF(OR(MAX($W$3:W626)-W626=0,Q626=0),\"\",MAX($W$3:W626)-W626),\"\")","v":""},"","",""]
[null,null,null,{"$f":"IF(A627>0,IF(OR(MAX($G$3:G627)-G627=0,A627=0),\"\",MAX($G$3:G627)-G627),\"\")","v":""},"","","",null,null,null,null,{"$f":"IF(I627>0,IF(OR(MAX($O$3:O627)-O627=0,I627=0),\"\",MAX($O$3:O627)-O627),\"\")","v":""},"","","",null,null,null,null,{"$f":"IF(I627>0,IF(OR(MAX($W$3:W627)-W627=0,Q627=0),\"\",MAX($W$3:W627)-W627),\"\")","v":""},"","",""]
[null,null,null,{"$f":"IF(A628>0,IF(OR(MAX($G$3:G628)-G628=0,A628=0),\"\",MAX($G$3:G628)-G628),\"\")","v":""},"","","",null,null,null,null,{"$f":"IF(I628>0,IF(OR(MAX($O$3:O628)-O628=0,I628=0),\"\",MAX($O$3:O628)-O628),\"\")","v":""},"","","",null,null,null,null,{"$f":"IF(I628>0,IF(OR(MAX($W$3:W628)-W628=0,Q628=0),\"\",MAX($W$3:W628)-W628),\"\")","v":""},"","",""]
[null,null,null,{"$f":"IF(A629>0,IF(OR(MAX($G$3:G629)-G629=0,A629=0),\"\",MAX($G$3:G629)-G629),\"\")","v":""},"","","",null,null,null,null,{"$f":"IF(I629>0,IF(OR(MAX($O$3:O629)-O629=0,I629=0),\"\",MAX($O$3:O629)-O629),\"\")","v":""},"","","",null,null,null,null,{"$f":"IF(I629>0,IF(OR(MAX($W$3:W629)-W629=0,Q629=0),\"\",MAX($W$3:W629)-W629),\"\")","v":""},"","",""]
[null,null,null,{"$f":"IF(A630>0,IF(OR(MAX($G$3:G630)-G630=0,A630=0),\"\",MAX($G$3:G630)-G630),\"\")","v":""},"","","",null,null,null,null,{"$f":"IF(I630>0,IF(OR(MAX($O$3:O630)-O630=0,I630=0),\"\",MAX($O$3:O630)-O630),\"\")","v":""},"","","",null,null,null,null,{"$f":"IF(I630>0,IF(OR(MAX($W$3:W630)-W630=0,Q630=0),\"\",MAX($W$3:W630)-W630),\"\")","v":""},"","",""]
[null,null,null,{"$f":"IF(A631>0,IF(OR(MAX($G$3:G631)-G631=0,A631=0),\"\",MAX($G$3:G631)-G631),\"\")","v":""},"","","",null,null,null,null,{"$f":"IF(I631>0,IF(OR(MAX($O$3:O631)-O631=0,I631=0),\"\",MAX($O$3:O631)-O631),\"\")","v":""},"","","",null,null,null,null,{"$f":"IF(I631>0,IF(OR(MAX($W$3:W631)-W631=0,Q631=0),\"\",MAX($W$3:W631)-W631),\"\")","v":""},"","",""]
[null,null,null,{"$f":"IF(A632>0,IF(OR(MAX($G$3:G632)-G632=0,A632=0),\"\",MAX($G$3:G632)-G632),\"\")","v":""},"","","",null,null,null,null,{"$f":"IF(I632>0,IF(OR(MAX($O$3:O632)-O632=0,I632=0),\"\",MAX($O$3:O632)-O632),\"\")","v":""},"","","",null,null,null,null,{"$f":"IF(I632>0,IF(OR(MAX($W$3:W632)-W632=0,Q632=0),\"\",MAX($W$3:W632)-W632),\"\")","v":""},"","",""]
[null,null,null,{"$f":"IF(A633>0,IF(OR(MAX($G$3:G633)-G633=0,A633=0),\"\",MAX($G$3:G633)-G633),\"\")","v":""},"","","",null,null,null,null,{"$f":"IF(I633>0,IF(OR(MAX($O$3:O633)-O633=0,I633=0),\"\",MAX($O$3:O633)-O633),\"\")","v":""},"","","",null,null,null,null,{"$f":"IF(I633>0,IF(OR(MAX($W$3:W633)-W633=0,Q633=0),\"\",MAX($W$3:W633)-W633),\"\")","v":""},"","",""]
[null,null,null,{"$f":"IF(A634>0,IF(OR(MAX($G$3:G634)-G634=0,A634=0),\"\",MAX($G$3:G634)-G634),\"\")","v":""},"","","",null,null,null,null,{"$f":"IF(I634>0,IF(OR(MAX($O$3:O634)-O634=0,I634=0),\"\",MAX($O$3:O634)-O634),\"\")","v":""},"","","",null,null,null,null,{"$f":"IF(I634>0,IF(OR(MAX($W$3:W634)-W634=0,Q634=0),\"\",MAX($W$3:W634)-W634),\"\")","v":""},"","",""]
[null,null,null,{"$f":"IF(A635>0,IF(OR(MAX($G$3:G635)-G635=0,A635=0),\"\",MAX($G$3:G635)-G635),\"\")","v":""},"","","",null,null,null,null,{"$f":"IF(I635>0,IF(OR(MAX($O$3:O635)-O635=0,I635=0),\"\",MAX($O$3:O635)-O635),\"\")","v":""},"","","",null,null,null,null,{"$f":"IF(I635>0,IF(OR(MAX($W$3:W635)-W635=0,Q635=0),\"\",MAX($W$3:W635)-W635),\"\")","v":""},"","",""]
[null,null,null,{"$f":"IF(A636>0,IF(OR(MAX($G$3:G636)-G636=0,A636=0),\"\",MAX($G$3:G636)-G636),\"\")","v":""},"","","",null,null,null,null,{"$f":"IF(I636>0,IF(OR(MAX($O$3:O636)-O636=0,I636=0),\"\",MAX($O$3:O636)-O636),\"\")","v":""},"","","",null,null,null,null,{"$f":"IF(I636>0,IF(OR(MAX($W$3:W636)-W636=0,Q636=0),\"\",MAX($W$3:W636)-W636),\"\")","v":""},"","",""]
[null,null,null,{"$f":"IF(A637>0,IF(OR(MAX($G$3:G637)-G637=0,A637=0),\"\",MAX($G$3:G637)-G637),\"\")","v":""},"","","",null,null,null,null,{"$f":"IF(I637>0,IF(OR(MAX($O$3:O637)-O637=0,I637=0),\"\",MAX($O$3:O637)-O637),\"\")","v":""},"","","",null,null,null,null,{"$f":"IF(I637>0,IF(OR(MAX($W$3:W637)-W637=0,Q637=0),\"\",MAX($W$3:W637)-W637),\"\")","v":""},"","",""]
[null,null,null,{"$f":"IF(A638>0,IF(OR(MAX($G$3:G638)-G638=0,A638=0),\"\",MAX($G$3:G638)-G638),\"\")","v":""},"","","",null,null,null,null,{"$f":"IF(I638>0,IF(OR(MAX($O$3:O638)-O638=0,I638=0),\"\",MAX($O$3:O638)-O638),\"\")","v":""},"","","",null,null,null,null,{"$f":"IF(I638>0,IF(OR(MAX($W$3:W638)-W638=0,Q638=0),\"\",MAX($W$3:W638)-W638),\"\")","v":""},"","",""]
[null,null,null,{"$f":"IF(A639>0,IF(OR(MAX($G$3:G639)-G639=0,A639=0),\"\",MAX($G$3:G639)-G639),\"\")","v":""},"","","",null,null,null,null,{"$f":"IF(I639>0,IF(OR(MAX($O$3:O639)-O639=0,I639=0),\"\",MAX($O$3:O639)-O639),\"\")","v":""},"","","",null,null,null,null,{"$f":"IF(I639>0,IF(OR(MAX($W$3:W639)-W639=0,Q639=0),\"\",MAX($W$3:W639)-W639),\"\")","v":""},"","",""]
[null,null,null,{"$f":"IF(A640>0,IF(OR(MAX($G$3:G640)-G640=0,A640=0),\"\",MAX($G$3:G640)-G640),\"\")","v":""},"","","",null,null,null,null,{"$f":"IF(I640>0,IF(OR(MAX($O$3:O640)-O640=0,I640=0),\"\",MAX($O$3:O640)-O640),\"\")","v":""},"","","",null,null,null,null,{"$f":"IF(I640>0,IF(OR(MAX($W$3:W640)-W640=0,Q640=0),\"\",MAX($W$3:W640)-W640),\"\")","v":""},"","",""]
[null,null,null,{"$f":"IF(A641>0,IF(OR(MAX($G$3:G641)-G641=0,A641=0),\"\",MAX($G$3:G641)-G641),\"\")","v":""},"","","",null,null,null,null,{"$f":"IF(I641>0,IF(OR(MAX($O$3:O641)-O641=0,I641=0),\"\",MAX($O$3:O641)-O641),\"\")","v":""},"","","",null,null,null,null,{"$f":"IF(I641>0,IF(OR(MAX($W$3:W641)-W641=0,Q641=0),\"\",MAX($W$3:W641)-W641),\"\")","v":""},"","",""]
[null,null,null,{"$f":"IF(A642>0,IF(OR(MAX($G$3:G642)-G642=0,A642=0),\"\",MAX($G$3:G642)-G642),\"\")","v":""},"","","",null,null,null,null,{"$f":"IF(I642>0,IF(OR(MAX($O$3:O642)-O642=0,I642=0),\"\",MAX($O$3:O642)-O642),\"\")","v":""},"","","",null,null,null,null,{"$f":"IF(I642>0,IF(OR(MAX($W$3:W642)-W642=0,Q642=0),\"\",MAX($W$3:W642)-W642),\"\")","v":""},"","",""]
[null,null,null,{"$f":"IF(A643>0,IF(OR(MAX($G$3:G643)-G643=0,A643=0),\"\",MAX($G$3:G643)-G643),\"\")","v":""},"","","",null,null,null,null,{"$f":"IF(I643>0,IF(OR(MAX($O$3:O643)-O643=0,I643=0),\"\",MAX($O$3:O643)-O643),\"\")","v":""},"","","",null,null,null,null,{"$f":"IF(I643>0,IF(OR(MAX($W$3:W643)-W643=0,Q643=0),\"\",MAX($W$3:W643)-W643),\"\")","v":""},"","",""]
[null,null,null,{"$f":"IF(A644>0,IF(OR(MAX($G$3:G644)-G644=0,A644=0),\"\",MAX($G$3:G644)-G644),\"\")","v":""},"","","",null,null,null,null,{"$f":"IF(I644>0,IF(OR(MAX($O$3:O644)-O644=0,I644=0),\"\",MAX($O$3:O644)-O644),\"\")","v":""},"","","",null,null,null,null,{"$f":"IF(I644>0,IF(OR(MAX($W$3:W644)-W644=0,Q644=0),\"\",MAX($W$3:W644)-W644),\"\")","v":""},"","",""]
[null,null,null,{"$f":"IF(A645>0,IF(OR(MAX($G$3:G645)-G645=0,A645=0),\"\",MAX($G$3:G645)-G645),\"\")","v":""},"","","",null,null,null,null,{"$f":"IF(I645>0,IF(OR(MAX($O$3:O645)-O645=0,I645=0),\"\",MAX($O$3:O645)-O645),\"\")","v":""},"","","",null,null,null,null,{"$f":"IF(I645>0,IF(OR(MAX($W$3:W645)-W645=0,Q645=0),\"\",MAX($W$3:W645)-W645),\"\")","v":""},"","",""]
[null,null,null,{"$f":"IF(A646>0,IF(OR(MAX($G$3:G646)-G646=0,A646=0),\"\",MAX($G$3:G646)-G646),\"\")","v":""},"","","",null,null,null,null,{"$f":"IF(I646>0,IF(OR(MAX($O$3:O646)-O646=0,I646=0),\"\",MAX($O$3:O646)-O646),\"\")","v":""},{"$f":"IF(L646=\"\",\"\",L646/(N646+O645))","v":""},{"$f":"IF(I646>0,N645+K646,\"\")","v":""},{"$f":"IF(I646>0,O645+K646,\"\")","v":""},null,null,null,null,{"$f":"IF(I646>0,IF(OR(MAX($W$3:W646)-W646=0,Q646=0),\"\",MAX($W$3:W646)-W646),\"\")","v":""},{"$f":"IF(T646=\"\",\"\",T646/(V646+W645))","v":""},{"$f":"IF(Q646>0,V645+S646,\"\")","v":""},{"$f":"IF(Q646>0,W645+S646,\"\")","v":""}]
[null,null,null,{"$f":"IF(A647>0,IF(OR(MAX($G$3:G647)-G647=0,A647=0),\"\",MAX($G$3:G647)-G647),\"\")","v":""},"","","",null,null,null,null,{"$f":"IF(I647>0,IF(OR(MAX($O$3:O647)-O647=0,I647=0),\"\",MAX($O$3:O647)-O647),\"\")","v":""},"","","",null,null,null,null,{"$f":"IF(I647>0,IF(OR(MAX($W$3:W647)-W647=0,Q647=0),\"\",MAX($W$3:W647)-W647),\"\")","v":""},"","",""]
[null,null,null,{"$f":"IF(A648>0,IF(OR(MAX($G$3:G648)-G648=0,A648=0),\"\",MAX($G$3:G648)-G648),\"\")","v":""},{"$f":"IF(D648=\"\",\"\",D648/(F648+G647))","v":""},{"$f":"IF(A648>0,F647+C648,\"\")","v":""},{"$f":"IF(A648>0,G647+C648,\"\")","v":""},null,null,null,null,{"$f":"IF(I648>0,IF(OR(MAX($O$3:O648)-O648=0,I648=0),\"\",MAX($O$3:O648)-O648),\"\")","v":""},"","","",null,null,null,null,{"$f":"IF(I648>0,IF(OR(MAX($W$3:W648)-W648=0,Q648=0),\"\",MAX($W$3:W648)-W648),\"\")","v":""},"","",""]
[null,null,null,{"$f":"IF(A649>0,IF(OR(MAX($G$3:G649)-G649=0,A649=0),\"\",MAX($G$3:G649)-G649),\"\")","v":""},"","","",null,null,null,null,{"$f":"IF(I649>0,IF(OR(MAX($O$3:O649)-O649=0,I649=0),\"\",MAX($O$3:O649)-O649),\"\")","v":""},"","","",null,null,null,null,{"$f":"IF(I649>0,IF(OR(MAX($W$3:W649)-W649=0,Q649=0),\"\",MAX($W$3:W649)-W649),\"\")","v":""},"","",""]
[null,null,null,{"$f":"IF(A650>0,IF(OR(MAX($G$3:G650)-G650=0,A650=0),\"\",MAX($G$3:G650)-G650),\"\")","v":""},"","","",null,null,null,null,{"$f":"IF(I650>0,IF(OR(MAX($O$3:O650)-O650=0,I650=0),\"\",MAX($O$3:O650)-O650),\"\")","v":""},"","","",null,null,null,null,{"$f":"IF(I650>0,IF(OR(MAX($W$3:W650)-W650=0,Q650=0),\"\",MAX($W$3:W650)-W650),\"\")","v":""},"","",""]
[null,null,null,{"$f":"IF(A651>0,IF(OR(MAX($G$3:G651)-G651=0,A651=0),\"\",MAX($G$3:G651)-G651),\"\")","v":""},"","","",null,null,null,null,{"$f":"IF(I651>0,IF(OR(MAX($O$3:O651)-O651=0,I651=0),\"\",MAX($O$3:O651)-O651),\"\")","v":""},"","","",null,null,null,null,{"$f":"IF(I651>0,IF(OR(MAX($W$3:W651)-W651=0,Q651=0),\"\",MAX($W$3:W651)-W651),\"\")","v":""},"","",""]
[null,null,null,{"$f":"IF(A652>0,IF(OR(MAX($G$3:G652)-G652=0,A652=0),\"\",MAX($G$3:G652)-G652),\"\")","v":""},"","","",null,null,null,null,{"$f":"IF(I652>0,IF(OR(MAX($O$3:O652)-O652=0,I652=0),\"\",MAX($O$3:O652)-O652),\"\")","v":""},"","","",null,null,null,null,{"$f":"IF(I652>0,IF(OR(MAX($W$3:W652)-W652=0,Q652=0),\"\",MAX($W$3:W652)-W652),\"\")","v":""},"","",""]
[null,null,null,{"$f":"IF(A653>0,IF(OR(MAX($G$3:G653)-G653=0,A653=0),\"\",MAX($G$3:G653)-G653),\"\")","v":""},"","","",null,null,null,null,{"$f":"IF(I653>0,IF(OR(MAX($O$3:O653)-O653=0,I653=0),\"\",MAX($O$3:O653)-O653),\"\")","v":""},"","","",null,null,null,null,{"$f":"IF(I653>0,IF(OR(MAX($W$3:W653)-W653=0,Q653=0),\"\",MAX($W$3:W653)-W653),\"\")","v":""},"","",""]
[null,null,null,{"$f":"IF(A654>0,IF(OR(MAX($G$3:G654)-G654=0,A654=0),\"\",MAX($G$3:G654)-G654),\"\")","v":""},"","","",null,null,null,null,{"$f":"IF(I654>0,IF(OR(MAX($O$3:O654)-O654=0,I654=0),\"\",MAX($O$3:O654)-O654),\"\")","v":""},"","","",null,null,null,null,{"$f":"IF(I654>0,IF(OR(MAX($W$3:W654)-W654=0,Q654=0),\"\",MAX($W$3:W654)-W654),\"\")","v":""},"","",""]
[null,null,null,{"$f":"IF(A655>0,IF(OR(MAX($G$3:G655)-G655=0,A655=0),\"\",MAX($G$3:G655)-G655),\"\")","v":""},"","","",null,null,null,null,{"$f":"IF(I655>0,IF(OR(MAX($O$3:O655)-O655=0,I655=0),\"\",MAX($O$3:O655)-O655),\"\")","v":""},"","","",null,null,null,null,{"$f":"IF(I655>0,IF(OR(MAX($W$3:W655)-W655=0,Q655=0),\"\",MAX($W$3:W655)-W655),\"\")","v":""},"","",""]
[null,null,null,{"$f":"IF(A656>0,IF(OR(MAX($G$3:G656)-G656=0,A656=0),\"\",MAX($G$3:G656)-G656),\"\")","v":""},"","","",null,null,null,null,{"$f":"IF(I656>0,IF(OR(MAX($O$3:O656)-O656=0,I656=0),\"\",MAX($O$3:O656)-O656),\"\")","v":""},"","","",null,null,null,null,{"$f":"IF(I656>0,IF(OR(MAX($W$3:W656)-W656=0,Q656=0),\"\",MAX($W$3:W656)-W656),\"\")","v":""},"","",""]
[null,null,null,{"$f":"IF(A657>0,IF(OR(MAX($G$3:G657)-G657=0,A657=0),\"\",MAX($G$3:G657)-G657),\"\")","v":""},"","","",null,null,null,null,{"$f":"IF(I657>0,IF(OR(MAX($O$3:O657)-O657=0,I657=0),\"\",MAX($O$3:O657)-O657),\"\")","v":""},"","","",null,null,null,null,{"$f":"IF(I657>0,IF(OR(MAX($W$3:W657)-W657=0,Q657=0),\"\",MAX($W$3:W657)-W657),\"\")","v":""},"","",""]
[null,null,null,{"$f":"IF(A658>0,IF(OR(MAX($G$3:G658)-G658=0,A658=0),\"\",MAX($G$3:G658)-G658),\"\")","v":""},"","","",null,null,null,null,{"$f":"IF(I658>0,IF(OR(MAX($O$3:O658)-O658=0,I658=0),\"\",MAX($O$3:O658)-O658),\"\")","v":""},"","","",null,null,null,null,{"$f":"IF(I658>0,IF(OR(MAX($W$3:W658)-W658=0,Q658=0),\"\",MAX($W$3:W658)-W658),\"\")","v":""},"","",""]
[null,null,null,{"$f":"IF(A659>0,IF(OR(MAX($G$3:G659)-G659=0,A659=0),\"\",MAX($G$3:G659)-G659),\"\")","v":""},"","","",null,null,null,null,{"$f":"IF(I659>0,IF(OR(MAX($O$3:O659)-O659=0,I659=0),\"\",MAX($O$3:O659)-O659),\"\")","v":""},"","","",null,null,null,null,{"$f":"IF(I659>0,IF(OR(MAX($W$3:W659)-W659=0,Q659=0),\"\",MAX($W$3:W659)-W659),\"\")","v":""},"","",""]
[null,null,null,{"$f":"IF(A660>0,IF(OR(MAX($G$3:G660)-G660=0,A660=0),\"\",MAX($G$3:G660)-G660),\"\")","v":""},"","","",null,null,null,null,{"$f":"IF(I660>0,IF(OR(MAX($O$3:O660)-O660=0,I660=0),\"\",MAX($O$3:O660)-O660),\"\")","v":""},"","","",null,null,null,null,{"$f":"IF(I660>0,IF(OR(MAX($W$3:W660)-W660=0,Q660=0),\"\",MAX($W$3:W660)-W660),\"\")","v":""},"","",""]
[null,null,null,{"$f":"IF(A661>0,IF(OR(MAX($G$3:G661)-G661=0,A661=0),\"\",MAX($G$3:G661)-G661),\"\")","v":""},"","","",null,null,null,null,{"$f":"IF(I661>0,IF(OR(MAX($O$3:O661)-O661=0,I661=0),\"\",MAX($O$3:O661)-O661),\"\")","v":""},"","","",null,null,null,null,{"$f":"IF(I661>0,IF(OR(MAX($W$3:W661)-W661=0,Q661=0),\"\",MAX($W$3:W661)-W661),\"\")","v":""},"","",""]
[null,null,null,{"$f":"IF(A662>0,IF(OR(MAX($G$3:G662)-G662=0,A662=0),\"\",MAX($G$3:G662)-G662),\"\")","v":""},"","","",null,null,null,null,{"$f":"IF(I662>0,IF(OR(MAX($O$3:O662)-O662=0,I662=0),\"\",MAX($O$3:O662)-O662),\"\")","v":""},"","","",null,null,null,null,{"$f":"IF(I662>0,IF(OR(MAX($W$3:W662)-W662=0,Q662=0),\"\",MAX($W$3:W662)-W662),\"\")","v":""},"","",""]
[null,null,null,{"$f":"IF(A663>0,IF(OR(MAX($G$3:G663)-G663=0,A663=0),\"\",MAX($G$3:G663)-G663),\"\")","v":""},"","","",null,null,null,null,{"$f":"IF(I663>0,IF(OR(MAX($O$3:O663)-O663=0,I663=0),\"\",MAX($O$3:O663)-O663),\"\")","v":""},"","","",null,null,null,null,{"$f":"IF(I663>0,IF(OR(MAX($W$3:W663)-W663=0,Q663=0),\"\",MAX($W$3:W663)-W663),\"\")","v":""},"","",""]
[null,null,null,{"$f":"IF(A664>0,IF(OR(MAX($G$3:G664)-G664=0,A664=0),\"\",MAX($G$3:G664)-G664),\"\")","v":""},"","","",null,null,null,null,{"$f":"IF(I664>0,IF(OR(MAX($O$3:O664)-O664=0,I664=0),\"\",MAX($O$3:O664)-O664),\"\")","v":""},"","","",null,null,null,null,{"$f":"IF(I664>0,IF(OR(MAX($W$3:W664)-W664=0,Q664=0),\"\",MAX($W$3:W664)-W664),\"\")","v":""},"","",""]
[null,null,null,{"$f":"IF(A665>0,IF(OR(MAX($G$3:G665)-G665=0,A665=0),\"\",MAX($G$3:G665)-G665),\"\")","v":""},"","","",null,null,null,null,{"$f":"IF(I665>0,IF(OR(MAX($O$3:O665)-O665=0,I665=0),\"\",MAX($O$3:O665)-O665),\"\")","v":""},"","","",null,null,null,null,{"$f":"IF(I665>0,IF(OR(MAX($W$3:W665)-W665=0,Q665=0),\"\",MAX($W$3:W665)-W665),\"\")","v":""},"","",""]
[null,null,null,{"$f":"IF(A666>0,IF(OR(MAX($G$3:G666)-G666=0,A666=0),\"\",MAX($G$3:G666)-G666),\"\")","v":""},"","","",null,null,null,null,{"$f":"IF(I666>0,IF(OR(MAX($O$3:O666)-O666=0,I666=0),\"\",MAX($O$3:O666)-O666),\"\")","v":""},"","","",null,null,null,null,{"$f":"IF(I666>0,IF(OR(MAX($W$3:W666)-W666=0,Q666=0),\"\",MAX($W$3:W666)-W666),\"\")","v":""},"","",""]
[null,null,null,{"$f":"IF(A667>0,IF(OR(MAX($G$3:G667)-G667=0,A667=0),\"\",MAX($G$3:G667)-G667),\"\")","v":""},"","","",null,null,null,null,{"$f":"IF(I667>0,IF(OR(MAX($O$3:O667)-O667=0,I667=0),\"\",MAX($O$3:O667)-O667),\"\")","v":""},"","","",null,null,null,null,{"$f":"IF(I667>0,IF(OR(MAX($W$3:W667)-W667=0,Q667=0),\"\",MAX($W$3:W667)-W667),\"\")","v":""},"","",""]
[null,null,null,{"$f":"IF(A668>0,IF(OR(MAX($G$3:G668)-G668=0,A668=0),\"\",MAX($G$3:G668)-G668),\"\")","v":""},"","","",null,null,null,null,{"$f":"IF(I668>0,IF(OR(MAX($O$3:O668)-O668=0,I668=0),\"\",MAX($O$3:O668)-O668),\"\")","v":""},"","","",null,null,null,null,{"$f":"IF(I668>0,IF(OR(MAX($W$3:W668)-W668=0,Q668=0),\"\",MAX($W$3:W668)-W668),\"\")","v":""},"","",""]
[null,null,null,{"$f":"IF(A669>0,IF(OR(MAX($G$3:G669)-G669=0,A669=0),\"\",MAX($G$3:G669)-G669),\"\")","v":""},"","","",null,null,null,null,{"$f":"IF(I669>0,IF(OR(MAX($O$3:O669)-O669=0,I669=0),\"\",MAX($O$3:O669)-O669),\"\")","v":""},"","","",null,null,null,null,{"$f":"IF(I669>0,IF(OR(MAX($W$3:W669)-W669=0,Q669=0),\"\",MAX($W$3:W669)-W669),\"\")","v":""},"","",""]
[null,null,null,{"$f":"IF(A670>0,IF(OR(MAX($G$3:G670)-G670=0,A670=0),\"\",MAX($G$3:G670)-G670),\"\")","v":""},"","","",null,null,null,null,{"$f":"IF(I670>0,IF(OR(MAX($O$3:O670)-O670=0,I670=0),\"\",MAX($O$3:O670)-O670),\"\")","v":""},"","","",null,null,null,null,{"$f":"IF(I670>0,IF(OR(MAX($W$3:W670)-W670=0,Q670=0),\"\",MAX($W$3:W670)-W670),\"\")","v":""},"","",""]
[null,null,null,{"$f":"IF(A671>0,IF(OR(MAX($G$3:G671)-G671=0,A671=0),\"\",MAX($G$3:G671)-G671),\"\")","v":""},"","","",null,null,null,null,{"$f":"IF(I671>0,IF(OR(MAX($O$3:O671)-O671=0,I671=0),\"\",MAX($O$3:O671)-O671),\"\")","v":""},"","","",null,null,null,null,{"$f":"IF(I671>0,IF(OR(MAX($W$3:W671)-W671=0,Q671=0),\"\",MAX($W$3:W671)-W671),\"\")","v":""},"","",""]
[null,null,null,{"$f":"IF(A672>0,IF(OR(MAX($G$3:G672)-G672=0,A672=0),\"\",MAX($G$3:G672)-G672),\"\")","v":""},"","","",null,null,null,null,{"$f":"IF(I672>0,IF(OR(MAX($O$3:O672)-O672=0,I672=0),\"\",MAX($O$3:O672)-O672),\"\")","v":""},"","","",null,null,null,null,{"$f":"IF(I672>0,IF(OR(MAX($W$3:W672)-W672=0,Q672=0),\"\",MAX($W$3:W672)-W672),\"\")","v":""},"","",""]
[null,null,null,{"$f":"IF(A673>0,IF(OR(MAX($G$3:G673)-G673=0,A673=0),\"\",MAX($G$3:G673)-G673),\"\")","v":""},"","","",null,null,null,null,{"$f":"IF(I673>0,IF(OR(MAX($O$3:O673)-O673=0,I673=0),\"\",MAX($O$3:O673)-O673),\"\")","v":""},"","","",null,null,null,null,{"$f":"IF(I673>0,IF(OR(MAX($W$3:W673)-W673=0,Q673=0),\"\",MAX($W$3:W673)-W673),\"\")","v":""},"","",""]
[null,null,null,{"$f":"IF(A674>0,IF(OR(MAX($G$3:G674)-G674=0,A674=0),\"\",MAX($G$3:G674)-G674),\"\")","v":""},"","","",null,null,null,null,{"$f":"IF(I674>0,IF(OR(MAX($O$3:O674)-O674=0,I674=0),\"\",MAX($O$3:O674)-O674),\"\")","v":""},"","","",null,null,null,null,{"$f":"IF(I674>0,IF(OR(MAX($W$3:W674)-W674=0,Q674=0),\"\",MAX($W$3:W674)-W674),\"\")","v":""},"","",""]
[null,null,null,{"$f":"IF(A675>0,IF(OR(MAX($G$3:G675)-G675=0,A675=0),\"\",MAX($G$3:G675)-G675),\"\")","v":""},"","","",null,null,null,null,{"$f":"IF(I675>0,IF(OR(MAX($O$3:O675)-O675=0,I675=0),\"\",MAX($O$3:O675)-O675),\"\")","v":""},"","","",null,null,null,null,{"$f":"IF(I675>0,IF(OR(MAX($W$3:W675)-W675=0,Q675=0),\"\",MAX($W$3:W675)-W675),\"\")","v":""},"","",""]
[null,null,null,{"$f":"IF(A676>0,IF(OR(MAX($G$3:G676)-G676=0,A676=0),\"\",MAX($G$3:G676)-G676),\"\")","v":""},"","","",null,null,null,null,{"$f":"IF(I676>0,IF(OR(MAX($O$3:O676)-O676=0,I676=0),\"\",MAX($O$3:O676)-O676),\"\")","v":""},"","","",null,null,null,null,{"$f":"IF(I676>0,IF(OR(MAX($W$3:W676)-W676=0,Q676=0),\"\",MAX($W$3:W676)-W676),\"\")","v":""},"","",""]
[null,null,null,{"$f":"IF(A677>0,IF(OR(MAX($G$3:G677)-G677=0,A677=0),\"\",MAX($G$3:G677)-G677),\"\")","v":""},"","","",null,null,null,null,{"$f":"IF(I677>0,IF(OR(MAX($O$3:O677)-O677=0,I677=0),\"\",MAX($O$3:O677)-O677),\"\")","v":""},"","","",null,null,null,null,{"$f":"IF(I677>0,IF(OR(MAX($W$3:W677)-W677=0,Q677=0),\"\",MAX($W$3:W677)-W677),\"\")","v":""},"","",""]
[null,null,null,{"$f":"IF(A678>0,IF(OR(MAX($G$3:G678)-G678=0,A678=0),\"\",MAX($G$3:G678)-G678),\"\")","v":""},"","","",null,null,null,null,{"$f":"IF(I678>0,IF(OR(MAX($O$3:O678)-O678=0,I678=0),\"\",MAX($O$3:O678)-O678),\"\")","v":""},"","","",null,null,null,null,{"$f":"IF(I678>0,IF(OR(MAX($W$3:W678)-W678=0,Q678=0),\"\",MAX($W$3:W678)-W678),\"\")","v":""},"","",""]
[null,null,null,{"$f":"IF(A679>0,IF(OR(MAX($G$3:G679)-G679=0,A679=0),\"\",MAX($G$3:G679)-G679),\"\")","v":""},"","","",null,null,null,null,{"$f":"IF(I679>0,IF(OR(MAX($O$3:O679)-O679=0,I679=0),\"\",MAX($O$3:O679)-O679),\"\")","v":""},"","","",null,null,null,null,{"$f":"IF(I679>0,IF(OR(MAX($W$3:W679)-W679=0,Q679=0),\"\",MAX($W$3:W679)-W679),\"\")","v":""},"","",""]
[null,null,null,{"$f":"IF(A680>0,IF(OR(MAX($G$3:G680)-G680=0,A680=0),\"\",MAX($G$3:G680)-G680),\"\")","v":""},"","","",null,null,null,null,{"$f":"IF(I680>0,IF(OR(MAX($O$3:O680)-O680=0,I680=0),\"\",MAX($O$3:O680)-O680),\"\")","v":""},"","","",null,null,null,null,{"$f":"IF(I680>0,IF(OR(MAX($W$3:W680)-W680=0,Q680=0),\"\",MAX($W$3:W680)-W680),\"\")","v":""},"","",""]
[null,null,null,{"$f":"IF(A681>0,IF(OR(MAX($G$3:G681)-G681=0,A681=0),\"\",MAX($G$3:G681)-G681),\"\")","v":""},"","","",null,null,null,null,{"$f":"IF(I681>0,IF(OR(MAX($O$3:O681)-O681=0,I681=0),\"\",MAX($O$3:O681)-O681),\"\")","v":""},"","","",null,null,null,null,{"$f":"IF(I681>0,IF(OR(MAX($W$3:W681)-W681=0,Q681=0),\"\",MAX($W$3:W681)-W681),\"\")","v":""},"","",""]
[null,null,null,{"$f":"IF(A682>0,IF(OR(MAX($G$3:G682)-G682=0,A682=0),\"\",MAX($G$3:G682)-G682),\"\")","v":""},"","","",null,null,null,null,{"$f":"IF(I682>0,IF(OR(MAX($O$3:O682)-O682=0,I682=0),\"\",MAX($O$3:O682)-O682),\"\")","v":""},"","","",null,null,null,null,{"$f":"IF(I682>0,IF(OR(MAX($W$3:W682)-W682=0,Q682=0),\"\",MAX($W$3:W682)-W682),\"\")","v":""},"","",""]
[null,null,null,{"$f":"IF(A683>0,IF(OR(MAX($G$3:G683)-G683=0,A683=0),\"\",MAX($G$3:G683)-G683),\"\")","v":""},"","","",null,null,null,null,{"$f":"IF(I683>0,IF(OR(MAX($O$3:O683)-O683=0,I683=0),\"\",MAX($O$3:O683)-O683),\"\")","v":""},"","","",null,null,null,null,{"$f":"IF(I683>0,IF(OR(MAX($W$3:W683)-W683=0,Q683=0),\"\",MAX($W$3:W683)-W683),\"\")","v":""},"","",""]
[null,null,null,{"$f":"IF(A684>0,IF(OR(MAX($G$3:G684)-G684=0,A684=0),\"\",MAX($G$3:G684)-G684),\"\")","v":""},"","","",null,null,null,null,{"$f":"IF(I684>0,IF(OR(MAX($O$3:O684)-O684=0,I684=0),\"\",MAX($O$3:O684)-O684),\"\")","v":""},"","","",null,null,null,null,{"$f":"IF(I684>0,IF(OR(MAX($W$3:W684)-W684=0,Q684=0),\"\",MAX($W$3:W684)-W684),\"\")","v":""},"","",""]
[null,null,null,{"$f":"IF(A685>0,IF(OR(MAX($G$3:G685)-G685=0,A685=0),\"\",MAX($G$3:G685)-G685),\"\")","v":""},"","","",null,null,null,null,{"$f":"IF(I685>0,IF(OR(MAX($O$3:O685)-O685=0,I685=0),\"\",MAX($O$3:O685)-O685),\"\")","v":""},"","","",null,null,null,null,{"$f":"IF(I685>0,IF(OR(MAX($W$3:W685)-W685=0,Q685=0),\"\",MAX($W$3:W685)-W685),\"\")","v":""},"","",""]
[null,null,null,{"$f":"IF(A686>0,IF(OR(MAX($G$3:G686)-G686=0,A686=0),\"\",MAX($G$3:G686)-G686),\"\")","v":""},"","","",null,null,null,null,{"$f":"IF(I686>0,IF(OR(MAX($O$3:O686)-O686=0,I686=0),\"\",MAX($O$3:O686)-O686),\"\")","v":""},"","","",null,null,null,null,{"$f":"IF(I686>0,IF(OR(MAX($W$3:W686)-W686=0,Q686=0),\"\",MAX($W$3:W686)-W686),\"\")","v":""},"","",""]
[null,null,null,{"$f":"IF(A687>0,IF(OR(MAX($G$3:G687)-G687=0,A687=0),\"\",MAX($G$3:G687)-G687),\"\")","v":""},"","","",null,null,null,null,{"$f":"IF(I687>0,IF(OR(MAX($O$3:O687)-O687=0,I687=0),\"\",MAX($O$3:O687)-O687),\"\")","v":""},"","","",null,null,null,null,{"$f":"IF(I687>0,IF(OR(MAX($W$3:W687)-W687=0,Q687=0),\"\",MAX($W$3:W687)-W687),\"\")","v":""},"","",""]
[null,null,null,{"$f":"IF(A688>0,IF(OR(MAX($G$3:G688)-G688=0,A688=0),\"\",MAX($G$3:G688)-G688),\"\")","v":""},"","","",null,null,null,null,{"$f":"IF(I688>0,IF(OR(MAX($O$3:O688)-O688=0,I688=0),\"\",MAX($O$3:O688)-O688),\"\")","v":""},"","","",null,null,null,null,{"$f":"IF(I688>0,IF(OR(MAX($W$3:W688)-W688=0,Q688=0),\"\",MAX($W$3:W688)-W688),\"\")","v":""},"","",""]
[null,null,null,{"$f":"IF(A689>0,IF(OR(MAX($G$3:G689)-G689=0,A689=0),\"\",MAX($G$3:G689)-G689),\"\")","v":""},"","","",null,null,null,null,{"$f":"IF(I689>0,IF(OR(MAX($O$3:O689)-O689=0,I689=0),\"\",MAX($O$3:O689)-O689),\"\")","v":""},"","","",null,null,null,null,{"$f":"IF(I689>0,IF(OR(MAX($W$3:W689)-W689=0,Q689=0),\"\",MAX($W$3:W689)-W689),\"\")","v":""},"","",""]
[null,null,null,{"$f":"IF(A690>0,IF(OR(MAX($G$3:G690)-G690=0,A690=0),\"\",MAX($G$3:G690)-G690),\"\")","v":""},"","","",null,null,null,null,{"$f":"IF(I690>0,IF(OR(MAX($O$3:O690)-O690=0,I690=0),\"\",MAX($O$3:O690)-O690),\"\")","v":""},"","","",null,null,null,null,{"$f":"IF(I690>0,IF(OR(MAX($W$3:W690)-W690=0,Q690=0),\"\",MAX($W$3:W690)-W690),\"\")","v":""},"","",""]
[null,null,null,{"$f":"IF(A691>0,IF(OR(MAX($G$3:G691)-G691=0,A691=0),\"\",MAX($G$3:G691)-G691),\"\")","v":""},"","","",null,null,null,null,{"$f":"IF(I691>0,IF(OR(MAX($O$3:O691)-O691=0,I691=0),\"\",MAX($O$3:O691)-O691),\"\")","v":""},"","","",null,null,null,null,{"$f":"IF(I691>0,IF(OR(MAX($W$3:W691)-W691=0,Q691=0),\"\",MAX($W$3:W691)-W691),\"\")","v":""},"","",""]
[null,null,null,{"$f":"IF(A692>0,IF(OR(MAX($G$3:G692)-G692=0,A692=0),\"\",MAX($G$3:G692)-G692),\"\")","v":""},"","","",null,null,null,null,{"$f":"IF(I692>0,IF(OR(MAX($O$3:O692)-O692=0,I692=0),\"\",MAX($O$3:O692)-O692),\"\")","v":""},"","","",null,null,null,null,{"$f":"IF(I692>0,IF(OR(MAX($W$3:W692)-W692=0,Q692=0),\"\",MAX($W$3:W692)-W692),\"\")","v":""},"","",""]
[null,null,null,{"$f":"IF(A693>0,IF(OR(MAX($G$3:G693)-G693=0,A693=0),\"\",MAX($G$3:G693)-G693),\"\")","v":""},"","","",null,null,null,null,{"$f":"IF(I693>0,IF(OR(MAX($O$3:O693)-O693=0,I693=0),\"\",MAX($O$3:O693)-O693),\"\")","v":""},"","","",null,null,null,null,{"$f":"IF(I693>0,IF(OR(MAX($W$3:W693)-W693=0,Q693=0),\"\",MAX($W$3:W693)-W693),\"\")","v":""},"","",""]
[null,null,null,{"$f":"IF(A694>0,IF(OR(MAX($G$3:G694)-G694=0,A694=0),\"\",MAX($G$3:G694)-G694),\"\")","v":""},"","","",null,null,null,null,{"$f":"IF(I694>0,IF(OR(MAX($O$3:O694)-O694=0,I694=0),\"\",MAX($O$3:O694)-O694),\"\")","v":""},"","","",null,null,null,null,{"$f":"IF(I694>0,IF(OR(MAX($W$3:W694)-W694=0,Q694=0),\"\",MAX($W$3:W694)-W694),\"\")","v":""},"","",""]
[null,null,null,{"$f":"IF(A695>0,IF(OR(MAX($G$3:G695)-G695=0,A695=0),\"\",MAX($G$3:G695)-G695),\"\")","v":""},"","","",null,null,null,null,{"$f":"IF(I695>0,IF(OR(MAX($O$3:O695)-O695=0,I695=0),\"\",MAX($O$3:O695)-O695),\"\")","v":""},"","","",null,null,null,null,{"$f":"IF(I695>0,IF(OR(MAX($W$3:W695)-W695=0,Q695=0),\"\",MAX($W$3:W695)-W695),\"\")","v":""},"","",""]
[null,null,null,{"$f":"IF(A696>0,IF(OR(MAX($G$3:G696)-G696=0,A696=0),\"\",MAX($G$3:G696)-G696),\"\")","v":""},"","","",null,null,null,null,{"$f":"IF(I696>0,IF(OR(MAX($O$3:O696)-O696=0,I696=0),\"\",MAX($O$3:O696)-O696),\"\")","v":""},"","","",null,null,null,null,{"$f":"IF(I696>0,IF(OR(MAX($W$3:W696)-W696=0,Q696=0),\"\",MAX($W$3:W696)-W696),\"\")","v":""},"","",""]
[null,null,null,{"$f":"IF(A697>0,IF(OR(MAX($G$3:G697)-G697=0,A697=0),\"\",MAX($G$3:G697)-G697),\"\")","v":""},"","","",null,null,null,null,{"$f":"IF(I697>0,IF(OR(MAX($O$3:O697)-O697=0,I697=0),\"\",MAX($O$3:O697)-O697),\"\")","v":""},"","","",null,null,null,null,{"$f":"IF(I697>0,IF(OR(MAX($W$3:W697)-W697=0,Q697=0),\"\",MAX($W$3:W697)-W697),\"\")","v":""},"","",""]
[null,null,null,{"$f":"IF(A698>0,IF(OR(MAX($G$3:G698)-G698=0,A698=0),\"\",MAX($G$3:G698)-G698),\"\")","v":""},"","","",null,null,null,null,{"$f":"IF(I698>0,IF(OR(MAX($O$3:O698)-O698=0,I698=0),\"\",MAX($O$3:O698)-O698),\"\")","v":""},"","","",null,null,null,null,{"$f":"IF(I698>0,IF(OR(MAX($W$3:W698)-W698=0,Q698=0),\"\",MAX($W$3:W698)-W698),\"\")","v":""},"","",""]
[null,null,null,{"$f":"IF(A699>0,IF(OR(MAX($G$3:G699)-G699=0,A699=0),\"\",MAX($G$3:G699)-G699),\"\")","v":""},"","","",null,null,null,null,{"$f":"IF(I699>0,IF(OR(MAX($O$3:O699)-O699=0,I699=0),\"\",MAX($O$3:O699)-O699),\"\")","v":""},"","","",null,null,null,null,{"$f":"IF(I699>0,IF(OR(MAX($W$3:W699)-W699=0,Q699=0),\"\",MAX($W$3:W699)-W699),\"\")","v":""},"","",""]
[null,null,null,{"$f":"IF(A700>0,IF(OR(MAX($G$3:G700)-G700=0,A700=0),\"\",MAX($G$3:G700)-G700),\"\")","v":""},"","","",null,null,null,null,{"$f":"IF(I700>0,IF(OR(MAX($O$3:O700)-O700=0,I700=0),\"\",MAX($O$3:O700)-O700),\"\")","v":""},"","","",null,null,null,null,{"$f":"IF(I700>0,IF(OR(MAX($W$3:W700)-W700=0,Q700=0),\"\",MAX($W$3:W700)-W700),\"\")","v":""},"","",""]
[null,null,null,{"$f":"IF(A701>0,IF(OR(MAX($G$3:G701)-G701=0,A701=0),\"\",MAX($G$3:G701)-G701),\"\")","v":""},"","","",null,null,null,null,{"$f":"IF(I701>0,IF(OR(MAX($O$3:O701)-O701=0,I701=0),\"\",MAX($O$3:O701)-O701),\"\")","v":""},"","","",null,null,null,null,{"$f":"IF(I701>0,IF(OR(MAX($W$3:W701)-W701=0,Q701=0),\"\",MAX($W$3:W701)-W701),\"\")","v":""},"","",""]
[null,null,null,{"$f":"IF(A702>0,IF(OR(MAX($G$3:G702)-G702=0,A702=0),\"\",MAX($G$3:G702)-G702),\"\")","v":""},"","","",null,null,null,null,{"$f":"IF(I702>0,IF(OR(MAX($O$3:O702)-O702=0,I702=0),\"\",MAX($O$3:O702)-O702),\"\")","v":""},"","","",null,null,null,null,{"$f":"IF(I702>0,IF(OR(MAX($W$3:W702)-W702=0,Q702=0),\"\",MAX($W$3:W702)-W702),\"\")","v":""},"","",""]
[null,null,null,{"$f":"IF(A703>0,IF(OR(MAX($G$3:G703)-G703=0,A703=0),\"\",MAX($G$3:G703)-G703),\"\")","v":""},"","","",null,null,null,null,{"$f":"IF(I703>0,IF(OR(MAX($O$3:O703)-O703=0,I703=0),\"\",MAX($O$3:O703)-O703),\"\")","v":""},"","","",null,null,null,null,{"$f":"IF(I703>0,IF(OR(MAX($W$3:W703)-W703=0,Q703=0),\"\",MAX($W$3:W703)-W703),\"\")","v":""},"","",""]
[null,null,null,{"$f":"IF(A704>0,IF(OR(MAX($G$3:G704)-G704=0,A704=0),\"\",MAX($G$3:G704)-G704),\"\")","v":""},"","","",null,null,null,null,{"$f":"IF(I704>0,IF(OR(MAX($O$3:O704)-O704=0,I704=0),\"\",MAX($O$3:O704)-O704),\"\")","v":""},"","","",null,null,null,null,{"$f":"IF(I704>0,IF(OR(MAX($W$3:W704)-W704=0,Q704=0),\"\",MAX($W$3:W704)-W704),\"\")","v":""},"","",""]
[null,null,null,{"$f":"IF(A705>0,IF(OR(MAX($G$3:G705)-G705=0,A705=0),\"\",MAX($G$3:G705)-G705),\"\")","v":""},"","","",null,null,null,null,{"$f":"IF(I705>0,IF(OR(MAX($O$3:O705)-O705=0,I705=0),\"\",MAX($O$3:O705)-O705),\"\")","v":""},"","","",null,null,null,null,{"$f":"IF(I705>0,IF(OR(MAX($W$3:W705)-W705=0,Q705=0),\"\",MAX($W$3:W705)-W705),\"\")","v":""},"","",""]
[null,null,null,{"$f":"IF(A706>0,IF(OR(MAX($G$3:G706)-G706=0,A706=0),\"\",MAX($G$3:G706)-G706),\"\")","v":""},"","","",null,null,null,null,{"$f":"IF(I706>0,IF(OR(MAX($O$3:O706)-O706=0,I706=0),\"\",MAX($O$3:O706)-O706),\"\")","v":""},"","","",null,null,null,null,{"$f":"IF(I706>0,IF(OR(MAX($W$3:W706)-W706=0,Q706=0),\"\",MAX($W$3:W706)-W706),\"\")","v":""},"","",""]
[null,null,null,{"$f":"IF(A707>0,IF(OR(MAX($G$3:G707)-G707=0,A707=0),\"\",MAX($G$3:G707)-G707),\"\")","v":""},"","","",null,null,null,null,{"$f":"IF(I707>0,IF(OR(MAX($O$3:O707)-O707=0,I707=0),\"\",MAX($O$3:O707)-O707),\"\")","v":""},"","","",null,null,null,null,{"$f":"IF(I707>0,IF(OR(MAX($W$3:W707)-W707=0,Q707=0),\"\",MAX($W$3:W707)-W707),\"\")","v":""},"","",""]
[null,null,null,{"$f":"IF(A708>0,IF(OR(MAX($G$3:G708)-G708=0,A708=0),\"\",MAX($G$3:G708)-G708),\"\")","v":""},"","","",null,null,null,null,{"$f":"IF(I708>0,IF(OR(MAX($O$3:O708)-O708=0,I708=0),\"\",MAX($O$3:O708)-O708),\"\")","v":""},"","","",null,null,null,null,{"$f":"IF(I708>0,IF(OR(MAX($W$3:W708)-W708=0,Q708=0),\"\",MAX($W$3:W708)-W708),\"\")","v":""},"","",""]
[null,null,null,{"$f":"IF(A709>0,IF(OR(MAX($G$3:G709)-G709=0,A709=0),\"\",MAX($G$3:G709)-G709),\"\")","v":""},"","","",null,null,null,null,{"$f":"IF(I709>0,IF(OR(MAX($O$3:O709)-O709=0,I709=0),\"\",MAX($O$3:O709)-O709),\"\")","v":""},"","","",null,null,null,null,{"$f":"IF(I709>0,IF(OR(MAX($W$3:W709)-W709=0,Q709=0),\"\",MAX($W$3:W709)-W709),\"\")","v":""},"","",""]
[null,null,null,{"$f":"IF(A710>0,IF(OR(MAX($G$3:G710)-G710=0,A710=0),\"\",MAX($G$3:G710)-G710),\"\")","v":""},"","","",null,null,null,null,{"$f":"IF(I710>0,IF(OR(MAX($O$3:O710)-O710=0,I710=0),\"\",MAX($O$3:O710)-O710),\"\")","v":""},{"$f":"IF(L710=\"\",\"\",L710/(N710+O709))","v":""},{"$f":"IF(I710>0,N709+K710,\"\")","v":""},{"$f":"IF(I710>0,O709+K710,\"\")","v":""},null,null,null,null,{"$f":"IF(I710>0,IF(OR(MAX($W$3:W710)-W710=0,Q710=0),\"\",MAX($W$3:W710)-W710),\"\")","v":""},{"$f":"IF(T710=\"\",\"\",T710/(V710+W709))","v":""},{"$f":"IF(Q710>0,V709+S710,\"\")","v":""},{"$f":"IF(Q710>0,W709+S710,\"\")","v":""}]
[null,null,null,{"$f":"IF(A711>0,IF(OR(MAX($G$3:G711)-G711=0,A711=0),\"\",MAX($G$3:G711)-G711),\"\")","v":""},"","","",null,null,null,null,{"$f":"IF(I711>0,IF(OR(MAX($O$3:O711)-O711=0,I711=0),\"\",MAX($O$3:O711)-O711),\"\")","v":""},"","","",null,null,null,null,{"$f":"IF(I711>0,IF(OR(MAX($W$3:W711)-W711=0,Q711=0),\"\",MAX($W$3:W711)-W711),\"\")","v":""},"","",""]
[null,null,null,{"$f":"IF(A712>0,IF(OR(MAX($G$3:G712)-G712=0,A712=0),\"\",MAX($G$3:G712)-G712),\"\")","v":""},{"$f":"IF(D712=\"\",\"\",D712/(F712+G711))","v":""},{"$f":"IF(A712>0,F711+C712,\"\")","v":""},{"$f":"IF(A712>0,G711+C712,\"\")","v":""},null,null,null,null,{"$f":"IF(I712>0,IF(OR(MAX($O$3:O712)-O712=0,I712=0),\"\",MAX($O$3:O712)-O712),\"\")","v":""},"","","",null,null,null,null,{"$f":"IF(I712>0,IF(OR(MAX($W$3:W712)-W712=0,Q712=0),\"\",MAX($W$3:W712)-W712),\"\")","v":""},"","",""]
[null,null,null,{"$f":"IF(A713>0,IF(OR(MAX($G$3:G713)-G713=0,A713=0),\"\",MAX($G$3:G713)-G713),\"\")","v":""},"","","",null,null,null,null,{"$f":"IF(I713>0,IF(OR(MAX($O$3:O713)-O713=0,I713=0),\"\",MAX($O$3:O713)-O713),\"\")","v":""},"","","",null,null,null,null,{"$f":"IF(I713>0,IF(OR(MAX($W$3:W713)-W713=0,Q713=0),\"\",MAX($W$3:W713)-W713),\"\")","v":""},"","",""]
[null,null,null,{"$f":"IF(A714>0,IF(OR(MAX($G$3:G714)-G714=0,A714=0),\"\",MAX($G$3:G714)-G714),\"\")","v":""},"","","",null,null,null,null,{"$f":"IF(I714>0,IF(OR(MAX($O$3:O714)-O714=0,I714=0),\"\",MAX($O$3:O714)-O714),\"\")","v":""},"","","",null,null,null,null,{"$f":"IF(I714>0,IF(OR(MAX($W$3:W714)-W714=0,Q714=0),\"\",MAX($W$3:W714)-W714),\"\")","v":""},"","",""]
[null,null,null,{"$f":"IF(A715>0,IF(OR(MAX($G$3:G715)-G715=0,A715=0),\"\",MAX($G$3:G715)-G715),\"\")","v":""},"","","",null,null,null,null,{"$f":"IF(I715>0,IF(OR(MAX($O$3:O715)-O715=0,I715=0),\"\",MAX($O$3:O715)-O715),\"\")","v":""},"","","",null,null,null,null,{"$f":"IF(I715>0,IF(OR(MAX($W$3:W715)-W715=0,Q715=0),\"\",MAX($W$3:W715)-W715),\"\")","v":""},"","",""]
[null,null,null,{"$f":"IF(A716>0,IF(OR(MAX($G$3:G716)-G716=0,A716=0),\"\",MAX($G$3:G716)-G716),\"\")","v":""},"","","",null,null,null,null,{"$f":"IF(I716>0,IF(OR(MAX($O$3:O716)-O716=0,I716=0),\"\",MAX($O$3:O716)-O716),\"\")","v":""},"","","",null,null,null,null,{"$f":"IF(I716>0,IF(OR(MAX($W$3:W716)-W716=0,Q716=0),\"\",MAX($W$3:W716)-W716),\"\")","v":""},"","",""]
[null,null,null,{"$f":"IF(A717>0,IF(OR(MAX($G$3:G717)-G717=0,A717=0),\"\",MAX($G$3:G717)-G717),\"\")","v":""},"","","",null,null,null,null,{"$f":"IF(I717>0,IF(OR(MAX($O$3:O717)-O717=0,I717=0),\"\",MAX($O$3:O717)-O717),\"\")","v":""},"","","",null,null,null,null,{"$f":"IF(I717>0,IF(OR(MAX($W$3:W717)-W717=0,Q717=0),\"\",MAX($W$3:W717)-W717),\"\")","v":""},"","",""]
[null,null,null,{"$f":"IF(A718>0,IF(OR(MAX($G$3:G718)-G718=0,A718=0),\"\",MAX($G$3:G718)-G718),\"\")","v":""},"","","",null,null,null,null,{"$f":"IF(I718>0,IF(OR(MAX($O$3:O718)-O718=0,I718=0),\"\",MAX($O$3:O718)-O718),\"\")","v":""},"","","",null,null,null,null,{"$f":"IF(I718>0,IF(OR(MAX($W$3:W718)-W718=0,Q718=0),\"\",MAX($W$3:W718)-W718),\"\")","v":""},"","",""]
[null,null,null,{"$f":"IF(A719>0,IF(OR(MAX($G$3:G719)-G719=0,A719=0),\"\",MAX($G$3:G719)-G719),\"\")","v":""},"","","",null,null,null,null,{"$f":"IF(I719>0,IF(OR(MAX($O$3:O719)-O719=0,I719=0),\"\",MAX($O$3:O719)-O719),\"\")","v":""},"","","",null,null,null,null,{"$f":"IF(I719>0,IF(OR(MAX($W$3:W719)-W719=0,Q719=0),\"\",MAX($W$3:W719)-W719),\"\")","v":""},"","",""]
[null,null,null,{"$f":"IF(A720>0,IF(OR(MAX($G$3:G720)-G720=0,A720=0),\"\",MAX($G$3:G720)-G720),\"\")","v":""},"","","",null,null,null,null,{"$f":"IF(I720>0,IF(OR(MAX($O$3:O720)-O720=0,I720=0),\"\",MAX($O$3:O720)-O720),\"\")","v":""},"","","",null,null,null,null,{"$f":"IF(I720>0,IF(OR(MAX($W$3:W720)-W720=0,Q720=0),\"\",MAX($W$3:W720)-W720),\"\")","v":""},"","",""]
[null,null,null,{"$f":"IF(A721>0,IF(OR(MAX($G$3:G721)-G721=0,A721=0),\"\",MAX($G$3:G721)-G721),\"\")","v":""},"","","",null,null,null,null,{"$f":"IF(I721>0,IF(OR(MAX($O$3:O721)-O721=0,I721=0),\"\",MAX($O$3:O721)-O721),\"\")","v":""},"","","",null,null,null,null,{"$f":"IF(I721>0,IF(OR(MAX($W$3:W721)-W721=0,Q721=0),\"\",MAX($W$3:W721)-W721),\"\")","v":""},"","",""]
[null,null,null,{"$f":"IF(A722>0,IF(OR(MAX($G$3:G722)-G722=0,A722=0),\"\",MAX($G$3:G722)-G722),\"\")","v":""},"","","",null,null,null,null,{"$f":"IF(I722>0,IF(OR(MAX($O$3:O722)-O722=0,I722=0),\"\",MAX($O$3:O722)-O722),\"\")","v":""},"","","",null,null,null,null,{"$f":"IF(I722>0,IF(OR(MAX($W$3:W722)-W722=0,Q722=0),\"\",MAX($W$3:W722)-W722),\"\")","v":""},"","",""]
[null,null,null,{"$f":"IF(A723>0,IF(OR(MAX($G$3:G723)-G723=0,A723=0),\"\",MAX($G$3:G723)-G723),\"\")","v":""},"","","",null,null,null,null,{"$f":"IF(I723>0,IF(OR(MAX($O$3:O723)-O723=0,I723=0),\"\",MAX($O$3:O723)-O723),\"\")","v":""},"","","",null,null,null,null,{"$f":"IF(I723>0,IF(OR(MAX($W$3:W723)-W723=0,Q723=0),\"\",MAX($W$3:W723)-W723),\"\")","v":""},"","",""]
[null,null,null,{"$f":"IF(A724>0,IF(OR(MAX($G$3:G724)-G724=0,A724=0),\"\",MAX($G$3:G724)-G724),\"\")","v":""},"","","",null,null,null,null,{"$f":"IF(I724>0,IF(OR(MAX($O$3:O724)-O724=0,I724=0),\"\",MAX($O$3:O724)-O724),\"\")","v":""},"","","",null,null,null,null,{"$f":"IF(I724>0,IF(OR(MAX($W$3:W724)-W724=0,Q724=0),\"\",MAX($W$3:W724)-W724),\"\")","v":""},"","",""]
[null,null,null,{"$f":"IF(A725>0,IF(OR(MAX($G$3:G725)-G725=0,A725=0),\"\",MAX($G$3:G725)-G725),\"\")","v":""},"","","",null,null,null,null,{"$f":"IF(I725>0,IF(OR(MAX($O$3:O725)-O725=0,I725=0),\"\",MAX($O$3:O725)-O725),\"\")","v":""},"","","",null,null,null,null,{"$f":"IF(I725>0,IF(OR(MAX($W$3:W725)-W725=0,Q725=0),\"\",MAX($W$3:W725)-W725),\"\")","v":""},"","",""]
[null,null,null,{"$f":"IF(A726>0,IF(OR(MAX($G$3:G726)-G726=0,A726=0),\"\",MAX($G$3:G726)-G726),\"\")","v":""},"","","",null,null,null,null,{"$f":"IF(I726>0,IF(OR(MAX($O$3:O726)-O726=0,I726=0),\"\",MAX($O$3:O726)-O726),\"\")","v":""},"","","",null,null,null,null,{"$f":"IF(I726>0,IF(OR(MAX($W$3:W726)-W726=0,Q726=0),\"\",MAX($W$3:W726)-W726),\"\")","v":""},"","",""]
[null,null,null,{"$f":"IF(A727>0,IF(OR(MAX($G$3:G727)-G727=0,A727=0),\"\",MAX($G$3:G727)-G727),\"\")","v":""},"","","",null,null,null,null,{"$f":"IF(I727>0,IF(OR(MAX($O$3:O727)-O727=0,I727=0),\"\",MAX($O$3:O727)-O727),\"\")","v":""},"","","",null,null,null,null,{"$f":"IF(I727>0,IF(OR(MAX($W$3:W727)-W727=0,Q727=0),\"\",MAX($W$3:W727)-W727),\"\")","v":""},"","",""]
[null,null,null,{"$f":"IF(A728>0,IF(OR(MAX($G$3:G728)-G728=0,A728=0),\"\",MAX($G$3:G728)-G728),\"\")","v":""},"","","",null,null,null,null,{"$f":"IF(I728>0,IF(OR(MAX($O$3:O728)-O728=0,I728=0),\"\",MAX($O$3:O728)-O728),\"\")","v":""},"","","",null,null,null,null,{"$f":"IF(I728>0,IF(OR(MAX($W$3:W728)-W728=0,Q728=0),\"\",MAX($W$3:W728)-W728),\"\")","v":""},"","",""]
[null,null,null,{"$f":"IF(A729>0,IF(OR(MAX($G$3:G729)-G729=0,A729=0),\"\",MAX($G$3:G729)-G729),\"\")","v":""},"","","",null,null,null,null,{"$f":"IF(I729>0,IF(OR(MAX($O$3:O729)-O729=0,I729=0),\"\",MAX($O$3:O729)-O729),\"\")","v":""},"","","",null,null,null,null,{"$f":"IF(I729>0,IF(OR(MAX($W$3:W729)-W729=0,Q729=0),\"\",MAX($W$3:W729)-W729),\"\")","v":""},"","",""]
[null,null,null,{"$f":"IF(A730>0,IF(OR(MAX($G$3:G730)-G730=0,A730=0),\"\",MAX($G$3:G730)-G730),\"\")","v":""},"","","",null,null,null,null,{"$f":"IF(I730>0,IF(OR(MAX($O$3:O730)-O730=0,I730=0),\"\",MAX($O$3:O730)-O730),\"\")","v":""},"","","",null,null,null,null,{"$f":"IF(I730>0,IF(OR(MAX($W$3:W730)-W730=0,Q730=0),\"\",MAX($W$3:W730)-W730),\"\")","v":""},"","",""]
[null,null,null,{"$f":"IF(A731>0,IF(OR(MAX($G$3:G731)-G731=0,A731=0),\"\",MAX($G$3:G731)-G731),\"\")","v":""},"","","",null,null,null,null,{"$f":"IF(I731>0,IF(OR(MAX($O$3:O731)-O731=0,I731=0),\"\",MAX($O$3:O731)-O731),\"\")","v":""},"","","",null,null,null,null,{"$f":"IF(I731>0,IF(OR(MAX($W$3:W731)-W731=0,Q731=0),\"\",MAX($W$3:W731)-W731),\"\")","v":""},"","",""]
[null,null,null,{"$f":"IF(A732>0,IF(OR(MAX($G$3:G732)-G732=0,A732=0),\"\",MAX($G$3:G732)-G732),\"\")","v":""},"","","",null,null,null,null,{"$f":"IF(I732>0,IF(OR(MAX($O$3:O732)-O732=0,I732=0),\"\",MAX($O$3:O732)-O732),\"\")","v":""},"","","",null,null,null,null,{"$f":"IF(I732>0,IF(OR(MAX($W$3:W732)-W732=0,Q732=0),\"\",MAX($W$3:W732)-W732),\"\")","v":""},"","",""]
[null,null,null,{"$f":"IF(A733>0,IF(OR(MAX($G$3:G733)-G733=0,A733=0),\"\",MAX($G$3:G733)-G733),\"\")","v":""},"","","",null,null,null,null,{"$f":"IF(I733>0,IF(OR(MAX($O$3:O733)-O733=0,I733=0),\"\",MAX($O$3:O733)-O733),\"\")","v":""},"","","",null,null,null,null,{"$f":"IF(I733>0,IF(OR(MAX($W$3:W733)-W733=0,Q733=0),\"\",MAX($W$3:W733)-W733),\"\")","v":""},"","",""]
[null,null,null,{"$f":"IF(A734>0,IF(OR(MAX($G$3:G734)-G734=0,A734=0),\"\",MAX($G$3:G734)-G734),\"\")","v":""},"","","",null,null,null,null,{"$f":"IF(I734>0,IF(OR(MAX($O$3:O734)-O734=0,I734=0),\"\",MAX($O$3:O734)-O734),\"\")","v":""},"","","",null,null,null,null,{"$f":"IF(I734>0,IF(OR(MAX($W$3:W734)-W734=0,Q734=0),\"\",MAX($W$3:W734)-W734),\"\")","v":""},"","",""]
[null,null,null,{"$f":"IF(A735>0,IF(OR(MAX($G$3:G735)-G735=0,A735=0),\"\",MAX($G$3:G735)-G735),\"\")","v":""},"","","",null,null,null,null,{"$f":"IF(I735>0,IF(OR(MAX($O$3:O735)-O735=0,I735=0),\"\",MAX($O$3:O735)-O735),\"\")","v":""},"","","",null,null,null,null,{"$f":"IF(I735>0,IF(OR(MAX($W$3:W735)-W735=0,Q735=0),\"\",MAX($W$3:W735)-W735),\"\")","v":""},"","",""]
[null,null,null,{"$f":"IF(A736>0,IF(OR(MAX($G$3:G736)-G736=0,A736=0),\"\",MAX($G$3:G736)-G736),\"\")","v":""},"","","",null,null,null,null,{"$f":"IF(I736>0,IF(OR(MAX($O$3:O736)-O736=0,I736=0),\"\",MAX($O$3:O736)-O736),\"\")","v":""},"","","",null,null,null,null,{"$f":"IF(I736>0,IF(OR(MAX($W$3:W736)-W736=0,Q736=0),\"\",MAX($W$3:W736)-W736),\"\")","v":""},"","",""]
[null,null,null,{"$f":"IF(A737>0,IF(OR(MAX($G$3:G737)-G737=0,A737=0),\"\",MAX($G$3:G737)-G737),\"\")","v":""},"","","",null,null,null,null,{"$f":"IF(I737>0,IF(OR(MAX($O$3:O737)-O737=0,I737=0),\"\",MAX($O$3:O737)-O737),\"\")","v":""},"","","",null,null,null,null,{"$f":"IF(I737>0,IF(OR(MAX($W$3:W737)-W737=0,Q737=0),\"\",MAX($W$3:W737)-W737),\"\")","v":""},"","",""]
[null,null,null,{"$f":"IF(A738>0,IF(OR(MAX($G$3:G738)-G738=0,A738=0),\"\",MAX($G$3:G738)-G738),\"\")","v":""},"","","",null,null,null,null,{"$f":"IF(I738>0,IF(OR(MAX($O$3:O738)-O738=0,I738=0),\"\",MAX($O$3:O738)-O738),\"\")","v":""},"","","",null,null,null,null,{"$f":"IF(I738>0,IF(OR(MAX($W$3:W738)-W738=0,Q738=0),\"\",MAX($W$3:W738)-W738),\"\")","v":""},"","",""]
[null,null,null,{"$f":"IF(A739>0,IF(OR(MAX($G$3:G739)-G739=0,A739=0),\"\",MAX($G$3:G739)-G739),\"\")","v":""},"","","",null,null,null,null,{"$f":"IF(I739>0,IF(OR(MAX($O$3:O739)-O739=0,I739=0),\"\",MAX($O$3:O739)-O739),\"\")","v":""},"","","",null,null,null,null,{"$f":"IF(I739>0,IF(OR(MAX($W$3:W739)-W739=0,Q739=0),\"\",MAX($W$3:W739)-W739),\"\")","v":""},"","",""]
[null,null,null,{"$f":"IF(A740>0,IF(OR(MAX($G$3:G740)-G740=0,A740=0),\"\",MAX($G$3:G740)-G740),\"\")","v":""},"","","",null,null,null,null,{"$f":"IF(I740>0,IF(OR(MAX($O$3:O740)-O740=0,I740=0),\"\",MAX($O$3:O740)-O740),\"\")","v":""},"","","",null,null,null,null,{"$f":"IF(I740>0,IF(OR(MAX($W$3:W740)-W740=0,Q740=0),\"\",MAX($W$3:W740)-W740),\"\")","v":""},"","",""]
[null,null,null,{"$f":"IF(A741>0,IF(OR(MAX($G$3:G741)-G741=0,A741=0),\"\",MAX($G$3:G741)-G741),\"\")","v":""},"","","",null,null,null,null,{"$f":"IF(I741>0,IF(OR(MAX($O$3:O741)-O741=0,I741=0),\"\",MAX($O$3:O741)-O741),\"\")","v":""},"","","",null,null,null,null,{"$f":"IF(I741>0,IF(OR(MAX($W$3:W741)-W741=0,Q741=0),\"\",MAX($W$3:W741)-W741),\"\")","v":""},"","",""]
[null,null,null,{"$f":"IF(A742>0,IF(OR(MAX($G$3:G742)-G742=0,A742=0),\"\",MAX($G$3:G742)-G742),\"\")","v":""},"","","",null,null,null,null,{"$f":"IF(I742>0,IF(OR(MAX($O$3:O742)-O742=0,I742=0),\"\",MAX($O$3:O742)-O742),\"\")","v":""},"","","",null,null,null,null,{"$f":"IF(I742>0,IF(OR(MAX($W$3:W742)-W742=0,Q742=0),\"\",MAX($W$3:W742)-W742),\"\")","v":""},"","",""]
[null,null,null,{"$f":"IF(A743>0,IF(OR(MAX($G$3:G743)-G743=0,A743=0),\"\",MAX($G$3:G743)-G743),\"\")","v":""},"","","",null,null,null,null,{"$f":"IF(I743>0,IF(OR(MAX($O$3:O743)-O743=0,I743=0),\"\",MAX($O$3:O743)-O743),\"\")","v":""},"","","",null,null,null,null,{"$f":"IF(I743>0,IF(OR(MAX($W$3:W743)-W743=0,Q743=0),\"\",MAX($W$3:W743)-W743),\"\")","v":""},"","",""]
[null,null,null,{"$f":"IF(A744>0,IF(OR(MAX($G$3:G744)-G744=0,A744=0),\"\",MAX($G$3:G744)-G744),\"\")","v":""},"","","",null,null,null,null,{"$f":"IF(I744>0,IF(OR(MAX($O$3:O744)-O744=0,I744=0),\"\",MAX($O$3:O744)-O744),\"\")","v":""},"","","",null,null,null,null,{"$f":"IF(I744>0,IF(OR(MAX($W$3:W744)-W744=0,Q744=0),\"\",MAX($W$3:W744)-W744),\"\")","v":""},"","",""]
[null,null,null,{"$f":"IF(A745>0,IF(OR(MAX($G$3:G745)-G745=0,A745=0),\"\",MAX($G$3:G745)-G745),\"\")","v":""},"","","",null,null,null,null,{"$f":"IF(I745>0,IF(OR(MAX($O$3:O745)-O745=0,I745=0),\"\",MAX($O$3:O745)-O745),\"\")","v":""},"","","",null,null,null,null,{"$f":"IF(I745>0,IF(OR(MAX($W$3:W745)-W745=0,Q745=0),\"\",MAX($W$3:W745)-W745),\"\")","v":""},"","",""]
[null,null,null,{"$f":"IF(A746>0,IF(OR(MAX($G$3:G746)-G746=0,A746=0),\"\",MAX($G$3:G746)-G746),\"\")","v":""},"","","",null,null,null,null,{"$f":"IF(I746>0,IF(OR(MAX($O$3:O746)-O746=0,I746=0),\"\",MAX($O$3:O746)-O746),\"\")","v":""},"","","",null,null,null,null,{"$f":"IF(I746>0,IF(OR(MAX($W$3:W746)-W746=0,Q746=0),\"\",MAX($W$3:W746)-W746),\"\")","v":""},"","",""]
[null,null,null,{"$f":"IF(A747>0,IF(OR(MAX($G$3:G747)-G747=0,A747=0),\"\",MAX($G$3:G747)-G747),\"\")","v":""},"","","",null,null,null,null,{"$f":"IF(I747>0,IF(OR(MAX($O$3:O747)-O747=0,I747=0),\"\",MAX($O$3:O747)-O747),\"\")","v":""},"","","",null,null,null,null,{"$f":"IF(I747>0,IF(OR(MAX($W$3:W747)-W747=0,Q747=0),\"\",MAX($W$3:W747)-W747),\"\")","v":""},"","",""]
[null,null,null,{"$f":"IF(A748>0,IF(OR(MAX($G$3:G748)-G748=0,A748=0),\"\",MAX($G$3:G748)-G748),\"\")","v":""},"","","",null,null,null,null,{"$f":"IF(I748>0,IF(OR(MAX($O$3:O748)-O748=0,I748=0),\"\",MAX($O$3:O748)-O748),\"\")","v":""},"","","",null,null,null,null,{"$f":"IF(I748>0,IF(OR(MAX($W$3:W748)-W748=0,Q748=0),\"\",MAX($W$3:W748)-W748),\"\")","v":""},"","",""]
[null,null,null,{"$f":"IF(A749>0,IF(OR(MAX($G$3:G749)-G749=0,A749=0),\"\",MAX($G$3:G749)-G749),\"\")","v":""},"","","",null,null,null,null,{"$f":"IF(I749>0,IF(OR(MAX($O$3:O749)-O749=0,I749=0),\"\",MAX($O$3:O749)-O749),\"\")","v":""},"","","",null,null,null,null,{"$f":"IF(I749>0,IF(OR(MAX($W$3:W749)-W749=0,Q749=0),\"\",MAX($W$3:W749)-W749),\"\")","v":""},"","",""]
[null,null,null,{"$f":"IF(A750>0,IF(OR(MAX($G$3:G750)-G750=0,A750=0),\"\",MAX($G$3:G750)-G750),\"\")","v":""},"","","",null,null,null,null,{"$f":"IF(I750>0,IF(OR(MAX($O$3:O750)-O750=0,I750=0),\"\",MAX($O$3:O750)-O750),\"\")","v":""},"","","",null,null,null,null,{"$f":"IF(I750>0,IF(OR(MAX($W$3:W750)-W750=0,Q750=0),\"\",MAX($W$3:W750)-W750),\"\")","v":""},"","",""]
[null,null,null,{"$f":"IF(A751>0,IF(OR(MAX($G$3:G751)-G751=0,A751=0),\"\",MAX($G$3:G751)-G751),\"\")","v":""},"","","",null,null,null,null,{"$f":"IF(I751>0,IF(OR(MAX($O$3:O751)-O751=0,I751=0),\"\",MAX($O$3:O751)-O751),\"\")","v":""},"","","",null,null,null,null,{"$f":"IF(I751>0,IF(OR(MAX($W$3:W751)-W751=0,Q751=0),\"\",MAX($W$3:W751)-W751),\"\")","v":""},"","",""]
[null,null,null,{"$f":"IF(A752>0,IF(OR(MAX($G$3:G752)-G752=0,A752=0),\"\",MAX($G$3:G752)-G752),\"\")","v":""},"","","",null,null,null,null,{"$f":"IF(I752>0,IF(OR(MAX($O$3:O752)-O752=0,I752=0),\"\",MAX($O$3:O752)-O752),\"\")","v":""},"","","",null,null,null,null,{"$f":"IF(I752>0,IF(OR(MAX($W$3:W752)-W752=0,Q752=0),\"\",MAX($W$3:W752)-W752),\"\")","v":""},"","",""]
[null,null,null,{"$f":"IF(A753>0,IF(OR(MAX($G$3:G753)-G753=0,A753=0),\"\",MAX($G$3:G753)-G753),\"\")","v":""},"","","",null,null,null,null,{"$f":"IF(I753>0,IF(OR(MAX($O$3:O753)-O753=0,I753=0),\"\",MAX($O$3:O753)-O753),\"\")","v":""},"","","",null,null,null,null,{"$f":"IF(I753>0,IF(OR(MAX($W$3:W753)-W753=0,Q753=0),\"\",MAX($W$3:W753)-W753),\"\")","v":""},"","",""]
[null,null,null,{"$f":"IF(A754>0,IF(OR(MAX($G$3:G754)-G754=0,A754=0),\"\",MAX($G$3:G754)-G754),\"\")","v":""},"","","",null,null,null,null,{"$f":"IF(I754>0,IF(OR(MAX($O$3:O754)-O754=0,I754=0),\"\",MAX($O$3:O754)-O754),\"\")","v":""},"","","",null,null,null,null,{"$f":"IF(I754>0,IF(OR(MAX($W$3:W754)-W754=0,Q754=0),\"\",MAX($W$3:W754)-W754),\"\")","v":""},"","",""]
[null,null,null,{"$f":"IF(A755>0,IF(OR(MAX($G$3:G755)-G755=0,A755=0),\"\",MAX($G$3:G755)-G755),\"\")","v":""},"","","",null,null,null,null,{"$f":"IF(I755>0,IF(OR(MAX($O$3:O755)-O755=0,I755=0),\"\",MAX($O$3:O755)-O755),\"\")","v":""},"","","",null,null,null,null,{"$f":"IF(I755>0,IF(OR(MAX($W$3:W755)-W755=0,Q755=0),\"\",MAX($W$3:W755)-W755),\"\")","v":""},"","",""]
[null,null,null,{"$f":"IF(A756>0,IF(OR(MAX($G$3:G756)-G756=0,A756=0),\"\",MAX($G$3:G756)-G756),\"\")","v":""},"","","",null,null,null,null,{"$f":"IF(I756>0,IF(OR(MAX($O$3:O756)-O756=0,I756=0),\"\",MAX($O$3:O756)-O756),\"\")","v":""},"","","",null,null,null,null,{"$f":"IF(I756>0,IF(OR(MAX($W$3:W756)-W756=0,Q756=0),\"\",MAX($W$3:W756)-W756),\"\")","v":""},"","",""]
[null,null,null,{"$f":"IF(A757>0,IF(OR(MAX($G$3:G757)-G757=0,A757=0),\"\",MAX($G$3:G757)-G757),\"\")","v":""},"","","",null,null,null,null,{"$f":"IF(I757>0,IF(OR(MAX($O$3:O757)-O757=0,I757=0),\"\",MAX($O$3:O757)-O757),\"\")","v":""},"","","",null,null,null,null,{"$f":"IF(I757>0,IF(OR(MAX($W$3:W757)-W757=0,Q757=0),\"\",MAX($W$3:W757)-W757),\"\")","v":""},"","",""]
[null,null,null,{"$f":"IF(A758>0,IF(OR(MAX($G$3:G758)-G758=0,A758=0),\"\",MAX($G$3:G758)-G758),\"\")","v":""},"","","",null,null,null,null,{"$f":"IF(I758>0,IF(OR(MAX($O$3:O758)-O758=0,I758=0),\"\",MAX($O$3:O758)-O758),\"\")","v":""},"","","",null,null,null,null,{"$f":"IF(I758>0,IF(OR(MAX($W$3:W758)-W758=0,Q758=0),\"\",MAX($W$3:W758)-W758),\"\")","v":""},"","",""]
[null,null,null,{"$f":"IF(A759>0,IF(OR(MAX($G$3:G759)-G759=0,A759=0),\"\",MAX($G$3:G759)-G759),\"\")","v":""},"","","",null,null,null,null,{"$f":"IF(I759>0,IF(OR(MAX($O$3:O759)-O759=0,I759=0),\"\",MAX($O$3:O759)-O759),\"\")","v":""},"","","",null,null,null,null,{"$f":"IF(I759>0,IF(OR(MAX($W$3:W759)-W759=0,Q759=0),\"\",MAX($W$3:W759)-W759),\"\")","v":""},"","",""]
[null,null,null,{"$f":"IF(A760>0,IF(OR(MAX($G$3:G760)-G760=0,A760=0),\"\",MAX($G$3:G760)-G760),\"\")","v":""},"","","",null,null,null,null,{"$f":"IF(I760>0,IF(OR(MAX($O$3:O760)-O760=0,I760=0),\"\",MAX($O$3:O760)-O760),\"\")","v":""},"","","",null,null,null,null,{"$f":"IF(I760>0,IF(OR(MAX($W$3:W760)-W760=0,Q760=0),\"\",MAX($W$3:W760)-W760),\"\")","v":""},"","",""]
[null,null,null,{"$f":"IF(A761>0,IF(OR(MAX($G$3:G761)-G761=0,A761=0),\"\",MAX($G$3:G761)-G761),\"\")","v":""},"","","",null,null,null,null,{"$f":"IF(I761>0,IF(OR(MAX($O$3:O761)-O761=0,I761=0),\"\",MAX($O$3:O761)-O761),\"\")","v":""},"","","",null,null,null,null,{"$f":"IF(I761>0,IF(OR(MAX($W$3:W761)-W761=0,Q761=0),\"\",MAX($W$3:W761)-W761),\"\")","v":""},"","",""]
[null,null,null,{"$f":"IF(A762>0,IF(OR(MAX($G$3:G762)-G762=0,A762=0),\"\",MAX($G$3:G762)-G762),\"\")","v":""},"","","",null,null,null,null,{"$f":"IF(I762>0,IF(OR(MAX($O$3:O762)-O762=0,I762=0),\"\",MAX($O$3:O762)-O762),\"\")","v":""},"","","",null,null,null,null,{"$f":"IF(I762>0,IF(OR(MAX($W$3:W762)-W762=0,Q762=0),\"\",MAX($W$3:W762)-W762),\"\")","v":""},"","",""]
[null,null,null,{"$f":"IF(A763>0,IF(OR(MAX($G$3:G763)-G763=0,A763=0),\"\",MAX($G$3:G763)-G763),\"\")","v":""},"","","",null,null,null,null,{"$f":"IF(I763>0,IF(OR(MAX($O$3:O763)-O763=0,I763=0),\"\",MAX($O$3:O763)-O763),\"\")","v":""},"","","",null,null,null,null,{"$f":"IF(I763>0,IF(OR(MAX($W$3:W763)-W763=0,Q763=0),\"\",MAX($W$3:W763)-W763),\"\")","v":""},"","",""]
[null,null,null,{"$f":"IF(A764>0,IF(OR(MAX($G$3:G764)-G764=0,A764=0),\"\",MAX($G$3:G764)-G764),\"\")","v":""},"","","",null,null,null,null,{"$f":"IF(I764>0,IF(OR(MAX($O$3:O764)-O764=0,I764=0),\"\",MAX($O$3:O764)-O764),\"\")","v":""},"","","",null,null,null,null,{"$f":"IF(I764>0,IF(OR(MAX($W$3:W764)-W764=0,Q764=0),\"\",MAX($W$3:W764)-W764),\"\")","v":""},"","",""]
[null,null,null,{"$f":"IF(A765>0,IF(OR(MAX($G$3:G765)-G765=0,A765=0),\"\",MAX($G$3:G765)-G765),\"\")","v":""},"","","",null,null,null,null,{"$f":"IF(I765>0,IF(OR(MAX($O$3:O765)-O765=0,I765=0),\"\",MAX($O$3:O765)-O765),\"\")","v":""},"","","",null,null,null,null,{"$f":"IF(I765>0,IF(OR(MAX($W$3:W765)-W765=0,Q765=0),\"\",MAX($W$3:W765)-W765),\"\")","v":""},"","",""]
[null,null,null,{"$f":"IF(A766>0,IF(OR(MAX($G$3:G766)-G766=0,A766=0),\"\",MAX($G$3:G766)-G766),\"\")","v":""},"","","",null,null,null,null,{"$f":"IF(I766>0,IF(OR(MAX($O$3:O766)-O766=0,I766=0),\"\",MAX($O$3:O766)-O766),\"\")","v":""},"","","",null,null,null,null,{"$f":"IF(I766>0,IF(OR(MAX($W$3:W766)-W766=0,Q766=0),\"\",MAX($W$3:W766)-W766),\"\")","v":""},"","",""]
[null,null,null,{"$f":"IF(A767>0,IF(OR(MAX($G$3:G767)-G767=0,A767=0),\"\",MAX($G$3:G767)-G767),\"\")","v":""},"","","",null,null,null,null,{"$f":"IF(I767>0,IF(OR(MAX($O$3:O767)-O767=0,I767=0),\"\",MAX($O$3:O767)-O767),\"\")","v":""},"","","",null,null,null,null,{"$f":"IF(I767>0,IF(OR(MAX($W$3:W767)-W767=0,Q767=0),\"\",MAX($W$3:W767)-W767),\"\")","v":""},"","",""]
[null,null,null,{"$f":"IF(A768>0,IF(OR(MAX($G$3:G768)-G768=0,A768=0),\"\",MAX($G$3:G768)-G768),\"\")","v":""},"","","",null,null,null,null,{"$f":"IF(I768>0,IF(OR(MAX($O$3:O768)-O768=0,I768=0),\"\",MAX($O$3:O768)-O768),\"\")","v":""},"","","",null,null,null,null,{"$f":"IF(I768>0,IF(OR(MAX($W$3:W768)-W768=0,Q768=0),\"\",MAX($W$3:W768)-W768),\"\")","v":""},"","",""]
[null,null,null,{"$f":"IF(A769>0,IF(OR(MAX($G$3:G769)-G769=0,A769=0),\"\",MAX($G$3:G769)-G769),\"\")","v":""},"","","",null,null,null,null,{"$f":"IF(I769>0,IF(OR(MAX($O$3:O769)-O769=0,I769=0),\"\",MAX($O$3:O769)-O769),\"\")","v":""},"","","",null,null,null,null,{"$f":"IF(I769>0,IF(OR(MAX($W$3:W769)-W769=0,Q769=0),\"\",MAX($W$3:W769)-W769),\"\")","v":""},"","",""]
[null,null,null,{"$f":"IF(A770>0,IF(OR(MAX($G$3:G770)-G770=0,A770=0),\"\",MAX($G$3:G770)-G770),\"\")","v":""},"","","",null,null,null,null,{"$f":"IF(I770>0,IF(OR(MAX($O$3:O770)-O770=0,I770=0),\"\",MAX($O$3:O770)-O770),\"\")","v":""},"","","",null,null,null,null,{"$f":"IF(I770>0,IF(OR(MAX($W$3:W770)-W770=0,Q770=0),\"\",MAX($W$3:W770)-W770),\"\")","v":""},"","",""]
[null,null,null,{"$f":"IF(A771>0,IF(OR(MAX($G$3:G771)-G771=0,A771=0),\"\",MAX($G$3:G771)-G771),\"\")","v":""},"","","",null,null,null,null,{"$f":"IF(I771>0,IF(OR(MAX($O$3:O771)-O771=0,I771=0),\"\",MAX($O$3:O771)-O771),\"\")","v":""},"","","",null,null,null,null,{"$f":"IF(I771>0,IF(OR(MAX($W$3:W771)-W771=0,Q771=0),\"\",MAX($W$3:W771)-W771),\"\")","v":""},"","",""]
[null,null,null,{"$f":"IF(A772>0,IF(OR(MAX($G$3:G772)-G772=0,A772=0),\"\",MAX($G$3:G772)-G772),\"\")","v":""},"","","",null,null,null,null,{"$f":"IF(I772>0,IF(OR(MAX($O$3:O772)-O772=0,I772=0),\"\",MAX($O$3:O772)-O772),\"\")","v":""},"","","",null,null,null,null,{"$f":"IF(I772>0,IF(OR(MAX($W$3:W772)-W772=0,Q772=0),\"\",MAX($W$3:W772)-W772),\"\")","v":""},"","",""]
[null,null,null,{"$f":"IF(A773>0,IF(OR(MAX($G$3:G773)-G773=0,A773=0),\"\",MAX($G$3:G773)-G773),\"\")","v":""},"","","",null,null,null,null,{"$f":"IF(I773>0,IF(OR(MAX($O$3:O773)-O773=0,I773=0),\"\",MAX($O$3:O773)-O773),\"\")","v":""},"","","",null,null,null,null,{"$f":"IF(I773>0,IF(OR(MAX($W$3:W773)-W773=0,Q773=0),\"\",MAX($W$3:W773)-W773),\"\")","v":""},"","",""]
[null,null,null,{"$f":"IF(A774>0,IF(OR(MAX($G$3:G774)-G774=0,A774=0),\"\",MAX($G$3:G774)-G774),\"\")","v":""},"","","",null,null,null,null,{"$f":"IF(I774>0,IF(OR(MAX($O$3:O774)-O774=0,I774=0),\"\",MAX($O$3:O774)-O774),\"\")","v":""},{"$f":"IF(L774=\"\",\"\",L774/(N774+O773))","v":""},{"$f":"IF(I774>0,N773+K774,\"\")","v":""},{"$f":"IF(I774>0,O773+K774,\"\")","v":""},null,null,null,null,{"$f":"IF(I774>0,IF(OR(MAX($W$3:W774)-W774=0,Q774=0),\"\",MAX($W$3:W774)-W774),\"\")","v":""},{"$f":"IF(T774=\"\",\"\",T774/(V774+W773))","v":""},{"$f":"IF(Q774>0,V773+S774,\"\")","v":""},{"$f":"IF(Q774>0,W773+S774,\"\")","v":""}]
[null,null,null,{"$f":"IF(A775>0,IF(OR(MAX($G$3:G775)-G775=0,A775=0),\"\",MAX($G$3:G775)-G775),\"\")","v":""},"","","",null,null,null,null,{"$f":"IF(I775>0,IF(OR(MAX($O$3:O775)-O775=0,I775=0),\"\",MAX($O$3:O775)-O775),\"\")","v":""},"","","",null,null,null,null,{"$f":"IF(I775>0,IF(OR(MAX($W$3:W775)-W775=0,Q775=0),\"\",MAX($W$3:W775)-W775),\"\")","v":""},"","",""]
[null,null,null,{"$f":"IF(A776>0,IF(OR(MAX($G$3:G776)-G776=0,A776=0),\"\",MAX($G$3:G776)-G776),\"\")","v":""},{"$f":"IF(D776=\"\",\"\",D776/(F776+G775))","v":""},{"$f":"IF(A776>0,F775+C776,\"\")","v":""},{"$f":"IF(A776>0,G775+C776,\"\")","v":""},null,null,null,null,{"$f":"IF(I776>0,IF(OR(MAX($O$3:O776)-O776=0,I776=0),\"\",MAX($O$3:O776)-O776),\"\")","v":""},"","","",null,null,null,null,{"$f":"IF(I776>0,IF(OR(MAX($W$3:W776)-W776=0,Q776=0),\"\",MAX($W$3:W776)-W776),\"\")","v":""},"","",""]
[null,null,null,{"$f":"IF(A777>0,IF(OR(MAX($G$3:G777)-G777=0,A777=0),\"\",MAX($G$3:G777)-G777),\"\")","v":""},"","","",null,null,null,null,{"$f":"IF(I777>0,IF(OR(MAX($O$3:O777)-O777=0,I777=0),\"\",MAX($O$3:O777)-O777),\"\")","v":""},"","","",null,null,null,null,{"$f":"IF(I777>0,IF(OR(MAX($W$3:W777)-W777=0,Q777=0),\"\",MAX($W$3:W777)-W777),\"\")","v":""},"","",""]
[null,null,null,{"$f":"IF(A778>0,IF(OR(MAX($G$3:G778)-G778=0,A778=0),\"\",MAX($G$3:G778)-G778),\"\")","v":""},"","","",null,null,null,null,{"$f":"IF(I778>0,IF(OR(MAX($O$3:O778)-O778=0,I778=0),\"\",MAX($O$3:O778)-O778),\"\")","v":""},"","","",null,null,null,null,{"$f":"IF(I778>0,IF(OR(MAX($W$3:W778)-W778=0,Q778=0),\"\",MAX($W$3:W778)-W778),\"\")","v":""},"","",""]
[null,null,null,{"$f":"IF(A779>0,IF(OR(MAX($G$3:G779)-G779=0,A779=0),\"\",MAX($G$3:G779)-G779),\"\")","v":""},"","","",null,null,null,null,{"$f":"IF(I779>0,IF(OR(MAX($O$3:O779)-O779=0,I779=0),\"\",MAX($O$3:O779)-O779),\"\")","v":""},"","","",null,null,null,null,{"$f":"IF(I779>0,IF(OR(MAX($W$3:W779)-W779=0,Q779=0),\"\",MAX($W$3:W779)-W779),\"\")","v":""},"","",""]
[null,null,null,{"$f":"IF(A780>0,IF(OR(MAX($G$3:G780)-G780=0,A780=0),\"\",MAX($G$3:G780)-G780),\"\")","v":""},"","","",null,null,null,null,{"$f":"IF(I780>0,IF(OR(MAX($O$3:O780)-O780=0,I780=0),\"\",MAX($O$3:O780)-O780),\"\")","v":""},"","","",null,null,null,null,{"$f":"IF(I780>0,IF(OR(MAX($W$3:W780)-W780=0,Q780=0),\"\",MAX($W$3:W780)-W780),\"\")","v":""},"","",""]
[null,null,null,{"$f":"IF(A781>0,IF(OR(MAX($G$3:G781)-G781=0,A781=0),\"\",MAX($G$3:G781)-G781),\"\")","v":""},"","","",null,null,null,null,{"$f":"IF(I781>0,IF(OR(MAX($O$3:O781)-O781=0,I781=0),\"\",MAX($O$3:O781)-O781),\"\")","v":""},"","","",null,null,null,null,{"$f":"IF(I781>0,IF(OR(MAX($W$3:W781)-W781=0,Q781=0),\"\",MAX($W$3:W781)-W781),\"\")","v":""},"","",""]
[null,null,null,{"$f":"IF(A782>0,IF(OR(MAX($G$3:G782)-G782=0,A782=0),\"\",MAX($G$3:G782)-G782),\"\")","v":""},"","","",null,null,null,null,{"$f":"IF(I782>0,IF(OR(MAX($O$3:O782)-O782=0,I782=0),\"\",MAX($O$3:O782)-O782),\"\")","v":""},"","","",null,null,null,null,{"$f":"IF(I782>0,IF(OR(MAX($W$3:W782)-W782=0,Q782=0),\"\",MAX($W$3:W782)-W782),\"\")","v":""},"","",""]
[null,null,null,{"$f":"IF(A783>0,IF(OR(MAX($G$3:G783)-G783=0,A783=0),\"\",MAX($G$3:G783)-G783),\"\")","v":""},"","","",null,null,null,null,{"$f":"IF(I783>0,IF(OR(MAX($O$3:O783)-O783=0,I783=0),\"\",MAX($O$3:O783)-O783),\"\")","v":""},"","","",null,null,null,null,{"$f":"IF(I783>0,IF(OR(MAX($W$3:W783)-W783=0,Q783=0),\"\",MAX($W$3:W783)-W783),\"\")","v":""},"","",""]
[null,null,null,{"$f":"IF(A784>0,IF(OR(MAX($G$3:G784)-G784=0,A784=0),\"\",MAX($G$3:G784)-G784),\"\")","v":""},"","","",null,null,null,null,{"$f":"IF(I784>0,IF(OR(MAX($O$3:O784)-O784=0,I784=0),\"\",MAX($O$3:O784)-O784),\"\")","v":""},"","","",null,null,null,null,{"$f":"IF(I784>0,IF(OR(MAX($W$3:W784)-W784=0,Q784=0),\"\",MAX($W$3:W784)-W784),\"\")","v":""},"","",""]
[null,null,null,{"$f":"IF(A785>0,IF(OR(MAX($G$3:G785)-G785=0,A785=0),\"\",MAX($G$3:G785)-G785),\"\")","v":""},"","","",null,null,null,null,{"$f":"IF(I785>0,IF(OR(MAX($O$3:O785)-O785=0,I785=0),\"\",MAX($O$3:O785)-O785),\"\")","v":""},"","","",null,null,null,null,{"$f":"IF(I785>0,IF(OR(MAX($W$3:W785)-W785=0,Q785=0),\"\",MAX($W$3:W785)-W785),\"\")","v":""},"","",""]
[null,null,null,{"$f":"IF(A786>0,IF(OR(MAX($G$3:G786)-G786=0,A786=0),\"\",MAX($G$3:G786)-G786),\"\")","v":""},"","","",null,null,null,null,{"$f":"IF(I786>0,IF(OR(MAX($O$3:O786)-O786=0,I786=0),\"\",MAX($O$3:O786)-O786),\"\")","v":""},"","","",null,null,null,null,{"$f":"IF(I786>0,IF(OR(MAX($W$3:W786)-W786=0,Q786=0),\"\",MAX($W$3:W786)-W786),\"\")","v":""},"","",""]
[null,null,null,{"$f":"IF(A787>0,IF(OR(MAX($G$3:G787)-G787=0,A787=0),\"\",MAX($G$3:G787)-G787),\"\")","v":""},"","","",null,null,null,null,{"$f":"IF(I787>0,IF(OR(MAX($O$3:O787)-O787=0,I787=0),\"\",MAX($O$3:O787)-O787),\"\")","v":""},"","","",null,null,null,null,{"$f":"IF(I787>0,IF(OR(MAX($W$3:W787)-W787=0,Q787=0),\"\",MAX($W$3:W787)-W787),\"\")","v":""},"","",""]
[null,null,null,{"$f":"IF(A788>0,IF(OR(MAX($G$3:G788)-G788=0,A788=0),\"\",MAX($G$3:G788)-G788),\"\")","v":""},"","","",null,null,null,null,{"$f":"IF(I788>0,IF(OR(MAX($O$3:O788)-O788=0,I788=0),\"\",MAX($O$3:O788)-O788),\"\")","v":""},"","","",null,null,null,null,{"$f":"IF(I788>0,IF(OR(MAX($W$3:W788)-W788=0,Q788=0),\"\",MAX($W$3:W788)-W788),\"\")","v":""},"","",""]
[null,null,null,{"$f":"IF(A789>0,IF(OR(MAX($G$3:G789)-G789=0,A789=0),\"\",MAX($G$3:G789)-G789),\"\")","v":""},"","","",null,null,null,null,{"$f":"IF(I789>0,IF(OR(MAX($O$3:O789)-O789=0,I789=0),\"\",MAX($O$3:O789)-O789),\"\")","v":""},"","","",null,null,null,null,{"$f":"IF(I789>0,IF(OR(MAX($W$3:W789)-W789=0,Q789=0),\"\",MAX($W$3:W789)-W789),\"\")","v":""},"","",""]
[null,null,null,{"$f":"IF(A790>0,IF(OR(MAX($G$3:G790)-G790=0,A790=0),\"\",MAX($G$3:G790)-G790),\"\")","v":""},"","","",null,null,null,null,{"$f":"IF(I790>0,IF(OR(MAX($O$3:O790)-O790=0,I790=0),\"\",MAX($O$3:O790)-O790),\"\")","v":""},"","","",null,null,null,null,{"$f":"IF(I790>0,IF(OR(MAX($W$3:W790)-W790=0,Q790=0),\"\",MAX($W$3:W790)-W790),\"\")","v":""},"","",""]
[null,null,null,{"$f":"IF(A791>0,IF(OR(MAX($G$3:G791)-G791=0,A791=0),\"\",MAX($G$3:G791)-G791),\"\")","v":""},"","","",null,null,null,null,{"$f":"IF(I791>0,IF(OR(MAX($O$3:O791)-O791=0,I791=0),\"\",MAX($O$3:O791)-O791),\"\")","v":""},"","","",null,null,null,null,{"$f":"IF(I791>0,IF(OR(MAX($W$3:W791)-W791=0,Q791=0),\"\",MAX($W$3:W791)-W791),\"\")","v":""},"","",""]
[null,null,null,{"$f":"IF(A792>0,IF(OR(MAX($G$3:G792)-G792=0,A792=0),\"\",MAX($G$3:G792)-G792),\"\")","v":""},"","","",null,null,null,null,{"$f":"IF(I792>0,IF(OR(MAX($O$3:O792)-O792=0,I792=0),\"\",MAX($O$3:O792)-O792),\"\")","v":""},"","","",null,null,null,null,{"$f":"IF(I792>0,IF(OR(MAX($W$3:W792)-W792=0,Q792=0),\"\",MAX($W$3:W792)-W792),\"\")","v":""},"","",""]
[null,null,null,{"$f":"IF(A793>0,IF(OR(MAX($G$3:G793)-G793=0,A793=0),\"\",MAX($G$3:G793)-G793),\"\")","v":""},"","","",null,null,null,null,{"$f":"IF(I793>0,IF(OR(MAX($O$3:O793)-O793=0,I793=0),\"\",MAX($O$3:O793)-O793),\"\")","v":""},"","","",null,null,null,null,{"$f":"IF(I793>0,IF(OR(MAX($W$3:W793)-W793=0,Q793=0),\"\",MAX($W$3:W793)-W793),\"\")","v":""},"","",""]
[null,null,null,{"$f":"IF(A794>0,IF(OR(MAX($G$3:G794)-G794=0,A794=0),\"\",MAX($G$3:G794)-G794),\"\")","v":""},"","","",null,null,null,null,{"$f":"IF(I794>0,IF(OR(MAX($O$3:O794)-O794=0,I794=0),\"\",MAX($O$3:O794)-O794),\"\")","v":""},"","","",null,null,null,null,{"$f":"IF(I794>0,IF(OR(MAX($W$3:W794)-W794=0,Q794=0),\"\",MAX($W$3:W794)-W794),\"\")","v":""},"","",""]
[null,null,null,{"$f":"IF(A795>0,IF(OR(MAX($G$3:G795)-G795=0,A795=0),\"\",MAX($G$3:G795)-G795),\"\")","v":""},"","","",null,null,null,null,{"$f":"IF(I795>0,IF(OR(MAX($O$3:O795)-O795=0,I795=0),\"\",MAX($O$3:O795)-O795),\"\")","v":""},"","","",null,null,null,null,{"$f":"IF(I795>0,IF(OR(MAX($W$3:W795)-W795=0,Q795=0),\"\",MAX($W$3:W795)-W795),\"\")","v":""},"","",""]
[null,null,null,{"$f":"IF(A796>0,IF(OR(MAX($G$3:G796)-G796=0,A796=0),\"\",MAX($G$3:G796)-G796),\"\")","v":""},"","","",null,null,null,null,{"$f":"IF(I796>0,IF(OR(MAX($O$3:O796)-O796=0,I796=0),\"\",MAX($O$3:O796)-O796),\"\")","v":""},"","","",null,null,null,null,{"$f":"IF(I796>0,IF(OR(MAX($W$3:W796)-W796=0,Q796=0),\"\",MAX($W$3:W796)-W796),\"\")","v":""},"","",""]
[null,null,null,{"$f":"IF(A797>0,IF(OR(MAX($G$3:G797)-G797=0,A797=0),\"\",MAX($G$3:G797)-G797),\"\")","v":""},"","","",null,null,null,null,{"$f":"IF(I797>0,IF(OR(MAX($O$3:O797)-O797=0,I797=0),\"\",MAX($O$3:O797)-O797),\"\")","v":""},"","","",null,null,null,null,{"$f":"IF(I797>0,IF(OR(MAX($W$3:W797)-W797=0,Q797=0),\"\",MAX($W$3:W797)-W797),\"\")","v":""},"","",""]
[null,null,null,{"$f":"IF(A798>0,IF(OR(MAX($G$3:G798)-G798=0,A798=0),\"\",MAX($G$3:G798)-G798),\"\")","v":""},"","","",null,null,null,null,{"$f":"IF(I798>0,IF(OR(MAX($O$3:O798)-O798=0,I798=0),\"\",MAX($O$3:O798)-O798),\"\")","v":""},"","","",null,null,null,null,{"$f":"IF(I798>0,IF(OR(MAX($W$3:W798)-W798=0,Q798=0),\"\",MAX($W$3:W798)-W798),\"\")","v":""},"","",""]
[null,null,null,{"$f":"IF(A799>0,IF(OR(MAX($G$3:G799)-G799=0,A799=0),\"\",MAX($G$3:G799)-G799),\"\")","v":""},"","","",null,null,null,null,{"$f":"IF(I799>0,IF(OR(MAX($O$3:O799)-O799=0,I799=0),\"\",MAX($O$3:O799)-O799),\"\")","v":""},"","","",null,null,null,null,{"$f":"IF(I799>0,IF(OR(MAX($W$3:W799)-W799=0,Q799=0),\"\",MAX($W$3:W799)-W799),\"\")","v":""},"","",""]
[null,null,null,{"$f":"IF(A800>0,IF(OR(MAX($G$3:G800)-G800=0,A800=0),\"\",MAX($G$3:G800)-G800),\"\")","v":""},"","","",null,null,null,null,{"$f":"IF(I800>0,IF(OR(MAX($O$3:O800)-O800=0,I800=0),\"\",MAX($O$3:O800)-O800),\"\")","v":""},"","","",null,null,null,null,{"$f":"IF(I800>0,IF(OR(MAX($W$3:W800)-W800=0,Q800=0),\"\",MAX($W$3:W800)-W800),\"\")","v":""},"","",""]
[null,null,null,{"$f":"IF(A801>0,IF(OR(MAX($G$3:G801)-G801=0,A801=0),\"\",MAX($G$3:G801)-G801),\"\")","v":""},"","","",null,null,null,null,{"$f":"IF(I801>0,IF(OR(MAX($O$3:O801)-O801=0,I801=0),\"\",MAX($O$3:O801)-O801),\"\")","v":""},"","","",null,null,null,null,{"$f":"IF(I801>0,IF(OR(MAX($W$3:W801)-W801=0,Q801=0),\"\",MAX($W$3:W801)-W801),\"\")","v":""},"","",""]
[null,null,null,{"$f":"IF(A802>0,IF(OR(MAX($G$3:G802)-G802=0,A802=0),\"\",MAX($G$3:G802)-G802),\"\")","v":""},"","","",null,null,null,null,{"$f":"IF(I802>0,IF(OR(MAX($O$3:O802)-O802=0,I802=0),\"\",MAX($O$3:O802)-O802),\"\")","v":""},"","","",null,null,null,null,{"$f":"IF(I802>0,IF(OR(MAX($W$3:W802)-W802=0,Q802=0),\"\",MAX($W$3:W802)-W802),\"\")","v":""},"","",""]
[null,null,null,{"$f":"IF(A803>0,IF(OR(MAX($G$3:G803)-G803=0,A803=0),\"\",MAX($G$3:G803)-G803),\"\")","v":""},"","","",null,null,null,null,{"$f":"IF(I803>0,IF(OR(MAX($O$3:O803)-O803=0,I803=0),\"\",MAX($O$3:O803)-O803),\"\")","v":""},"","","",null,null,null,null,{"$f":"IF(I803>0,IF(OR(MAX($W$3:W803)-W803=0,Q803=0),\"\",MAX($W$3:W803)-W803),\"\")","v":""},"","",""]
[null,null,null,{"$f":"IF(A804>0,IF(OR(MAX($G$3:G804)-G804=0,A804=0),\"\",MAX($G$3:G804)-G804),\"\")","v":""},"","","",null,null,null,null,{"$f":"IF(I804>0,IF(OR(MAX($O$3:O804)-O804=0,I804=0),\"\",MAX($O$3:O804)-O804),\"\")","v":""},"","","",null,null,null,null,{"$f":"IF(I804>0,IF(OR(MAX($W$3:W804)-W804=0,Q804=0),\"\",MAX($W$3:W804)-W804),\"\")","v":""},"","",""]
[null,null,null,{"$f":"IF(A805>0,IF(OR(MAX($G$3:G805)-G805=0,A805=0),\"\",MAX($G$3:G805)-G805),\"\")","v":""},"","","",null,null,null,null,{"$f":"IF(I805>0,IF(OR(MAX($O$3:O805)-O805=0,I805=0),\"\",MAX($O$3:O805)-O805),\"\")","v":""},"","","",null,null,null,null,{"$f":"IF(I805>0,IF(OR(MAX($W$3:W805)-W805=0,Q805=0),\"\",MAX($W$3:W805)-W805),\"\")","v":""},"","",""]
[null,null,null,{"$f":"IF(A806>0,IF(OR(MAX($G$3:G806)-G806=0,A806=0),\"\",MAX($G$3:G806)-G806),\"\")","v":""},"","","",null,null,null,null,{"$f":"IF(I806>0,IF(OR(MAX($O$3:O806)-O806=0,I806=0),\"\",MAX($O$3:O806)-O806),\"\")","v":""},"","","",null,null,null,null,{"$f":"IF(I806>0,IF(OR(MAX($W$3:W806)-W806=0,Q806=0),\"\",MAX($W$3:W806)-W806),\"\")","v":""},"","",""]
[null,null,null,{"$f":"IF(A807>0,IF(OR(MAX($G$3:G807)-G807=0,A807=0),\"\",MAX($G$3:G807)-G807),\"\")","v":""},"","","",null,null,null,null,{"$f":"IF(I807>0,IF(OR(MAX($O$3:O807)-O807=0,I807=0),\"\",MAX($O$3:O807)-O807),\"\")","v":""},"","","",null,null,null,null,{"$f":"IF(I807>0,IF(OR(MAX($W$3:W807)-W807=0,Q807=0),\"\",MAX($W$3:W807)-W807),\"\")","v":""},"","",""]
[null,null,null,{"$f":"IF(A808>0,IF(OR(MAX($G$3:G808)-G808=0,A808=0),\"\",MAX($G$3:G808)-G808),\"\")","v":""},"","","",null,null,null,null,{"$f":"IF(I808>0,IF(OR(MAX($O$3:O808)-O808=0,I808=0),\"\",MAX($O$3:O808)-O808),\"\")","v":""},"","","",null,null,null,null,{"$f":"IF(I808>0,IF(OR(MAX($W$3:W808)-W808=0,Q808=0),\"\",MAX($W$3:W808)-W808),\"\")","v":""},"","",""]
[null,null,null,{"$f":"IF(A809>0,IF(OR(MAX($G$3:G809)-G809=0,A809=0),\"\",MAX($G$3:G809)-G809),\"\")","v":""},"","","",null,null,null,null,{"$f":"IF(I809>0,IF(OR(MAX($O$3:O809)-O809=0,I809=0),\"\",MAX($O$3:O809)-O809),\"\")","v":""},"","","",null,null,null,null,{"$f":"IF(I809>0,IF(OR(MAX($W$3:W809)-W809=0,Q809=0),\"\",MAX($W$3:W809)-W809),\"\")","v":""},"","",""]
[null,null,null,{"$f":"IF(A810>0,IF(OR(MAX($G$3:G810)-G810=0,A810=0),\"\",MAX($G$3:G810)-G810),\"\")","v":""},"","","",null,null,null,null,{"$f":"IF(I810>0,IF(OR(MAX($O$3:O810)-O810=0,I810=0),\"\",MAX($O$3:O810)-O810),\"\")","v":""},"","","",null,null,null,null,{"$f":"IF(I810>0,IF(OR(MAX($W$3:W810)-W810=0,Q810=0),\"\",MAX($W$3:W810)-W810),\"\")","v":""},"","",""]
[null,null,null,{"$f":"IF(A811>0,IF(OR(MAX($G$3:G811)-G811=0,A811=0),\"\",MAX($G$3:G811)-G811),\"\")","v":""},"","","",null,null,null,null,{"$f":"IF(I811>0,IF(OR(MAX($O$3:O811)-O811=0,I811=0),\"\",MAX($O$3:O811)-O811),\"\")","v":""},"","","",null,null,null,null,{"$f":"IF(I811>0,IF(OR(MAX($W$3:W811)-W811=0,Q811=0),\"\",MAX($W$3:W811)-W811),\"\")","v":""},"","",""]
[null,null,null,{"$f":"IF(A812>0,IF(OR(MAX($G$3:G812)-G812=0,A812=0),\"\",MAX($G$3:G812)-G812),\"\")","v":""},"","","",null,null,null,null,{"$f":"IF(I812>0,IF(OR(MAX($O$3:O812)-O812=0,I812=0),\"\",MAX($O$3:O812)-O812),\"\")","v":""},"","","",null,null,null,null,{"$f":"IF(I812>0,IF(OR(MAX($W$3:W812)-W812=0,Q812=0),\"\",MAX($W$3:W812)-W812),\"\")","v":""},"","",""]
[null,null,null,{"$f":"IF(A813>0,IF(OR(MAX($G$3:G813)-G813=0,A813=0),\"\",MAX($G$3:G813)-G813),\"\")","v":""},"","","",null,null,null,null,{"$f":"IF(I813>0,IF(OR(MAX($O$3:O813)-O813=0,I813=0),\"\",MAX($O$3:O813)-O813),\"\")","v":""},"","","",null,null,null,null,{"$f":"IF(I813>0,IF(OR(MAX($W$3:W813)-W813=0,Q813=0),\"\",MAX($W$3:W813)-W813),\"\")","v":""},"","",""]
[null,null,null,{"$f":"IF(A814>0,IF(OR(MAX($G$3:G814)-G814=0,A814=0),\"\",MAX($G$3:G814)-G814),\"\")","v":""},"","","",null,null,null,null,{"$f":"IF(I814>0,IF(OR(MAX($O$3:O814)-O814=0,I814=0),\"\",MAX($O$3:O814)-O814),\"\")","v":""},"","","",null,null,null,null,{"$f":"IF(I814>0,IF(OR(MAX($W$3:W814)-W814=0,Q814=0),\"\",MAX($W$3:W814)-W814),\"\")","v":""},"","",""]
[null,null,null,{"$f":"IF(A815>0,IF(OR(MAX($G$3:G815)-G815=0,A815=0),\"\",MAX($G$3:G815)-G815),\"\")","v":""},"","","",null,null,null,null,{"$f":"IF(I815>0,IF(OR(MAX($O$3:O815)-O815=0,I815=0),\"\",MAX($O$3:O815)-O815),\"\")","v":""},"","","",null,null,null,null,{"$f":"IF(I815>0,IF(OR(MAX($W$3:W815)-W815=0,Q815=0),\"\",MAX($W$3:W815)-W815),\"\")","v":""},"","",""]
[null,null,null,{"$f":"IF(A816>0,IF(OR(MAX($G$3:G816)-G816=0,A816=0),\"\",MAX($G$3:G816)-G816),\"\")","v":""},"","","",null,null,null,null,{"$f":"IF(I816>0,IF(OR(MAX($O$3:O816)-O816=0,I816=0),\"\",MAX($O$3:O816)-O816),\"\")","v":""},"","","",null,null,null,null,{"$f":"IF(I816>0,IF(OR(MAX($W$3:W816)-W816=0,Q816=0),\"\",MAX($W$3:W816)-W816),\"\")","v":""},"","",""]
[null,null,null,{"$f":"IF(A817>0,IF(OR(MAX($G$3:G817)-G817=0,A817=0),\"\",MAX($G$3:G817)-G817),\"\")","v":""},"","","",null,null,null,null,{"$f":"IF(I817>0,IF(OR(MAX($O$3:O817)-O817=0,I817=0),\"\",MAX($O$3:O817)-O817),\"\")","v":""},"","","",null,null,null,null,{"$f":"IF(I817>0,IF(OR(MAX($W$3:W817)-W817=0,Q817=0),\"\",MAX($W$3:W817)-W817),\"\")","v":""},"","",""]
[null,null,null,{"$f":"IF(A818>0,IF(OR(MAX($G$3:G818)-G818=0,A818=0),\"\",MAX($G$3:G818)-G818),\"\")","v":""},"","","",null,null,null,null,{"$f":"IF(I818>0,IF(OR(MAX($O$3:O818)-O818=0,I818=0),\"\",MAX($O$3:O818)-O818),\"\")","v":""},"","","",null,null,null,null,{"$f":"IF(I818>0,IF(OR(MAX($W$3:W818)-W818=0,Q818=0),\"\",MAX($W$3:W818)-W818),\"\")","v":""},"","",""]
[null,null,null,{"$f":"IF(A819>0,IF(OR(MAX($G$3:G819)-G819=0,A819=0),\"\",MAX($G$3:G819)-G819),\"\")","v":""},"","","",null,null,null,null,{"$f":"IF(I819>0,IF(OR(MAX($O$3:O819)-O819=0,I819=0),\"\",MAX($O$3:O819)-O819),\"\")","v":""},"","","",null,null,null,null,{"$f":"IF(I819>0,IF(OR(MAX($W$3:W819)-W819=0,Q819=0),\"\",MAX($W$3:W819)-W819),\"\")","v":""},"","",""]
[null,null,null,{"$f":"IF(A820>0,IF(OR(MAX($G$3:G820)-G820=0,A820=0),\"\",MAX($G$3:G820)-G820),\"\")","v":""},"","","",null,null,null,null,{"$f":"IF(I820>0,IF(OR(MAX($O$3:O820)-O820=0,I820=0),\"\",MAX($O$3:O820)-O820),\"\")","v":""},"","","",null,null,null,null,{"$f":"IF(I820>0,IF(OR(MAX($W$3:W820)-W820=0,Q820=0),\"\",MAX($W$3:W820)-W820),\"\")","v":""},"","",""]
[null,null,null,{"$f":"IF(A821>0,IF(OR(MAX($G$3:G821)-G821=0,A821=0),\"\",MAX($G$3:G821)-G821),\"\")","v":""},"","","",null,null,null,null,{"$f":"IF(I821>0,IF(OR(MAX($O$3:O821)-O821=0,I821=0),\"\",MAX($O$3:O821)-O821),\"\")","v":""},"","","",null,null,null,null,{"$f":"IF(I821>0,IF(OR(MAX($W$3:W821)-W821=0,Q821=0),\"\",MAX($W$3:W821)-W821),\"\")","v":""},"","",""]
[null,null,null,{"$f":"IF(A822>0,IF(OR(MAX($G$3:G822)-G822=0,A822=0),\"\",MAX($G$3:G822)-G822),\"\")","v":""},"","","",null,null,null,null,{"$f":"IF(I822>0,IF(OR(MAX($O$3:O822)-O822=0,I822=0),\"\",MAX($O$3:O822)-O822),\"\")","v":""},"","","",null,null,null,null,{"$f":"IF(I822>0,IF(OR(MAX($W$3:W822)-W822=0,Q822=0),\"\",MAX($W$3:W822)-W822),\"\")","v":""},"","",""]
[null,null,null,{"$f":"IF(A823>0,IF(OR(MAX($G$3:G823)-G823=0,A823=0),\"\",MAX($G$3:G823)-G823),\"\")","v":""},"","","",null,null,null,null,{"$f":"IF(I823>0,IF(OR(MAX($O$3:O823)-O823=0,I823=0),\"\",MAX($O$3:O823)-O823),\"\")","v":""},"","","",null,null,null,null,{"$f":"IF(I823>0,IF(OR(MAX($W$3:W823)-W823=0,Q823=0),\"\",MAX($W$3:W823)-W823),\"\")","v":""},"","",""]
[null,null,null,{"$f":"IF(A824>0,IF(OR(MAX($G$3:G824)-G824=0,A824=0),\"\",MAX($G$3:G824)-G824),\"\")","v":""},"","","",null,null,null,null,{"$f":"IF(I824>0,IF(OR(MAX($O$3:O824)-O824=0,I824=0),\"\",MAX($O$3:O824)-O824),\"\")","v":""},"","","",null,null,null,null,{"$f":"IF(I824>0,IF(OR(MAX($W$3:W824)-W824=0,Q824=0),\"\",MAX($W$3:W824)-W824),\"\")","v":""},"","",""]
[null,null,null,{"$f":"IF(A825>0,IF(OR(MAX($G$3:G825)-G825=0,A825=0),\"\",MAX($G$3:G825)-G825),\"\")","v":""},"","","",null,null,null,null,{"$f":"IF(I825>0,IF(OR(MAX($O$3:O825)-O825=0,I825=0),\"\",MAX($O$3:O825)-O825),\"\")","v":""},"","","",null,null,null,null,{"$f":"IF(I825>0,IF(OR(MAX($W$3:W825)-W825=0,Q825=0),\"\",MAX($W$3:W825)-W825),\"\")","v":""},"","",""]
[null,null,null,{"$f":"IF(A826>0,IF(OR(MAX($G$3:G826)-G826=0,A826=0),\"\",MAX($G$3:G826)-G826),\"\")","v":""},"","","",null,null,null,null,{"$f":"IF(I826>0,IF(OR(MAX($O$3:O826)-O826=0,I826=0),\"\",MAX($O$3:O826)-O826),\"\")","v":""},"","","",null,null,null,null,{"$f":"IF(I826>0,IF(OR(MAX($W$3:W826)-W826=0,Q826=0),\"\",MAX($W$3:W826)-W826),\"\")","v":""},"","",""]
[null,null,null,{"$f":"IF(A827>0,IF(OR(MAX($G$3:G827)-G827=0,A827=0),\"\",MAX($G$3:G827)-G827),\"\")","v":""},"","","",null,null,null,null,{"$f":"IF(I827>0,IF(OR(MAX($O$3:O827)-O827=0,I827=0),\"\",MAX($O$3:O827)-O827),\"\")","v":""},"","","",null,null,null,null,{"$f":"IF(I827>0,IF(OR(MAX($W$3:W827)-W827=0,Q827=0),\"\",MAX($W$3:W827)-W827),\"\")","v":""},"","",""]
[null,null,null,{"$f":"IF(A828>0,IF(OR(MAX($G$3:G828)-G828=0,A828=0),\"\",MAX($G$3:G828)-G828),\"\")","v":""},"","","",null,null,null,null,{"$f":"IF(I828>0,IF(OR(MAX($O$3:O828)-O828=0,I828=0),\"\",MAX($O$3:O828)-O828),\"\")","v":""},"","","",null,null,null,null,{"$f":"IF(I828>0,IF(OR(MAX($W$3:W828)-W828=0,Q828=0),\"\",MAX($W$3:W828)-W828),\"\")","v":""},"","",""]
[null,null,null,{"$f":"IF(A829>0,IF(OR(MAX($G$3:G829)-G829=0,A829=0),\"\",MAX($G$3:G829)-G829),\"\")","v":""},"","","",null,null,null,null,{"$f":"IF(I829>0,IF(OR(MAX($O$3:O829)-O829=0,I829=0),\"\",MAX($O$3:O829)-O829),\"\")","v":""},"","","",null,null,null,null,{"$f":"IF(I829>0,IF(OR(MAX($W$3:W829)-W829=0,Q829=0),\"\",MAX($W$3:W829)-W829),\"\")","v":""},"","",""]
[null,null,null,{"$f":"IF(A830>0,IF(OR(MAX($G$3:G830)-G830=0,A830=0),\"\",MAX($G$3:G830)-G830),\"\")","v":""},"","","",null,null,null,null,{"$f":"IF(I830>0,IF(OR(MAX($O$3:O830)-O830=0,I830=0),\"\",MAX($O$3:O830)-O830),\"\")","v":""},"","","",null,null,null,null,{"$f":"IF(I830>0,IF(OR(MAX($W$3:W830)-W830=0,Q830=0),\"\",MAX($W$3:W830)-W830),\"\")","v":""},"","",""]
[null,null,null,{"$f":"IF(A831>0,IF(OR(MAX($G$3:G831)-G831=0,A831=0),\"\",MAX($G$3:G831)-G831),\"\")","v":""},"","","",null,null,null,null,{"$f":"IF(I831>0,IF(OR(MAX($O$3:O831)-O831=0,I831=0),\"\",MAX($O$3:O831)-O831),\"\")","v":""},"","","",null,null,null,null,{"$f":"IF(I831>0,IF(OR(MAX($W$3:W831)-W831=0,Q831=0),\"\",MAX($W$3:W831)-W831),\"\")","v":""},"","",""]
[null,null,null,{"$f":"IF(A832>0,IF(OR(MAX($G$3:G832)-G832=0,A832=0),\"\",MAX($G$3:G832)-G832),\"\")","v":""},"","","",null,null,null,null,{"$f":"IF(I832>0,IF(OR(MAX($O$3:O832)-O832=0,I832=0),\"\",MAX($O$3:O832)-O832),\"\")","v":""},"","","",null,null,null,null,{"$f":"IF(I832>0,IF(OR(MAX($W$3:W832)-W832=0,Q832=0),\"\",MAX($W$3:W832)-W832),\"\")","v":""},"","",""]
[null,null,null,{"$f":"IF(A833>0,IF(OR(MAX($G$3:G833)-G833=0,A833=0),\"\",MAX($G$3:G833)-G833),\"\")","v":""},"","","",null,null,null,null,{"$f":"IF(I833>0,IF(OR(MAX($O$3:O833)-O833=0,I833=0),\"\",MAX($O$3:O833)-O833),\"\")","v":""},"","","",null,null,null,null,{"$f":"IF(I833>0,IF(OR(MAX($W$3:W833)-W833=0,Q833=0),\"\",MAX($W$3:W833)-W833),\"\")","v":""},"","",""]
[null,null,null,{"$f":"IF(A834>0,IF(OR(MAX($G$3:G834)-G834=0,A834=0),\"\",MAX($G$3:G834)-G834),\"\")","v":""},"","","",null,null,null,null,{"$f":"IF(I834>0,IF(OR(MAX($O$3:O834)-O834=0,I834=0),\"\",MAX($O$3:O834)-O834),\"\")","v":""},"","","",null,null,null,null,{"$f":"IF(I834>0,IF(OR(MAX($W$3:W834)-W834=0,Q834=0),\"\",MAX($W$3:W834)-W834),\"\")","v":""},"","",""]
[null,null,null,{"$f":"IF(A835>0,IF(OR(MAX($G$3:G835)-G835=0,A835=0),\"\",MAX($G$3:G835)-G835),\"\")","v":""},"","","",null,null,null,null,{"$f":"IF(I835>0,IF(OR(MAX($O$3:O835)-O835=0,I835=0),\"\",MAX($O$3:O835)-O835),\"\")","v":""},"","","",null,null,null,null,{"$f":"IF(I835>0,IF(OR(MAX($W$3:W835)-W835=0,Q835=0),\"\",MAX($W$3:W835)-W835),\"\")","v":""},"","",""]
[null,null,null,{"$f":"IF(A836>0,IF(OR(MAX($G$3:G836)-G836=0,A836=0),\"\",MAX($G$3:G836)-G836),\"\")","v":""},"","","",null,null,null,null,{"$f":"IF(I836>0,IF(OR(MAX($O$3:O836)-O836=0,I836=0),\"\",MAX($O$3:O836)-O836),\"\")","v":""},"","","",null,null,null,null,{"$f":"IF(I836>0,IF(OR(MAX($W$3:W836)-W836=0,Q836=0),\"\",MAX($W$3:W836)-W836),\"\")","v":""},"","",""]
[null,null,null,{"$f":"IF(A837>0,IF(OR(MAX($G$3:G837)-G837=0,A837=0),\"\",MAX($G$3:G837)-G837),\"\")","v":""},"","","",null,null,null,null,{"$f":"IF(I837>0,IF(OR(MAX($O$3:O837)-O837=0,I837=0),\"\",MAX($O$3:O837)-O837),\"\")","v":""},"","","",null,null,null,null,{"$f":"IF(I837>0,IF(OR(MAX($W$3:W837)-W837=0,Q837=0),\"\",MAX($W$3:W837)-W837),\"\")","v":""},"","",""]
[null,null,null,{"$f":"IF(A838>0,IF(OR(MAX($G$3:G838)-G838=0,A838=0),\"\",MAX($G$3:G838)-G838),\"\")","v":""},"","","",null,null,null,null,{"$f":"IF(I838>0,IF(OR(MAX($O$3:O838)-O838=0,I838=0),\"\",MAX($O$3:O838)-O838),\"\")","v":""},{"$f":"IF(L838=\"\",\"\",L838/(N838+O837))","v":""},{"$f":"IF(I838>0,N837+K838,\"\")","v":""},{"$f":"IF(I838>0,O837+K838,\"\")","v":""},null,null,null,null,{"$f":"IF(I838>0,IF(OR(MAX($W$3:W838)-W838=0,Q838=0),\"\",MAX($W$3:W838)-W838),\"\")","v":""},{"$f":"IF(T838=\"\",\"\",T838/(V838+W837))","v":""},{"$f":"IF(Q838>0,V837+S838,\"\")","v":""},{"$f":"IF(Q838>0,W837+S838,\"\")","v":""}]
[null,null,null,{"$f":"IF(A839>0,IF(OR(MAX($G$3:G839)-G839=0,A839=0),\"\",MAX($G$3:G839)-G839),\"\")","v":""},"","","",null,null,null,null,{"$f":"IF(I839>0,IF(OR(MAX($O$3:O839)-O839=0,I839=0),\"\",MAX($O$3:O839)-O839),\"\")","v":""},"","","",null,null,null,null,{"$f":"IF(I839>0,IF(OR(MAX($W$3:W839)-W839=0,Q839=0),\"\",MAX($W$3:W839)-W839),\"\")","v":""},"","",""]
[null,null,null,{"$f":"IF(A840>0,IF(OR(MAX($G$3:G840)-G840=0,A840=0),\"\",MAX($G$3:G840)-G840),\"\")","v":""},{"$f":"IF(D840=\"\",\"\",D840/(F840+G839))","v":""},{"$f":"IF(A840>0,F839+C840,\"\")","v":""},{"$f":"IF(A840>0,G839+C840,\"\")","v":""},null,null,null,null,{"$f":"IF(I840>0,IF(OR(MAX($O$3:O840)-O840=0,I840=0),\"\",MAX($O$3:O840)-O840),\"\")","v":""},"","","",null,null,null,null,{"$f":"IF(I840>0,IF(OR(MAX($W$3:W840)-W840=0,Q840=0),\"\",MAX($W$3:W840)-W840),\"\")","v":""},"","",""]
[null,null,null,{"$f":"IF(A841>0,IF(OR(MAX($G$3:G841)-G841=0,A841=0),\"\",MAX($G$3:G841)-G841),\"\")","v":""},"","","",null,null,null,null,{"$f":"IF(I841>0,IF(OR(MAX($O$3:O841)-O841=0,I841=0),\"\",MAX($O$3:O841)-O841),\"\")","v":""},"","","",null,null,null,null,{"$f":"IF(I841>0,IF(OR(MAX($W$3:W841)-W841=0,Q841=0),\"\",MAX($W$3:W841)-W841),\"\")","v":""},"","",""]
[null,null,null,{"$f":"IF(A842>0,IF(OR(MAX($G$3:G842)-G842=0,A842=0),\"\",MAX($G$3:G842)-G842),\"\")","v":""},"","","",null,null,null,null,{"$f":"IF(I842>0,IF(OR(MAX($O$3:O842)-O842=0,I842=0),\"\",MAX($O$3:O842)-O842),\"\")","v":""},"","","",null,null,null,null,{"$f":"IF(I842>0,IF(OR(MAX($W$3:W842)-W842=0,Q842=0),\"\",MAX($W$3:W842)-W842),\"\")","v":""},"","",""]
[null,null,null,{"$f":"IF(A843>0,IF(OR(MAX($G$3:G843)-G843=0,A843=0),\"\",MAX($G$3:G843)-G843),\"\")","v":""},"","","",null,null,null,null,{"$f":"IF(I843>0,IF(OR(MAX($O$3:O843)-O843=0,I843=0),\"\",MAX($O$3:O843)-O843),\"\")","v":""},"","","",null,null,null,null,{"$f":"IF(I843>0,IF(OR(MAX($W$3:W843)-W843=0,Q843=0),\"\",MAX($W$3:W843)-W843),\"\")","v":""},"","",""]
[null,null,null,{"$f":"IF(A844>0,IF(OR(MAX($G$3:G844)-G844=0,A844=0),\"\",MAX($G$3:G844)-G844),\"\")","v":""},"","","",null,null,null,null,{"$f":"IF(I844>0,IF(OR(MAX($O$3:O844)-O844=0,I844=0),\"\",MAX($O$3:O844)-O844),\"\")","v":""},"","","",null,null,null,null,{"$f":"IF(I844>0,IF(OR(MAX($W$3:W844)-W844=0,Q844=0),\"\",MAX($W$3:W844)-W844),\"\")","v":""},"","",""]
[null,null,null,{"$f":"IF(A845>0,IF(OR(MAX($G$3:G845)-G845=0,A845=0),\"\",MAX($G$3:G845)-G845),\"\")","v":""},"","","",null,null,null,null,{"$f":"IF(I845>0,IF(OR(MAX($O$3:O845)-O845=0,I845=0),\"\",MAX($O$3:O845)-O845),\"\")","v":""},"","","",null,null,null,null,{"$f":"IF(I845>0,IF(OR(MAX($W$3:W845)-W845=0,Q845=0),\"\",MAX($W$3:W845)-W845),\"\")","v":""},"","",""]
[null,null,null,{"$f":"IF(A846>0,IF(OR(MAX($G$3:G846)-G846=0,A846=0),\"\",MAX($G$3:G846)-G846),\"\")","v":""},"","","",null,null,null,null,{"$f":"IF(I846>0,IF(OR(MAX($O$3:O846)-O846=0,I846=0),\"\",MAX($O$3:O846)-O846),\"\")","v":""},"","","",null,null,null,null,{"$f":"IF(I846>0,IF(OR(MAX($W$3:W846)-W846=0,Q846=0),\"\",MAX($W$3:W846)-W846),\"\")","v":""},"","",""]
[null,null,null,{"$f":"IF(A847>0,IF(OR(MAX($G$3:G847)-G847=0,A847=0),\"\",MAX($G$3:G847)-G847),\"\")","v":""},"","","",null,null,null,null,{"$f":"IF(I847>0,IF(OR(MAX($O$3:O847)-O847=0,I847=0),\"\",MAX($O$3:O847)-O847),\"\")","v":""},"","","",null,null,null,null,{"$f":"IF(I847>0,IF(OR(MAX($W$3:W847)-W847=0,Q847=0),\"\",MAX($W$3:W847)-W847),\"\")","v":""},"","",""]
[null,null,null,{"$f":"IF(A848>0,IF(OR(MAX($G$3:G848)-G848=0,A848=0),\"\",MAX($G$3:G848)-G848),\"\")","v":""},"","","",null,null,null,null,{"$f":"IF(I848>0,IF(OR(MAX($O$3:O848)-O848=0,I848=0),\"\",MAX($O$3:O848)-O848),\"\")","v":""},"","","",null,null,null,null,{"$f":"IF(I848>0,IF(OR(MAX($W$3:W848)-W848=0,Q848=0),\"\",MAX($W$3:W848)-W848),\"\")","v":""},"","",""]
[null,null,null,{"$f":"IF(A849>0,IF(OR(MAX($G$3:G849)-G849=0,A849=0),\"\",MAX($G$3:G849)-G849),\"\")","v":""},"","","",null,null,null,null,{"$f":"IF(I849>0,IF(OR(MAX($O$3:O849)-O849=0,I849=0),\"\",MAX($O$3:O849)-O849),\"\")","v":""},"","","",null,null,null,null,{"$f":"IF(I849>0,IF(OR(MAX($W$3:W849)-W849=0,Q849=0),\"\",MAX($W$3:W849)-W849),\"\")","v":""},"","",""]
[null,null,null,{"$f":"IF(A850>0,IF(OR(MAX($G$3:G850)-G850=0,A850=0),\"\",MAX($G$3:G850)-G850),\"\")","v":""},"","","",null,null,null,null,{"$f":"IF(I850>0,IF(OR(MAX($O$3:O850)-O850=0,I850=0),\"\",MAX($O$3:O850)-O850),\"\")","v":""},"","","",null,null,null,null,{"$f":"IF(I850>0,IF(OR(MAX($W$3:W850)-W850=0,Q850=0),\"\",MAX($W$3:W850)-W850),\"\")","v":""},"","",""]
[null,null,null,{"$f":"IF(A851>0,IF(OR(MAX($G$3:G851)-G851=0,A851=0),\"\",MAX($G$3:G851)-G851),\"\")","v":""},"","","",null,null,null,null,{"$f":"IF(I851>0,IF(OR(MAX($O$3:O851)-O851=0,I851=0),\"\",MAX($O$3:O851)-O851),\"\")","v":""},"","","",null,null,null,null,{"$f":"IF(I851>0,IF(OR(MAX($W$3:W851)-W851=0,Q851=0),\"\",MAX($W$3:W851)-W851),\"\")","v":""},"","",""]
[null,null,null,{"$f":"IF(A852>0,IF(OR(MAX($G$3:G852)-G852=0,A852=0),\"\",MAX($G$3:G852)-G852),\"\")","v":""},"","","",null,null,null,null,{"$f":"IF(I852>0,IF(OR(MAX($O$3:O852)-O852=0,I852=0),\"\",MAX($O$3:O852)-O852),\"\")","v":""},"","","",null,null,null,null,{"$f":"IF(I852>0,IF(OR(MAX($W$3:W852)-W852=0,Q852=0),\"\",MAX($W$3:W852)-W852),\"\")","v":""},"","",""]
[null,null,null,{"$f":"IF(A853>0,IF(OR(MAX($G$3:G853)-G853=0,A853=0),\"\",MAX($G$3:G853)-G853),\"\")","v":""},"","","",null,null,null,null,{"$f":"IF(I853>0,IF(OR(MAX($O$3:O853)-O853=0,I853=0),\"\",MAX($O$3:O853)-O853),\"\")","v":""},"","","",null,null,null,null,{"$f":"IF(I853>0,IF(OR(MAX($W$3:W853)-W853=0,Q853=0),\"\",MAX($W$3:W853)-W853),\"\")","v":""},"","",""]
[null,null,null,{"$f":"IF(A854>0,IF(OR(MAX($G$3:G854)-G854=0,A854=0),\"\",MAX($G$3:G854)-G854),\"\")","v":""},"","","",null,null,null,null,{"$f":"IF(I854>0,IF(OR(MAX($O$3:O854)-O854=0,I854=0),\"\",MAX($O$3:O854)-O854),\"\")","v":""},"","","",null,null,null,null,{"$f":"IF(I854>0,IF(OR(MAX($W$3:W854)-W854=0,Q854=0),\"\",MAX($W$3:W854)-W854),\"\")","v":""},"","",""]
[null,null,null,{"$f":"IF(A855>0,IF(OR(MAX($G$3:G855)-G855=0,A855=0),\"\",MAX($G$3:G855)-G855),\"\")","v":""},"","","",null,null,null,null,{"$f":"IF(I855>0,IF(OR(MAX($O$3:O855)-O855=0,I855=0),\"\",MAX($O$3:O855)-O855),\"\")","v":""},"","","",null,null,null,null,{"$f":"IF(I855>0,IF(OR(MAX($W$3:W855)-W855=0,Q855=0),\"\",MAX($W$3:W855)-W855),\"\")","v":""},"","",""]
[null,null,null,{"$f":"IF(A856>0,IF(OR(MAX($G$3:G856)-G856=0,A856=0),\"\",MAX($G$3:G856)-G856),\"\")","v":""},"","","",null,null,null,null,{"$f":"IF(I856>0,IF(OR(MAX($O$3:O856)-O856=0,I856=0),\"\",MAX($O$3:O856)-O856),\"\")","v":""},"","","",null,null,null,null,{"$f":"IF(I856>0,IF(OR(MAX($W$3:W856)-W856=0,Q856=0),\"\",MAX($W$3:W856)-W856),\"\")","v":""},"","",""]
[null,null,null,{"$f":"IF(A857>0,IF(OR(MAX($G$3:G857)-G857=0,A857=0),\"\",MAX($G$3:G857)-G857),\"\")","v":""},"","","",null,null,null,null,{"$f":"IF(I857>0,IF(OR(MAX($O$3:O857)-O857=0,I857=0),\"\",MAX($O$3:O857)-O857),\"\")","v":""},"","","",null,null,null,null,{"$f":"IF(I857>0,IF(OR(MAX($W$3:W857)-W857=0,Q857=0),\"\",MAX($W$3:W857)-W857),\"\")","v":""},"","",""]
[null,null,null,{"$f":"IF(A858>0,IF(OR(MAX($G$3:G858)-G858=0,A858=0),\"\",MAX($G$3:G858)-G858),\"\")","v":""},"","","",null,null,null,null,{"$f":"IF(I858>0,IF(OR(MAX($O$3:O858)-O858=0,I858=0),\"\",MAX($O$3:O858)-O858),\"\")","v":""},"","","",null,null,null,null,{"$f":"IF(I858>0,IF(OR(MAX($W$3:W858)-W858=0,Q858=0),\"\",MAX($W$3:W858)-W858),\"\")","v":""},"","",""]
[null,null,null,{"$f":"IF(A859>0,IF(OR(MAX($G$3:G859)-G859=0,A859=0),\"\",MAX($G$3:G859)-G859),\"\")","v":""},"","","",null,null,null,null,{"$f":"IF(I859>0,IF(OR(MAX($O$3:O859)-O859=0,I859=0),\"\",MAX($O$3:O859)-O859),\"\")","v":""},"","","",null,null,null,null,{"$f":"IF(I859>0,IF(OR(MAX($W$3:W859)-W859=0,Q859=0),\"\",MAX($W$3:W859)-W859),\"\")","v":""},"","",""]
[null,null,null,{"$f":"IF(A860>0,IF(OR(MAX($G$3:G860)-G860=0,A860=0),\"\",MAX($G$3:G860)-G860),\"\")","v":""},"","","",null,null,null,null,{"$f":"IF(I860>0,IF(OR(MAX($O$3:O860)-O860=0,I860=0),\"\",MAX($O$3:O860)-O860),\"\")","v":""},"","","",null,null,null,null,{"$f":"IF(I860>0,IF(OR(MAX($W$3:W860)-W860=0,Q860=0),\"\",MAX($W$3:W860)-W860),\"\")","v":""},"","",""]
[null,null,null,{"$f":"IF(A861>0,IF(OR(MAX($G$3:G861)-G861=0,A861=0),\"\",MAX($G$3:G861)-G861),\"\")","v":""},"","","",null,null,null,null,{"$f":"IF(I861>0,IF(OR(MAX($O$3:O861)-O861=0,I861=0),\"\",MAX($O$3:O861)-O861),\"\")","v":""},"","","",null,null,null,null,{"$f":"IF(I861>0,IF(OR(MAX($W$3:W861)-W861=0,Q861=0),\"\",MAX($W$3:W861)-W861),\"\")","v":""},"","",""]
[null,null,null,{"$f":"IF(A862>0,IF(OR(MAX($G$3:G862)-G862=0,A862=0),\"\",MAX($G$3:G862)-G862),\"\")","v":""},"","","",null,null,null,null,{"$f":"IF(I862>0,IF(OR(MAX($O$3:O862)-O862=0,I862=0),\"\",MAX($O$3:O862)-O862),\"\")","v":""},"","","",null,null,null,null,{"$f":"IF(I862>0,IF(OR(MAX($W$3:W862)-W862=0,Q862=0),\"\",MAX($W$3:W862)-W862),\"\")","v":""},"","",""]
[null,null,null,{"$f":"IF(A863>0,IF(OR(MAX($G$3:G863)-G863=0,A863=0),\"\",MAX($G$3:G863)-G863),\"\")","v":""},"","","",null,null,null,null,{"$f":"IF(I863>0,IF(OR(MAX($O$3:O863)-O863=0,I863=0),\"\",MAX($O$3:O863)-O863),\"\")","v":""},"","","",null,null,null,null,{"$f":"IF(I863>0,IF(OR(MAX($W$3:W863)-W863=0,Q863=0),\"\",MAX($W$3:W863)-W863),\"\")","v":""},"","",""]
[null,null,null,{"$f":"IF(A864>0,IF(OR(MAX($G$3:G864)-G864=0,A864=0),\"\",MAX($G$3:G864)-G864),\"\")","v":""},"","","",null,null,null,null,{"$f":"IF(I864>0,IF(OR(MAX($O$3:O864)-O864=0,I864=0),\"\",MAX($O$3:O864)-O864),\"\")","v":""},"","","",null,null,null,null,{"$f":"IF(I864>0,IF(OR(MAX($W$3:W864)-W864=0,Q864=0),\"\",MAX($W$3:W864)-W864),\"\")","v":""},"","",""]
[null,null,null,{"$f":"IF(A865>0,IF(OR(MAX($G$3:G865)-G865=0,A865=0),\"\",MAX($G$3:G865)-G865),\"\")","v":""},"","","",null,null,null,null,{"$f":"IF(I865>0,IF(OR(MAX($O$3:O865)-O865=0,I865=0),\"\",MAX($O$3:O865)-O865),\"\")","v":""},"","","",null,null,null,null,{"$f":"IF(I865>0,IF(OR(MAX($W$3:W865)-W865=0,Q865=0),\"\",MAX($W$3:W865)-W865),\"\")","v":""},"","",""]
[null,null,null,{"$f":"IF(A866>0,IF(OR(MAX($G$3:G866)-G866=0,A866=0),\"\",MAX($G$3:G866)-G866),\"\")","v":""},"","","",null,null,null,null,{"$f":"IF(I866>0,IF(OR(MAX($O$3:O866)-O866=0,I866=0),\"\",MAX($O$3:O866)-O866),\"\")","v":""},"","","",null,null,null,null,{"$f":"IF(I866>0,IF(OR(MAX($W$3:W866)-W866=0,Q866=0),\"\",MAX($W$3:W866)-W866),\"\")","v":""},"","",""]
[null,null,null,{"$f":"IF(A867>0,IF(OR(MAX($G$3:G867)-G867=0,A867=0),\"\",MAX($G$3:G867)-G867),\"\")","v":""},"","","",null,null,null,null,{"$f":"IF(I867>0,IF(OR(MAX($O$3:O867)-O867=0,I867=0),\"\",MAX($O$3:O867)-O867),\"\")","v":""},"","","",null,null,null,null,{"$f":"IF(I867>0,IF(OR(MAX($W$3:W867)-W867=0,Q867=0),\"\",MAX($W$3:W867)-W867),\"\")","v":""},"","",""]
[null,null,null,{"$f":"IF(A868>0,IF(OR(MAX($G$3:G868)-G868=0,A868=0),\"\",MAX($G$3:G868)-G868),\"\")","v":""},"","","",null,null,null,null,{"$f":"IF(I868>0,IF(OR(MAX($O$3:O868)-O868=0,I868=0),\"\",MAX($O$3:O868)-O868),\"\")","v":""},"","","",null,null,null,null,{"$f":"IF(I868>0,IF(OR(MAX($W$3:W868)-W868=0,Q868=0),\"\",MAX($W$3:W868)-W868),\"\")","v":""},"","",""]
[null,null,null,{"$f":"IF(A869>0,IF(OR(MAX($G$3:G869)-G869=0,A869=0),\"\",MAX($G$3:G869)-G869),\"\")","v":""},"","","",null,null,null,null,{"$f":"IF(I869>0,IF(OR(MAX($O$3:O869)-O869=0,I869=0),\"\",MAX($O$3:O869)-O869),\"\")","v":""},"","","",null,null,null,null,{"$f":"IF(I869>0,IF(OR(MAX($W$3:W869)-W869=0,Q869=0),\"\",MAX($W$3:W869)-W869),\"\")","v":""},"","",""]
[null,null,null,{"$f":"IF(A870>0,IF(OR(MAX($G$3:G870)-G870=0,A870=0),\"\",MAX($G$3:G870)-G870),\"\")","v":""},"","","",null,null,null,null,{"$f":"IF(I870>0,IF(OR(MAX($O$3:O870)-O870=0,I870=0),\"\",MAX($O$3:O870)-O870),\"\")","v":""},"","","",null,null,null,null,{"$f":"IF(I870>0,IF(OR(MAX($W$3:W870)-W870=0,Q870=0),\"\",MAX($W$3:W870)-W870),\"\")","v":""},"","",""]
[null,null,null,{"$f":"IF(A871>0,IF(OR(MAX($G$3:G871)-G871=0,A871=0),\"\",MAX($G$3:G871)-G871),\"\")","v":""},"","","",null,null,null,null,{"$f":"IF(I871>0,IF(OR(MAX($O$3:O871)-O871=0,I871=0),\"\",MAX($O$3:O871)-O871),\"\")","v":""},"","","",null,null,null,null,{"$f":"IF(I871>0,IF(OR(MAX($W$3:W871)-W871=0,Q871=0),\"\",MAX($W$3:W871)-W871),\"\")","v":""},"","",""]
[null,null,null,{"$f":"IF(A872>0,IF(OR(MAX($G$3:G872)-G872=0,A872=0),\"\",MAX($G$3:G872)-G872),\"\")","v":""},"","","",null,null,null,null,{"$f":"IF(I872>0,IF(OR(MAX($O$3:O872)-O872=0,I872=0),\"\",MAX($O$3:O872)-O872),\"\")","v":""},"","","",null,null,null,null,{"$f":"IF(I872>0,IF(OR(MAX($W$3:W872)-W872=0,Q872=0),\"\",MAX($W$3:W872)-W872),\"\")","v":""},"","",""]
[null,null,null,{"$f":"IF(A873>0,IF(OR(MAX($G$3:G873)-G873=0,A873=0),\"\",MAX($G$3:G873)-G873),\"\")","v":""},"","","",null,null,null,null,{"$f":"IF(I873>0,IF(OR(MAX($O$3:O873)-O873=0,I873=0),\"\",MAX($O$3:O873)-O873),\"\")","v":""},"","","",null,null,null,null,{"$f":"IF(I873>0,IF(OR(MAX($W$3:W873)-W873=0,Q873=0),\"\",MAX($W$3:W873)-W873),\"\")","v":""},"","",""]
[null,null,null,{"$f":"IF(A874>0,IF(OR(MAX($G$3:G874)-G874=0,A874=0),\"\",MAX($G$3:G874)-G874),\"\")","v":""},"","","",null,null,null,null,{"$f":"IF(I874>0,IF(OR(MAX($O$3:O874)-O874=0,I874=0),\"\",MAX($O$3:O874)-O874),\"\")","v":""},"","","",null,null,null,null,{"$f":"IF(I874>0,IF(OR(MAX($W$3:W874)-W874=0,Q874=0),\"\",MAX($W$3:W874)-W874),\"\")","v":""},"","",""]
[null,null,null,{"$f":"IF(A875>0,IF(OR(MAX($G$3:G875)-G875=0,A875=0),\"\",MAX($G$3:G875)-G875),\"\")","v":""},"","","",null,null,null,null,{"$f":"IF(I875>0,IF(OR(MAX($O$3:O875)-O875=0,I875=0),\"\",MAX($O$3:O875)-O875),\"\")","v":""},"","","",null,null,null,null,{"$f":"IF(I875>0,IF(OR(MAX($W$3:W875)-W875=0,Q875=0),\"\",MAX($W$3:W875)-W875),\"\")","v":""},"","",""]
[null,null,null,{"$f":"IF(A876>0,IF(OR(MAX($G$3:G876)-G876=0,A876=0),\"\",MAX($G$3:G876)-G876),\"\")","v":""},"","","",null,null,null,null,{"$f":"IF(I876>0,IF(OR(MAX($O$3:O876)-O876=0,I876=0),\"\",MAX($O$3:O876)-O876),\"\")","v":""},"","","",null,null,null,null,{"$f":"IF(I876>0,IF(OR(MAX($W$3:W876)-W876=0,Q876=0),\"\",MAX($W$3:W876)-W876),\"\")","v":""},"","",""]
[null,null,null,{"$f":"IF(A877>0,IF(OR(MAX($G$3:G877)-G877=0,A877=0),\"\",MAX($G$3:G877)-G877),\"\")","v":""},"","","",null,null,null,null,{"$f":"IF(I877>0,IF(OR(MAX($O$3:O877)-O877=0,I877=0),\"\",MAX($O$3:O877)-O877),\"\")","v":""},"","","",null,null,null,null,{"$f":"IF(I877>0,IF(OR(MAX($W$3:W877)-W877=0,Q877=0),\"\",MAX($W$3:W877)-W877),\"\")","v":""},"","",""]
[null,null,null,{"$f":"IF(A878>0,IF(OR(MAX($G$3:G878)-G878=0,A878=0),\"\",MAX($G$3:G878)-G878),\"\")","v":""},"","","",null,null,null,null,{"$f":"IF(I878>0,IF(OR(MAX($O$3:O878)-O878=0,I878=0),\"\",MAX($O$3:O878)-O878),\"\")","v":""},"","","",null,null,null,null,{"$f":"IF(I878>0,IF(OR(MAX($W$3:W878)-W878=0,Q878=0),\"\",MAX($W$3:W878)-W878),\"\")","v":""},"","",""]
[null,null,null,{"$f":"IF(A879>0,IF(OR(MAX($G$3:G879)-G879=0,A879=0),\"\",MAX($G$3:G879)-G879),\"\")","v":""},"","","",null,null,null,null,{"$f":"IF(I879>0,IF(OR(MAX($O$3:O879)-O879=0,I879=0),\"\",MAX($O$3:O879)-O879),\"\")","v":""},"","","",null,null,null,null,{"$f":"IF(I879>0,IF(OR(MAX($W$3:W879)-W879=0,Q879=0),\"\",MAX($W$3:W879)-W879),\"\")","v":""},"","",""]
[null,null,null,{"$f":"IF(A880>0,IF(OR(MAX($G$3:G880)-G880=0,A880=0),\"\",MAX($G$3:G880)-G880),\"\")","v":""},"","","",null,null,null,null,{"$f":"IF(I880>0,IF(OR(MAX($O$3:O880)-O880=0,I880=0),\"\",MAX($O$3:O880)-O880),\"\")","v":""},"","","",null,null,null,null,{"$f":"IF(I880>0,IF(OR(MAX($W$3:W880)-W880=0,Q880=0),\"\",MAX($W$3:W880)-W880),\"\")","v":""},"","",""]
[null,null,null,{"$f":"IF(A881>0,IF(OR(MAX($G$3:G881)-G881=0,A881=0),\"\",MAX($G$3:G881)-G881),\"\")","v":""},"","","",null,null,null,null,{"$f":"IF(I881>0,IF(OR(MAX($O$3:O881)-O881=0,I881=0),\"\",MAX($O$3:O881)-O881),\"\")","v":""},"","","",null,null,null,null,{"$f":"IF(I881>0,IF(OR(MAX($W$3:W881)-W881=0,Q881=0),\"\",MAX($W$3:W881)-W881),\"\")","v":""},"","",""]
[null,null,null,{"$f":"IF(A882>0,IF(OR(MAX($G$3:G882)-G882=0,A882=0),\"\",MAX($G$3:G882)-G882),\"\")","v":""},"","","",null,null,null,null,{"$f":"IF(I882>0,IF(OR(MAX($O$3:O882)-O882=0,I882=0),\"\",MAX($O$3:O882)-O882),\"\")","v":""},"","","",null,null,null,null,{"$f":"IF(I882>0,IF(OR(MAX($W$3:W882)-W882=0,Q882=0),\"\",MAX($W$3:W882)-W882),\"\")","v":""},"","",""]
[null,null,null,{"$f":"IF(A883>0,IF(OR(MAX($G$3:G883)-G883=0,A883=0),\"\",MAX($G$3:G883)-G883),\"\")","v":""},"","","",null,null,null,null,{"$f":"IF(I883>0,IF(OR(MAX($O$3:O883)-O883=0,I883=0),\"\",MAX($O$3:O883)-O883),\"\")","v":""},"","","",null,null,null,null,{"$f":"IF(I883>0,IF(OR(MAX($W$3:W883)-W883=0,Q883=0),\"\",MAX($W$3:W883)-W883),\"\")","v":""},"","",""]
[null,null,null,{"$f":"IF(A884>0,IF(OR(MAX($G$3:G884)-G884=0,A884=0),\"\",MAX($G$3:G884)-G884),\"\")","v":""},"","","",null,null,null,null,{"$f":"IF(I884>0,IF(OR(MAX($O$3:O884)-O884=0,I884=0),\"\",MAX($O$3:O884)-O884),\"\")","v":""},"","","",null,null,null,null,{"$f":"IF(I884>0,IF(OR(MAX($W$3:W884)-W884=0,Q884=0),\"\",MAX($W$3:W884)-W884),\"\")","v":""},"","",""]
[null,null,null,{"$f":"IF(A885>0,IF(OR(MAX($G$3:G885)-G885=0,A885=0),\"\",MAX($G$3:G885)-G885),\"\")","v":""},"","","",null,null,null,null,{"$f":"IF(I885>0,IF(OR(MAX($O$3:O885)-O885=0,I885=0),\"\",MAX($O$3:O885)-O885),\"\")","v":""},"","","",null,null,null,null,{"$f":"IF(I885>0,IF(OR(MAX($W$3:W885)-W885=0,Q885=0),\"\",MAX($W$3:W885)-W885),\"\")","v":""},"","",""]
[null,null,null,{"$f":"IF(A886>0,IF(OR(MAX($G$3:G886)-G886=0,A886=0),\"\",MAX($G$3:G886)-G886),\"\")","v":""},"","","",null,null,null,null,{"$f":"IF(I886>0,IF(OR(MAX($O$3:O886)-O886=0,I886=0),\"\",MAX($O$3:O886)-O886),\"\")","v":""},"","","",null,null,null,null,{"$f":"IF(I886>0,IF(OR(MAX($W$3:W886)-W886=0,Q886=0),\"\",MAX($W$3:W886)-W886),\"\")","v":""},"","",""]
[null,null,null,{"$f":"IF(A887>0,IF(OR(MAX($G$3:G887)-G887=0,A887=0),\"\",MAX($G$3:G887)-G887),\"\")","v":""},"","","",null,null,null,null,{"$f":"IF(I887>0,IF(OR(MAX($O$3:O887)-O887=0,I887=0),\"\",MAX($O$3:O887)-O887),\"\")","v":""},"","","",null,null,null,null,{"$f":"IF(I887>0,IF(OR(MAX($W$3:W887)-W887=0,Q887=0),\"\",MAX($W$3:W887)-W887),\"\")","v":""},"","",""]
[null,null,null,{"$f":"IF(A888>0,IF(OR(MAX($G$3:G888)-G888=0,A888=0),\"\",MAX($G$3:G888)-G888),\"\")","v":""},"","","",null,null,null,null,{"$f":"IF(I888>0,IF(OR(MAX($O$3:O888)-O888=0,I888=0),\"\",MAX($O$3:O888)-O888),\"\")","v":""},"","","",null,null,null,null,{"$f":"IF(I888>0,IF(OR(MAX($W$3:W888)-W888=0,Q888=0),\"\",MAX($W$3:W888)-W888),\"\")","v":""},"","",""]
[null,null,null,{"$f":"IF(A889>0,IF(OR(MAX($G$3:G889)-G889=0,A889=0),\"\",MAX($G$3:G889)-G889),\"\")","v":""},"","","",null,null,null,null,{"$f":"IF(I889>0,IF(OR(MAX($O$3:O889)-O889=0,I889=0),\"\",MAX($O$3:O889)-O889),\"\")","v":""},"","","",null,null,null,null,{"$f":"IF(I889>0,IF(OR(MAX($W$3:W889)-W889=0,Q889=0),\"\",MAX($W$3:W889)-W889),\"\")","v":""},"","",""]
[null,null,null,{"$f":"IF(A890>0,IF(OR(MAX($G$3:G890)-G890=0,A890=0),\"\",MAX($G$3:G890)-G890),\"\")","v":""},"","","",null,null,null,null,{"$f":"IF(I890>0,IF(OR(MAX($O$3:O890)-O890=0,I890=0),\"\",MAX($O$3:O890)-O890),\"\")","v":""},"","","",null,null,null,null,{"$f":"IF(I890>0,IF(OR(MAX($W$3:W890)-W890=0,Q890=0),\"\",MAX($W$3:W890)-W890),\"\")","v":""},"","",""]
[null,null,null,{"$f":"IF(A891>0,IF(OR(MAX($G$3:G891)-G891=0,A891=0),\"\",MAX($G$3:G891)-G891),\"\")","v":""},"","","",null,null,null,null,{"$f":"IF(I891>0,IF(OR(MAX($O$3:O891)-O891=0,I891=0),\"\",MAX($O$3:O891)-O891),\"\")","v":""},"","","",null,null,null,null,{"$f":"IF(I891>0,IF(OR(MAX($W$3:W891)-W891=0,Q891=0),\"\",MAX($W$3:W891)-W891),\"\")","v":""},"","",""]
[null,null,null,{"$f":"IF(A892>0,IF(OR(MAX($G$3:G892)-G892=0,A892=0),\"\",MAX($G$3:G892)-G892),\"\")","v":""},"","","",null,null,null,null,{"$f":"IF(I892>0,IF(OR(MAX($O$3:O892)-O892=0,I892=0),\"\",MAX($O$3:O892)-O892),\"\")","v":""},"","","",null,null,null,null,{"$f":"IF(I892>0,IF(OR(MAX($W$3:W892)-W892=0,Q892=0),\"\",MAX($W$3:W892)-W892),\"\")","v":""},"","",""]
[null,null,null,{"$f":"IF(A893>0,IF(OR(MAX($G$3:G893)-G893=0,A893=0),\"\",MAX($G$3:G893)-G893),\"\")","v":""},"","","",null,null,null,null,{"$f":"IF(I893>0,IF(OR(MAX($O$3:O893)-O893=0,I893=0),\"\",MAX($O$3:O893)-O893),\"\")","v":""},"","","",null,null,null,null,{"$f":"IF(I893>0,IF(OR(MAX($W$3:W893)-W893=0,Q893=0),\"\",MAX($W$3:W893)-W893),\"\")","v":""},"","",""]
[null,null,null,{"$f":"IF(A894>0,IF(OR(MAX($G$3:G894)-G894=0,A894=0),\"\",MAX($G$3:G894)-G894),\"\")","v":""},"","","",null,null,null,null,{"$f":"IF(I894>0,IF(OR(MAX($O$3:O894)-O894=0,I894=0),\"\",MAX($O$3:O894)-O894),\"\")","v":""},"","","",null,null,null,null,{"$f":"IF(I894>0,IF(OR(MAX($W$3:W894)-W894=0,Q894=0),\"\",MAX($W$3:W894)-W894),\"\")","v":""},"","",""]
[null,null,null,{"$f":"IF(A895>0,IF(OR(MAX($G$3:G895)-G895=0,A895=0),\"\",MAX($G$3:G895)-G895),\"\")","v":""},"","","",null,null,null,null,{"$f":"IF(I895>0,IF(OR(MAX($O$3:O895)-O895=0,I895=0),\"\",MAX($O$3:O895)-O895),\"\")","v":""},"","","",null,null,null,null,{"$f":"IF(I895>0,IF(OR(MAX($W$3:W895)-W895=0,Q895=0),\"\",MAX($W$3:W895)-W895),\"\")","v":""},"","",""]
[null,null,null,{"$f":"IF(A896>0,IF(OR(MAX($G$3:G896)-G896=0,A896=0),\"\",MAX($G$3:G896)-G896),\"\")","v":""},"","","",null,null,null,null,{"$f":"IF(I896>0,IF(OR(MAX($O$3:O896)-O896=0,I896=0),\"\",MAX($O$3:O896)-O896),\"\")","v":""},"","","",null,null,null,null,{"$f":"IF(I896>0,IF(OR(MAX($W$3:W896)-W896=0,Q896=0),\"\",MAX($W$3:W896)-W896),\"\")","v":""},"","",""]
[null,null,null,{"$f":"IF(A897>0,IF(OR(MAX($G$3:G897)-G897=0,A897=0),\"\",MAX($G$3:G897)-G897),\"\")","v":""},"","","",null,null,null,null,{"$f":"IF(I897>0,IF(OR(MAX($O$3:O897)-O897=0,I897=0),\"\",MAX($O$3:O897)-O897),\"\")","v":""},"","","",null,null,null,null,{"$f":"IF(I897>0,IF(OR(MAX($W$3:W897)-W897=0,Q897=0),\"\",MAX($W$3:W897)-W897),\"\")","v":""},"","",""]
[null,null,null,{"$f":"IF(A898>0,IF(OR(MAX($G$3:G898)-G898=0,A898=0),\"\",MAX($G$3:G898)-G898),\"\")","v":""},"","","",null,null,null,null,{"$f":"IF(I898>0,IF(OR(MAX($O$3:O898)-O898=0,I898=0),\"\",MAX($O$3:O898)-O898),\"\")","v":""},"","","",null,null,null,null,{"$f":"IF(I898>0,IF(OR(MAX($W$3:W898)-W898=0,Q898=0),\"\",MAX($W$3:W898)-W898),\"\")","v":""},"","",""]
[null,null,null,{"$f":"IF(A899>0,IF(OR(MAX($G$3:G899)-G899=0,A899=0),\"\",MAX($G$3:G899)-G899),\"\")","v":""},"","","",null,null,null,null,{"$f":"IF(I899>0,IF(OR(MAX($O$3:O899)-O899=0,I899=0),\"\",MAX($O$3:O899)-O899),\"\")","v":""},"","","",null,null,null,null,{"$f":"IF(I899>0,IF(OR(MAX($W$3:W899)-W899=0,Q899=0),\"\",MAX($W$3:W899)-W899),\"\")","v":""},"","",""]
[null,null,null,{"$f":"IF(A900>0,IF(OR(MAX($G$3:G900)-G900=0,A900=0),\"\",MAX($G$3:G900)-G900),\"\")","v":""},"","","",null,null,null,null,{"$f":"IF(I900>0,IF(OR(MAX($O$3:O900)-O900=0,I900=0),\"\",MAX($O$3:O900)-O900),\"\")","v":""},"","","",null,null,null,null,{"$f":"IF(I900>0,IF(OR(MAX($W$3:W900)-W900=0,Q900=0),\"\",MAX($W$3:W900)-W900),\"\")","v":""},"","",""]
[null,null,null,{"$f":"IF(A901>0,IF(OR(MAX($G$3:G901)-G901=0,A901=0),\"\",MAX($G$3:G901)-G901),\"\")","v":""},"","","",null,null,null,null,{"$f":"IF(I901>0,IF(OR(MAX($O$3:O901)-O901=0,I901=0),\"\",MAX($O$3:O901)-O901),\"\")","v":""},"","","",null,null,null,null,{"$f":"IF(I901>0,IF(OR(MAX($W$3:W901)-W901=0,Q901=0),\"\",MAX($W$3:W901)-W901),\"\")","v":""},"","",""]
[null,null,null,{"$f":"IF(A902>0,IF(OR(MAX($G$3:G902)-G902=0,A902=0),\"\",MAX($G$3:G902)-G902),\"\")","v":""},"","","",null,null,null,null,{"$f":"IF(I902>0,IF(OR(MAX($O$3:O902)-O902=0,I902=0),\"\",MAX($O$3:O902)-O902),\"\")","v":""},{"$f":"IF(L902=\"\",\"\",L902/(N902+O901))","v":""},{"$f":"IF(I902>0,N901+K902,\"\")","v":""},{"$f":"IF(I902>0,O901+K902,\"\")","v":""},null,null,null,null,{"$f":"IF(I902>0,IF(OR(MAX($W$3:W902)-W902=0,Q902=0),\"\",MAX($W$3:W902)-W902),\"\")","v":""},{"$f":"IF(T902=\"\",\"\",T902/(V902+W901))","v":""},{"$f":"IF(Q902>0,V901+S902,\"\")","v":""},{"$f":"IF(Q902>0,W901+S902,\"\")","v":""}]
[null,null,null,{"$f":"IF(A903>0,IF(OR(MAX($G$3:G903)-G903=0,A903=0),\"\",MAX($G$3:G903)-G903),\"\")","v":""},"","","",null,null,null,null,{"$f":"IF(I903>0,IF(OR(MAX($O$3:O903)-O903=0,I903=0),\"\",MAX($O$3:O903)-O903),\"\")","v":""},"","","",null,null,null,null,{"$f":"IF(I903>0,IF(OR(MAX($W$3:W903)-W903=0,Q903=0),\"\",MAX($W$3:W903)-W903),\"\")","v":""},"","",""]
[null,null,null,{"$f":"IF(A904>0,IF(OR(MAX($G$3:G904)-G904=0,A904=0),\"\",MAX($G$3:G904)-G904),\"\")","v":""},{"$f":"IF(D904=\"\",\"\",D904/(F904+G903))","v":""},{"$f":"IF(A904>0,F903+C904,\"\")","v":""},{"$f":"IF(A904>0,G903+C904,\"\")","v":""},null,null,null,null,{"$f":"IF(I904>0,IF(OR(MAX($O$3:O904)-O904=0,I904=0),\"\",MAX($O$3:O904)-O904),\"\")","v":""},"","","",null,null,null,null,{"$f":"IF(I904>0,IF(OR(MAX($W$3:W904)-W904=0,Q904=0),\"\",MAX($W$3:W904)-W904),\"\")","v":""},"","",""]
[null,null,null,{"$f":"IF(A905>0,IF(OR(MAX($G$3:G905)-G905=0,A905=0),\"\",MAX($G$3:G905)-G905),\"\")","v":""},"","","",null,null,null,null,{"$f":"IF(I905>0,IF(OR(MAX($O$3:O905)-O905=0,I905=0),\"\",MAX($O$3:O905)-O905),\"\")","v":""},"","","",null,null,null,null,{"$f":"IF(I905>0,IF(OR(MAX($W$3:W905)-W905=0,Q905=0),\"\",MAX($W$3:W905)-W905),\"\")","v":""},"","",""]
[null,null,null,{"$f":"IF(A906>0,IF(OR(MAX($G$3:G906)-G906=0,A906=0),\"\",MAX($G$3:G906)-G906),\"\")","v":""},"","","",null,null,null,null,{"$f":"IF(I906>0,IF(OR(MAX($O$3:O906)-O906=0,I906=0),\"\",MAX($O$3:O906)-O906),\"\")","v":""},"","","",null,null,null,null,{"$f":"IF(I906>0,IF(OR(MAX($W$3:W906)-W906=0,Q906=0),\"\",MAX($W$3:W906)-W906),\"\")","v":""},"","",""]
[null,null,null,{"$f":"IF(A907>0,IF(OR(MAX($G$3:G907)-G907=0,A907=0),\"\",MAX($G$3:G907)-G907),\"\")","v":""},"","","",null,null,null,null,{"$f":"IF(I907>0,IF(OR(MAX($O$3:O907)-O907=0,I907=0),\"\",MAX($O$3:O907)-O907),\"\")","v":""},"","","",null,null,null,null,{"$f":"IF(I907>0,IF(OR(MAX($W$3:W907)-W907=0,Q907=0),\"\",MAX($W$3:W907)-W907),\"\")","v":""},"","",""]
[null,null,null,{"$f":"IF(A908>0,IF(OR(MAX($G$3:G908)-G908=0,A908=0),\"\",MAX($G$3:G908)-G908),\"\")","v":""},"","","",null,null,null,null,{"$f":"IF(I908>0,IF(OR(MAX($O$3:O908)-O908=0,I908=0),\"\",MAX($O$3:O908)-O908),\"\")","v":""},"","","",null,null,null,null,{"$f":"IF(I908>0,IF(OR(MAX($W$3:W908)-W908=0,Q908=0),\"\",MAX($W$3:W908)-W908),\"\")","v":""},"","",""]
[null,null,null,{"$f":"IF(A909>0,IF(OR(MAX($G$3:G909)-G909=0,A909=0),\"\",MAX($G$3:G909)-G909),\"\")","v":""},"","","",null,null,null,null,{"$f":"IF(I909>0,IF(OR(MAX($O$3:O909)-O909=0,I909=0),\"\",MAX($O$3:O909)-O909),\"\")","v":""},"","","",null,null,null,null,{"$f":"IF(I909>0,IF(OR(MAX($W$3:W909)-W909=0,Q909=0),\"\",MAX($W$3:W909)-W909),\"\")","v":""},"","",""]
[null,null,null,{"$f":"IF(A910>0,IF(OR(MAX($G$3:G910)-G910=0,A910=0),\"\",MAX($G$3:G910)-G910),\"\")","v":""},"","","",null,null,null,null,{"$f":"IF(I910>0,IF(OR(MAX($O$3:O910)-O910=0,I910=0),\"\",MAX($O$3:O910)-O910),\"\")","v":""},"","","",null,null,null,null,{"$f":"IF(I910>0,IF(OR(MAX($W$3:W910)-W910=0,Q910=0),\"\",MAX($W$3:W910)-W910),\"\")","v":""},"","",""]
[null,null,null,{"$f":"IF(A911>0,IF(OR(MAX($G$3:G911)-G911=0,A911=0),\"\",MAX($G$3:G911)-G911),\"\")","v":""},"","","",null,null,null,null,{"$f":"IF(I911>0,IF(OR(MAX($O$3:O911)-O911=0,I911=0),\"\",MAX($O$3:O911)-O911),\"\")","v":""},"","","",null,null,null,null,{"$f":"IF(I911>0,IF(OR(MAX($W$3:W911)-W911=0,Q911=0),\"\",MAX($W$3:W911)-W911),\"\")","v":""},"","",""]
[null,null,null,{"$f":"IF(A912>0,IF(OR(MAX($G$3:G912)-G912=0,A912=0),\"\",MAX($G$3:G912)-G912),\"\")","v":""},"","","",null,null,null,null,{"$f":"IF(I912>0,IF(OR(MAX($O$3:O912)-O912=0,I912=0),\"\",MAX($O$3:O912)-O912),\"\")","v":""},"","","",null,null,null,null,{"$f":"IF(I912>0,IF(OR(MAX($W$3:W912)-W912=0,Q912=0),\"\",MAX($W$3:W912)-W912),\"\")","v":""},"","",""]
[null,null,null,{"$f":"IF(A913>0,IF(OR(MAX($G$3:G913)-G913=0,A913=0),\"\",MAX($G$3:G913)-G913),\"\")","v":""},"","","",null,null,null,null,{"$f":"IF(I913>0,IF(OR(MAX($O$3:O913)-O913=0,I913=0),\"\",MAX($O$3:O913)-O913),\"\")","v":""},"","","",null,null,null,null,{"$f":"IF(I913>0,IF(OR(MAX($W$3:W913)-W913=0,Q913=0),\"\",MAX($W$3:W913)-W913),\"\")","v":""},"","",""]
[null,null,null,{"$f":"IF(A914>0,IF(OR(MAX($G$3:G914)-G914=0,A914=0),\"\",MAX($G$3:G914)-G914),\"\")","v":""},"","","",null,null,null,null,{"$f":"IF(I914>0,IF(OR(MAX($O$3:O914)-O914=0,I914=0),\"\",MAX($O$3:O914)-O914),\"\")","v":""},"","","",null,null,null,null,{"$f":"IF(I914>0,IF(OR(MAX($W$3:W914)-W914=0,Q914=0),\"\",MAX($W$3:W914)-W914),\"\")","v":""},"","",""]
[null,null,null,{"$f":"IF(A915>0,IF(OR(MAX($G$3:G915)-G915=0,A915=0),\"\",MAX($G$3:G915)-G915),\"\")","v":""},"","","",null,null,null,null,{"$f":"IF(I915>0,IF(OR(MAX($O$3:O915)-O915=0,I915=0),\"\",MAX($O$3:O915)-O915),\"\")","v":""},"","","",null,null,null,null,{"$f":"IF(I915>0,IF(OR(MAX($W$3:W915)-W915=0,Q915=0),\"\",MAX($W$3:W915)-W915),\"\")","v":""},"","",""]
[null,null,null,{"$f":"IF(A916>0,IF(OR(MAX($G$3:G916)-G916=0,A916=0),\"\",MAX($G$3:G916)-G916),\"\")","v":""},"","","",null,null,null,null,{"$f":"IF(I916>0,IF(OR(MAX($O$3:O916)-O916=0,I916=0),\"\",MAX($O$3:O916)-O916),\"\")","v":""},"","","",null,null,null,null,{"$f":"IF(I916>0,IF(OR(MAX($W$3:W916)-W916=0,Q916=0),\"\",MAX($W$3:W916)-W916),\"\")","v":""},"","",""]
[null,null,null,{"$f":"IF(A917>0,IF(OR(MAX($G$3:G917)-G917=0,A917=0),\"\",MAX($G$3:G917)-G917),\"\")","v":""},"","","",null,null,null,null,{"$f":"IF(I917>0,IF(OR(MAX($O$3:O917)-O917=0,I917=0),\"\",MAX($O$3:O917)-O917),\"\")","v":""},"","","",null,null,null,null,{"$f":"IF(I917>0,IF(OR(MAX($W$3:W917)-W917=0,Q917=0),\"\",MAX($W$3:W917)-W917),\"\")","v":""},"","",""]
[null,null,null,{"$f":"IF(A918>0,IF(OR(MAX($G$3:G918)-G918=0,A918=0),\"\",MAX($G$3:G918)-G918),\"\")","v":""},"","","",null,null,null,null,{"$f":"IF(I918>0,IF(OR(MAX($O$3:O918)-O918=0,I918=0),\"\",MAX($O$3:O918)-O918),\"\")","v":""},"","","",null,null,null,null,{"$f":"IF(I918>0,IF(OR(MAX($W$3:W918)-W918=0,Q918=0),\"\",MAX($W$3:W918)-W918),\"\")","v":""},"","",""]
[null,null,null,{"$f":"IF(A919>0,IF(OR(MAX($G$3:G919)-G919=0,A919=0),\"\",MAX($G$3:G919)-G919),\"\")","v":""},"","","",null,null,null,null,{"$f":"IF(I919>0,IF(OR(MAX($O$3:O919)-O919=0,I919=0),\"\",MAX($O$3:O919)-O919),\"\")","v":""},"","","",null,null,null,null,{"$f":"IF(I919>0,IF(OR(MAX($W$3:W919)-W919=0,Q919=0),\"\",MAX($W$3:W919)-W919),\"\")","v":""},"","",""]
[null,null,null,{"$f":"IF(A920>0,IF(OR(MAX($G$3:G920)-G920=0,A920=0),\"\",MAX($G$3:G920)-G920),\"\")","v":""},"","","",null,null,null,null,{"$f":"IF(I920>0,IF(OR(MAX($O$3:O920)-O920=0,I920=0),\"\",MAX($O$3:O920)-O920),\"\")","v":""},"","","",null,null,null,null,{"$f":"IF(I920>0,IF(OR(MAX($W$3:W920)-W920=0,Q920=0),\"\",MAX($W$3:W920)-W920),\"\")","v":""},"","",""]
[null,null,null,{"$f":"IF(A921>0,IF(OR(MAX($G$3:G921)-G921=0,A921=0),\"\",MAX($G$3:G921)-G921),\"\")","v":""},"","","",null,null,null,null,{"$f":"IF(I921>0,IF(OR(MAX($O$3:O921)-O921=0,I921=0),\"\",MAX($O$3:O921)-O921),\"\")","v":""},"","","",null,null,null,null,{"$f":"IF(I921>0,IF(OR(MAX($W$3:W921)-W921=0,Q921=0),\"\",MAX($W$3:W921)-W921),\"\")","v":""},"","",""]
[null,null,null,{"$f":"IF(A922>0,IF(OR(MAX($G$3:G922)-G922=0,A922=0),\"\",MAX($G$3:G922)-G922),\"\")","v":""},"","","",null,null,null,null,{"$f":"IF(I922>0,IF(OR(MAX($O$3:O922)-O922=0,I922=0),\"\",MAX($O$3:O922)-O922),\"\")","v":""},"","","",null,null,null,null,{"$f":"IF(I922>0,IF(OR(MAX($W$3:W922)-W922=0,Q922=0),\"\",MAX($W$3:W922)-W922),\"\")","v":""},"","",""]
[null,null,null,{"$f":"IF(A923>0,IF(OR(MAX($G$3:G923)-G923=0,A923=0),\"\",MAX($G$3:G923)-G923),\"\")","v":""},"","","",null,null,null,null,{"$f":"IF(I923>0,IF(OR(MAX($O$3:O923)-O923=0,I923=0),\"\",MAX($O$3:O923)-O923),\"\")","v":""},"","","",null,null,null,null,{"$f":"IF(I923>0,IF(OR(MAX($W$3:W923)-W923=0,Q923=0),\"\",MAX($W$3:W923)-W923),\"\")","v":""},"","",""]
[null,null,null,{"$f":"IF(A924>0,IF(OR(MAX($G$3:G924)-G924=0,A924=0),\"\",MAX($G$3:G924)-G924),\"\")","v":""},"","","",null,null,null,null,{"$f":"IF(I924>0,IF(OR(MAX($O$3:O924)-O924=0,I924=0),\"\",MAX($O$3:O924)-O924),\"\")","v":""},"","","",null,null,null,null,{"$f":"IF(I924>0,IF(OR(MAX($W$3:W924)-W924=0,Q924=0),\"\",MAX($W$3:W924)-W924),\"\")","v":""},"","",""]
[null,null,null,{"$f":"IF(A925>0,IF(OR(MAX($G$3:G925)-G925=0,A925=0),\"\",MAX($G$3:G925)-G925),\"\")","v":""},"","","",null,null,null,null,{"$f":"IF(I925>0,IF(OR(MAX($O$3:O925)-O925=0,I925=0),\"\",MAX($O$3:O925)-O925),\"\")","v":""},"","","",null,null,null,null,{"$f":"IF(I925>0,IF(OR(MAX($W$3:W925)-W925=0,Q925=0),\"\",MAX($W$3:W925)-W925),\"\")","v":""},"","",""]
[null,null,null,{"$f":"IF(A926>0,IF(OR(MAX($G$3:G926)-G926=0,A926=0),\"\",MAX($G$3:G926)-G926),\"\")","v":""},"","","",null,null,null,null,{"$f":"IF(I926>0,IF(OR(MAX($O$3:O926)-O926=0,I926=0),\"\",MAX($O$3:O926)-O926),\"\")","v":""},"","","",null,null,null,null,{"$f":"IF(I926>0,IF(OR(MAX($W$3:W926)-W926=0,Q926=0),\"\",MAX($W$3:W926)-W926),\"\")","v":""},"","",""]
[null,null,null,{"$f":"IF(A927>0,IF(OR(MAX($G$3:G927)-G927=0,A927=0),\"\",MAX($G$3:G927)-G927),\"\")","v":""},"","","",null,null,null,null,{"$f":"IF(I927>0,IF(OR(MAX($O$3:O927)-O927=0,I927=0),\"\",MAX($O$3:O927)-O927),\"\")","v":""},"","","",null,null,null,null,{"$f":"IF(I927>0,IF(OR(MAX($W$3:W927)-W927=0,Q927=0),\"\",MAX($W$3:W927)-W927),\"\")","v":""},"","",""]
[null,null,null,{"$f":"IF(A928>0,IF(OR(MAX($G$3:G928)-G928=0,A928=0),\"\",MAX($G$3:G928)-G928),\"\")","v":""},"","","",null,null,null,null,{"$f":"IF(I928>0,IF(OR(MAX($O$3:O928)-O928=0,I928=0),\"\",MAX($O$3:O928)-O928),\"\")","v":""},"","","",null,null,null,null,{"$f":"IF(I928>0,IF(OR(MAX($W$3:W928)-W928=0,Q928=0),\"\",MAX($W$3:W928)-W928),\"\")","v":""},"","",""]
[null,null,null,{"$f":"IF(A929>0,IF(OR(MAX($G$3:G929)-G929=0,A929=0),\"\",MAX($G$3:G929)-G929),\"\")","v":""},"","","",null,null,null,null,{"$f":"IF(I929>0,IF(OR(MAX($O$3:O929)-O929=0,I929=0),\"\",MAX($O$3:O929)-O929),\"\")","v":""},"","","",null,null,null,null,{"$f":"IF(I929>0,IF(OR(MAX($W$3:W929)-W929=0,Q929=0),\"\",MAX($W$3:W929)-W929),\"\")","v":""},"","",""]
[null,null,null,{"$f":"IF(A930>0,IF(OR(MAX($G$3:G930)-G930=0,A930=0),\"\",MAX($G$3:G930)-G930),\"\")","v":""},"","","",null,null,null,null,{"$f":"IF(I930>0,IF(OR(MAX($O$3:O930)-O930=0,I930=0),\"\",MAX($O$3:O930)-O930),\"\")","v":""},"","","",null,null,null,null,{"$f":"IF(I930>0,IF(OR(MAX($W$3:W930)-W930=0,Q930=0),\"\",MAX($W$3:W930)-W930),\"\")","v":""},"","",""]
[null,null,null,{"$f":"IF(A931>0,IF(OR(MAX($G$3:G931)-G931=0,A931=0),\"\",MAX($G$3:G931)-G931),\"\")","v":""},"","","",null,null,null,null,{"$f":"IF(I931>0,IF(OR(MAX($O$3:O931)-O931=0,I931=0),\"\",MAX($O$3:O931)-O931),\"\")","v":""},"","","",null,null,null,null,{"$f":"IF(I931>0,IF(OR(MAX($W$3:W931)-W931=0,Q931=0),\"\",MAX($W$3:W931)-W931),\"\")","v":""},"","",""]
[null,null,null,{"$f":"IF(A932>0,IF(OR(MAX($G$3:G932)-G932=0,A932=0),\"\",MAX($G$3:G932)-G932),\"\")","v":""},"","","",null,null,null,null,{"$f":"IF(I932>0,IF(OR(MAX($O$3:O932)-O932=0,I932=0),\"\",MAX($O$3:O932)-O932),\"\")","v":""},"","","",null,null,null,null,{"$f":"IF(I932>0,IF(OR(MAX($W$3:W932)-W932=0,Q932=0),\"\",MAX($W$3:W932)-W932),\"\")","v":""},"","",""]
[null,null,null,{"$f":"IF(A933>0,IF(OR(MAX($G$3:G933)-G933=0,A933=0),\"\",MAX($G$3:G933)-G933),\"\")","v":""},"","","",null,null,null,null,{"$f":"IF(I933>0,IF(OR(MAX($O$3:O933)-O933=0,I933=0),\"\",MAX($O$3:O933)-O933),\"\")","v":""},"","","",null,null,null,null,{"$f":"IF(I933>0,IF(OR(MAX($W$3:W933)-W933=0,Q933=0),\"\",MAX($W$3:W933)-W933),\"\")","v":""},"","",""]
[null,null,null,{"$f":"IF(A934>0,IF(OR(MAX($G$3:G934)-G934=0,A934=0),\"\",MAX($G$3:G934)-G934),\"\")","v":""},"","","",null,null,null,null,{"$f":"IF(I934>0,IF(OR(MAX($O$3:O934)-O934=0,I934=0),\"\",MAX($O$3:O934)-O934),\"\")","v":""},"","","",null,null,null,null,{"$f":"IF(I934>0,IF(OR(MAX($W$3:W934)-W934=0,Q934=0),\"\",MAX($W$3:W934)-W934),\"\")","v":""},"","",""]
[null,null,null,{"$f":"IF(A935>0,IF(OR(MAX($G$3:G935)-G935=0,A935=0),\"\",MAX($G$3:G935)-G935),\"\")","v":""},"","","",null,null,null,null,{"$f":"IF(I935>0,IF(OR(MAX($O$3:O935)-O935=0,I935=0),\"\",MAX($O$3:O935)-O935),\"\")","v":""},"","","",null,null,null,null,{"$f":"IF(I935>0,IF(OR(MAX($W$3:W935)-W935=0,Q935=0),\"\",MAX($W$3:W935)-W935),\"\")","v":""},"","",""]
[null,null,null,{"$f":"IF(A936>0,IF(OR(MAX($G$3:G936)-G936=0,A936=0),\"\",MAX($G$3:G936)-G936),\"\")","v":""},"","","",null,null,null,null,{"$f":"IF(I936>0,IF(OR(MAX($O$3:O936)-O936=0,I936=0),\"\",MAX($O$3:O936)-O936),\"\")","v":""},"","","",null,null,null,null,{"$f":"IF(I936>0,IF(OR(MAX($W$3:W936)-W936=0,Q936=0),\"\",MAX($W$3:W936)-W936),\"\")","v":""},"","",""]
[null,null,null,{"$f":"IF(A937>0,IF(OR(MAX($G$3:G937)-G937=0,A937=0),\"\",MAX($G$3:G937)-G937),\"\")","v":""},"","","",null,null,null,null,{"$f":"IF(I937>0,IF(OR(MAX($O$3:O937)-O937=0,I937=0),\"\",MAX($O$3:O937)-O937),\"\")","v":""},"","","",null,null,null,null,{"$f":"IF(I937>0,IF(OR(MAX($W$3:W937)-W937=0,Q937=0),\"\",MAX($W$3:W937)-W937),\"\")","v":""},"","",""]
[null,null,null,{"$f":"IF(A938>0,IF(OR(MAX($G$3:G938)-G938=0,A938=0),\"\",MAX($G$3:G938)-G938),\"\")","v":""},"","","",null,null,null,null,{"$f":"IF(I938>0,IF(OR(MAX($O$3:O938)-O938=0,I938=0),\"\",MAX($O$3:O938)-O938),\"\")","v":""},"","","",null,null,null,null,{"$f":"IF(I938>0,IF(OR(MAX($W$3:W938)-W938=0,Q938=0),\"\",MAX($W$3:W938)-W938),\"\")","v":""},"","",""]
[null,null,null,{"$f":"IF(A939>0,IF(OR(MAX($G$3:G939)-G939=0,A939=0),\"\",MAX($G$3:G939)-G939),\"\")","v":""},"","","",null,null,null,null,{"$f":"IF(I939>0,IF(OR(MAX($O$3:O939)-O939=0,I939=0),\"\",MAX($O$3:O939)-O939),\"\")","v":""},"","","",null,null,null,null,{"$f":"IF(I939>0,IF(OR(MAX($W$3:W939)-W939=0,Q939=0),\"\",MAX($W$3:W939)-W939),\"\")","v":""},"","",""]
[null,null,null,{"$f":"IF(A940>0,IF(OR(MAX($G$3:G940)-G940=0,A940=0),\"\",MAX($G$3:G940)-G940),\"\")","v":""},"","","",null,null,null,null,{"$f":"IF(I940>0,IF(OR(MAX($O$3:O940)-O940=0,I940=0),\"\",MAX($O$3:O940)-O940),\"\")","v":""},"","","",null,null,null,null,{"$f":"IF(I940>0,IF(OR(MAX($W$3:W940)-W940=0,Q940=0),\"\",MAX($W$3:W940)-W940),\"\")","v":""},"","",""]
[null,null,null,{"$f":"IF(A941>0,IF(OR(MAX($G$3:G941)-G941=0,A941=0),\"\",MAX($G$3:G941)-G941),\"\")","v":""},"","","",null,null,null,null,{"$f":"IF(I941>0,IF(OR(MAX($O$3:O941)-O941=0,I941=0),\"\",MAX($O$3:O941)-O941),\"\")","v":""},"","","",null,null,null,null,{"$f":"IF(I941>0,IF(OR(MAX($W$3:W941)-W941=0,Q941=0),\"\",MAX($W$3:W941)-W941),\"\")","v":""},"","",""]
[null,null,null,{"$f":"IF(A942>0,IF(OR(MAX($G$3:G942)-G942=0,A942=0),\"\",MAX($G$3:G942)-G942),\"\")","v":""},"","","",null,null,null,null,{"$f":"IF(I942>0,IF(OR(MAX($O$3:O942)-O942=0,I942=0),\"\",MAX($O$3:O942)-O942),\"\")","v":""},"","","",null,null,null,null,{"$f":"IF(I942>0,IF(OR(MAX($W$3:W942)-W942=0,Q942=0),\"\",MAX($W$3:W942)-W942),\"\")","v":""},"","",""]
[null,null,null,{"$f":"IF(A943>0,IF(OR(MAX($G$3:G943)-G943=0,A943=0),\"\",MAX($G$3:G943)-G943),\"\")","v":""},"","","",null,null,null,null,{"$f":"IF(I943>0,IF(OR(MAX($O$3:O943)-O943=0,I943=0),\"\",MAX($O$3:O943)-O943),\"\")","v":""},"","","",null,null,null,null,{"$f":"IF(I943>0,IF(OR(MAX($W$3:W943)-W943=0,Q943=0),\"\",MAX($W$3:W943)-W943),\"\")","v":""},"","",""]
[null,null,null,{"$f":"IF(A944>0,IF(OR(MAX($G$3:G944)-G944=0,A944=0),\"\",MAX($G$3:G944)-G944),\"\")","v":""},"","","",null,null,null,null,{"$f":"IF(I944>0,IF(OR(MAX($O$3:O944)-O944=0,I944=0),\"\",MAX($O$3:O944)-O944),\"\")","v":""},"","","",null,null,null,null,{"$f":"IF(I944>0,IF(OR(MAX($W$3:W944)-W944=0,Q944=0),\"\",MAX($W$3:W944)-W944),\"\")","v":""},"","",""]
[null,null,null,{"$f":"IF(A945>0,IF(OR(MAX($G$3:G945)-G945=0,A945=0),\"\",MAX($G$3:G945)-G945),\"\")","v":""},"","","",null,null,null,null,{"$f":"IF(I945>0,IF(OR(MAX($O$3:O945)-O945=0,I945=0),\"\",MAX($O$3:O945)-O945),\"\")","v":""},"","","",null,null,null,null,{"$f":"IF(I945>0,IF(OR(MAX($W$3:W945)-W945=0,Q945=0),\"\",MAX($W$3:W945)-W945),\"\")","v":""},"","",""]
[null,null,null,{"$f":"IF(A946>0,IF(OR(MAX($G$3:G946)-G946=0,A946=0),\"\",MAX($G$3:G946)-G946),\"\")","v":""},"","","",null,null,null,null,{"$f":"IF(I946>0,IF(OR(MAX($O$3:O946)-O946=0,I946=0),\"\",MAX($O$3:O946)-O946),\"\")","v":""},"","","",null,null,null,null,{"$f":"IF(I946>0,IF(OR(MAX($W$3:W946)-W946=0,Q946=0),\"\",MAX($W$3:W946)-W946),\"\")","v":""},"","",""]
[null,null,null,{"$f":"IF(A947>0,IF(OR(MAX($G$3:G947)-G947=0,A947=0),\"\",MAX($G$3:G947)-G947),\"\")","v":""},"","","",null,null,null,null,{"$f":"IF(I947>0,IF(OR(MAX($O$3:O947)-O947=0,I947=0),\"\",MAX($O$3:O947)-O947),\"\")","v":""},"","","",null,null,null,null,{"$f":"IF(I947>0,IF(OR(MAX($W$3:W947)-W947=0,Q947=0),\"\",MAX($W$3:W947)-W947),\"\")","v":""},"","",""]
[null,null,null,{"$f":"IF(A948>0,IF(OR(MAX($G$3:G948)-G948=0,A948=0),\"\",MAX($G$3:G948)-G948),\"\")","v":""},"","","",null,null,null,null,{"$f":"IF(I948>0,IF(OR(MAX($O$3:O948)-O948=0,I948=0),\"\",MAX($O$3:O948)-O948),\"\")","v":""},"","","",null,null,null,null,{"$f":"IF(I948>0,IF(OR(MAX($W$3:W948)-W948=0,Q948=0),\"\",MAX($W$3:W948)-W948),\"\")","v":""},"","",""]
[null,null,null,{"$f":"IF(A949>0,IF(OR(MAX($G$3:G949)-G949=0,A949=0),\"\",MAX($G$3:G949)-G949),\"\")","v":""},"","","",null,null,null,null,{"$f":"IF(I949>0,IF(OR(MAX($O$3:O949)-O949=0,I949=0),\"\",MAX($O$3:O949)-O949),\"\")","v":""},"","","",null,null,null,null,{"$f":"IF(I949>0,IF(OR(MAX($W$3:W949)-W949=0,Q949=0),\"\",MAX($W$3:W949)-W949),\"\")","v":""},"","",""]
[null,null,null,{"$f":"IF(A950>0,IF(OR(MAX($G$3:G950)-G950=0,A950=0),\"\",MAX($G$3:G950)-G950),\"\")","v":""},"","","",null,null,null,null,{"$f":"IF(I950>0,IF(OR(MAX($O$3:O950)-O950=0,I950=0),\"\",MAX($O$3:O950)-O950),\"\")","v":""},"","","",null,null,null,null,{"$f":"IF(I950>0,IF(OR(MAX($W$3:W950)-W950=0,Q950=0),\"\",MAX($W$3:W950)-W950),\"\")","v":""},"","",""]
[null,null,null,{"$f":"IF(A951>0,IF(OR(MAX($G$3:G951)-G951=0,A951=0),\"\",MAX($G$3:G951)-G951),\"\")","v":""},"","","",null,null,null,null,{"$f":"IF(I951>0,IF(OR(MAX($O$3:O951)-O951=0,I951=0),\"\",MAX($O$3:O951)-O951),\"\")","v":""},"","","",null,null,null,null,{"$f":"IF(I951>0,IF(OR(MAX($W$3:W951)-W951=0,Q951=0),\"\",MAX($W$3:W951)-W951),\"\")","v":""},"","",""]
[null,null,null,{"$f":"IF(A952>0,IF(OR(MAX($G$3:G952)-G952=0,A952=0),\"\",MAX($G$3:G952)-G952),\"\")","v":""},"","","",null,null,null,null,{"$f":"IF(I952>0,IF(OR(MAX($O$3:O952)-O952=0,I952=0),\"\",MAX($O$3:O952)-O952),\"\")","v":""},"","","",null,null,null,null,{"$f":"IF(I952>0,IF(OR(MAX($W$3:W952)-W952=0,Q952=0),\"\",MAX($W$3:W952)-W952),\"\")","v":""},"","",""]
[null,null,null,{"$f":"IF(A953>0,IF(OR(MAX($G$3:G953)-G953=0,A953=0),\"\",MAX($G$3:G953)-G953),\"\")","v":""},"","","",null,null,null,null,{"$f":"IF(I953>0,IF(OR(MAX($O$3:O953)-O953=0,I953=0),\"\",MAX($O$3:O953)-O953),\"\")","v":""},"","","",null,null,null,null,{"$f":"IF(I953>0,IF(OR(MAX($W$3:W953)-W953=0,Q953=0),\"\",MAX($W$3:W953)-W953),\"\")","v":""},"","",""]
[null,null,null,{"$f":"IF(A954>0,IF(OR(MAX($G$3:G954)-G954=0,A954=0),\"\",MAX($G$3:G954)-G954),\"\")","v":""},"","","",null,null,null,null,{"$f":"IF(I954>0,IF(OR(MAX($O$3:O954)-O954=0,I954=0),\"\",MAX($O$3:O954)-O954),\"\")","v":""},"","","",null,null,null,null,{"$f":"IF(I954>0,IF(OR(MAX($W$3:W954)-W954=0,Q954=0),\"\",MAX($W$3:W954)-W954),\"\")","v":""},"","",""]
[null,null,null,{"$f":"IF(A955>0,IF(OR(MAX($G$3:G955)-G955=0,A955=0),\"\",MAX($G$3:G955)-G955),\"\")","v":""},"","","",null,null,null,null,{"$f":"IF(I955>0,IF(OR(MAX($O$3:O955)-O955=0,I955=0),\"\",MAX($O$3:O955)-O955),\"\")","v":""},"","","",null,null,null,null,{"$f":"IF(I955>0,IF(OR(MAX($W$3:W955)-W955=0,Q955=0),\"\",MAX($W$3:W955)-W955),\"\")","v":""},"","",""]
[null,null,null,{"$f":"IF(A956>0,IF(OR(MAX($G$3:G956)-G956=0,A956=0),\"\",MAX($G$3:G956)-G956),\"\")","v":""},"","","",null,null,null,null,{"$f":"IF(I956>0,IF(OR(MAX($O$3:O956)-O956=0,I956=0),\"\",MAX($O$3:O956)-O956),\"\")","v":""},"","","",null,null,null,null,{"$f":"IF(I956>0,IF(OR(MAX($W$3:W956)-W956=0,Q956=0),\"\",MAX($W$3:W956)-W956),\"\")","v":""},"","",""]
[null,null,null,{"$f":"IF(A957>0,IF(OR(MAX($G$3:G957)-G957=0,A957=0),\"\",MAX($G$3:G957)-G957),\"\")","v":""},"","","",null,null,null,null,{"$f":"IF(I957>0,IF(OR(MAX($O$3:O957)-O957=0,I957=0),\"\",MAX($O$3:O957)-O957),\"\")","v":""},"","","",null,null,null,null,{"$f":"IF(I957>0,IF(OR(MAX($W$3:W957)-W957=0,Q957=0),\"\",MAX($W$3:W957)-W957),\"\")","v":""},"","",""]
[null,null,null,{"$f":"IF(A958>0,IF(OR(MAX($G$3:G958)-G958=0,A958=0),\"\",MAX($G$3:G958)-G958),\"\")","v":""},"","","",null,null,null,null,{"$f":"IF(I958>0,IF(OR(MAX($O$3:O958)-O958=0,I958=0),\"\",MAX($O$3:O958)-O958),\"\")","v":""},"","","",null,null,null,null,{"$f":"IF(I958>0,IF(OR(MAX($W$3:W958)-W958=0,Q958=0),\"\",MAX($W$3:W958)-W958),\"\")","v":""},"","",""]
[null,null,null,{"$f":"IF(A959>0,IF(OR(MAX($G$3:G959)-G959=0,A959=0),\"\",MAX($G$3:G959)-G959),\"\")","v":""},"","","",null,null,null,null,{"$f":"IF(I959>0,IF(OR(MAX($O$3:O959)-O959=0,I959=0),\"\",MAX($O$3:O959)-O959),\"\")","v":""},"","","",null,null,null,null,{"$f":"IF(I959>0,IF(OR(MAX($W$3:W959)-W959=0,Q959=0),\"\",MAX($W$3:W959)-W959),\"\")","v":""},"","",""]
[null,null,null,{"$f":"IF(A960>0,IF(OR(MAX($G$3:G960)-G960=0,A960=0),\"\",MAX($G$3:G960)-G960),\"\")","v":""},"","","",null,null,null,null,{"$f":"IF(I960>0,IF(OR(MAX($O$3:O960)-O960=0,I960=0),\"\",MAX($O$3:O960)-O960),\"\")","v":""},"","","",null,null,null,null,{"$f":"IF(I960>0,IF(OR(MAX($W$3:W960)-W960=0,Q960=0),\"\",MAX($W$3:W960)-W960),\"\")","v":""},"","",""]
[null,null,null,{"$f":"IF(A961>0,IF(OR(MAX($G$3:G961)-G961=0,A961=0),\"\",MAX($G$3:G961)-G961),\"\")","v":""},"","","",null,null,null,null,{"$f":"IF(I961>0,IF(OR(MAX($O$3:O961)-O961=0,I961=0),\"\",MAX($O$3:O961)-O961),\"\")","v":""},"","","",null,null,null,null,{"$f":"IF(I961>0,IF(OR(MAX($W$3:W961)-W961=0,Q961=0),\"\",MAX($W$3:W961)-W961),\"\")","v":""},"","",""]
[null,null,null,{"$f":"IF(A962>0,IF(OR(MAX($G$3:G962)-G962=0,A962=0),\"\",MAX($G$3:G962)-G962),\"\")","v":""},"","","",null,null,null,null,{"$f":"IF(I962>0,IF(OR(MAX($O$3:O962)-O962=0,I962=0),\"\",MAX($O$3:O962)-O962),\"\")","v":""},"","","",null,null,null,null,{"$f":"IF(I962>0,IF(OR(MAX($W$3:W962)-W962=0,Q962=0),\"\",MAX($W$3:W962)-W962),\"\")","v":""},"","",""]
[null,null,null,{"$f":"IF(A963>0,IF(OR(MAX($G$3:G963)-G963=0,A963=0),\"\",MAX($G$3:G963)-G963),\"\")","v":""},"","","",null,null,null,null,{"$f":"IF(I963>0,IF(OR(MAX($O$3:O963)-O963=0,I963=0),\"\",MAX($O$3:O963)-O963),\"\")","v":""},"","","",null,null,null,null,{"$f":"IF(I963>0,IF(OR(MAX($W$3:W963)-W963=0,Q963=0),\"\",MAX($W$3:W963)-W963),\"\")","v":""},"","",""]
[null,null,null,{"$f":"IF(A964>0,IF(OR(MAX($G$3:G964)-G964=0,A964=0),\"\",MAX($G$3:G964)-G964),\"\")","v":""},"","","",null,null,null,null,{"$f":"IF(I964>0,IF(OR(MAX($O$3:O964)-O964=0,I964=0),\"\",MAX($O$3:O964)-O964),\"\")","v":""},"","","",null,null,null,null,{"$f":"IF(I964>0,IF(OR(MAX($W$3:W964)-W964=0,Q964=0),\"\",MAX($W$3:W964)-W964),\"\")","v":""},"","",""]
[null,null,null,{"$f":"IF(A965>0,IF(OR(MAX($G$3:G965)-G965=0,A965=0),\"\",MAX($G$3:G965)-G965),\"\")","v":""},"","","",null,null,null,null,{"$f":"IF(I965>0,IF(OR(MAX($O$3:O965)-O965=0,I965=0),\"\",MAX($O$3:O965)-O965),\"\")","v":""},"","","",null,null,null,null,{"$f":"IF(I965>0,IF(OR(MAX($W$3:W965)-W965=0,Q965=0),\"\",MAX($W$3:W965)-W965),\"\")","v":""},"","",""]
[null,null,null,{"$f":"IF(A966>0,IF(OR(MAX($G$3:G966)-G966=0,A966=0),\"\",MAX($G$3:G966)-G966),\"\")","v":""},"","","",null,null,null,null,{"$f":"IF(I966>0,IF(OR(MAX($O$3:O966)-O966=0,I966=0),\"\",MAX($O$3:O966)-O966),\"\")","v":""},{"$f":"IF(L966=\"\",\"\",L966/(N966+O965))","v":""},{"$f":"IF(I966>0,N965+K966,\"\")","v":""},{"$f":"IF(I966>0,O965+K966,\"\")","v":""},null,null,null,null,{"$f":"IF(I966>0,IF(OR(MAX($W$3:W966)-W966=0,Q966=0),\"\",MAX($W$3:W966)-W966),\"\")","v":""},{"$f":"IF(T966=\"\",\"\",T966/(V966+W965))","v":""},{"$f":"IF(Q966>0,V965+S966,\"\")","v":""},{"$f":"IF(Q966>0,W965+S966,\"\")","v":""}]
[null,null,null,{"$f":"IF(A967>0,IF(OR(MAX($G$3:G967)-G967=0,A967=0),\"\",MAX($G$3:G967)-G967),\"\")","v":""},"","","",null,null,null,null,{"$f":"IF(I967>0,IF(OR(MAX($O$3:O967)-O967=0,I967=0),\"\",MAX($O$3:O967)-O967),\"\")","v":""},"","","",null,null,null,null,{"$f":"IF(I967>0,IF(OR(MAX($W$3:W967)-W967=0,Q967=0),\"\",MAX($W$3:W967)-W967),\"\")","v":""},"","",""]
[null,null,null,{"$f":"IF(A968>0,IF(OR(MAX($G$3:G968)-G968=0,A968=0),\"\",MAX($G$3:G968)-G968),\"\")","v":""},{"$f":"IF(D968=\"\",\"\",D968/(F968+G967))","v":""},{"$f":"IF(A968>0,F967+C968,\"\")","v":""},{"$f":"IF(A968>0,G967+C968,\"\")","v":""},null,null,null,null,{"$f":"IF(I968>0,IF(OR(MAX($O$3:O968)-O968=0,I968=0),\"\",MAX($O$3:O968)-O968),\"\")","v":""},"","","",null,null,null,null,{"$f":"IF(I968>0,IF(OR(MAX($W$3:W968)-W968=0,Q968=0),\"\",MAX($W$3:W968)-W968),\"\")","v":""},"","",""]
[null,null,null,{"$f":"IF(A969>0,IF(OR(MAX($G$3:G969)-G969=0,A969=0),\"\",MAX($G$3:G969)-G969),\"\")","v":""},"","","",null,null,null,null,{"$f":"IF(I969>0,IF(OR(MAX($O$3:O969)-O969=0,I969=0),\"\",MAX($O$3:O969)-O969),\"\")","v":""},"","","",null,null,null,null,{"$f":"IF(I969>0,IF(OR(MAX($W$3:W969)-W969=0,Q969=0),\"\",MAX($W$3:W969)-W969),\"\")","v":""},"","",""]
[null,null,null,{"$f":"IF(A970>0,IF(OR(MAX($G$3:G970)-G970=0,A970=0),\"\",MAX($G$3:G970)-G970),\"\")","v":""},"","","",null,null,null,null,{"$f":"IF(I970>0,IF(OR(MAX($O$3:O970)-O970=0,I970=0),\"\",MAX($O$3:O970)-O970),\"\")","v":""},"","","",null,null,null,null,{"$f":"IF(I970>0,IF(OR(MAX($W$3:W970)-W970=0,Q970=0),\"\",MAX($W$3:W970)-W970),\"\")","v":""},"","",""]
[null,null,null,{"$f":"IF(A971>0,IF(OR(MAX($G$3:G971)-G971=0,A971=0),\"\",MAX($G$3:G971)-G971),\"\")","v":""},"","","",null,null,null,null,{"$f":"IF(I971>0,IF(OR(MAX($O$3:O971)-O971=0,I971=0),\"\",MAX($O$3:O971)-O971),\"\")","v":""},"","","",null,null,null,null,{"$f":"IF(I971>0,IF(OR(MAX($W$3:W971)-W971=0,Q971=0),\"\",MAX($W$3:W971)-W971),\"\")","v":""},"","",""]
[null,null,null,{"$f":"IF(A972>0,IF(OR(MAX($G$3:G972)-G972=0,A972=0),\"\",MAX($G$3:G972)-G972),\"\")","v":""},"","","",null,null,null,null,{"$f":"IF(I972>0,IF(OR(MAX($O$3:O972)-O972=0,I972=0),\"\",MAX($O$3:O972)-O972),\"\")","v":""},"","","",null,null,null,null,{"$f":"IF(I972>0,IF(OR(MAX($W$3:W972)-W972=0,Q972=0),\"\",MAX($W$3:W972)-W972),\"\")","v":""},"","",""]
[null,null,null,{"$f":"IF(A973>0,IF(OR(MAX($G$3:G973)-G973=0,A973=0),\"\",MAX($G$3:G973)-G973),\"\")","v":""},"","","",null,null,null,null,{"$f":"IF(I973>0,IF(OR(MAX($O$3:O973)-O973=0,I973=0),\"\",MAX($O$3:O973)-O973),\"\")","v":""},"","","",null,null,null,null,{"$f":"IF(I973>0,IF(OR(MAX($W$3:W973)-W973=0,Q973=0),\"\",MAX($W$3:W973)-W973),\"\")","v":""},"","",""]
[null,null,null,{"$f":"IF(A974>0,IF(OR(MAX($G$3:G974)-G974=0,A974=0),\"\",MAX($G$3:G974)-G974),\"\")","v":""},"","","",null,null,null,null,{"$f":"IF(I974>0,IF(OR(MAX($O$3:O974)-O974=0,I974=0),\"\",MAX($O$3:O974)-O974),\"\")","v":""},"","","",null,null,null,null,{"$f":"IF(I974>0,IF(OR(MAX($W$3:W974)-W974=0,Q974=0),\"\",MAX($W$3:W974)-W974),\"\")","v":""},"","",""]
[null,null,null,{"$f":"IF(A975>0,IF(OR(MAX($G$3:G975)-G975=0,A975=0),\"\",MAX($G$3:G975)-G975),\"\")","v":""},"","","",null,null,null,null,{"$f":"IF(I975>0,IF(OR(MAX($O$3:O975)-O975=0,I975=0),\"\",MAX($O$3:O975)-O975),\"\")","v":""},"","","",null,null,null,null,{"$f":"IF(I975>0,IF(OR(MAX($W$3:W975)-W975=0,Q975=0),\"\",MAX($W$3:W975)-W975),\"\")","v":""},"","",""]
[null,null,null,{"$f":"IF(A976>0,IF(OR(MAX($G$3:G976)-G976=0,A976=0),\"\",MAX($G$3:G976)-G976),\"\")","v":""},"","","",null,null,null,null,{"$f":"IF(I976>0,IF(OR(MAX($O$3:O976)-O976=0,I976=0),\"\",MAX($O$3:O976)-O976),\"\")","v":""},"","","",null,null,null,null,{"$f":"IF(I976>0,IF(OR(MAX($W$3:W976)-W976=0,Q976=0),\"\",MAX($W$3:W976)-W976),\"\")","v":""},"","",""]
[null,null,null,{"$f":"IF(A977>0,IF(OR(MAX($G$3:G977)-G977=0,A977=0),\"\",MAX($G$3:G977)-G977),\"\")","v":""},"","","",null,null,null,null,{"$f":"IF(I977>0,IF(OR(MAX($O$3:O977)-O977=0,I977=0),\"\",MAX($O$3:O977)-O977),\"\")","v":""},"","","",null,null,null,null,{"$f":"IF(I977>0,IF(OR(MAX($W$3:W977)-W977=0,Q977=0),\"\",MAX($W$3:W977)-W977),\"\")","v":""},"","",""]
[null,null,null,{"$f":"IF(A978>0,IF(OR(MAX($G$3:G978)-G978=0,A978=0),\"\",MAX($G$3:G978)-G978),\"\")","v":""},"","","",null,null,null,null,{"$f":"IF(I978>0,IF(OR(MAX($O$3:O978)-O978=0,I978=0),\"\",MAX($O$3:O978)-O978),\"\")","v":""},"","","",null,null,null,null,{"$f":"IF(I978>0,IF(OR(MAX($W$3:W978)-W978=0,Q978=0),\"\",MAX($W$3:W978)-W978),\"\")","v":""},"","",""]
[null,null,null,{"$f":"IF(A979>0,IF(OR(MAX($G$3:G979)-G979=0,A979=0),\"\",MAX($G$3:G979)-G979),\"\")","v":""},"","","",null,null,null,null,{"$f":"IF(I979>0,IF(OR(MAX($O$3:O979)-O979=0,I979=0),\"\",MAX($O$3:O979)-O979),\"\")","v":""},"","","",null,null,null,null,{"$f":"IF(I979>0,IF(OR(MAX($W$3:W979)-W979=0,Q979=0),\"\",MAX($W$3:W979)-W979),\"\")","v":""},"","",""]
[null,null,null,{"$f":"IF(A980>0,IF(OR(MAX($G$3:G980)-G980=0,A980=0),\"\",MAX($G$3:G980)-G980),\"\")","v":""},"","","",null,null,null,null,{"$f":"IF(I980>0,IF(OR(MAX($O$3:O980)-O980=0,I980=0),\"\",MAX($O$3:O980)-O980),\"\")","v":""},"","","",null,null,null,null,{"$f":"IF(I980>0,IF(OR(MAX($W$3:W980)-W980=0,Q980=0),\"\",MAX($W$3:W980)-W980),\"\")","v":""},"","",""]
[null,null,null,{"$f":"IF(A981>0,IF(OR(MAX($G$3:G981)-G981=0,A981=0),\"\",MAX($G$3:G981)-G981),\"\")","v":""},"","","",null,null,null,null,{"$f":"IF(I981>0,IF(OR(MAX($O$3:O981)-O981=0,I981=0),\"\",MAX($O$3:O981)-O981),\"\")","v":""},"","","",null,null,null,null,{"$f":"IF(I981>0,IF(OR(MAX($W$3:W981)-W981=0,Q981=0),\"\",MAX($W$3:W981)-W981),\"\")","v":""},"","",""]
[null,null,null,{"$f":"IF(A982>0,IF(OR(MAX($G$3:G982)-G982=0,A982=0),\"\",MAX($G$3:G982)-G982),\"\")","v":""},"","","",null,null,null,null,{"$f":"IF(I982>0,IF(OR(MAX($O$3:O982)-O982=0,I982=0),\"\",MAX($O$3:O982)-O982),\"\")","v":""},"","","",null,null,null,null,{"$f":"IF(I982>0,IF(OR(MAX($W$3:W982)-W982=0,Q982=0),\"\",MAX($W$3:W982)-W982),\"\")","v":""},"","",""]
[null,null,null,{"$f":"IF(A983>0,IF(OR(MAX($G$3:G983)-G983=0,A983=0),\"\",MAX($G$3:G983)-G983),\"\")","v":""},"","","",null,null,null,null,{"$f":"IF(I983>0,IF(OR(MAX($O$3:O983)-O983=0,I983=0),\"\",MAX($O$3:O983)-O983),\"\")","v":""},"","","",null,null,null,null,{"$f":"IF(I983>0,IF(OR(MAX($W$3:W983)-W983=0,Q983=0),\"\",MAX($W$3:W983)-W983),\"\")","v":""},"","",""]
[null,null,null,{"$f":"IF(A984>0,IF(OR(MAX($G$3:G984)-G984=0,A984=0),\"\",MAX($G$3:G984)-G984),\"\")","v":""},"","","",null,null,null,null,{"$f":"IF(I984>0,IF(OR(MAX($O$3:O984)-O984=0,I984=0),\"\",MAX($O$3:O984)-O984),\"\")","v":""},"","","",null,null,null,null,{"$f":"IF(I984>0,IF(OR(MAX($W$3:W984)-W984=0,Q984=0),\"\",MAX($W$3:W984)-W984),\"\")","v":""},"","",""]
[null,null,null,{"$f":"IF(A985>0,IF(OR(MAX($G$3:G985)-G985=0,A985=0),\"\",MAX($G$3:G985)-G985),\"\")","v":""},"","","",null,null,null,null,{"$f":"IF(I985>0,IF(OR(MAX($O$3:O985)-O985=0,I985=0),\"\",MAX($O$3:O985)-O985),\"\")","v":""},"","","",null,null,null,null,{"$f":"IF(I985>0,IF(OR(MAX($W$3:W985)-W985=0,Q985=0),\"\",MAX($W$3:W985)-W985),\"\")","v":""},"","",""]
[null,null,null,{"$f":"IF(A986>0,IF(OR(MAX($G$3:G986)-G986=0,A986=0),\"\",MAX($G$3:G986)-G986),\"\")","v":""},"","","",null,null,null,null,{"$f":"IF(I986>0,IF(OR(MAX($O$3:O986)-O986=0,I986=0),\"\",MAX($O$3:O986)-O986),\"\")","v":""},"","","",null,null,null,null,{"$f":"IF(I986>0,IF(OR(MAX($W$3:W986)-W986=0,Q986=0),\"\",MAX($W$3:W986)-W986),\"\")","v":""},"","",""]
[null,null,null,{"$f":"IF(A987>0,IF(OR(MAX($G$3:G987)-G987=0,A987=0),\"\",MAX($G$3:G987)-G987),\"\")","v":""},"","","",null,null,null,null,{"$f":"IF(I987>0,IF(OR(MAX($O$3:O987)-O987=0,I987=0),\"\",MAX($O$3:O987)-O987),\"\")","v":""},"","","",null,null,null,null,{"$f":"IF(I987>0,IF(OR(MAX($W$3:W987)-W987=0,Q987=0),\"\",MAX($W$3:W987)-W987),\"\")","v":""},"","",""]
[null,null,null,{"$f":"IF(A988>0,IF(OR(MAX($G$3:G988)-G988=0,A988=0),\"\",MAX($G$3:G988)-G988),\"\")","v":""},"","","",null,null,null,null,{"$f":"IF(I988>0,IF(OR(MAX($O$3:O988)-O988=0,I988=0),\"\",MAX($O$3:O988)-O988),\"\")","v":""},"","","",null,null,null,null,{"$f":"IF(I988>0,IF(OR(MAX($W$3:W988)-W988=0,Q988=0),\"\",MAX($W$3:W988)-W988),\"\")","v":""},"","",""]
[null,null,null,{"$f":"IF(A989>0,IF(OR(MAX($G$3:G989)-G989=0,A989=0),\"\",MAX($G$3:G989)-G989),\"\")","v":""},"","","",null,null,null,null,{"$f":"IF(I989>0,IF(OR(MAX($O$3:O989)-O989=0,I989=0),\"\",MAX($O$3:O989)-O989),\"\")","v":""},"","","",null,null,null,null,{"$f":"IF(I989>0,IF(OR(MAX($W$3:W989)-W989=0,Q989=0),\"\",MAX($W$3:W989)-W989),\"\")","v":""},"","",""]
[null,null,null,{"$f":"IF(A990>0,IF(OR(MAX($G$3:G990)-G990=0,A990=0),\"\",MAX($G$3:G990)-G990),\"\")","v":""},"","","",null,null,null,null,{"$f":"IF(I990>0,IF(OR(MAX($O$3:O990)-O990=0,I990=0),\"\",MAX($O$3:O990)-O990),\"\")","v":""},"","","",null,null,null,null,{"$f":"IF(I990>0,IF(OR(MAX($W$3:W990)-W990=0,Q990=0),\"\",MAX($W$3:W990)-W990),\"\")","v":""},"","",""]
[null,null,null,{"$f":"IF(A991>0,IF(OR(MAX($G$3:G991)-G991=0,A991=0),\"\",MAX($G$3:G991)-G991),\"\")","v":""},"","","",null,null,null,null,{"$f":"IF(I991>0,IF(OR(MAX($O$3:O991)-O991=0,I991=0),\"\",MAX($O$3:O991)-O991),\"\")","v":""},"","","",null,null,null,null,{"$f":"IF(I991>0,IF(OR(MAX($W$3:W991)-W991=0,Q991=0),\"\",MAX($W$3:W991)-W991),\"\")","v":""},"","",""]
[null,null,null,{"$f":"IF(A992>0,IF(OR(MAX($G$3:G992)-G992=0,A992=0),\"\",MAX($G$3:G992)-G992),\"\")","v":""},"","","",null,null,null,null,{"$f":"IF(I992>0,IF(OR(MAX($O$3:O992)-O992=0,I992=0),\"\",MAX($O$3:O992)-O992),\"\")","v":""},"","","",null,null,null,null,{"$f":"IF(I992>0,IF(OR(MAX($W$3:W992)-W992=0,Q992=0),\"\",MAX($W$3:W992)-W992),\"\")","v":""},"","",""]
[null,null,null,{"$f":"IF(A993>0,IF(OR(MAX($G$3:G993)-G993=0,A993=0),\"\",MAX($G$3:G993)-G993),\"\")","v":""},"","","",null,null,null,null,{"$f":"IF(I993>0,IF(OR(MAX($O$3:O993)-O993=0,I993=0),\"\",MAX($O$3:O993)-O993),\"\")","v":""},"","","",null,null,null,null,{"$f":"IF(I993>0,IF(OR(MAX($W$3:W993)-W993=0,Q993=0),\"\",MAX($W$3:W993)-W993),\"\")","v":""},"","",""]
[null,null,null,{"$f":"IF(A994>0,IF(OR(MAX($G$3:G994)-G994=0,A994=0),\"\",MAX($G$3:G994)-G994),\"\")","v":""},"","","",null,null,null,null,{"$f":"IF(I994>0,IF(OR(MAX($O$3:O994)-O994=0,I994=0),\"\",MAX($O$3:O994)-O994),\"\")","v":""},"","","",null,null,null,null,{"$f":"IF(I994>0,IF(OR(MAX($W$3:W994)-W994=0,Q994=0),\"\",MAX($W$3:W994)-W994),\"\")","v":""},"","",""]
[null,null,null,{"$f":"IF(A995>0,IF(OR(MAX($G$3:G995)-G995=0,A995=0),\"\",MAX($G$3:G995)-G995),\"\")","v":""},"","","",null,null,null,null,{"$f":"IF(I995>0,IF(OR(MAX($O$3:O995)-O995=0,I995=0),\"\",MAX($O$3:O995)-O995),\"\")","v":""},"","","",null,null,null,null,{"$f":"IF(I995>0,IF(OR(MAX($W$3:W995)-W995=0,Q995=0),\"\",MAX($W$3:W995)-W995),\"\")","v":""},"","",""]
[null,null,null,{"$f":"IF(A996>0,IF(OR(MAX($G$3:G996)-G996=0,A996=0),\"\",MAX($G$3:G996)-G996),\"\")","v":""},"","","",null,null,null,null,{"$f":"IF(I996>0,IF(OR(MAX($O$3:O996)-O996=0,I996=0),\"\",MAX($O$3:O996)-O996),\"\")","v":""},"","","",null,null,null,null,{"$f":"IF(I996>0,IF(OR(MAX($W$3:W996)-W996=0,Q996=0),\"\",MAX($W$3:W996)-W996),\"\")","v":""},"","",""]
[null,null,null,{"$f":"IF(A997>0,IF(OR(MAX($G$3:G997)-G997=0,A997=0),\"\",MAX($G$3:G997)-G997),\"\")","v":""},"","","",null,null,null,null,{"$f":"IF(I997>0,IF(OR(MAX($O$3:O997)-O997=0,I997=0),\"\",MAX($O$3:O997)-O997),\"\")","v":""},"","","",null,null,null,null,{"$f":"IF(I997>0,IF(OR(MAX($W$3:W997)-W997=0,Q997=0),\"\",MAX($W$3:W997)-W997),\"\")","v":""},"","",""]
[null,null,null,{"$f":"IF(A998>0,IF(OR(MAX($G$3:G998)-G998=0,A998=0),\"\",MAX($G$3:G998)-G998),\"\")","v":""},"","","",null,null,null,null,{"$f":"IF(I998>0,IF(OR(MAX($O$3:O998)-O998=0,I998=0),\"\",MAX($O$3:O998)-O998),\"\")","v":""},"","","",null,null,null,null,{"$f":"IF(I998>0,IF(OR(MAX($W$3:W998)-W998=0,Q998=0),\"\",MAX($W$3:W998)-W998),\"\")","v":""},"","",""]
[null,null,null,{"$f":"IF(A999>0,IF(OR(MAX($G$3:G999)-G999=0,A999=0),\"\",MAX($G$3:G999)-G999),\"\")","v":""},"","","",null,null,null,null,{"$f":"IF(I999>0,IF(OR(MAX($O$3:O999)-O999=0,I999=0),\"\",MAX($O$3:O999)-O999),\"\")","v":""},"","","",null,null,null,null,{"$f":"IF(I999>0,IF(OR(MAX($W$3:W999)-W999=0,Q999=0),\"\",MAX($W$3:W999)-W999),\"\")","v":""},"","",""]
[null,null,null,{"$f":"IF(A1000>0,IF(OR(MAX($G$3:G1000)-G1000=0,A1000=0),\"\",MAX($G$3:G1000)-G1000),\"\")","v":""},"","","",null,null,null,null,{"$f":"IF(I1000>0,IF(OR(MAX($O$3:O1000)-O1000=0,I1000=0),\"\",MAX($O$3:O1000)-O1000),\"\")","v":""},"","","",null,null,null,null,{"$f":"IF(I1000>0,IF(OR(MAX($W$3:W1000)-W1000=0,Q1000=0),\"\",MAX($W$3:W1000)-W1000),\"\")","v":""},"","",""]

{"sheet":"Equity","index":4,"n_rows":0,"n_cols":0,"rows_kept":0,"cut":false,"hidden":false,"merged":[]}

{"sheet":"Časy","index":5,"n_rows":110,"n_cols":7,"rows_kept":110,"cut":false,"hidden":false,"merged":[]}
[]
[]
[]
[]
[]
[]
[]
[]
[]
[]
[]
[]
[]
[]
[]
[]
[]
[]
[]
[]
[]
[]
[]
[]
[]
[]
[]
[]
[]
[]
[]
[]
[]
[]
[]
[]
[]
[]
[]
[]
[]
[]
[]
[]
[]
[]
[]
[]
[]
[]
[]
["Čas","Ztráta","Zisk","Celkem","Profit"]
[{"$f":"TEXT(F53,\"0000\")&\" - \"&TEXT(G53,\"0000\")","v":"0800 - 0814"},{"$f":"COUNT(IF( (Deník_2!$C$3:$C$2501>=F53)*(Deník_2!$C$3:$C$2501<=G53)*(Deník_2!$E$3:$E$2501<0),Deník_2!$B$3:$B$2501))","v":0},{"$f":"COUNT(IF( (Deník_2!$C$3:$C$2501>=F53)*(Deník_2!$C$3:$C$2501<=G53)*(Deník_2!$E$3:$E$2501>0),Deník_2!$B$3:$B$2501))","v":0},{"$f":"COUNT(IF( (Deník_2!$C$3:$C$2501>=F53)*(Deník_2!$C$3:$C$2501<=G53),Deník_2!$B$3:$B$2501))","v":0},{"$f":"SUM(IF((Deník_2!$C$3:$C$2501>=F53)*(Deník_2!$C$3:$C$2501<=G53),Deník_2!$E$3:$E$2501))","v":0},800,{"$f":"F53+14","v":814}]
[{"$f":"TEXT(F54,\"0000\")&\" - \"&TEXT(G54,\"0000\")","v":"0815 - 0829"},{"$f":"COUNT(IF( (Deník_2!$C$3:$C$2501>=F54)*(Deník_2!$C$3:$C$2501<=G54)*(Deník_2!$E$3:$E$2501<0),Deník_2!$B$3:$B$2501))","v":0},{"$f":"COUNT(IF( (Deník_2!$C$3:$C$2501>=F54)*(Deník_2!$C$3:$C$2501<=G54)*(Deník_2!$E$3:$E$2501>0),Deník_2!$B$3:$B$2501))","v":0},{"$f":"COUNT(IF( (Deník_2!$C$3:$C$2501>=F54)*(Deník_2!$C$3:$C$2501<=G54),Deník_2!$B$3:$B$2501))","v":0},{"$f":"SUM(IF((Deník_2!$C$3:$C$2501>=F54)*(Deník_2!$C$3:$C$2501<=G54),Deník_2!$E$3:$E$2501))","v":0},815,{"$f":"F54+14","v":829}]
["0830 - 0844",{"$f":"COUNT(IF( (Deník_2!$C$3:$C$2501>=F55)*(Deník_2!$C$3:$C$2501<=G55)*(Deník_2!$E$3:$E$2501<0),Deník_2!$B$3:$B$2501))","v":0},{"$f":"COUNT(IF( (Deník_2!$C$3:$C$2501>=F55)*(Deník_2!$C$3:$C$2501<=G55)*(Deník_2!$E$3:$E$2501>0),Deník_2!$B$3:$B$2501))","v":0},{"$f":"COUNT(IF( (Deník_2!$C$3:$C$2501>=F55)*(Deník_2!$C$3:$C$2501<=G55),Deník_2!$B$3:$B$2501))","v":0},{"$f":"SUM(IF((Deník_2!$C$3:$C$2501>=F55)*(Deník_2!$C$3:$C$2501<=G55),Deník_2!$E$3:$E$2501))","v":0},830,{"$f":"F55+14","v":844}]
["0845 - 0859",{"$f":"COUNT(IF( (Deník_2!$C$3:$C$2501>=F56)*(Deník_2!$C$3:$C$2501<=G56)*(Deník_2!$E$3:$E$2501<0),Deník_2!$B$3:$B$2501))","v":0},{"$f":"COUNT(IF( (Deník_2!$C$3:$C$2501>=F56)*(Deník_2!$C$3:$C$2501<=G56)*(Deník_2!$E$3:$E$2501>0),Deník_2!$B$3:$B$2501))","v":0},{"$f":"COUNT(IF( (Deník_2!$C$3:$C$2501>=F56)*(Deník_2!$C$3:$C$2501<=G56),Deník_2!$B$3:$B$2501))","v":0},{"$f":"SUM(IF((Deník_2!$C$3:$C$2501>=F56)*(Deník_2!$C$3:$C$2501<=G56),Deník_2!$E$3:$E$2501))","v":0},845,859]
["0900 - 0914",{"$f":"COUNT(IF( (Deník_2!$C$3:$C$2501>=F57)*(Deník_2!$C$3:$C$2501<=G57)*(Deník_2!$E$3:$E$2501<0),Deník_2!$B$3:$B$2501))","v":0},{"$f":"COUNT(IF( (Deník_2!$C$3:$C$2501>=F57)*(Deník_2!$C$3:$C$2501<=G57)*(Deník_2!$E$3:$E$2501>0),Deník_2!$B$3:$B$2501))","v":0},{"$f":"COUNT(IF( (Deník_2!$C$3:$C$2501>=F57)*(Deník_2!$C$3:$C$2501<=G57),Deník_2!$B$3:$B$2501))","v":0},{"$f":"SUM(IF((Deník_2!$C$3:$C$2501>=F57)*(Deník_2!$C$3:$C$2501<=G57),Deník_2!$E$3:$E$2501))","v":0},900,914]
["0915 - 0929",{"$f":"COUNT(IF( (Deník_2!$C$3:$C$2501>=F58)*(Deník_2!$C$3:$C$2501<=G58)*(Deník_2!$E$3:$E$2501<0),Deník_2!$B$3:$B$2501))","v":0},{"$f":"COUNT(IF( (Deník_2!$C$3:$C$2501>=F58)*(Deník_2!$C$3:$C$2501<=G58)*(Deník_2!$E$3:$E$2501>0),Deník_2!$B$3:$B$2501))","v":0},{"$f":"COUNT(IF( (Deník_2!$C$3:$C$2501>=F58)*(Deník_2!$C$3:$C$2501<=G58),Deník_2!$B$3:$B$2501))","v":0},{"$f":"SUM(IF((Deník_2!$C$3:$C$2501>=F58)*(Deník_2!$C$3:$C$2501<=G58),Deník_2!$E$3:$E$2501))","v":0},915,929]
["0930 - 0944",{"$f":"COUNT(IF( (Deník_2!$C$3:$C$2501>=F59)*(Deník_2!$C$3:$C$2501<=G59)*(Deník_2!$E$3:$E$2501<0),Deník_2!$B$3:$B$2501))","v":0},{"$f":"COUNT(IF( (Deník_2!$C$3:$C$2501>=F59)*(Deník_2!$C$3:$C$2501<=G59)*(Deník_2!$E$3:$E$2501>0),Deník_2!$B$3:$B$2501))","v":0},{"$f":"COUNT(IF( (Deník_2!$C$3:$C$2501>=F59)*(Deník_2!$C$3:$C$2501<=G59),Deník_2!$B$3:$B$2501))","v":0},{"$f":"SUM(IF((Deník_2!$C$3:$C$2501>=F59)*(Deník_2!$C$3:$C$2501<=G59),Deník_2!$E$3:$E$2501))","v":0},930,944]
["0945 - 0959",{"$f":"COUNT(IF( (Deník_2!$C$3:$C$2501>=F60)*(Deník_2!$C$3:$C$2501<=G60)*(Deník_2!$E$3:$E$2501<0),Deník_2!$B$3:$B$2501))","v":0},{"$f":"COUNT(IF( (Deník_2!$C$3:$C$2501>=F60)*(Deník_2!$C$3:$C$2501<=G60)*(Deník_2!$E$3:$E$2501>0),Deník_2!$B$3:$B$2501))","v":0},{"$f":"COUNT(IF( (Deník_2!$C$3:$C$2501>=F60)*(Deník_2!$C$3:$C$2501<=G60),Deník_2!$B$3:$B$2501))","v":0},{"$f":"SUM(IF((Deník_2!$C$3:$C$2501>=F60)*(Deník_2!$C$3:$C$2501<=G60),Deník_2!$E$3:$E$2501))","v":0},945,959]
["1000 - 1014",{"$f":"COUNT(IF( (Deník_2!$C$3:$C$2501>=F61)*(Deník_2!$C$3:$C$2501<=G61)*(Deník_2!$E$3:$E$2501<0),Deník_2!$B$3:$B$2501))","v":0},{"$f":"COUNT(IF( (Deník_2!$C$3:$C$2501>=F61)*(Deník_2!$C$3:$C$2501<=G61)*(Deník_2!$E$3:$E$2501>0),Deník_2!$B$3:$B$2501))","v":0},{"$f":"COUNT(IF( (Deník_2!$C$3:$C$2501>=F61)*(Deník_2!$C$3:$C$2501<=G61),Deník_2!$B$3:$B$2501))","v":0},{"$f":"SUM(IF((Deník_2!$C$3:$C$2501>=F61)*(Deník_2!$C$3:$C$2501<=G61),Deník_2!$E$3:$E$2501))","v":0},1000,1014]
["1015 - 1029",{"$f":"COUNT(IF( (Deník_2!$C$3:$C$2501>=F62)*(Deník_2!$C$3:$C$2501<=G62)*(Deník_2!$E$3:$E$2501<0),Deník_2!$B$3:$B$2501))","v":0},{"$f":"COUNT(IF( (Deník_2!$C$3:$C$2501>=F62)*(Deník_2!$C$3:$C$2501<=G62)*(Deník_2!$E$3:$E$2501>0),Deník_2!$B$3:$B$2501))","v":0},{"$f":"COUNT(IF( (Deník_2!$C$3:$C$2501>=F62)*(Deník_2!$C$3:$C$2501<=G62),Deník_2!$B$3:$B$2501))","v":0},{"$f":"SUM(IF((Deník_2!$C$3:$C$2501>=F62)*(Deník_2!$C$3:$C$2501<=G62),Deník_2!$E$3:$E$2501))","v":0},1015,1029]
["1030 - 1044",{"$f":"COUNT(IF( (Deník_2!$C$3:$C$2501>=F63)*(Deník_2!$C$3:$C$2501<=G63)*(Deník_2!$E$3:$E$2501<0),Deník_2!$B$3:$B$2501))","v":0},{"$f":"COUNT(IF( (Deník_2!$C$3:$C$2501>=F63)*(Deník_2!$C$3:$C$2501<=G63)*(Deník_2!$E$3:$E$2501>0),Deník_2!$B$3:$B$2501))","v":0},{"$f":"COUNT(IF( (Deník_2!$C$3:$C$2501>=F63)*(Deník_2!$C$3:$C$2501<=G63),Deník_2!$B$3:$B$2501))","v":0},{"$f":"SUM(IF((Deník_2!$C$3:$C$2501>=F63)*(Deník_2!$C$3:$C$2501<=G63),Deník_2!$E$3:$E$2501))","v":0},1030,1044]
["1045 - 1059",{"$f":"COUNT(IF( (Deník_2!$C$3:$C$2501>=F64)*(Deník_2!$C$3:$C$2501<=G64)*(Deník_2!$E$3:$E$2501<0),Deník_2!$B$3:$B$2501))","v":0},{"$f":"COUNT(IF( (Deník_2!$C$3:$C$2501>=F64)*(Deník_2!$C$3:$C$2501<=G64)*(Deník_2!$E$3:$E$2501>0),Deník_2!$B$3:$B$2501))","v":0},{"$f":"COUNT(IF( (Deník_2!$C$3:$C$2501>=F64)*(Deník_2!$C$3:$C$2501<=G64),Deník_2!$B$3:$B$2501))","v":0},{"$f":"SUM(IF((Deník_2!$C$3:$C$2501>=F64)*(Deník_2!$C$3:$C$2501<=G64),Deník_2!$E$3:$E$2501))","v":0},1045,1059]
["1100 - 1114",{"$f":"COUNT(IF( (Deník_2!$C$3:$C$2501>=F65)*(Deník_2!$C$3:$C$2501<=G65)*(Deník_2!$E$3:$E$2501<0),Deník_2!$B$3:$B$2501))","v":0},{"$f":"COUNT(IF( (Deník_2!$C$3:$C$2501>=F65)*(Deník_2!$C$3:$C$2501<=G65)*(Deník_2!$E$3:$E$2501>0),Deník_2!$B$3:$B$2501))","v":0},{"$f":"COUNT(IF( (Deník_2!$C$3:$C$2501>=F65)*(Deník_2!$C$3:$C$2501<=G65),Deník_2!$B$3:$B$2501))","v":0},{"$f":"SUM(IF((Deník_2!$C$3:$C$2501>=F65)*(Deník_2!$C$3:$C$2501<=G65),Deník_2!$E$3:$E$2501))","v":0},1100,1114]
["1115 - 1129",{"$f":"COUNT(IF( (Deník_2!$C$3:$C$2501>=F66)*(Deník_2!$C$3:$C$2501<=G66)*(Deník_2!$E$3:$E$2501<0),Deník_2!$B$3:$B$2501))","v":0},{"$f":"COUNT(IF( (Deník_2!$C$3:$C$2501>=F66)*(Deník_2!$C$3:$C$2501<=G66)*(Deník_2!$E$3:$E$2501>0),Deník_2!$B$3:$B$2501))","v":0},{"$f":"COUNT(IF( (Deník_2!$C$3:$C$2501>=F66)*(Deník_2!$C$3:$C$2501<=G66),Deník_2!$B$3:$B$2501))","v":0},{"$f":"SUM(IF((Deník_2!$C$3:$C$2501>=F66)*(Deník_2!$C$3:$C$2501<=G66),Deník_2!$E$3:$E$2501))","v":0},1115,1129]
["1130 - 1144",{"$f":"COUNT(IF( (Deník_2!$C$3:$C$2501>=F67)*(Deník_2!$C$3:$C$2501<=G67)*(Deník_2!$E$3:$E$2501<0),Deník_2!$B$3:$B$2501))","v":0},{"$f":"COUNT(IF( (Deník_2!$C$3:$C$2501>=F67)*(Deník_2!$C$3:$C$2501<=G67)*(Deník_2!$E$3:$E$2501>0),Deník_2!$B$3:$B$2501))","v":0},{"$f":"COUNT(IF( (Deník_2!$C$3:$C$2501>=F67)*(Deník_2!$C$3:$C$2501<=G67),Deník_2!$B$3:$B$2501))","v":0},{"$f":"SUM(IF((Deník_2!$C$3:$C$2501>=F67)*(Deník_2!$C$3:$C$2501<=G67),Deník_2!$E$3:$E$2501))","v":0},1130,1144]
["1145 - 1159",{"$f":"COUNT(IF( (Deník_2!$C$3:$C$2501>=F68)*(Deník_2!$C$3:$C$2501<=G68)*(Deník_2!$E$3:$E$2501<0),Deník_2!$B$3:$B$2501))","v":0},{"$f":"COUNT(IF( (Deník_2!$C$3:$C$2501>=F68)*(Deník_2!$C$3:$C$2501<=G68)*(Deník_2!$E$3:$E$2501>0),Deník_2!$B$3:$B$2501))","v":0},{"$f":"COUNT(IF( (Deník_2!$C$3:$C$2501>=F68)*(Deník_2!$C$3:$C$2501<=G68),Deník_2!$B$3:$B$2501))","v":0},{"$f":"SUM(IF((Deník_2!$C$3:$C$2501>=F68)*(Deník_2!$C$3:$C$2501<=G68),Deník_2!$E$3:$E$2501))","v":0},1145,1159]
["1200 - 1214",{"$f":"COUNT(IF( (Deník_2!$C$3:$C$2501>=F69)*(Deník_2!$C$3:$C$2501<=G69)*(Deník_2!$E$3:$E$2501<0),Deník_2!$B$3:$B$2501))","v":0},{"$f":"COUNT(IF( (Deník_2!$C$3:$C$2501>=F69)*(Deník_2!$C$3:$C$2501<=G69)*(Deník_2!$E$3:$E$2501>0),Deník_2!$B$3:$B$2501))","v":0},{"$f":"COUNT(IF( (Deník_2!$C$3:$C$2501>=F69)*(Deník_2!$C$3:$C$2501<=G69),Deník_2!$B$3:$B$2501))","v":0},{"$f":"SUM(IF((Deník_2!$C$3:$C$2501>=F69)*(Deník_2!$C$3:$C$2501<=G69),Deník_2!$E$3:$E$2501))","v":0},1200,1214]
["1215 - 1229",{"$f":"COUNT(IF( (Deník_2!$C$3:$C$2501>=F70)*(Deník_2!$C$3:$C$2501<=G70)*(Deník_2!$E$3:$E$2501<0),Deník_2!$B$3:$B$2501))","v":0},{"$f":"COUNT(IF( (Deník_2!$C$3:$C$2501>=F70)*(Deník_2!$C$3:$C$2501<=G70)*(Deník_2!$E$3:$E$2501>0),Deník_2!$B$3:$B$2501))","v":0},{"$f":"COUNT(IF( (Deník_2!$C$3:$C$2501>=F70)*(Deník_2!$C$3:$C$2501<=G70),Deník_2!$B$3:$B$2501))","v":0},{"$f":"SUM(IF((Deník_2!$C$3:$C$2501>=F70)*(Deník_2!$C$3:$C$2501<=G70),Deník_2!$E$3:$E$2501))","v":0},1215,1229]
["1230 - 1244",{"$f":"COUNT(IF( (Deník_2!$C$3:$C$2501>=F71)*(Deník_2!$C$3:$C$2501<=G71)*(Deník_2!$E$3:$E$2501<0),Deník_2!$B$3:$B$2501))","v":0},{"$f":"COUNT(IF( (Deník_2!$C$3:$C$2501>=F71)*(Deník_2!$C$3:$C$2501<=G71)*(Deník_2!$E$3:$E$2501>0),Deník_2!$B$3:$B$2501))","v":0},{"$f":"COUNT(IF( (Deník_2!$C$3:$C$2501>=F71)*(Deník_2!$C$3:$C$2501<=G71),Deník_2!$B$3:$B$2501))","v":0},{"$f":"SUM(IF((Deník_2!$C$3:$C$2501>=F71)*(Deník_2!$C$3:$C$2501<=G71),Deník_2!$E$3:$E$2501))","v":0},1230,1244]
["1245 - 1259",{"$f":"COUNT(IF( (Deník_2!$C$3:$C$2501>=F72)*(Deník_2!$C$3:$C$2501<=G72)*(Deník_2!$E$3:$E$2501<0),Deník_2!$B$3:$B$2501))","v":0},{"$f":"COUNT(IF( (Deník_2!$C$3:$C$2501>=F72)*(Deník_2!$C$3:$C$2501<=G72)*(Deník_2!$E$3:$E$2501>0),Deník_2!$B$3:$B$2501))","v":0},{"$f":"COUNT(IF( (Deník_2!$C$3:$C$2501>=F72)*(Deník_2!$C$3:$C$2501<=G72),Deník_2!$B$3:$B$2501))","v":0},{"$f":"SUM(IF((Deník_2!$C$3:$C$2501>=F72)*(Deník_2!$C$3:$C$2501<=G72),Deník_2!$E$3:$E$2501))","v":0},1245,1259]
["1300 - 1314",{"$f":"COUNT(IF( (Deník_2!$C$3:$C$2501>=F73)*(Deník_2!$C$3:$C$2501<=G73)*(Deník_2!$E$3:$E$2501<0),Deník_2!$B$3:$B$2501))","v":0},{"$f":"COUNT(IF( (Deník_2!$C$3:$C$2501>=F73)*(Deník_2!$C$3:$C$2501<=G73)*(Deník_2!$E$3:$E$2501>0),Deník_2!$B$3:$B$2501))","v":0},{"$f":"COUNT(IF( (Deník_2!$C$3:$C$2501>=F73)*(Deník_2!$C$3:$C$2501<=G73),Deník_2!$B$3:$B$2501))","v":0},{"$f":"SUM(IF((Deník_2!$C$3:$C$2501>=F73)*(Deník_2!$C$3:$C$2501<=G73),Deník_2!$E$3:$E$2501))","v":0},1300,1314]
["1315 - 1329",{"$f":"COUNT(IF( (Deník_2!$C$3:$C$2501>=F74)*(Deník_2!$C$3:$C$2501<=G74)*(Deník_2!$E$3:$E$2501<0),Deník_2!$B$3:$B$2501))","v":0},{"$f":"COUNT(IF( (Deník_2!$C$3:$C$2501>=F74)*(Deník_2!$C$3:$C$2501<=G74)*(Deník_2!$E$3:$E$2501>0),Deník_2!$B$3:$B$2501))","v":0},{"$f":"COUNT(IF( (Deník_2!$C$3:$C$2501>=F74)*(Deník_2!$C$3:$C$2501<=G74),Deník_2!$B$3:$B$2501))","v":0},{"$f":"SUM(IF((Deník_2!$C$3:$C$2501>=F74)*(Deník_2!$C$3:$C$2501<=G74),Deník_2!$E$3:$E$2501))","v":0},1315,1329]
["1330 - 1344",{"$f":"COUNT(IF( (Deník_2!$C$3:$C$2501>=F75)*(Deník_2!$C$3:$C$2501<=G75)*(Deník_2!$E$3:$E$2501<0),Deník_2!$B$3:$B$2501))","v":0},{"$f":"COUNT(IF( (Deník_2!$C$3:$C$2501>=F75)*(Deník_2!$C$3:$C$2501<=G75)*(Deník_2!$E$3:$E$2501>0),Deník_2!$B$3:$B$2501))","v":0},{"$f":"COUNT(IF( (Deník_2!$C$3:$C$2501>=F75)*(Deník_2!$C$3:$C$2501<=G75),Deník_2!$B$3:$B$2501))","v":0},{"$f":"SUM(IF((Deník_2!$C$3:$C$2501>=F75)*(Deník_2!$C$3:$C$2501<=G75),Deník_2!$E$3:$E$2501))","v":0},1330,1344]
["1345 - 1359",{"$f":"COUNT(IF( (Deník_2!$C$3:$C$2501>=F76)*(Deník_2!$C$3:$C$2501<=G76)*(Deník_2!$E$3:$E$2501<0),Deník_2!$B$3:$B$2501))","v":0},{"$f":"COUNT(IF( (Deník_2!$C$3:$C$2501>=F76)*(Deník_2!$C$3:$C$2501<=G76)*(Deník_2!$E$3:$E$2501>0),Deník_2!$B$3:$B$2501))","v":0},{"$f":"COUNT(IF( (Deník_2!$C$3:$C$2501>=F76)*(Deník_2!$C$3:$C$2501<=G76),Deník_2!$B$3:$B$2501))","v":0},{"$f":"SUM(IF((Deník_2!$C$3:$C$2501>=F76)*(Deník_2!$C$3:$C$2501<=G76),Deník_2!$E$3:$E$2501))","v":0},1345,1359]
["1400 - 1414",{"$f":"COUNT(IF( (Deník_2!$C$3:$C$2501>=F77)*(Deník_2!$C$3:$C$2501<=G77)*(Deník_2!$E$3:$E$2501<0),Deník_2!$B$3:$B$2501))","v":0},{"$f":"COUNT(IF( (Deník_2!$C$3:$C$2501>=F77)*(Deník_2!$C$3:$C$2501<=G77)*(Deník_2!$E$3:$E$2501>0),Deník_2!$B$3:$B$2501))","v":0},{"$f":"COUNT(IF( (Deník_2!$C$3:$C$2501>=F77)*(Deník_2!$C$3:$C$2501<=G77),Deník_2!$B$3:$B$2501))","v":0},{"$f":"SUM(IF((Deník_2!$C$3:$C$2501>=F77)*(Deník_2!$C$3:$C$2501<=G77),Deník_2!$E$3:$E$2501))","v":0},1400,1414]
["1415 - 1429",{"$f":"COUNT(IF( (Deník_2!$C$3:$C$2501>=F78)*(Deník_2!$C$3:$C$2501<=G78)*(Deník_2!$E$3:$E$2501<0),Deník_2!$B$3:$B$2501))","v":0},{"$f":"COUNT(IF( (Deník_2!$C$3:$C$2501>=F78)*(Deník_2!$C$3:$C$2501<=G78)*(Deník_2!$E$3:$E$2501>0),Deník_2!$B$3:$B$2501))","v":0},{"$f":"COUNT(IF( (Deník_2!$C$3:$C$2501>=F78)*(Deník_2!$C$3:$C$2501<=G78),Deník_2!$B$3:$B$2501))","v":0},{"$f":"SUM(IF((Deník_2!$C$3:$C$2501>=F78)*(Deník_2!$C$3:$C$2501<=G78),Deník_2!$E$3:$E$2501))","v":0},1415,1429]
["1430 - 1444",{"$f":"COUNT(IF( (Deník_2!$C$3:$C$2501>=F79)*(Deník_2!$C$3:$C$2501<=G79)*(Deník_2!$E$3:$E$2501<0),Deník_2!$B$3:$B$2501))","v":0},{"$f":"COUNT(IF( (Deník_2!$C$3:$C$2501>=F79)*(Deník_2!$C$3:$C$2501<=G79)*(Deník_2!$E$3:$E$2501>0),Deník_2!$B$3:$B$2501))","v":0},{"$f":"COUNT(IF( (Deník_2!$C$3:$C$2501>=F79)*(Deník_2!$C$3:$C$2501<=G79),Deník_2!$B$3:$B$2501))","v":0},{"$f":"SUM(IF((Deník_2!$C$3:$C$2501>=F79)*(Deník_2!$C$3:$C$2501<=G79),Deník_2!$E$3:$E$2501))","v":0},1430,1444]
["1445 - 1459",{"$f":"COUNT(IF( (Deník_2!$C$3:$C$2501>=F80)*(Deník_2!$C$3:$C$2501<=G80)*(Deník_2!$E$3:$E$2501<0),Deník_2!$B$3:$B$2501))","v":0},{"$f":"COUNT(IF( (Deník_2!$C$3:$C$2501>=F80)*(Deník_2!$C$3:$C$2501<=G80)*(Deník_2!$E$3:$E$2501>0),Deník_2!$B$3:$B$2501))","v":0},{"$f":"COUNT(IF( (Deník_2!$C$3:$C$2501>=F80)*(Deník_2!$C$3:$C$2501<=G80),Deník_2!$B$3:$B$2501))","v":0},{"$f":"SUM(IF((Deník_2!$C$3:$C$2501>=F80)*(Deník_2!$C$3:$C$2501<=G80),Deník_2!$E$3:$E$2501))","v":0},1445,1459]
["1500 - 1514",{"$f":"COUNT(IF( (Deník_2!$C$3:$C$2501>=F81)*(Deník_2!$C$3:$C$2501<=G81)*(Deník_2!$E$3:$E$2501<0),Deník_2!$B$3:$B$2501))","v":0},{"$f":"COUNT(IF( (Deník_2!$C$3:$C$2501>=F81)*(Deník_2!$C$3:$C$2501<=G81)*(Deník_2!$E$3:$E$2501>0),Deník_2!$B$3:$B$2501))","v":0},{"$f":"COUNT(IF( (Deník_2!$C$3:$C$2501>=F81)*(Deník_2!$C$3:$C$2501<=G81),Deník_2!$B$3:$B$2501))","v":0},{"$f":"SUM(IF((Deník_2!$C$3:$C$2501>=F81)*(Deník_2!$C$3:$C$2501<=G81),Deník_2!$E$3:$E$2501))","v":0},1500,1514]
["1515 - 1529",{"$f":"COUNT(IF( (Deník_2!$C$3:$C$2501>=F82)*(Deník_2!$C$3:$C$2501<=G82)*(Deník_2!$E$3:$E$2501<0),Deník_2!$B$3:$B$2501))","v":0},{"$f":"COUNT(IF( (Deník_2!$C$3:$C$2501>=F82)*(Deník_2!$C$3:$C$2501<=G82)*(Deník_2!$E$3:$E$2501>0),Deník_2!$B$3:$B$2501))","v":0},{"$f":"COUNT(IF( (Deník_2!$C$3:$C$2501>=F82)*(Deník_2!$C$3:$C$2501<=G82),Deník_2!$B$3:$B$2501))","v":0},{"$f":"SUM(IF((Deník_2!$C$3:$C$2501>=F82)*(Deník_2!$C$3:$C$2501<=G82),Deník_2!$E$3:$E$2501))","v":0},1515,1529]
["1530 - 1544",{"$f":"COUNT(IF( (Deník_2!$C$3:$C$2501>=F83)*(Deník_2!$C$3:$C$2501<=G83)*(Deník_2!$E$3:$E$2501<0),Deník_2!$B$3:$B$2501))","v":0},{"$f":"COUNT(IF( (Deník_2!$C$3:$C$2501>=F83)*(Deník_2!$C$3:$C$2501<=G83)*(Deník_2!$E$3:$E$2501>0),Deník_2!$B$3:$B$2501))","v":0},{"$f":"COUNT(IF( (Deník_2!$C$3:$C$2501>=F83)*(Deník_2!$C$3:$C$2501<=G83),Deník_2!$B$3:$B$2501))","v":0},{"$f":"SUM(IF((Deník_2!$C$3:$C$2501>=F83)*(Deník_2!$C$3:$C$2501<=G83),Deník_2!$E$3:$E$2501))","v":0},1530,1544]
["1545 - 1559",{"$f":"COUNT(IF( (Deník_2!$C$3:$C$2501>=F84)*(Deník_2!$C$3:$C$2501<=G84)*(Deník_2!$E$3:$E$2501<0),Deník_2!$B$3:$B$2501))","v":0},{"$f":"COUNT(IF( (Deník_2!$C$3:$C$2501>=F84)*(Deník_2!$C$3:$C$2501<=G84)*(Deník_2!$E$3:$E$2501>0),Deník_2!$B$3:$B$2501))","v":0},{"$f":"COUNT(IF( (Deník_2!$C$3:$C$2501>=F84)*(Deník_2!$C$3:$C$2501<=G84),Deník_2!$B$3:$B$2501))","v":0},{"$f":"SUM(IF((Deník_2!$C$3:$C$2501>=F84)*(Deník_2!$C$3:$C$2501<=G84),Deník_2!$E$3:$E$2501))","v":0},1545,1559]
["1600 - 1614",{"$f":"COUNT(IF( (Deník_2!$C$3:$C$2501>=F85)*(Deník_2!$C$3:$C$2501<=G85)*(Deník_2!$E$3:$E$2501<0),Deník_2!$B$3:$B$2501))","v":0},{"$f":"COUNT(IF( (Deník_2!$C$3:$C$2501>=F85)*(Deník_2!$C$3:$C$2501<=G85)*(Deník_2!$E$3:$E$2501>0),Deník_2!$B$3:$B$2501))","v":0},{"$f":"COUNT(IF( (Deník_2!$C$3:$C$2501>=F85)*(Deník_2!$C$3:$C$2501<=G85),Deník_2!$B$3:$B$2501))","v":0},{"$f":"SUM(IF((Deník_2!$C$3:$C$2501>=F85)*(Deník_2!$C$3:$C$2501<=G85),Deník_2!$E$3:$E$2501))","v":0},1600,1614]
["1615 - 1629",{"$f":"COUNT(IF( (Deník_2!$C$3:$C$2501>=F86)*(Deník_2!$C$3:$C$2501<=G86)*(Deník_2!$E$3:$E$2501<0),Deník_2!$B$3:$B$2501))","v":0},{"$f":"COUNT(IF( (Deník_2!$C$3:$C$2501>=F86)*(Deník_2!$C$3:$C$2501<=G86)*(Deník_2!$E$3:$E$2501>0),Deník_2!$B$3:$B$2501))","v":0},{"$f":"COUNT(IF( (Deník_2!$C$3:$C$2501>=F86)*(Deník_2!$C$3:$C$2501<=G86),Deník_2!$B$3:$B$2501))","v":0},{"$f":"SUM(IF((Deník_2!$C$3:$C$2501>=F86)*(Deník_2!$C$3:$C$2501<=G86),Deník_2!$E$3:$E$2501))","v":0},1615,1629]
["1630 - 1644",{"$f":"COUNT(IF( (Deník_2!$C$3:$C$2501>=F87)*(Deník_2!$C$3:$C$2501<=G87)*(Deník_2!$E$3:$E$2501<0),Deník_2!$B$3:$B$2501))","v":0},{"$f":"COUNT(IF( (Deník_2!$C$3:$C$2501>=F87)*(Deník_2!$C$3:$C$2501<=G87)*(Deník_2!$E$3:$E$2501>0),Deník_2!$B$3:$B$2501))","v":0},{"$f":"COUNT(IF( (Deník_2!$C$3:$C$2501>=F87)*(Deník_2!$C$3:$C$2501<=G87),Deník_2!$B$3:$B$2501))","v":0},{"$f":"SUM(IF((Deník_2!$C$3:$C$2501>=F87)*(Deník_2!$C$3:$C$2501<=G87),Deník_2!$E$3:$E$2501))","v":0},1630,1644]
["1645 - 1659",{"$f":"COUNT(IF( (Deník_2!$C$3:$C$2501>=F88)*(Deník_2!$C$3:$C$2501<=G88)*(Deník_2!$E$3:$E$2501<0),Deník_2!$B$3:$B$2501))","v":0},{"$f":"COUNT(IF( (Deník_2!$C$3:$C$2501>=F88)*(Deník_2!$C$3:$C$2501<=G88)*(Deník_2!$E$3:$E$2501>0),Deník_2!$B$3:$B$2501))","v":0},{"$f":"COUNT(IF( (Deník_2!$C$3:$C$2501>=F88)*(Deník_2!$C$3:$C$2501<=G88),Deník_2!$B$3:$B$2501))","v":0},{"$f":"SUM(IF((Deník_2!$C$3:$C$2501>=F88)*(Deník_2!$C$3:$C$2501<=G88),Deník_2!$E$3:$E$2501))","v":0},1645,1659]
["1700 - 1714",{"$f":"COUNT(IF( (Deník_2!$C$3:$C$2501>=F89)*(Deník_2!$C$3:$C$2501<=G89)*(Deník_2!$E$3:$E$2501<0),Deník_2!$B$3:$B$2501))","v":0},{"$f":"COUNT(IF( (Deník_2!$C$3:$C$2501>=F89)*(Deník_2!$C$3:$C$2501<=G89)*(Deník_2!$E$3:$E$2501>0),Deník_2!$B$3:$B$2501))","v":0},{"$f":"COUNT(IF( (Deník_2!$C$3:$C$2501>=F89)*(Deník_2!$C$3:$C$2501<=G89),Deník_2!$B$3:$B$2501))","v":0},{"$f":"SUM(IF((Deník_2!$C$3:$C$2501>=F89)*(Deník_2!$C$3:$C$2501<=G89),Deník_2!$E$3:$E$2501))","v":0},1700,1714]
["1715 - 1729",{"$f":"COUNT(IF( (Deník_2!$C$3:$C$2501>=F90)*(Deník_2!$C$3:$C$2501<=G90)*(Deník_2!$E$3:$E$2501<0),Deník_2!$B$3:$B$2501))","v":0},{"$f":"COUNT(IF( (Deník_2!$C$3:$C$2501>=F90)*(Deník_2!$C$3:$C$2501<=G90)*(Deník_2!$E$3:$E$2501>0),Deník_2!$B$3:$B$2501))","v":0},{"$f":"COUNT(IF( (Deník_2!$C$3:$C$2501>=F90)*(Deník_2!$C$3:$C$2501<=G90),Deník_2!$B$3:$B$2501))","v":0},{"$f":"SUM(IF((Deník_2!$C$3:$C$2501>=F90)*(Deník_2!$C$3:$C$2501<=G90),Deník_2!$E$3:$E$2501))","v":0},1715,1729]
["1730 - 1744",{"$f":"COUNT(IF( (Deník_2!$C$3:$C$2501>=F91)*(Deník_2!$C$3:$C$2501<=G91)*(Deník_2!$E$3:$E$2501<0),Deník_2!$B$3:$B$2501))","v":0},{"$f":"COUNT(IF( (Deník_2!$C$3:$C$2501>=F91)*(Deník_2!$C$3:$C$2501<=G91)*(Deník_2!$E$3:$E$2501>0),Deník_2!$B$3:$B$2501))","v":0},{"$f":"COUNT(IF( (Deník_2!$C$3:$C$2501>=F91)*(Deník_2!$C$3:$C$2501<=G91),Deník_2!$B$3:$B$2501))","v":0},{"$f":"SUM(IF((Deník_2!$C$3:$C$2501>=F91)*(Deník_2!$C$3:$C$2501<=G91),Deník_2!$E$3:$E$2501))","v":0},1730,1744]
["1745 - 1759",{"$f":"COUNT(IF( (Deník_2!$C$3:$C$2501>=F92)*(Deník_2!$C$3:$C$2501<=G92)*(Deník_2!$E$3:$E$2501<0),Deník_2!$B$3:$B$2501))","v":0},{"$f":"COUNT(IF( (Deník_2!$C$3:$C$2501>=F92)*(Deník_2!$C$3:$C$2501<=G92)*(Deník_2!$E$3:$E$2501>0),Deník_2!$B$3:$B$2501))","v":0},{"$f":"COUNT(IF( (Deník_2!$C$3:$C$2501>=F92)*(Deník_2!$C$3:$C$2501<=G92),Deník_2!$B$3:$B$2501))","v":0},{"$f":"SUM(IF((Deník_2!$C$3:$C$2501>=F92)*(Deník_2!$C$3:$C$2501<=G92),Deník_2!$E$3:$E$2501))","v":0},1745,1759]
["1800 - 1814",{"$f":"COUNT(IF( (Deník_2!$C$3:$C$2501>=F93)*(Deník_2!$C$3:$C$2501<=G93)*(Deník_2!$E$3:$E$2501<0),Deník_2!$B$3:$B$2501))","v":0},{"$f":"COUNT(IF( (Deník_2!$C$3:$C$2501>=F93)*(Deník_2!$C$3:$C$2501<=G93)*(Deník_2!$E$3:$E$2501>0),Deník_2!$B$3:$B$2501))","v":0},{"$f":"COUNT(IF( (Deník_2!$C$3:$C$2501>=F93)*(Deník_2!$C$3:$C$2501<=G93),Deník_2!$B$3:$B$2501))","v":0},{"$f":"SUM(IF((Deník_2!$C$3:$C$2501>=F93)*(Deník_2!$C$3:$C$2501<=G93),Deník_2!$E$3:$E$2501))","v":0},1800,1814]
["1815 - 1829",{"$f":"COUNT(IF( (Deník_2!$C$3:$C$2501>=F94)*(Deník_2!$C$3:$C$2501<=G94)*(Deník_2!$E$3:$E$2501<0),Deník_2!$B$3:$B$2501))","v":0},{"$f":"COUNT(IF( (Deník_2!$C$3:$C$2501>=F94)*(Deník_2!$C$3:$C$2501<=G94)*(Deník_2!$E$3:$E$2501>0),Deník_2!$B$3:$B$2501))","v":0},{"$f":"COUNT(IF( (Deník_2!$C$3:$C$2501>=F94)*(Deník_2!$C$3:$C$2501<=G94),Deník_2!$B$3:$B$2501))","v":0},{"$f":"SUM(IF((Deník_2!$C$3:$C$2501>=F94)*(Deník_2!$C$3:$C$2501<=G94),Deník_2!$E$3:$E$2501))","v":0},1815,1829]
["1830 - 1844",{"$f":"COUNT(IF( (Deník_2!$C$3:$C$2501>=F95)*(Deník_2!$C$3:$C$2501<=G95)*(Deník_2!$E$3:$E$2501<0),Deník_2!$B$3:$B$2501))","v":0},{"$f":"COUNT(IF( (Deník_2!$C$3:$C$2501>=F95)*(Deník_2!$C$3:$C$2501<=G95)*(Deník_2!$E$3:$E$2501>0),Deník_2!$B$3:$B$2501))","v":0},{"$f":"COUNT(IF( (Deník_2!$C$3:$C$2501>=F95)*(Deník_2!$C$3:$C$2501<=G95),Deník_2!$B$3:$B$2501))","v":0},{"$f":"SUM(IF((Deník_2!$C$3:$C$2501>=F95)*(Deník_2!$C$3:$C$2501<=G95),Deník_2!$E$3:$E$2501))","v":0},1830,1844]
["1845 - 1859",{"$f":"COUNT(IF( (Deník_2!$C$3:$C$2501>=F96)*(Deník_2!$C$3:$C$2501<=G96)*(Deník_2!$E$3:$E$2501<0),Deník_2!$B$3:$B$2501))","v":0},{"$f":"COUNT(IF( (Deník_2!$C$3:$C$2501>=F96)*(Deník_2!$C$3:$C$2501<=G96)*(Deník_2!$E$3:$E$2501>0),Deník_2!$B$3:$B$2501))","v":0},{"$f":"COUNT(IF( (Deník_2!$C$3:$C$2501>=F96)*(Deník_2!$C$3:$C$2501<=G96),Deník_2!$B$3:$B$2501))","v":0},{"$f":"SUM(IF((Deník_2!$C$3:$C$2501>=F96)*(Deník_2!$C$3:$C$2501<=G96),Deník_2!$E$3:$E$2501))","v":0},1845,1859]
["1900 - 1914",{"$f":"COUNT(IF( (Deník_2!$C$3:$C$2501>=F97)*(Deník_2!$C$3:$C$2501<=G97)*(Deník_2!$E$3:$E$2501<0),Deník_2!$B$3:$B$2501))","v":0},{"$f":"COUNT(IF( (Deník_2!$C$3:$C$2501>=F97)*(Deník_2!$C$3:$C$2501<=G97)*(Deník_2!$E$3:$E$2501>0),Deník_2!$B$3:$B$2501))","v":0},{"$f":"COUNT(IF( (Deník_2!$C$3:$C$2501>=F97)*(Deník_2!$C$3:$C$2501<=G97),Deník_2!$B$3:$B$2501))","v":0},{"$f":"SUM(IF((Deník_2!$C$3:$C$2501>=F97)*(Deník_2!$C$3:$C$2501<=G97),Deník_2!$E$3:$E$2501))","v":0},1900,1914]
["1915 - 1929",{"$f":"COUNT(IF( (Deník_2!$C$3:$C$2501>=F98)*(Deník_2!$C$3:$C$2501<=G98)*(Deník_2!$E$3:$E$2501<0),Deník_2!$B$3:$B$2501))","v":0},{"$f":"COUNT(IF( (Deník_2!$C$3:$C$2501>=F98)*(Deník_2!$C$3:$C$2501<=G98)*(Deník_2!$E$3:$E$2501>0),Deník_2!$B$3:$B$2501))","v":0},{"$f":"COUNT(IF( (Deník_2!$C$3:$C$2501>=F98)*(Deník_2!$C$3:$C$2501<=G98),Deník_2!$B$3:$B$2501))","v":0},{"$f":"SUM(IF((Deník_2!$C$3:$C$2501>=F98)*(Deník_2!$C$3:$C$2501<=G98),Deník_2!$E$3:$E$2501))","v":0},1915,1929]
["1930 - 1944",{"$f":"COUNT(IF( (Deník_2!$C$3:$C$2501>=F99)*(Deník_2!$C$3:$C$2501<=G99)*(Deník_2!$E$3:$E$2501<0),Deník_2!$B$3:$B$2501))","v":0},{"$f":"COUNT(IF( (Deník_2!$C$3:$C$2501>=F99)*(Deník_2!$C$3:$C$2501<=G99)*(Deník_2!$E$3:$E$2501>0),Deník_2!$B$3:$B$2501))","v":0},{"$f":"COUNT(IF( (Deník_2!$C$3:$C$2501>=F99)*(Deník_2!$C$3:$C$2501<=G99),Deník_2!$B$3:$B$2501))","v":0},{"$f":"SUM(IF((Deník_2!$C$3:$C$2501>=F99)*(Deník_2!$C$3:$C$2501<=G99),Deník_2!$E$3:$E$2501))","v":0},1930,1944]
["1945 - 1959",{"$f":"COUNT(IF( (Deník_2!$C$3:$C$2501>=F100)*(Deník_2!$C$3:$C$2501<=G100)*(Deník_2!$E$3:$E$2501<0),Deník_2!$B$3:$B$2501))","v":0},{"$f":"COUNT(IF( (Deník_2!$C$3:$C$2501>=F100)*(Deník_2!$C$3:$C$2501<=G100)*(Deník_2!$E$3:$E$2501>0),Deník_2!$B$3:$B$2501))","v":0},{"$f":"COUNT(IF( (Deník_2!$C$3:$C$2501>=F100)*(Deník_2!$C$3:$C$2501<=G100),Deník_2!$B$3:$B$2501))","v":0},{"$f":"SUM(IF((Deník_2!$C$3:$C$2501>=F100)*(Deník_2!$C$3:$C$2501<=G100),Deník_2!$E$3:$E$2501))","v":0},1945,1959]
["2000 - 2014",{"$f":"COUNT(IF( (Deník_2!$C$3:$C$2501>=F101)*(Deník_2!$C$3:$C$2501<=G101)*(Deník_2!$E$3:$E$2501<0),Deník_2!$B$3:$B$2501))","v":0},{"$f":"COUNT(IF( (Deník_2!$C$3:$C$2501>=F101)*(Deník_2!$C$3:$C$2501<=G101)*(Deník_2!$E$3:$E$2501>0),Deník_2!$B$3:$B$2501))","v":0},{"$f":"COUNT(IF( (Deník_2!$C$3:$C$2501>=F101)*(Deník_2!$C$3:$C$2501<=G101),Deník_2!$B$3:$B$2501))","v":0},{"$f":"SUM(IF((Deník_2!$C$3:$C$2501>=F101)*(Deník_2!$C$3:$C$2501<=G101),Deník_2!$E$3:$E$2501))","v":0},2000,2014]
["2015 - 2029",{"$f":"COUNT(IF( (Deník_2!$C$3:$C$2501>=F102)*(Deník_2!$C$3:$C$2501<=G102)*(Deník_2!$E$3:$E$2501<0),Deník_2!$B$3:$B$2501))","v":0},{"$f":"COUNT(IF( (Deník_2!$C$3:$C$2501>=F102)*(Deník_2!$C$3:$C$2501<=G102)*(Deník_2!$E$3:$E$2501>0),Deník_2!$B$3:$B$2501))","v":0},{"$f":"COUNT(IF( (Deník_2!$C$3:$C$2501>=F102)*(Deník_2!$C$3:$C$2501<=G102),Deník_2!$B$3:$B$2501))","v":0},{"$f":"SUM(IF((Deník_2!$C$3:$C$2501>=F102)*(Deník_2!$C$3:$C$2501<=G102),Deník_2!$E$3:$E$2501))","v":0},2015,2029]
["2030 - 2044",{"$f":"COUNT(IF( (Deník_2!$C$3:$C$2501>=F103)*(Deník_2!$C$3:$C$2501<=G103)*(Deník_2!$E$3:$E$2501<0),Deník_2!$B$3:$B$2501))","v":0},{"$f":"COUNT(IF( (Deník_2!$C$3:$C$2501>=F103)*(Deník_2!$C$3:$C$2501<=G103)*(Deník_2!$E$3:$E$2501>0),Deník_2!$B$3:$B$2501))","v":0},{"$f":"COUNT(IF( (Deník_2!$C$3:$C$2501>=F103)*(Deník_2!$C$3:$C$2501<=G103),Deník_2!$B$3:$B$2501))","v":0},{"$f":"SUM(IF((Deník_2!$C$3:$C$2501>=F103)*(Deník_2!$C$3:$C$2501<=G103),Deník_2!$E$3:$E$2501))","v":0},2030,2044]
["2045 - 2059",{"$f":"COUNT(IF( (Deník_2!$C$3:$C$2501>=F104)*(Deník_2!$C$3:$C$2501<=G104)*(Deník_2!$E$3:$E$2501<0),Deník_2!$B$3:$B$2501))","v":0},{"$f":"COUNT(IF( (Deník_2!$C$3:$C$2501>=F104)*(Deník_2!$C$3:$C$2501<=G104)*(Deník_2!$E$3:$E$2501>0),Deník_2!$B$3:$B$2501))","v":0},{"$f":"COUNT(IF( (Deník_2!$C$3:$C$2501>=F104)*(Deník_2!$C$3:$C$2501<=G104),Deník_2!$B$3:$B$2501))","v":0},{"$f":"SUM(IF((Deník_2!$C$3:$C$2501>=F104)*(Deník_2!$C$3:$C$2501<=G104),Deník_2!$E$3:$E$2501))","v":0},2045,2059]
["2100 - 2114",{"$f":"COUNT(IF( (Deník_2!$C$3:$C$2501>=F105)*(Deník_2!$C$3:$C$2501<=G105)*(Deník_2!$E$3:$E$2501<0),Deník_2!$B$3:$B$2501))","v":0},{"$f":"COUNT(IF( (Deník_2!$C$3:$C$2501>=F105)*(Deník_2!$C$3:$C$2501<=G105)*(Deník_2!$E$3:$E$2501>0),Deník_2!$B$3:$B$2501))","v":0},{"$f":"COUNT(IF( (Deník_2!$C$3:$C$2501>=F105)*(Deník_2!$C$3:$C$2501<=G105),Deník_2!$B$3:$B$2501))","v":0},{"$f":"SUM(IF((Deník_2!$C$3:$C$2501>=F105)*(Deník_2!$C$3:$C$2501<=G105),Deník_2!$E$3:$E$2501))","v":0},2100,2114]
["2115 - 2129",{"$f":"COUNT(IF( (Deník_2!$C$3:$C$2501>=F106)*(Deník_2!$C$3:$C$2501<=G106)*(Deník_2!$E$3:$E$2501<0),Deník_2!$B$3:$B$2501))","v":0},{"$f":"COUNT(IF( (Deník_2!$C$3:$C$2501>=F106)*(Deník_2!$C$3:$C$2501<=G106)*(Deník_2!$E$3:$E$2501>0),Deník_2!$B$3:$B$2501))","v":0},{"$f":"COUNT(IF( (Deník_2!$C$3:$C$2501>=F106)*(Deník_2!$C$3:$C$2501<=G106),Deník_2!$B$3:$B$2501))","v":0},{"$f":"SUM(IF((Deník_2!$C$3:$C$2501>=F106)*(Deník_2!$C$3:$C$2501<=G106),Deník_2!$E$3:$E$2501))","v":0},2115,2129]
["2130 - 2144",{"$f":"COUNT(IF( (Deník_2!$C$3:$C$2501>=F107)*(Deník_2!$C$3:$C$2501<=G107)*(Deník_2!$E$3:$E$2501<0),Deník_2!$B$3:$B$2501))","v":0},{"$f":"COUNT(IF( (Deník_2!$C$3:$C$2501>=F107)*(Deník_2!$C$3:$C$2501<=G107)*(Deník_2!$E$3:$E$2501>0),Deník_2!$B$3:$B$2501))","v":0},{"$f":"COUNT(IF( (Deník_2!$C$3:$C$2501>=F107)*(Deník_2!$C$3:$C$2501<=G107),Deník_2!$B$3:$B$2501))","v":0},{"$f":"SUM(IF((Deník_2!$C$3:$C$2501>=F107)*(Deník_2!$C$3:$C$2501<=G107),Deník_2!$E$3:$E$2501))","v":0},2130,2144]
["2145 - 2159",{"$f":"COUNT(IF( (Deník_2!$C$3:$C$2501>=F108)*(Deník_2!$C$3:$C$2501<=G108)*(Deník_2!$E$3:$E$2501<0),Deník_2!$B$3:$B$2501))","v":0},{"$f":"COUNT(IF( (Deník_2!$C$3:$C$2501>=F108)*(Deník_2!$C$3:$C$2501<=G108)*(Deník_2!$E$3:$E$2501>0),Deník_2!$B$3:$B$2501))","v":0},{"$f":"COUNT(IF( (Deník_2!$C$3:$C$2501>=F108)*(Deník_2!$C$3:$C$2501<=G108),Deník_2!$B$3:$B$2501))","v":0},{"$f":"SUM(IF((Deník_2!$C$3:$C$2501>=F108)*(Deník_2!$C$3:$C$2501<=G108),Deník_2!$E$3:$E$2501))","v":0},2145,2159]
["2200 - 2215",{"$f":"COUNT(IF( (Deník_2!$C$3:$C$2501>=F109)*(Deník_2!$C$3:$C$2501<=G109)*(Deník_2!$E$3:$E$2501<0),Deník_2!$B$3:$B$2501))","v":0},{"$f":"COUNT(IF( (Deník_2!$C$3:$C$2501>=F109)*(Deník_2!$C$3:$C$2501<=G109)*(Deník_2!$E$3:$E$2501>0),Deník_2!$B$3:$B$2501))","v":0},{"$f":"COUNT(IF( (Deník_2!$C$3:$C$2501>=F109)*(Deník_2!$C$3:$C$2501<=G109),Deník_2!$B$3:$B$2501))","v":0},{"$f":"SUM(IF((Deník_2!$C$3:$C$2501>=F109)*(Deník_2!$C$3:$C$2501<=G109),Deník_2!$E$3:$E$2501))","v":0},2200,{"$f":"F109+15","v":2215}]
["Celkem",{"$f":"SUM(B53:B109)","v":0},{"$f":"SUM(C53:C109)","v":0},{"$f":"SUM(D53:D109)","v":0},{"$f":"SUM(E53:E109)","v":0}]

{"sheet":"Kalendář","index":6,"n_rows":37,"n_cols":24,"rows_kept":37,"cut":false,"hidden":false,"merged":[[0,1,0,23],[2,1,2,7],[2,9,2,15],[2,17,2,23],[11,1,11,7],[11,9,11,15],[11,17,11,23],[20,1,20,7],[20,9,20,15],[20,17,20,23],[29,1,29,7],[29,9,29,15],[29,17,29,23]]}
[null,"OBCHODNÍ DNY"]
[]
[null,"Leden / January",null,null,null,null,null,null,null,"Únor / February",null,null,null,null,null,null,null,"Březen / March"]
[null,"PO","UT","ST","CT","PA","SO","NE",null,"PO","UT","ST","CT","PA","SO","NE",null,"PO","UT","ST","CT","PA","SO","NE"]
[null,null,null,null,null,null,1,2,null,null,1,2,3,4,5,6,null,null,1,2,3,4,5,6]
[null,3,4,5,6,7,8,9,null,7,8,9,10,11,12,13,null,7,8,9,10,11,12,13]
[null,10,11,12,13,14,15,16,null,14,15,16,17,18,19,20,null,14,15,16,17,18,19,20]
[null,17,18,19,20,21,22,23,null,21,22,23,24,25,26,27,null,21,22,23,24,25,26,27]
[null,24,25,26,27,28,29,30,null,28,null,null,null,null,null,null,null,28,29,30,31]
[null,31]
[]
[null,"Duben / April",null,null,null,null,null,null,null,"Květen / May",null,null,null,null,null,null,null,"Červen / June"]
[null,"PO","UT","ST","CT","PA","SO","NE",null,"PO","UT","ST","CT","PA","SO","NE",null,"PO","UT","ST","CT","PA","SO","NE"]
[null,null,null,null,null,1,2,3,null,null,null,null,null,null,null,1,null,null,null,1,2,3,4,5]
[null,4,5,6,7,8,9,10,null,2,3,4,5,6,7,8,null,6,7,8,9,10,11,12]
[null,11,12,13,14,15,16,17,null,9,10,11,12,13,14,15,null,13,14,15,16,17,18,19]
[null,18,19,20,21,22,23,24,null,16,17,18,19,20,21,22,null,20,21,22,23,24,25,26]
[null,25,26,27,28,29,30,null,null,23,24,25,26,27,28,29,null,27,28,29,30]
[null,null,null,null,null,null,null,null,null,30,31]
[]
[null,"Červenec / July",null,null,null,null,null,null,null,"Srpen / August",null,null,null,null,null,null,null,"Září / September"]
[null,"PO","UT","ST","CT","PA","SO","NE",null,"PO","UT","ST","CT","PA","SO","NE",null,"PO","UT","ST","CT","PA","SO","NE"]
[null,null,null,null,null,1,2,3,null,1,2,3,4,5,6,7,null,null,null,null,1,2,3,4]
[null,4,5,6,7,8,9,10,null,8,9,10,11,12,13,14,null,5,6,7,8,9,10,11]
[null,11,12,13,14,15,16,17,null,15,16,17,18,19,20,21,null,12,13,14,15,16,17,18]
[null,18,19,20,21,22,23,24,null,22,23,24,25,26,27,28,null,19,20,21,22,23,24,25]
[null,25,26,27,28,29,30,31,null,29,30,31,null,null,null,null,null,26,27,28,29,30]
[]
[]
[null,"Říjen / October",null,null,null,null,null,null,null,"Listopad / November",null,null,null,null,null,null,null,"Prosinec / December"]
[null,"PO","UT","ST","CT","PA","SO","NE",null,"PO","UT","ST","CT","PA","SO","NE",null,"PO","UT","ST","CT","PA","SO","NE"]
[null,null,null,null,null,null,1,2,null,null,1,2,3,4,5,6,null,null,null,null,1,2,3,4]
[null,3,4,5,6,7,8,9,null,7,8,9,10,11,12,13,null,5,6,7,8,9,10,11]
[null,10,11,12,13,14,15,16,null,14,15,16,17,18,19,20,null,12,13,14,15,16,17,18]
[null,17,18,19,20,21,22,23,null,21,22,23,24,25,26,27,null,19,20,21,22,23,24,25]
[null,24,25,26,27,28,29,30,null,28,29,30,null,null,null,null,null,26,27,28,29,30,31]
[null,31]

{"sheet":"Účet","index":7,"n_rows":5,"n_cols":5,"rows_kept":5,"cut":false,"hidden":false,"merged":[[0,0,0,1],[0,3,0,4]]}
["Výběry z účtu",null,null,"Účet  USD"]
["Datum","Částka",null,"Fundováno",10000]
[null,null,null,"Profit",{"$f":"Deník_2!H2501","v":0}]
[null,null,null,"Výběry",{"$f":"SUM(B3:B404)","v":0}]
[null,null,null,"Zůstatek",{"$f":"E2+E3-E4","v":10000}]

{"sheet":"Definice","index":8,"n_rows":367,"n_cols":9,"rows_kept":367,"cut":false,"hidden":false,"merged":[[0,7,0,8],[0,0,0,1],[0,3,1,3],[0,5,1,5]]}
["Nastavení trhů",null,null,"Nastavení Patternů",null,"Rok",null,"Kalendář 2013"]
["Komodita","Komise",null,null,null,null,null,"Datum","Buňka"]
["Vše",null,null,"Vše",null,2013,null,101,"G5"]
["TF",2.3199999999999998,null,null,null,null,null,102,"H5"]
[null,null,null,null,null,null,null,103,"B6"]
[null,null,null,null,null,null,null,104,"C6"]
[null,null,null,null,null,null,null,105,"D6"]
[null,null,null,null,null,null,null,106,"E6"]
[null,null,null,null,null,null,null,107,"F6"]
[null,null,null,null,null,null,null,108,"G6"]
[null,null,null,null,null,null,null,109,"H6"]
[null,null,null,null,null,null,null,110,"B7"]
[null,null,null,null,null,null,null,111,"C7"]
[null,null,null,null,null,null,null,112,"D7"]
[null,null,null,null,null,null,null,113,"E7"]
[null,null,null,null,null,null,null,114,"F7"]
[null,null,null,null,null,null,null,115,"G7"]
[null,null,null,null,null,null,null,116,"H7"]
[null,null,null,null,null,null,null,117,"B8"]
[null,null,null,null,null,null,null,118,"C8"]
[null,null,null,null,null,null,null,119,"D8"]
[null,null,null,null,null,null,null,120,"E8"]
[null,null,null,null,null,null,null,121,"F8"]
[null,null,null,null,null,null,null,122,"G8"]
[null,null,null,null,null,null,null,123,"H8"]
[null,null,null,null,null,null,null,124,"B9"]
[null,null,null,null,null,null,null,125,"C9"]
[null,null,null,null,null,null,null,126,"D9"]
[null,null,null,null,null,null,null,127,"E9"]
[null,null,null,null,null,null,null,128,"F9"]
[null,null,null,null,null,null,null,129,"G9"]
[null,null,null,null,null,null,null,130,"H9"]
[null,null,null,null,null,null,null,131,"B10"]
[null,null,null,null,null,null,null,201,"K5"]
[null,null,null,null,null,null,null,202,"L5"]
[null,null,null,null,null,null,null,203,"M5"]
[null,null,null,null,null,null,null,204,"N5"]
[null,null,null,null,null,null,null,205,"O5"]
[null,null,null,null,null,null,null,206,"P5"]
[null,null,null,null,null,null,null,207,"J6"]
[null,null,null,null,null,null,null,208,"K6"]
[null,null,null,null,null,null,null,209,"L6"]
[null,null,null,null,null,null,null,210,"M6"]
[null,null,null,null,null,null,null,211,"N6"]
[null,null,null,null,null,null,null,212,"O6"]
[null,null,null,null,null,null,null,213,"P6"]
[null,null,null,null,null,null,null,214,"J7"]
[null,null,null,null,null,null,null,215,"K7"]
[null,null,null,null,null,null,null,216,"L7"]
[null,null,null,null,null,null,null,217,"M7"]
[null,null,null,null,null,null,null,218,"N7"]
[null,null,null,null,null,null,null,219,"O7"]
[null,null,null,null,null,null,null,220,"P7"]
[null,null,null,null,null,null,null,221,"J8"]
[null,null,null,null,null,null,null,222,"K8"]
[null,null,null,null,null,null,null,223,"L8"]
[null,null,null,null,null,null,null,224,"M8"]
[null,null,null,null,null,null,null,225,"N8"]
[null,null,null,null,null,null,null,226,"O8"]
[null,null,null,null,null,null,null,227,"P8"]
[null,null,null,null,null,null,null,228,"J9"]
[null,null,null,null,null,null,null,301,"S5"]
[null,null,null,null,null,null,null,302,"T5"]
[null,null,null,null,null,null,null,303,"U5"]
[null,null,null,null,null,null,null,304,"V5"]
[null,null,null,null,null,null,null,305,"W5"]
[null,null,null,null,null,null,null,306,"X5"]
[null,null,null,null,null,null,null,307,"R6"]
[null,null,null,null,null,null,null,308,"S6"]
[null,null,null,null,null,null,null,309,"T6"]
[null,null,null,null,null,null,null,310,"U6"]
[null,null,null,null,null,null,null,311,"V6"]
[null,null,null,null,null,null,null,312,"W6"]
[null,null,null,null,null,null,null,313,"X6"]
[null,null,null,null,null,null,null,314,"R7"]
[null,null,null,null,null,null,null,315,"S7"]
[null,null,null,null,null,null,null,316,"T7"]
[null,null,null,null,null,null,null,317,"U7"]
[null,null,null,null,null,null,null,318,"V7"]
[null,null,null,null,null,null,null,319,"W7"]
[null,null,null,null,null,null,null,320,"X7"]
[null,null,null,null,null,null,null,321,"R8"]
[null,null,null,null,null,null,null,322,"S8"]
[null,null,null,null,null,null,null,323,"T8"]
[null,null,null,null,null,null,null,324,"U8"]
[null,null,null,null,null,null,null,325,"V8"]
[null,null,null,null,null,null,null,326,"W8"]
[null,null,null,null,null,null,null,327,"X8"]
[null,null,null,null,null,null,null,328,"R9"]
[null,null,null,null,null,null,null,329,"S9"]
[null,null,null,null,null,null,null,330,"T9"]
[null,null,null,null,null,null,null,331,"U9"]
[null,null,null,null,null,null,null,401,"F14"]
[null,null,null,null,null,null,null,402,"G14"]
[null,null,null,null,null,null,null,403,"H14"]
[null,null,null,null,null,null,null,404,"B15"]
[null,null,null,null,null,null,null,405,"C15"]
[null,null,null,null,null,null,null,406,"D15"]
[null,null,null,null,null,null,null,407,"E15"]
[null,null,null,null,null,null,null,408,"F15"]
[null,null,null,null,null,null,null,409,"G15"]
[null,null,null,null,null,null,null,410,"H15"]
[null,null,null,null,null,null,null,411,"B16"]
[null,null,null,null,null,null,null,412,"C16"]
[null,null,null,null,null,null,null,413,"D16"]
[null,null,null,null,null,null,null,414,"E16"]
[null,null,null,null,null,null,null,415,"F16"]
[null,null,null,null,null,null,null,416,"G16"]
[null,null,null,null,null,null,null,417,"H16"]
[null,null,null,null,null,null,null,418,"B17"]
[null,null,null,null,null,null,null,419,"C17"]
[null,null,null,null,null,null,null,420,"D17"]
[null,null,null,null,null,null,null,421,"E17"]
[null,null,null,null,null,null,null,422,"F17"]
[null,null,null,null,null,null,null,423,"G17"]
[null,null,null,null,null,null,null,424,"H17"]
[null,null,null,null,null,null,null,425,"B18"]
[null,null,null,null,null,null,null,426,"C18"]
[null,null,null,null,null,null,null,427,"D18"]
[null,null,null,null,null,null,null,428,"E18"]
[null,null,null,null,null,null,null,429,"F18"]
[null,null,null,null,null,null,null,430,"G18"]
[null,null,null,null,null,null,null,501,"P14"]
[null,null,null,null,null,null,null,502,"J15"]
[null,null,null,null,null,null,null,503,"K15"]
[null,null,null,null,null,null,null,504,"L15"]
[null,null,null,null,null,null,null,505,"M15"]
[null,null,null,null,null,null,null,506,"N15"]
[null,null,null,null,null,null,null,507,"O15"]
[null,null,null,null,null,null,null,508,"P15"]
[null,null,null,null,null,null,null,509,"J16"]
[null,null,null,null,null,null,null,510,"K16"]
[null,null,null,null,null,null,null,511,"L16"]
[null,null,null,null,null,null,null,512,"M16"]
[null,null,null,null,null,null,null,513,"N16"]
[null,null,null,null,null,null,null,514,"O16"]
[null,null,null,null,null,null,null,515,"P16"]
[null,null,null,null,null,null,null,516,"J17"]
[null,null,null,null,null,null,null,517,"K17"]
[null,null,null,null,null,null,null,518,"L17"]
[null,null,null,null,null,null,null,519,"M17"]
[null,null,null,null,null,null,null,520,"N17"]
[null,null,null,null,null,null,null,521,"O17"]
[null,null,null,null,null,null,null,522,"P17"]
[null,null,null,null,null,null,null,523,"J18"]
[null,null,null,null,null,null,null,524,"K18"]
[null,null,null,null,null,null,null,525,"L18"]
[null,null,null,null,null,null,null,526,"M18"]
[null,null,null,null,null,null,null,527,"N18"]
[null,null,null,null,null,null,null,528,"O18"]
[null,null,null,null,null,null,null,529,"P18"]
[null,null,null,null,null,null,null,530,"J19"]
[null,null,null,null,null,null,null,531,"K19"]
[null,null,null,null,null,null,null,601,"T14"]
[null,null,null,null,null,null,null,602,"U14"]
[null,null,null,null,null,null,null,603,"V14"]
[null,null,null,null,null,null,null,604,"W14"]
[null,null,null,null,null,null,null,605,"X14"]
[null,null,null,null,null,null,null,606,"R15"]
[null,null,null,null,null,null,null,607,"S15"]
[null,null,null,null,null,null,null,608,"T15"]
[null,null,null,null,null,null,null,609,"U15"]
[null,null,null,null,null,null,null,610,"V15"]
[null,null,null,null,null,null,null,611,"W15"]
[null,null,null,null,null,null,null,612,"X15"]
[null,null,null,null,null,null,null,613,"R16"]
[null,null,null,null,null,null,null,614,"S16"]
[null,null,null,null,null,null,null,615,"T16"]
[null,null,null,null,null,null,null,616,"U16"]
[null,null,null,null,null,null,null,617,"V16"]
[null,null,null,null,null,null,null,618,"W16"]
[null,null,null,null,null,null,null,619,"X16"]
[null,null,null,null,null,null,null,620,"R17"]
[null,null,null,null,null,null,null,621,"S17"]
[null,null,null,null,null,null,null,622,"T17"]
[null,null,null,null,null,null,null,623,"U17"]
[null,null,null,null,null,null,null,624,"V17"]
[null,null,null,null,null,null,null,625,"W17"]
[null,null,null,null,null,null,null,626,"X17"]
[null,null,null,null,null,null,null,627,"R18"]
[null,null,null,null,null,null,null,628,"S18"]
[null,null,null,null,null,null,null,629,"T18"]
[null,null,null,null,null,null,null,630,"U18"]
[null,null,null,null,null,null,null,701,"F23"]
[null,null,null,null,null,null,null,702,"G23"]
[null,null,null,null,null,null,null,703,"H23"]
[null,null,null,null,null,null,null,704,"B24"]
[null,null,null,null,null,null,null,705,"C24"]
[null,null,null,null,null,null,null,706,"D24"]
[null,null,null,null,null,null,null,707,"E24"]
[null,null,null,null,null,null,null,708,"F24"]
[null,null,null,null,null,null,null,709,"G24"]
[null,null,null,null,null,null,null,710,"H24"]
[null,null,null,null,null,null,null,711,"B25"]
[null,null,null,null,null,null,null,712,"C25"]
[null,null,null,null,null,null,null,713,"D25"]
[null,null,null,null,null,null,null,714,"E25"]
[null,null,null,null,null,null,null,715,"F25"]
[null,null,null,null,null,null,null,716,"G25"]
[null,null,null,null,null,null,null,717,"H25"]
[null,null,null,null,null,null,null,718,"B26"]
[null,null,null,null,null,null,null,719,"C26"]
[null,null,null,null,null,null,null,720,"D26"]
[null,null,null,null,null,null,null,721,"E26"]
[null,null,null,null,null,null,null,722,"F26"]
[null,null,null,null,null,null,null,723,"G26"]
[null,null,null,null,null,null,null,724,"H26"]
[null,null,null,null,null,null,null,725,"B27"]
[null,null,null,null,null,null,null,726,"C27"]
[null,null,null,null,null,null,null,727,"D27"]
[null,null,null,null,null,null,null,728,"E27"]
[null,null,null,null,null,null,null,729,"F27"]
[null,null,null,null,null,null,null,730,"G27"]
[null,null,null,null,null,null,null,731,"H27"]
[null,null,null,null,null,null,null,801,"J23"]
[null,null,null,null,null,null,null,802,"K23"]
[null,null,null,null,null,null,null,803,"L23"]
[null,null,null,null,null,null,null,804,"M23"]
[null,null,null,null,null,null,null,805,"N23"]
[null,null,null,null,null,null,null,806,"O23"]
[null,null,null,null,null,null,null,807,"P23"]
[null,null,null,null,null,null,null,808,"J24"]
[null,null,null,null,null,null,null,809,"K24"]
[null,null,null,null,null,null,null,810,"L24"]
[null,null,null,null,null,null,null,811,"M24"]
[null,null,null,null,null,null,null,812,"N24"]
[null,null,null,null,null,null,null,813,"O24"]
[null,null,null,null,null,null,null,814,"P24"]
[null,null,null,null,null,null,null,815,"J25"]
[null,null,null,null,null,null,null,816,"K25"]
[null,null,null,null,null,null,null,817,"L25"]
[null,null,null,null,null,null,null,818,"M25"]
[null,null,null,null,null,null,null,819,"N25"]
[null,null,null,null,null,null,null,820,"O25"]
[null,null,null,null,null,null,null,821,"P25"]
[null,null,null,null,null,null,null,822,"J26"]
[null,null,null,null,null,null,null,823,"K26"]
[null,null,null,null,null,null,null,824,"L26"]
[null,null,null,null,null,null,null,825,"M26"]
[null,null,null,null,null,null,null,826,"N26"]
[null,null,null,null,null,null,null,827,"O26"]
[null,null,null,null,null,null,null,828,"P26"]
[null,null,null,null,null,null,null,829,"J27"]
[null,null,null,null,null,null,null,830,"K27"]
[null,null,null,null,null,null,null,831,"L27"]
[null,null,null,null,null,null,null,901,"U23"]
[null,null,null,null,null,null,null,902,"V23"]
[null,null,null,null,null,null,null,903,"W23"]
[null,null,null,null,null,null,null,904,"X23"]
[null,null,null,null,null,null,null,905,"R24"]
[null,null,null,null,null,null,null,906,"S24"]
[null,null,null,null,null,null,null,907,"T24"]
[null,null,null,null,null,null,null,908,"U24"]
[null,null,null,null,null,null,null,909,"V24"]
[null,null,null,null,null,null,null,910,"W24"]
[null,null,null,null,null,null,null,911,"X24"]
[null,null,null,null,null,null,null,912,"R25"]
[null,null,null,null,null,null,null,913,"S25"]
[null,null,null,null,null,null,null,914,"T25"]
[null,null,null,null,null,null,null,915,"U25"]
[null,null,null,null,null,null,null,916,"V25"]
[null,null,null,null,null,null,null,917,"W25"]
[null,null,null,null,null,null,null,918,"X25"]
[null,null,null,null,null,null,null,919,"R26"]
[null,null,null,null,null,null,null,920,"S26"]
[null,null,null,null,null,null,null,921,"T26"]
[null,null,null,null,null,null,null,922,"U26"]
[null,null,null,null,null,null,null,923,"V26"]
[null,null,null,null,null,null,null,924,"W26"]
[null,null,null,null,null,null,null,925,"X26"]
[null,null,null,null,null,null,null,926,"R27"]
[null,null,null,null,null,null,null,927,"S27"]
[null,null,null,null,null,null,null,928,"T27"]
[null,null,null,null,null,null,null,929,"U27"]
[null,null,null,null,null,null,null,930,"V27"]
[null,null,null,null,null,null,null,1001,"G32"]
[null,null,null,null,null,null,null,1002,"H32"]
[null,null,null,null,null,null,null,1003,"B33"]
[null,null,null,null,null,null,null,1004,"C33"]
[null,null,null,null,null,null,null,1005,"D33"]
[null,null,null,null,null,null,null,1006,"E33"]
[null,null,null,null,null,null,null,1007,"F33"]
[null,null,null,null,null,null,null,1008,"G33"]
[null,null,null,null,null,null,null,1009,"H33"]
[null,null,null,null,null,null,null,1010,"B34"]
[null,null,null,null,null,null,null,1011,"C34"]
[null,null,null,null,null,null,null,1012,"D34"]
[null,null,null,null,null,null,null,1013,"E34"]
[null,null,null,null,null,null,null,1014,"F34"]
[null,null,null,null,null,null,null,1015,"G34"]
[null,null,null,null,null,null,null,1016,"H34"]
[null,null,null,null,null,null,null,1017,"B35"]
[null,null,null,null,null,null,null,1018,"C35"]
[null,null,null,null,null,null,null,1019,"D35"]
[null,null,null,null,null,null,null,1020,"E35"]
[null,null,null,null,null,null,null,1021,"F35"]
[null,null,null,null,null,null,null,1022,"G35"]
[null,null,null,null,null,null,null,1023,"H35"]
[null,null,null,null,null,null,null,1024,"B36"]
[null,null,null,null,null,null,null,1025,"C36"]
[null,null,null,null,null,null,null,1026,"D36"]
[null,null,null,null,null,null,null,1027,"E36"]
[null,null,null,null,null,null,null,1028,"F36"]
[null,null,null,null,null,null,null,1029,"G36"]
[null,null,null,null,null,null,null,1030,"H36"]
[null,null,null,null,null,null,null,1031,"B37"]
[null,null,null,null,null,null,null,1101,"K32"]
[null,null,null,null,null,null,null,1102,"L32"]
[null,null,null,null,null,null,null,1103,"M32"]
[null,null,null,null,null,null,null,1104,"N32"]
[null,null,null,null,null,null,null,1105,"O32"]
[null,null,null,null,null,null,null,1106,"P32"]
[null,null,null,null,null,null,null,1107,"J33"]
[null,null,null,null,null,null,null,1108,"K33"]
[null,null,null,null,null,null,null,1109,"L33"]
[null,null,null,null,null,null,null,1110,"M33"]
[null,null,null,null,null,null,null,1111,"N33"]
[null,null,null,null,null,null,null,1112,"O33"]
[null,null,null,null,null,null,null,1113,"P33"]
[null,null,null,null,null,null,null,1114,"J34"]
[null,null,null,null,null,null,null,1115,"K34"]
[null,null,null,null,null,null,null,1116,"L34"]
[null,null,null,null,null,null,null,1117,"M34"]
[null,null,null,null,null,null,null,1118,"N34"]
[null,null,null,null,null,null,null,1119,"O34"]
[null,null,null,null,null,null,null,1120,"P34"]
[null,null,null,null,null,null,null,1121,"J35"]
[null,null,null,null,null,null,null,1122,"K35"]
[null,null,null,null,null,null,null,1123,"L35"]
[null,null,null,null,null,null,null,1124,"M35"]
[null,null,null,null,null,null,null,1125,"N35"]
[null,null,null,null,null,null,null,1126,"O35"]
[null,null,null,null,null,null,null,1127,"P35"]
[null,null,null,null,null,null,null,1128,"J36"]
[null,null,null,null,null,null,null,1129,"K36"]
[null,null,null,null,null,null,null,1130,"L36"]
[null,null,null,null,null,null,null,1201,"U32"]
[null,null,null,null,null,null,null,1202,"V32"]
[null,null,null,null,null,null,null,1203,"W32"]
[null,null,null,null,null,null,null,1204,"X32"]
[null,null,null,null,null,null,null,1205,"R33"]
[null,null,null,null,null,null,null,1206,"S33"]
[null,null,null,null,null,null,null,1207,"T33"]
[null,null,null,null,null,null,null,1208,"U33"]
[null,null,null,null,null,null,null,1209,"V33"]
[null,null,null,null,null,null,null,1210,"W33"]
[null,null,null,null,null,null,null,1211,"X33"]
[null,null,null,null,null,null,null,1212,"R34"]
[null,null,null,null,null,null,null,1213,"S34"]
[null,null,null,null,null,null,null,1214,"T34"]
[null,null,null,null,null,null,null,1215,"U34"]
[null,null,null,null,null,null,null,1216,"V34"]
[null,null,null,null,null,null,null,1217,"W34"]
[null,null,null,null,null,null,null,1218,"X34"]
[null,null,null,null,null,null,null,1219,"R35"]
[null,null,null,null,null,null,null,1220,"S35"]
[null,null,null,null,null,null,null,1221,"T35"]
[null,null,null,null,null,null,null,1222,"U35"]
[null,null,null,null,null,null,null,1223,"V35"]
[null,null,null,null,null,null,null,1224,"W35"]
[null,null,null,null,null,null,null,1225,"X35"]
[null,null,null,null,null,null,null,1226,"R36"]
[null,null,null,null,null,null,null,1227,"S36"]
[null,null,null,null,null,null,null,1228,"T36"]
[null,null,null,null,null,null,null,1229,"U36"]
[null,null,null,null,null,null,null,1230,"V36"]
[null,null,null,null,null,null,null,1231,"W36"]